Workbook

Sheet TOC
A1: TOC | B1: Levelling the playing field in early childhood education and care: Results from TALIS Starting Strong 2018
A3: Annex A | B3: List of tables
A5: An overview of children's diversity in early childhood education and care centres
A6: ='Table A.1'!A1 -> Table A.1 | B6: ='Table A.1'!$A$2 -> Children from socio-economically disadvantaged homes in early childhood education and care centres
A7: ='Table A.2'!A1 -> Table A.2 | B7: ='Table A.2'!$A$2 -> Children with special education needs in early childhood education and care centres
A8: ='Table A.3'!A1 -> Table A.3 | B8: ='Table A.3'!$A$2 -> Children with a different first language in early childhood education and care centres
A9: ='Table A.4'!A1 -> Table A.4 | B9: ='Table A.4'!$A$2 -> Refugee children in early childhood education and care centres
A10: ='Table A.5'!A1 -> Table A.5 | B10: ='Table A.5'!$A$2 -> Accumulation of dimensions of diversity in early childhood education and care centres (>10% threshold)
A11: ='Table A.6'!A1 -> Table A.6 | B11: ='Table A.6'!$A$2 -> Accumulation of dimensions of diversity in early childhood education and care centres (>30% threshold)
A12: ='Table A.7'!A1 -> Table A.7 | B12: ='Table A.7'!$A$2 -> Dimensions of diversity and centre location in early childhood education and care centres
A13: ='Table A.8'!A1 -> Table A.8 | B13: ='Table A.8'!$A$2 -> Accumulation of dimensions of diversity and centre location in early childhood education and care centres
A14: ='Table A.9'!A1 -> Table A.9 | B14: ='Table A.9'!$A$2 -> Dimensions of diversity and centre type of management in early childhood education and care centres
A15: ='Table A.10'!A1 -> Table A.10 | B15: ='Table A.10'!$A$2 -> Accumulation of dimensions of diversity and centre type of management in early childhood education and care centres
A16: Structural factors that support high-quality early childhood education and care for all
A17: ='Table A.11'!A1 -> Table A.11 | B17: ='Table A.11'!$A$2 -> Shortages of material resources and dimensions of diversity in early childhood education and care centres
A18: ='Table A.12'!A1 -> Table A.12 | B18: ='Table A.12'!$A$2 -> Shortages of human resources and dimensions of diversity in early childhood education and care centres
A19: ='Table A.13'!A1 -> Table A.13 | B19: ='Table A.13'!$A$2 -> Shortage of material and human resources and accumulation of dimensions of diversity in early childhood education and care centres
A20: ='Table A.14'!A1 -> Table A.14 | B20: ='Table A.14'!$A$2 -> Staff sources of stress and dimensions of diversity in early childhood education and care centres
A21: ='Table A.15'!A1 -> Table A.15 | B21: ='Table A.15'!$A$2 -> Staff sources of stress and accumulation of dimensions of diversity in early childhood education and care centres
A22: ='Table A.16'!A1 -> Table A.16 | B22: ='Table A.16'!$A$2 -> Number of staff per ten children and dimensions of diversity in early childhood education and care centres
A23: ='Table A.17'!A1 -> Table A.17 | B23: ='Table A.17'!$A$2 -> Specialised staff and dimensions of diversity in early childhood education and care centres
A24: ='Table A.18'!A1 -> Table A.18 | B24: ='Table A.18'!$A$2 -> Specialised staff and accumulation of dimensions of diversity in early childhood education and care centres
A25: ='Table A.19'!A1 -> Table A.19 | B25: ='Table A.19'!$A$2 -> Novice centre leaders and dimensions of diversity in early childhood education and care centres
A26: ='Table A.20'!A1 -> Table A.20 | B26: ='Table A.20'!$A$2 -> Novice staff and dimensions of diversity in early childhood education and care centres
A27: ='Table A.21'!A1 -> Table A.21 | B27: ='Table A.21'!$A$2 -> Novice centre leaders and staff and accumulation of dimensions of diversity in early childhood education and care centres
A28: ='Table A.22'!A1 -> Table A.22 | B28: ='Table A.22'!$A$2 -> Staff pre-service training on addressing diversity and dimensions of diversity in early childhood education and care centres
A29: ='Table A.23'!A1 -> Table A.23 | B29: ='Table A.23'!$A$2 -> Staff in-service training on addressing diversity and dimensions of diversity in early childhood education and care centres
A30: ='Table A.24'!A1 -> Table A.24 | B30: ='Table A.24'!$A$2 -> Staff cumulative (pre-service plus in-service) training on addressing diversity and dimensions of diversity in early childhood education and care centres
A31: ='Table A.25'!A1 -> Table A.25 | B31: ='Table A.25'!$A$2 -> Staff cumulative (pre-service plus in-service) training on addressing diversity and accumulation of dimensions of diversity in early childhood education and care centres
A32: Attitudes and practices to promote equity and inclusion and the diversity of early childhood education and care centres
A33: ='Table A.26'!$A$1 -> Table A.26 | B33: ='Table A.26'!$A$2 -> Staff responsiveness to children's cultural differences and dimensions of diversity in early childhood education and care centres
A34: ='Table A.27'!$A$1 -> Table A.27 | B34: ='Table A.27'!$A$2 -> Staff responsiveness to children's cultural differences and accumulation of dimensions of diversity in early childhood education and care centres
A35: ='Table A.28'!$A$1 -> Table A.28 | B35: ='Table A.28'!$A$2 -> Staff sense of self-efficacy for working with diverse children and dimensions of diversity in early childhood education and care centres
A36: ='Table A.29'!$A$1 -> Table A.29 | B36: ='Table A.29'!$A$2 -> Staff adaptive pedagogical practices and dimensions of diversity in early childhood education and care centres
A37: ='Table A.30'!$A$1 -> Table A.30 | B37: ='Table A.30'!$A$2 -> Staff adaptive practices and accumulation of dimensions of diversity in early childhood education and care centres
A38: ='Table A.31'!$A$1 -> Table A.31 | B38: ='Table A.31'!$A$2 -> Staff facilitation of children's literacy development and dimensions of diversity in early childhood education and care centres
A39: ='Table A.32'!A1 -> Table A.32 | B39: ='Table A.32'!$A$2 -> Staff facilitation of children's literacy development and accumulation of dimensions of diversity in early childhood education and care centres
A40: ='Table A.33'!A1 -> Table A.33 | B40: ='Table A.33'!$A$2 -> Staff facilitation of children's numeracy development and dimensions of diversity in early childhood education and care centres
A41: ='Table A.34'!A1 -> Table A.34 | B41: ='Table A.34'!$A$2 -> Staff facilitation of children's numeracy development and accumulation of dimensions of diversity in early childhood education and care centres
A42: ='Table A.35'!A1 -> Table A.35 | B42: ='Table A.35'!$A$2 -> Staff facilitation of children's emotional development and dimensions of diversity in early childhood education and care centres
A43: ='Table A.36'!A1 -> Table A.36 | B43: ='Table A.36'!$A$2 -> Staff facilitation of children's emotional development and accumulation of dimensions of diversity in early childhood education and care centres
A44: ='Table A.37'!A1 -> Table A.37 | B44: ='Table A.37'!$A$2 -> Staff facilitation of children's prosocial behaviour and dimensions of diversity in early childhood education and care centres
A45: ='Table A.38'!A1 -> Table A.38 | B45: ='Table A.38'!$A$2 -> Staff facilitation of children's prosocial behaviour and accumulation of dimensions of diversity in early childhood education and care centres
A46: ='Table A.39'!A1 -> Table A.39 | B46: ='Table A.39'!$A$2 -> Staff use of materials featuring people from a variety of ethnic and cultural groups and share of children with a different first language in early childhood education and care centres
A47: ='Table A.40'!A1 -> Table A.40 | B47: ='Table A.40'!$A$2 -> Families' involvement in centres’ activities and dimensions of diversity in early childhood education and care centres
A48: ='Table A.41'!A1 -> Table A.41 | B48: ='Table A.41'!$A$2 -> Families' involvement in centres’ activities and accumulation of dimensions of diversity in early childhood education and care centres
A49: ='Table A.42'!A1 -> Table A.42 | B49: ='Table A.42'!$A$2 -> Facilitation of family engagement and dimensions of diversity in early childhood education and care centres
A50: ='Table A.43'!A1 -> Table A.43 | B50: ='Table A.43'!$A$2 -> Facilitation of family engagement and accumulation of dimensions of diversity in early childhood education and care centres
A51: ='Table A.44'!A1 -> Table A.44 | B51: ='Table A.44'!$A$2 -> Cooperation with child, family or social services and dimensions of diversity in early childhood education and care centres
A52: ='Table A.45'!A1 -> Table A.45 | B52: ='Table A.45'!$A$2 -> Cooperation with child, family or social services and accumulation of dimensions of diversity in early childhood education and care centres
A53: ='Table A.46'!A1 -> Table A.46 | B53: ='Table A.46'!$A$2 -> Work with the local neighbourhood and dimensions of diversity in early childhood education and care centres
A54: ='Table A.47'!A1 -> Table A.47 | B54: ='Table A.47'!$A$2 -> Work with the local neighbourhood and accumulation of dimensions of diversity in early childhood education and care centres
A56: Two symbols are used to denote non-reported estimates:
A57: a: The question was not administered in the country because it was optional.
A58: c: There are too few or no observations to provide reliable estimates and/or to ensure the confidentiality of respondents (i.e. there are fewer than 10 centres/leaders and/or 30 staff with valid data and/or the item non-response rate [i.e. ratio of missing or invalid responses to the number of participants for whom the question was applicable] is above 50%).

Sheet Table A.1
A1: Table A.1
A2: Children from socio-economically disadvantaged homes in early childhood education and care centres
A3: Based on centre leaders' reports
B8: Percentage of ECEC centres, by share of children from socio-economically disadvantaged homes in centers1,2:
B9: None | D9: 1% to 10% | F9: 11% to 30% | H9: 31% to 60% | J9: More than 60%
B10: % | C10: S.E. | D10: % | E10: S.E. | F10: % | G10: S.E. | H10: % | I10: S.E. | J10: % | K10: S.E.
A11: ISCED 02 centres
A12: Chile | B12: 13.678842 | C12: 1.9135255 | D12: 21.667224 | E12: 2.5345185 | F12: 14.394064 | G12: 2.6968105 | H12: 20.125196 | I12: 2.7029062 | J12: 30.134674 | K12: 2.6842462 | M12: .
A13: Germany* | B13: 25.175732 | C13: 2.4714956 | D13: 47.486573 | E13: 2.9404944 | F13: 17.289697 | G13: 2.52231 | H13: 7.752245 | I13: 1.6842479 | J13: 2.2957532 | K13: 0.94571269
A14: Iceland | B14: 31.723389 | C14: 4.1082304 | D14: 61.637051 | E14: 4.3978505 | F14: 6.6395607 | G14: 1.8782917 | H14: c | I14: c | J14: c | K14: c
A15: Israel | B15: 51.372899 | C15: 2.5566833 | D15: 34.775802 | E15: 2.6803524 | F15: 7.2853742 | G15: 1.4027781 | H15: 4.3739018 | I15: 0.75539085 | J15: 2.1920223 | K15: 0.73066751
A16: Japan | B16: 67.991783 | C16: 4.8301295 | D16: 27.906142 | E16: 4.1570585 | F16: 4.1020748 | G16: 2.2985444 | H16: c | I16: c | J16: c | K16: c
A17: Korea | B17: 56.598442 | C17: 6.0830358 | D17: 32.736965 | E17: 4.0339279 | F17: 10.472233 | G17: 4.8373854 | H17: c | I17: c | J17: 0.19235942 | K17: 0.19283596
A18: Norway | B18: 44.992302 | C18: 4.5829707 | D18: 48.392452 | E18: 4.9726958 | F18: 6.6152454 | G18: 2.4481749 | H18: c | I18: c | J18: c | K18: c
A19: Türkiye | B19: 30.032861 | C19: 3.1576683 | D19: 39.67027 | E19: 3.9341695 | F19: 11.6487 | G19: 2.2031616 | H19: 14.144574 | I19: 3.4005693 | J19: 4.5035949 | K19: 1.4591265
A20: Denmark** | B20: 23.310445 | C20: 4.5094979 | D20: 50.116892 | E20: 5.6256198 | F20: 12.26368 | G20: 3.5676029 | H20: 12.684679 | I20: 3.2325638 | J20: 1.6243043 | K20: 1.6259633
A22: Centres for children under age 3a
A23: Germany* | B23: 27.641023 | C23: 3.4804761 | D23: 49.159015 | E23: 3.9282314 | F23: 15.905492 | G23: 2.46714 | H23: 4.5459344 | I23: 1.4252691 | J23: 2.7485351 | K23: 1.1228633
A24: Israel | B24: 48.357599 | C24: 4.3100713 | D24: 29.176414 | E24: 3.857686 | F24: 15.079839 | G24: 2.8671606 | H24: 5.7860115 | I24: 1.8160147 | J24: 1.6001368 | K24: 0.99112946
A25: Norway | B25: 44.264867 | C25: 5.0742497 | D25: 45.191636 | E25: 4.9638179 | F25: 8.6959928 | G25: 1.7471612 | H25: 1.4108562 | I25: 1.0174961 | J25: 0.43664764 | K25: 0.43691455
A26: Denmark** | B26: 22.696319 | C26: 6.0999409 | D26: 58.960272 | E26: 7.837257 | F26: 14.872694 | G26: 5.845766 | H26: 2.1153037 | I26: 2.9588232 | J26: 1.3554114 | K26: 1.3515355
A30: a. Data reported for early learning settings with children under age 3 are limited to centre-based settings to ensure comparability with ISCED Level 02. Data from home-based settings are excluded from this table.
A31: * Estimates for sub-groups and estimated differences between sub-groups need to be interpreted with care. For more information, see Annex B in OECD (2019).
A32: ** Low response rates in the survey may result in bias in the estimates reported and limit comparability of the data.
A33: 1. Responses reflect ECEC center leaders' personal perceptions of children’s background and may be based on rough estimates. The responses categories were pre-defined in the questionnaire.
A34: 2. Socio-economically disadvantage homes refer to children’s homes lacking the basic necessities or advantages of life, such as adequate housing, nutrition or medical care.
A35: Notes:
A36: ECEC: early childhood education and care.
A37: Centre leader refers to the person in an ECEC centre with the most responsibility for administrative, managerial and/or pedagogical leadership.
A38: Source: OECD, TALIS Starting Strong 2018 Database.

Sheet Table A.2
A1: Table A.2
A2: Children with special education needs in early childhood education and care centres
A3: Based on centre leaders' reports
B8: Percentage of ECEC centres, by share of children with special education needs in centers1,2:
B9: None | D9: 1% to 10% | F9: 11% to 30% | H9: 31% to 60% | J9: More than 60%
B10: % | C10: S.E. | D10: % | E10: S.E. | F10: % | G10: S.E. | H10: % | I10: S.E. | J10: % | K10: S.E.
A11: ISCED 02 centres
A12: Iceland | B12: 5.3830927 | C12: 1.5246136 | D12: 70.642859 | E12: 3.4212859 | F12: 23.974049 | G12: 3.3864892 | H12: c | I12: c | J12: c | K12: c
A13: Chile | B13: 17.8146 | C13: 2.3733933 | D13: 47.743056 | E13: 3.5368711 | F13: 20.896354 | G13: 2.3284035 | H13: 12.2384 | I13: 2.1807627 | J13: 1.3075909 | K13: 0.75905917
A14: Denmark** | B14: 7.0119709 | C14: 3.0109332 | D14: 63.920746 | E14: 5.5452266 | F14: 19.986334 | G14: 4.3764214 | H14: 9.0809484 | I14: 3.1207421 | J14: c | K14: c
A15: Japan | B15: 20.831244 | C15: 3.8802134 | D15: 65.102967 | E15: 4.6329036 | F15: 13.014684 | G15: 3.0868246 | H15: 1.051105 | I15: 0.87004384 | J15: c | K15: c
A16: Israel | B16: 40.067985 | C16: 2.6236276 | D16: 50.344635 | E16: 2.7039282 | F16: 8.1179123 | G16: 1.3588476 | H16: 1.2244208 | I16: 0.54918405 | J16: 0.24504647 | K16: 0.2445023
A17: Germany* | B17: 26.579677 | C17: 2.8508243 | D17: 64.851209 | E17: 3.1951758 | F17: 7.545106 | G17: 1.7134134 | H17: 0.61607955 | I17: 0.43394435 | J17: 0.4079286 | K17: 0.4078878
A18: Norway | B18: 21.649222 | C18: 3.5978641 | D18: 70.191275 | E18: 3.9323046 | F18: 7.3868255 | G18: 2.7891782 | H18: c | I18: c | J18: 0.77267761 | K18: 0.77025008
A19: Türkiye | B19: 43.374568 | C19: 3.9345729 | D19: 53.860289 | E19: 3.855356 | F19: 1.5582878 | G19: 1.4597706 | H19: 1.0479367 | I19: 0.95367616 | J19: 0.15891847 | K19: 0.1022566
A20: Korea | B20: 55.586954 | C20: 5.6690495 | D20: 42.298333 | E20: 5.6465224 | F20: 1.4997528 | G20: 0.80345777 | H20: c | I20: c | J20: 0.61496043 | K20: 0.46492504
A22: Centres for children under age 3a
A23: Germany* | B23: 31.047634 | C23: 3.1363492 | D23: 58.52136 | E23: 3.5804238 | F23: 9.5364437 | G23: 1.8706106 | H23: 0.89456265 | I23: 0.63290256 | J23: c | K23: c
A24: Israel | B24: 59.079777 | C24: 5.2950468 | D24: 38.264573 | E24: 5.2292069 | F24: 2.6556502 | G24: 1.3713798 | H24: c | I24: c | J24: c | K24: c
A25: Norway | B25: 17.608644 | C25: 5.3084574 | D25: 78.31358 | E25: 5.3165905 | F25: 3.6367737 | G25: 1.4551768 | H25: c | I25: c | J25: 0.44100194 | K25: 0.44127552
A26: Denmark** | B26: 2.2905975 | C26: 1.3511616 | D26: 76.385513 | E26: 6.3927131 | F26: 14.363355 | G26: 5.6619117 | H26: 6.9605346 | I26: 3.51626 | J26: c | K26: c
A30: a. Data reported for early learning settings with children under age 3 are limited to centre-based settings to ensure comparability with ISCED Level 02. Data from home-based settings are excluded from this table.
A31: * Estimates for sub-groups and estimated differences between sub-groups need to be interpreted with care. For more information, see Annex B in OECD (2019).
A32: ** Low response rates in the survey may result in bias in the estimates reported and limit comparability of the data.
A33: 1. Responses reflect ECEC center leaders' personal perceptions of children’s background and may be based on rough estimates. The responses categories were pre-defined in the questionnaire.
A34: 2. Children with special education needs are children for whom a special learning need has been formally identified because they are mentally, physically or emotionally disadvantaged.
A35: Notes:
A36: ECEC: early childhood education and care.
A37: Centre leader refers to the person in an ECEC centre with the most responsibility for administrative, managerial and/or pedagogical leadership.
A38: Source: OECD, TALIS Starting Strong 2018 Database.

Sheet Table A.3
A1: Table A.3
A2: Children with a different first language in early childhood education and care centres
A3: Based on centre leaders' reports
B8: Percentage of ECEC centres, by share of children with a different first language used in centres1,2:
B9: None | D9: 1% to 10% | F9: 11% to 30% | H9: 31% to 60% | J9: More than 60%
B10: % | C10: S.E. | D10: % | E10: S.E. | F10: % | G10: S.E. | H10: % | I10: S.E. | J10: % | K10: S.E.
A11: ISCED 02 centres
A12: Chile | B12: 70.132682 | C12: 2.8148014 | D12: 23.513559 | E12: 2.737495 | F12: 2.6492984 | G12: 1.0885744 | H12: 1.6380459 | I12: 0.94837781 | J12: 2.0664147 | K12: 1.0387274
A13: Germany* | B13: 9.3928539 | C13: 1.5888782 | D13: 44.090992 | E13: 2.9996511 | F13: 23.591359 | G13: 2.6434429 | H13: 16.481142 | I13: 2.3101674 | J13: 6.443654 | K13: 1.3869465
A14: Iceland | B14: 2.3619473 | C14: 0.83517219 | D14: 51.224818 | E14: 3.6137094 | F14: 38.589055 | G14: 3.4288956 | H14: 7.2615235 | I14: 1.9457523 | J14: 0.56265646 | K14: 0.56250182
A15: Israel | B15: 46.46047 | C15: 2.0835476 | D15: 37.570336 | E15: 2.2276693 | F15: 5.3422895 | G15: 1.0298962 | H15: 5.579892 | I15: 0.99992688 | J15: 5.0470129 | K15: 1.0883512
A16: Japan | B16: 59.208477 | C16: 5.279286 | D16: 39.075598 | E16: 5.3293946 | F16: 1.715925 | G16: 0.75578555 | H16: c | I16: c | J16: c | K16: c
A17: Korea | B17: 69.390011 | C17: 4.5156272 | D17: 28.918254 | E17: 4.3680314 | F17: 0.75188245 | G17: 0.75339136 | H17: c | I17: c | J17: 0.93985306 | K17: 0.93991212
A18: Norway | B18: 19.075552 | C18: 4.5867331 | D18: 40.576515 | E18: 4.5951654 | F18: 28.992423 | G18: 4.0697333 | H18: 7.7999854 | I18: 2.4709279 | J18: 3.555525 | K18: 1.858037
A19: Türkiye | B19: 54.289538 | C19: 3.2271354 | D19: 27.128845 | E19: 3.2054075 | F19: 3.7369304 | G19: 1.5905743 | H19: 1.7102107 | I19: 0.7872654 | J19: 13.134475 | K19: 2.4298962
A20: Denmark** | B20: 4.7218582 | C20: 2.4698796 | D20: 52.471407 | E20: 5.4182435 | F20: 22.328339 | G20: 4.2917373 | H20: 13.566077 | I20: 4.2083484 | J20: 6.9123185 | K20: 2.0399106
A22: Centres for children under age 3a
A23: Germany* | B23: 12.03745 | C23: 2.2651303 | D23: 46.987012 | E23: 3.5691927 | F23: 18.716947 | G23: 2.8658896 | H23: 17.247156 | I23: 2.5332682 | J23: 5.0114356 | K23: 1.5202563
A24: Israel | B24: 51.32416 | C24: 4.6069369 | D24: 38.396629 | E24: 4.321779 | F24: 7.3154049 | G24: 1.906153 | H24: 1.6179779 | I24: 1.004353 | J24: 1.3458287 | K24: 1.3464871
A25: Norway | B25: 15.732173 | C25: 5.18568 | D25: 44.790999 | E25: 5.4698095 | F25: 25.220614 | G25: 3.758835 | H25: 13.00305 | I25: 2.8780985 | J25: 1.2531635 | K25: 0.89046007
A26: Denmark** | B26: 0.9996159 | C26: 0.99581213 | D26: 60.581181 | E26: 7.291984 | F26: 27.769238 | G26: 6.3017211 | H26: 4.6511401 | I26: 2.8082668 | J26: 5.9988254 | K26: 3.0519661
A30: a. Data reported for early learning settings with children under age 3 are limited to centre-based settings to ensure comparability with ISCED Level 02. Data from home-based settings are excluded from this table.
A31: * Estimates for sub-groups and estimated differences between sub-groups need to be interpreted with care. For more information, see Annex B in OECD (2019).
A32: ** Low response rates in the survey may result in bias in the estimates reported and limit comparability of the data.
A33: 1. Responses reflect ECEC center leaders' personal perceptions of children’s background and may be based on rough estimates. The responses categories were pre-defined in the questionnaire.
A34: 2. Children with a different first language are children whose first language, as used in their family environment, is different from the language(s) used in their ECEC centre.
A35: Notes:
A36: ECEC: early childhood education and care.
A37: Centre leader refers to the person in an ECEC centre with the most responsibility for administrative, managerial and/or pedagogical leadership.
A38: Source: OECD, TALIS Starting Strong 2018 Database.

Sheet Table A.4
A1: Table A.4
A2: Refugee children in early childhood education and care centres
A3: Based on centre leaders' reports
B8: Percentage of ECEC centres, by share of children who are refugees in centres1,2:
B9: None | D9: 1% to 10% | F9: 11% to 30% | H9: 31% to 60% | J9: More than 60%
B10: % | C10: S.E. | D10: % | E10: S.E. | F10: % | G10: S.E. | H10: % | I10: S.E. | J10: % | K10: S.E.
A11: ISCED 02 centres
A12: Chile | B12: 91.616013 | C12: 1.8840743 | D12: 8.0116435 | E12: 1.8469154 | F12: 0.37234341 | G12: 0.37234339 | H12: c | I12: c | J12: c | K12: c
A13: Germany* | B13: 45.850259 | C13: 3.1428349 | D13: 44.167419 | E13: 3.152615 | F13: 8.7303334 | G13: 1.9007707 | H13: 1.2519881 | I13: 0.72296154 | J13: c | K13: c
A14: Iceland | B14: 84.274505 | C14: 2.643196 | D14: 15.725495 | E14: 2.643196 | F14: c | G14: c | H14: c | I14: c | J14: c | K14: c
A15: Israel | B15: 96.301151 | C15: 0.88776959 | D15: 2.9598884 | E15: 0.78107156 | F15: 0.24632031 | G15: 0.24644867 | H15: c | I15: c | J15: 0.49264062 | K15: 0.34758134
A16: Japan | B16: 98.02904 | C16: 1.9693628 | D16: c | E16: c | F16: 1.9709602 | G16: 1.9693628 | H16: c | I16: c | J16: c | K16: c
A17: Korea | B17: 96.094933 | C17: 1.4637516 | D17: 1.647455 | E17: 1.0499367 | F17: 1.5473674 | G17: 0.88700708 | H17: 0.71024472 | I17: 0.51222731 | J17: c | K17: c
A18: Norway | B18: 60.756246 | C18: 4.1898145 | D18: 33.45189 | E18: 4.6695641 | F18: 5.2564722 | G18: 2.10849 | H18: 0.53539249 | I18: 0.53531065 | J18: c | K18: c
A19: Türkiye | B19: 76.144579 | C19: 3.2083226 | D19: 22.624318 | E19: 3.1209236 | F19: 1.0665584 | G19: 0.6158639 | H19: 0.16454495 | I19: 0.16458225 | J19: c | K19: c
A20: Denmark** | B20: 52.9387 | C20: 4.9558766 | D20: 40.045749 | E20: 5.204967 | F20: 7.015551 | G20: 3.0563572 | H20: c | I20: c | J20: c | K20: c
A22: Centres for children under age 3a
A23: Germany* | B23: 48.177538 | C23: 3.0988303 | D23: 42.783241 | E23: 3.1278636 | F23: 7.689836 | G23: 1.8410613 | H23: 1.3493854 | I23: 0.77968808 | J23: c | K23: c
A24: Israel | B24: 99.256754 | C24: 0.61846671 | D24: 0.74324644 | E24: 0.61846671 | F24: c | G24: c | H24: c | I24: c | J24: c | K24: c
A25: Norway | B25: 67.239094 | C25: 3.7022211 | D25: 28.788577 | E25: 3.7186493 | F25: 3.9723298 | G25: 1.5738747 | H25: c | I25: c | J25: c | K25: c
A26: Denmark** | B26: 42.1314 | C26: 5.6177534 | D26: 47.066072 | E26: 5.953234 | F26: 9.54317 | G26: 1.9655476 | H26: 1.2593587 | I26: 1.2564612 | J26: c | K26: c
A30: a. Data reported for early learning settings with children under age 3 are limited to centre-based settings to ensure comparability with ISCED Level 02. Data from home-based settings are excluded from this table.
A31: * Estimates for sub-groups and estimated differences between sub-groups need to be interpreted with care. For more information, see Annex B in OECD (2019).
A32: ** Low response rates in the survey may result in bias in the estimates reported and limit comparability of the data.
A33: 1. Responses reflect ECEC center leaders' personal perceptions of children’s background and may be based on rough estimates. The responses categories were pre-defined in the questionnaire.
A34: 2. Children who, regardless of legal status, have fled to another country in order to seek refuge from war, political oppression, persecution, or a natural disaster, or who were born while their parents were travelling to the destination or shortly after the parents’ arrival.
A35: Notes:
A36: ECEC: early childhood education and care.
A37: Centre leader refers to the person in an ECEC centre with the most responsibility for administrative, managerial and/or pedagogical leadership.
A38: Source: OECD, TALIS Starting Strong 2018 Database.

Sheet Table A.5
A1: Table A.5
A2: Accumulation of dimensions of diversity in early childhood education and care centres (>10% threshold)
A3: Based on centre leaders' reports
B7: Percentage of ECEC centres where different dimensions of diversity apply1,2:
B8: NONE of dimensions of diversity applies to more than 10% of children in ECEC centres | D8: ONE OR MORE dimensions of diversity apply to more than 10% of children in ECEC centres | F8: TWO OR MORE dimensions of diversity apply to more than 10% of children in ECEC centres | H8: ONE (and only one) dimensions of diversity applies to more than 10% of children in ECEC centres | J8: The following TWO dimensions of diversity apply to more than 10% of children in ECEC centres: | X8: ANY THREE of dimensions of diversity apply to more than 10% of children in ECEC centres | Z8: ALL FOUR children's diversity dimensions apply to more than 10% of children in ECEC centres
J9: Any TWO dimensions | L9: Children from socio-economically disadvantage homes AND children with special education needs | N9: Children from socio-economically disadvantage homes AND children with a different first language in ECEC centres | P9: Children from socio-economically disadvantage homes AND refugee children | R9: Children whose first language is different from the language(s) used in ECEC centres AND children with special education needs | T9: Children whose first language is different from the language(s) used in ECEC centres AND children who are refugees | V9: Children with special education needs AND children who are refugees
B10: % | C10: S.E. | D10: % | E10: S.E. | F10: % | G10: S.E. | H10: % | I10: S.E. | J10: % | K10: S.E. | L10: % | M10: S.E. | N10: % | O10: S.E. | P10: % | Q10: S.E. | R10: % | S10: S.E. | T10: % | U10: S.E. | V10: % | W10: S.E. | X10: % | Y10: S.E. | Z10: % | AA10: S.E.
A11: ISCED 02 centres
A12: Chile | B12: 30.133682 | C12: 2.5381043 | D12: 69.866318 | E12: 2.5381043 | F12: 33.735223 | G12: 2.9395874 | H12: 36.131094 | I12: 3.2038813 | J12: 32.438544 | K12: 3.0747371 | L12: 29.31507 | M12: 2.6817269 | N12: 3.1234748 | O12: 1.2810129 | P12: c | Q12: c | R12: c | S12: c | T12: c | U12: c | V12: c | W12: c | X12: 0.92433549 | Y12: 0.65360386 | Z12: 0.37234341 | AA12: 0.37234339
A13: Germany* | B13: 44.079978 | C13: 2.9440258 | D13: 55.920022 | E13: 2.9440258 | F13: 25.740137 | G13: 2.3848808 | H13: 30.179885 | I13: 3.0293501 | J13: 17.380531 | K13: 2.3809298 | L13: 1.2365072 | M13: 0.71376965 | N13: 11.632276 | O13: 2.0071129 | P13: 0.40111298 | Q13: 0.4009429 | R13: 0.83539423 | S13: 0.59077535 | T13: 3.2752404 | U13: 1.1541974 | V13: c | W13: c | X13: 6.6556491 | Y13: 1.3982788 | Z13: 1.7039567 | AA13: 0.85157991
A14: Iceland | B14: 42.225896 | C14: 4.1820615 | D14: 56.089018 | E14: 4.1428485 | F14: 19.018798 | G14: 2.9429064 | H14: 37.07022 | I14: 3.9510834 | J14: 19.018798 | K14: 2.9429064 | L14: 0.58053661 | M14: 0.58052535 | N14: 4.892527 | O14: 1.581994 | P14: c | Q14: c | R14: 13.545734 | S14: 2.4578759 | T14: c | U14: c | V14: c | W14: c | X14: c | Y14: c | Z14: c | AA14: c
A15: Israel | B15: 71.640406 | C15: 2.1265455 | D15: 28.359594 | E15: 2.1265455 | F15: 7.987073 | G15: 1.197876 | H15: 20.372521 | I15: 1.9863168 | J15: 5.0834718 | K15: 0.99728026 | L15: 1.938893 | M15: 0.59163258 | N15: 1.9357341 | O15: 0.59352038 | P15: c | Q15: c | R15: 1.2088446 | S15: 0.54062302 | T15: c | U15: c | V15: c | W15: c | X15: 2.4216462 | Y15: 0.7459765 | Z15: 0.48195505 | AA15: 0.34079366
A16: Japan | B16: 82.937928 | C16: 3.246256 | D16: 17.062072 | E16: 3.246256 | F16: 2.6723806 | G16: 2.0372401 | H16: 14.389691 | I16: 2.4700141 | J16: 0.70591958 | K16: 0.5412084 | L16: 0.70591958 | M16: 0.5412084 | N16: c | O16: c | P16: c | Q16: c | R16: c | S16: c | T16: c | U16: c | V16: c | W16: c | X16: 1.966461 | Y16: 1.9650684 | Z16: c | AA16: c
A17: Korea | B17: 83.964153 | C17: 5.018268 | D17: 15.695663 | E17: 5.0135503 | F17: 0.89131733 | G17: 0.54026878 | H17: 14.804346 | I17: 4.9965983 | J17: 0.89131733 | K17: 0.54026878 | L17: 0.19077789 | M17: 0.19126688 | N17: c | O17: c | P17: c | Q17: c | R17: c | S17: c | T17: c | U17: c | V17: 0.70053945 | W17: 0.5053088 | X17: c | Y17: c | Z17: c | AA17: c
A18: Norway | B18: 52.150176 | C18: 4.5463374 | D18: 46.039852 | E18: 4.5309421 | F18: 12.054301 | G18: 3.1860251 | H18: 33.985551 | I18: 4.4659742 | J18: 10.616423 | K18: 3.0713062 | L18: 0.70409165 | M18: 0.70250663 | N18: 4.7227718 | O18: 2.1711946 | P18: c | Q18: c | R18: 0.39745793 | S18: 0.29090525 | T18: 4.7921012 | U18: 2.0350169 | V18: c | W18: c | X18: 1.4378781 | Y18: 0.84280812 | Z18: c | AA18: c
A19: Türkiye | B19: 61.115309 | C19: 3.5789628 | D19: 38.884691 | E19: 3.5789628 | F19: 12.219819 | G19: 2.8618546 | H19: 26.664872 | I19: 3.5974145 | J19: 10.555289 | K19: 2.6492783 | L19: 1.3053464 | M19: 1.4483914 | N19: 8.7252966 | O19: 2.1975142 | P19: c | Q19: c | R19: 0.013321999 | S19: 0.013324232 | T19: 0.5113245 | U19: 0.36197467 | V19: c | W19: c | X19: 1.6040976 | Y19: 1.0813711 | Z19: 0.0604319 | AA19: 0.060443636
A20: Denmark** | B20: 48.664808 | C20: 5.4384382 | D20: 49.434238 | E20: 5.4514215 | F20: 28.646432 | G20: 4.9895602 | H20: 20.787806 | I20: 4.6704203 | J20: 9.4165585 | K20: 2.9732003 | L20: 3.0914505 | M20: 1.5834713 | N20: 2.6080609 | O20: 1.5187323 | P20: c | Q20: c | R20: 3.7170471 | S20: 2.0071242 | T20: c | U20: c | V20: c | W20: c | X20: 13.515632 | Y20: 3.3799975 | Z20: 5.7142411 | AA20: 2.7632217
A22: Centres for children under age 3a
A23: Germany* | B23: 51.826004 | C23: 3.5688829 | D23: 48.173996 | E23: 3.5688829 | F23: 25.736027 | G23: 2.9573603 | H23: 22.437969 | I23: 3.1373524 | J23: 17.65079 | K23: 2.7125169 | L23: 0.88686058 | M23: 0.62752157 | N23: 9.9443028 | O23: 2.0839066 | P23: 0.43049393 | Q23: 0.43051833 | R23: 2.2818332 | S23: 1.0196571 | T23: 4.1072998 | U23: 1.370139 | V23: c | W23: c | X23: 7.2242482 | Y23: 1.7808706 | Z23: 0.86098786 | AA23: 0.60942241
A24: Israel | B24: 72.838572 | C24: 3.4518862 | D24: 27.161428 | E24: 3.4518862 | F24: 6.601541 | G24: 1.744859 | H24: 20.559887 | I24: 2.9871746 | J24: 5.807454 | K24: 1.9004612 | L24: 1.2986178 | M24: 0.93966786 | N24: 4.0730568 | O24: 1.587475 | P24: c | Q24: c | R24: 0.43577948 | S24: 0.43546469 | T24: c | U24: c | V24: c | W24: c | X24: 0.79408703 | Y24: 0.79330804 | Z24: c | AA24: c
A25: Norway | B25: 54.820962 | C25: 4.211997 | D25: 42.131346 | E25: 4.0898945 | F25: 10.689567 | G25: 1.9725476 | H25: 31.441779 | I25: 3.8156428 | J25: 7.2519817 | K25: 1.8613735 | L25: 0.71260258 | M25: 0.7129282 | N25: 4.0169308 | O25: 1.31573 | P25: c | Q25: c | R25: 0.62694596 | S25: 0.45523626 | T25: 1.8955024 | U25: 0.9736663 | V25: c | W25: c | X25: 3.437585 | Y25: 1.2512049 | Z25: c | AA25: c
A26: Denmark** | B26: 58.154884 | C26: 6.9549938 | D26: 41.845116 | E26: 6.9549938 | F26: 26.190293 | G26: 6.6546361 | H26: 15.654824 | I26: 4.9008364 | J26: 7.9514414 | K26: 4.8031698 | L26: c | M26: c | N26: c | O26: c | P26: c | Q26: c | R26: 3.2406079 | S26: 3.1342528 | T26: 4.7108336 | U26: 3.6109183 | V26: c | W26: c | X26: 15.624081 | Y26: 6.3683656 | Z26: 2.6147701 | AA26: 1.8451468
A30: a. Data reported for early learning settings with children under age 3 are limited to centre-based settings to ensure comparability with ISCED Level 02. Data from home-based settings are excluded from this table.
A31: * Estimates for sub-groups and estimated differences between sub-groups need to be interpreted with care. For more information, see Annex B in OECD (2019).
A32: ** Low response rates in the survey may result in bias in the estimates reported and limit comparability of the data.
A33: 1. Dimensions of diversity refers to children from socio-economically disadvantaged homes, children with special education needs, children with a different first language, and children who are refugees. Full definitions are the following:
A34: Socio-economically disadvantage homes refer to children’s homes lacking the basic necessities or advantages of life, such as adequate housing, nutrition or medical care.
A35: Children with special education needs are children for whom a special learning need has been formally identified because they are cognitively, physically or emotionally disadvantaged.
A36: Children with a different first language are children whose first language, as used in their family environment, is different from the language(s) used in their ECEC centre.
A37: Children who, regardless of legal status, have fled to another country in order to seek refuge from war, political oppression, persecution, or a natural disaster, or who were born while their parents were travelling to the destination or shortly after the parents’ arrival.
A38: 2. Several dimensions of diversity accumulate within an ECEC centre when each of these dimensions, considered separately, applies to more than 10% of the children in the centre. This may occur because multiple forms of diversity apply to the same individual children, or because different forms of diversity apply to different groups of children within the centre.
A39: Notes:
A40: Data include reports from leaders with staff duties and one-person centres in Korea.
A41: ECEC: early childhood education and care.
... A43: Source: OECD, TALIS Starting Strong 2018 Database.

Sheet Table A.6
A1: Table A.6
A2: Accumulation of dimensions of diversity in early childhood education and care centres (>30% threshold)
A3: Based on centre leaders' reports
B7: Percentage of ECEC centres where different dimensions of diversity apply1,2:
B8: NONE of dimensions of diversity applies to more than 30% of children in ECEC centres | D8: ONE OR MORE dimensions of diversity apply to more than 30% of children in ECEC centres | F8: TWO OR MORE dimensions of diversity apply to more than 30% of children in ECEC centres | H8: ONE (and only one) dimensions of diversity applies to more than 30% of children in ECEC centres | J8: The following TWO dimensions of diversity apply to more than 30% of children in ECEC centres: | X8: ANY THREE of dimensions of diversity apply to more than 30% of children in ECEC centres | Z8: ALL FOUR children's diversity dimensions apply to more than 30% of children in ECEC centres
J9: Any TWO dimensions | L9: Children from socio-economically disadvantage homes AND children with special education needs | N9: Children from socio-economically disadvantage homes AND children with a different first language in ECEC centres | P9: Children from socio-economically disadvantage homes AND refugee children | R9: Children with a different first language in ECEC centres AND children with special education needs | T9: Children with a different first language in ECEC centres AND children who are refugees | V9: Children with special education needs AND children who are refugees
B10: % | C10: S.E. | D10: % | E10: S.E. | F10: % | G10: S.E. | H10: % | I10: S.E. | J10: % | K10: S.E. | L10: % | M10: S.E. | N10: % | O10: S.E. | P10: % | Q10: S.E. | R10: % | S10: S.E. | T10: % | U10: S.E. | V10: % | W10: S.E. | X10: % | Y10: S.E. | Z10: % | AA10: S.E.
A11: ISCED 02 centres
A12: Chile | B12: 44.975687 | C12: 2.7853685 | D12: 55.024313 | E12: 2.7853685 | F12: 12.172032 | G12: 2.2901703 | H12: 42.852282 | I12: 3.2898994 | J12: 12.172032 | K12: 2.2901703 | L12: 9.53892 | M12: 1.9357851 | N12: 2.6331119 | O12: 1.1834434 | P12: c | Q12: c | R12: c | S12: c | T12: c | U12: c | V12: c | W12: c | X12: c | Y12: c | Z12: c | AA12: c
A13: Germany* | B13: 73.891918 | C13: 2.8778631 | D13: 26.108082 | E13: 2.8778631 | F13: 7.4910434 | G13: 1.6288442 | H13: 18.617038 | I13: 2.5650255 | J13: 6.049863 | K13: 1.4553617 | L13: 0.40111298 | M13: 0.40094025 | N13: 5.247637 | O13: 1.3402789 | P13: c | Q13: c | R13: 0.40111298 | S13: 0.40094142 | T13: 0.40111298 | U13: 0.40094142 | V13: c | W13: c | X13: 1.4411804 | Y13: 0.72920732 | Z13: c | AA13: c
A14: Iceland | B14: 92.17582 | C14: 2.0268828 | D14: 7.82418 | E14: 2.0268828 | F14: c | G14: c | H14: 7.82418 | I14: 2.0268828 | J14: c | K14: c | L14: c | M14: c | N14: c | O14: c | P14: c | Q14: c | R14: c | S14: c | T14: c | U14: c | V14: c | W14: c | X14: c | Y14: c | Z14: c | AA14: c
A15: Israel | B15: 84.375041 | C15: 1.5855729 | D15: 15.624959 | E15: 1.5855729 | F15: 2.6509957 | G15: 0.63768143 | H15: 12.973964 | I15: 1.5658135 | J15: 1.9280631 | K15: 0.59039602 | L15: 0.72317552 | M15: 0.41756077 | N15: 1.2048876 | O15: 0.41738527 | P15: c | Q15: c | R15: c | S15: c | T15: c | U15: c | V15: c | W15: c | X15: 0.72293257 | Y15: 0.41738528 | Z15: c | AA15: c
A16: Japan | B16: 98.953341 | C16: 0.86655389 | D16: 1.0466586 | E16: 0.86655389 | F16: c | G16: c | H16: 1.0466586 | I16: 0.86655389 | J16: c | K16: c | L16: c | M16: c | N16: c | O16: c | P16: c | Q16: c | R16: c | S16: c | T16: c | U16: c | V16: c | W16: c | X16: c | Y16: c | Z16: c | AA16: c
A17: Korea | B17: 98.165787 | C17: 1.0842585 | D17: 1.8342129 | E17: 1.0842585 | F17: 0.61198625 | G17: 0.46281776 | H17: 1.2222266 | I17: 0.98094564 | J17: 0.61198625 | K17: 0.46281776 | L17: 0.19077789 | M17: 0.19126688 | N17: c | O17: c | P17: c | Q17: c | R17: c | S17: c | T17: c | U17: c | V17: 0.41912649 | W17: 0.41982495 | X17: c | Y17: c | Z17: c | AA17: c
A18: Norway | B18: 87.416669 | C18: 3.2009801 | D18: 12.583331 | E18: 3.2009801 | F18: c | G18: c | H18: 12.583331 | I18: 3.2009801 | J18: c | K18: c | L18: c | M18: c | N18: c | O18: c | P18: c | Q18: c | R18: c | S18: c | T18: c | U18: c | V18: c | W18: c | X18: c | Y18: c | Z18: c | AA18: c
A19: Türkiye | B19: 74.95496 | C19: 3.3996282 | D19: 25.04504 | E19: 3.3996282 | F19: 8.6797904 | G19: 2.4506087 | H19: 16.36525 | I19: 3.3795444 | J19: 7.568322 | K19: 2.253557 | L19: 0.069757301 | M19: 0.061170836 | N19: 7.4985647 | O19: 2.2529962 | P19: c | Q19: c | R19: c | S19: c | T19: c | U19: c | V19: c | W19: c | X19: 1.1114684 | Y19: 0.96285493 | Z19: c | AA19: c
A20: Denmark** | B20: 73.255536 | C20: 5.1818927 | D20: 26.744464 | E20: 5.1818927 | F20: 11.972894 | G20: 3.2314818 | H20: 14.771571 | I20: 4.1554001 | J20: 7.0280619 | K20: 2.0988908 | L20: c | M20: c | N20: 6.8944617 | O20: 2.0525626 | P20: c | Q20: c | R20: c | S20: c | T20: c | U20: c | V20: c | W20: c | X20: 4.9448318 | Y20: 2.4354401 | Z20: c | AA20: c
A22: Centres for children under age 3a
A23: Germany* | B23: 75.702964 | C23: 2.93972 | D23: 24.297036 | E23: 2.93972 | F23: 7.1983755 | G23: 1.79317 | H23: 17.09866 | I23: 2.5239047 | J23: 7.1983755 | K23: 1.79317 | L23: c | M23: c | N23: 5.8551483 | O23: 1.6172714 | P23: c | Q23: c | R23: c | S23: c | T23: c | U23: c | V23: c | W23: c | X23: c | Y23: c | Z23: c | AA23: c
A24: Israel | B24: 90.640253 | C24: 2.2488325 | D24: 9.3597473 | E24: 2.2488325 | F24: 0.76029611 | G24: 0.76021261 | H24: 8.5994512 | I24: 2.3781018 | J24: 0.76029611 | K24: 0.76021261 | L24: c | M24: c | N24: 0.76029611 | O24: 0.76021261 | P24: c | Q24: c | R24: c | S24: c | T24: c | U24: c | V24: c | W24: c | X24: c | Y24: c | Z24: c | AA24: c
A25: Norway | B25: 85.308938 | C25: 2.8880594 | D25: 14.691062 | E25: 2.8880594 | F25: 1.8460441 | G25: 1.1075013 | H25: 12.845018 | I25: 2.666884 | J25: 1.8460441 | K25: 1.1075013 | L25: c | M25: c | N25: 1.3622208 | O25: 0.98309301 | P25: c | Q25: c | R25: 0.42756156 | S25: 0.42798499 | T25: 0.42756156 | U25: 0.42798499 | V25: c | W25: c | X25: c | Y25: c | Z25: c | AA25: c
A26: Denmark** | B26: 85.477164 | C26: 5.3174398 | D26: 14.522836 | E26: 5.3174398 | F26: 6.4623268 | G26: 3.2988944 | H26: 8.0605089 | I26: 4.2117807 | J26: 5.1069154 | K26: 3.0086265 | L26: c | M26: c | N26: c | O26: c | P26: c | Q26: c | R26: 3.8475567 | S26: 2.7281845 | T26: 3.8475567 | U26: 2.7281845 | V26: c | W26: c | X26: 1.3554114 | Y26: 1.3515355 | Z26: c | AA26: c
A30: a. Data reported for early learning settings with children under age 3 are limited to centre-based settings to ensure comparability with ISCED Level 02. Data from home-based settings are excluded from this table.
A31: * Estimates for sub-groups and estimated differences between sub-groups need to be interpreted with care. For more information, see Annex B in OECD (2019).
A32: ** Low response rates in the survey may result in bias in the estimates reported and limit comparability of the data.
A33: 1. Dimensions of diversity refers to children from socio-economically disadvantaged homes, children with special education needs, children with a different first language, and children who are refugees. Full definitions are the following:
A34: Socio-economically disadvantage homes refer to children’s homes lacking the basic necessities or advantages of life, such as adequate housing, nutrition or medical care.
A35: Children with special education needs are children for whom a special learning need has been formally identified because they are cognitively, physically or emotionally disadvantaged.
A36: Children with a different first language are children whose first language, as used in their family environment, is different from the language(s) used in their ECEC centre.
A37: Children who, regardless of legal status, have fled to another country in order to seek refuge from war, political oppression, persecution, or a natural disaster, or who were born while their parents were travelling to the destination or shortly after the parents’ arrival.
A38: 2. Several dimensions of diversity accumulate within an ECEC centre when each of these dimensions, considered separately, applies to more than 30% of the children in the centre. This may occur because multiple forms of diversity apply to the same individual children, or because different forms of diversity apply to different groups of children within the centre.
A39: Notes:
A40: Data include reports from leaders with staff duties and one-person centres in Korea.
A41: ECEC: early childhood education and care.
... A43: Source: OECD, TALIS Starting Strong 2018 Database.

Sheet Table A.7
A1: Table A.7
A2: Dimensions of diversity and centre location in early childhood education and care centres
A3: Based on centre leaders' reports
B6: All ECEC centres, by centre location1 | F6: Percentage of ECEC centers, by dimensions of diversity and centre location1:
F7: ECEC centres with more than 10% of children from socio-economically disadvantaged homes2: | N7: ECEC centres with more than 10% of children with special education needs3: | V7: ECEC centres with more than 10% of children with a different first language used in ECEC centres4: | AD7: ECEC centres with more than 10% of children who are refugees5:
B8: Rural ECEC centres | D8: Urban ECEC centres | F8: All ECEC centres | H8: Rural ECEC centres | J8: Urban ECEC centres | L8: Difference between urban and rural ECEC centers (urban - rural) | N8: All ECEC centres | P8: Rural ECEC centres | R8: Urban ECEC centres | T8: Difference between urban and rural ECEC centers (urban - rural) | V8: All ECEC centres | X8: Rural ECEC centres | Z8: Urban ECEC centres | AB8: Difference between urban and rural ECEC centers (urban - rural) | AD8: All ECEC centres | AF8: Rural ECEC centres | AH8: Urban ECEC centres | AJ8: Difference between urban and rural ECEC centers (urban - rural)
B10: % | C10: S.E. | D10: % | E10: S.E. | F10: % | G10: S.E. | H10: % | I10: S.E. | J10: % | K10: S.E. | L10: % dif. | M10: S.E. | N10: % | O10: S.E. | P10: % | Q10: S.E. | R10: % | S10: S.E. | T10: % dif. | U10: S.E. | V10: % | W10: S.E. | X10: % | Y10: S.E. | Z10: % | AA10: S.E. | AB10: % dif. | AC10: S.E. | AD10: % | AE10: S.E. | AF10: % | AG10: S.E. | AH10: % | AI10: S.E. | AJ10: % dif. | AK10: S.E.
A11: ISCED 02 centres
A12: Chile | B12: 29.061259 | C12: 2.9945188 | D12: 70.938741 | E12: 2.9945188 | F12: 64.653934 | G12: 2.4987975 | H12: 72.357304 | I12: 5.6809771 | J12: 60.902826 | K12: 3.5551458 | L12: -11.454478 | M12: 7.5262092 | N12: 34.442344 | O12: 2.6604178 | P12: 31.906495 | Q12: 6.1217482 | R12: 35.2426 | S12: 3.127686 | T12: 3.3361055 | U12: 7.1252558 | V12: 6.353759 | W12: 1.4799232 | X12: 7.3593966 | Y12: 3.5103285 | Z12: 5.2314999 | AA12: 1.5990598 | AB12: -2.1278967 | AC12: 4.1314974 | AD12: 0.37234341 | AE12: 0.37234339 | AF12: c | AG12: c | AH12: 0.53094135 | AI12: 0.53136122 | AJ12: c | AK12: c
A13: Germany* | B13: 47.772477 | C13: 3.2334199 | D13: 52.227523 | E13: 3.2334199 | F13: 27.337695 | G13: 2.517249 | H13: 17.890085 | I13: 3.5705848 | J13: 35.756634 | K13: 3.680499 | L13: 17.866549 | M13: 5.2161769 | N13: 8.5691142 | O13: 1.7678645 | P13: 4.8460703 | Q13: 1.95056 | R13: 11.881289 | S13: 3.0233077 | T13: 7.0352191 | U13: 3.7413097 | V13: 46.516154 | W13: 2.6750542 | X13: 30.790204 | Y13: 3.8053942 | Z13: 60.890329 | AA13: 4.2866281 | AB13: 30.100125 | AC13: 6.3089001 | AD13: 9.9823215 | AE13: 1.8567382 | AF13: 7.7966464 | AG13: 2.4942033 | AH13: 11.945031 | AI13: 2.9122288 | AJ13: 4.1483841 | AK13: 4.0190001
A14: Iceland | B14: 53.994869 | C14: 3.1964944 | D14: 46.005131 | E14: 3.1964944 | F14: 6.6395607 | G14: 1.8782917 | H14: 7.3697589 | I14: 2.658686 | J14: 5.8090721 | K14: 2.6053435 | L14: -1.5606868 | M14: 3.6803177 | N14: 23.974049 | O14: 3.3864892 | P14: 23.27099 | Q14: 4.466051 | R14: 24.754797 | S14: 5.2606204 | T14: 1.4838065 | U14: 6.9554219 | V14: 46.413235 | W14: 3.6113741 | X14: 41.281604 | Y14: 4.8553039 | Z14: 52.37062 | AA14: 5.985147 | AB14: 11.089016 | AC14: 8.0520998 | AD14: c | AE14: c | AF14: c | AG14: c | AH14: c | AI14: c | AJ14: c | AK14: c
A15: Israel | B15: 40.118098 | C15: 2.4313767 | D15: 59.881902 | E15: 2.4313767 | F15: 13.851298 | G15: 1.5751245 | H15: 15.649881 | I15: 3.1248207 | J15: 13.286046 | K15: 1.8663639 | L15: -2.3638346 | M15: 3.6440179 | N15: 9.5873796 | O15: 1.3600376 | P15: 9.2521126 | Q15: 1.9563854 | R15: 10.731971 | S15: 2.025576 | T15: 1.4798581 | U15: 2.7761863 | V15: 15.969194 | W15: 1.7350818 | X15: 8.4779712 | Y15: 2.2315581 | Z15: 19.859475 | AA15: 2.604689 | AB15: 11.381504 | AC15: 3.4147729 | AD15: 0.73896093 | AE15: 0.42585491 | AF15: 1.3087043 | AG15: 0.91668695 | AH15: 0.45432102 | AI15: 0.45268254 | AJ15: -0.85438326 | AK15: 1.0188935
A16: Japan | B16: 8.3011695 | C16: 2.6843508 | D16: 91.69883 | E16: 2.6843508 | F16: 4.1020748 | G16: 2.2985444 | H16: c | I16: c | J16: c | K16: c | L16: c | M16: c | N16: 14.065789 | O16: 3.1889949 | P16: 20.137778 | Q16: 18.006853 | R16: 13.713903 | S16: 3.2449981 | T16: -6.4238758 | U16: 18.54628 | V16: 1.715925 | W16: 0.75578555 | X16: c | Y16: c | Z16: 1.8947383 | AA16: 0.8370184 | AB16: c | AC16: c | AD16: 1.9709602 | AE16: 1.9693628 | AF16: c | AG16: c | AH16: 2.1744976 | AI16: 2.1704015 | AJ16: c | AK16: c
A17: Korea | B17: 14.679763 | C17: 4.0692213 | D17: 85.320237 | E17: 4.0692213 | F17: 10.664593 | G17: 4.8392216 | H17: 9.6179491 | I17: 9.3998903 | J17: 10.930749 | K17: 5.2532731 | L17: 1.3128001 | M17: 10.168129 | N17: 2.1147132 | O17: 0.92934668 | P17: 2.3382928 | Q17: 1.8342132 | R17: 2.0951483 | S17: 1.0614756 | T17: -0.24314452 | U17: 2.1482363 | V17: 1.6917355 | W17: 1.2048882 | X17: c | Y17: c | Z17: 1.9996391 | AA17: 1.4358946 | AB17: c | AC17: c | AD17: 2.2576121 | AE17: 1.0226272 | AF17: c | AG17: c | AH17: 2.6581879 | AI17: 1.1838517 | AJ17: c | AK17: c
A18: Norway | B18: 59.797019 | C18: 3.6337983 | D18: 40.202981 | E18: 3.6337983 | F18: 6.6152454 | G18: 2.4481749 | H18: 6.5620282 | I18: 3.5432967 | J18: 6.6941096 | K18: 3.0889061 | L18: 0.13208136 | M18: 4.7026901 | N18: 8.1595031 | O18: 2.8832221 | P18: 5.5694237 | Q18: 2.8683473 | R18: 11.997829 | S18: 5.6324832 | T18: 6.4284056 | U18: 6.3193125 | V18: 40.347934 | W18: 4.7021796 | X18: 41.886726 | Y18: 6.2679409 | Z18: 38.094535 | AA18: 6.3234935 | AB18: -3.7921905 | AC18: 8.4134795 | AD18: 5.7918647 | AE18: 2.1770693 | AF18: 8.1737245 | AG18: 3.506357 | AH18: 2.2621062 | AI18: 1.6661704 | AJ18: -5.9116183 | AK18: 3.8977647
A19: Türkiye | B19: 40.352556 | C19: 3.5395934 | D19: 59.647444 | E19: 3.5395934 | F19: 30.296869 | G19: 4.2534758 | H19: 38.755571 | I19: 7.9016513 | J19: 24.472002 | K19: 4.010239 | L19: -14.283569 | M19: 8.3187347 | N19: 2.765143 | O19: 1.7474216 | P19: 2.4697721 | Q19: 2.3035932 | R19: 2.9691272 | S19: 2.437652 | T19: 0.49935518 | U19: 3.2877067 | V19: 18.581617 | W19: 2.0476729 | X19: 32.624455 | Y19: 4.1905212 | Z19: 8.9113799 | AA19: 2.3753703 | AB19: -23.713075 | AC19: 4.9863712 | AD19: 1.2311033 | AE19: 0.63754764 | AF19: c | AG19: c | AH19: 2.0807373 | AI19: 1.0665076 | AJ19: c | AK19: c
A20: Denmark** | B20: 47.960219 | C20: 5.4919112 | D20: 52.039781 | E20: 5.4919112 | F20: 26.572663 | G20: 4.7268831 | H20: 20.16603 | I20: 6.7211391 | J20: 32.966619 | K20: 6.0930815 | L20: 12.800589 | M20: 8.7473104 | N20: 29.067283 | O20: 5.2909219 | P20: 28.203575 | Q20: 7.9966746 | R20: 30.60113 | S20: 6.3560273 | T20: 2.3975548 | U20: 9.5109499 | V20: 42.806734 | W20: 5.4979386 | X20: 33.1079 | Y20: 6.3350592 | Z20: 49.871339 | AA20: 7.6300334 | AB20: 16.763439 | AC20: 9.4844058 | AD20: 7.015551 | AE20: 3.0563572 | AF20: 5.2552112 | AG20: 4.2312052 | AH20: 8.7305824 | AI20: 4.4879871 | AJ20: 3.4753712 | AK20: 6.1580963
A22: Centres for children under age 3a
A23: Germany* | B23: 44.805818 | C23: 2.9587355 | D23: 55.194182 | E23: 2.9587355 | F23: 23.199961 | G23: 2.8877178 | H23: 16.521782 | I23: 3.6880359 | J23: 28.584573 | K23: 4.629296 | L23: 12.062791 | M23: 6.0634429 | N23: 10.431006 | O23: 1.9752803 | P23: 6.1644506 | Q23: 2.4836626 | R23: 13.446781 | S23: 2.8705603 | T23: 7.2823307 | U23: 3.7262952 | V23: 40.975539 | W23: 3.4204707 | X23: 25.812616 | Y23: 4.7877436 | Z23: 54.010121 | AA23: 4.667039 | AB23: 28.197505 | AC23: 6.6251927 | AD23: 9.0392214 | AE23: 1.8923483 | AF23: 8.2388683 | AG23: 2.4420972 | AH23: 9.9129495 | AI23: 2.8391566 | AJ23: 1.6740812 | AK23: 3.7150338
A24: Israel | B24: 54.040103 | C24: 3.6693628 | D24: 45.959897 | E24: 3.6693628 | F24: 22.465988 | G24: 3.0915986 | H24: 5.4985838 | I24: 2.2823444 | J24: 39.175095 | K24: 5.7263785 | L24: 33.676511 | M24: 5.7496374 | N24: 2.6556502 | O24: 1.3713798 | P24: c | Q24: c | R24: 6.1414503 | S24: 3.0953378 | T24: c | U24: c | V24: 10.279211 | W24: 2.2995777 | X24: 3.0530789 | Y24: 1.8376109 | Z24: 19.283974 | AA24: 4.8298661 | AB24: 16.230895 | AC24: 5.126047 | AD24: c | AE24: c | AF24: c | AG24: c | AH24: c | AI24: c | AJ24: c | AK24: c
A25: Norway | B25: 59.226547 | C25: 3.9686464 | D25: 40.773453 | E25: 3.9686464 | F25: 10.543497 | G25: 1.9192384 | H25: 5.3005779 | I25: 2.2947375 | J25: 18.329588 | K25: 3.7249629 | L25: 13.02901 | M25: 4.4939811 | N25: 4.0777756 | O25: 1.5196504 | P25: 3.197127 | Q25: 2.2637419 | R25: 5.3722872 | S25: 1.6518499 | T25: 2.1751602 | U25: 2.7042725 | V25: 39.476828 | W25: 4.1824956 | X25: 31.35554 | Y25: 5.2087664 | Z25: 51.414735 | AA25: 6.2906297 | AB25: 20.059195 | AC25: 8.0344965 | AD25: 3.9723298 | AE25: 1.5738747 | AF25: 1.5093072 | AG25: 1.1162506 | AH25: 7.5928558 | AI25: 3.4932419 | AJ25: 6.0835486 | AK25: 3.6727773
A26: Denmark** | B26: 34.273101 | C26: 8.1544123 | D26: 65.726899 | E26: 8.1544123 | F26: 18.343409 | G26: 6.6255655 | H26: 22.303956 | I26: 11.72893 | J26: 16.278194 | K26: 7.1229194 | L26: -6.0257622 | M26: 12.964584 | N26: 21.32389 | O26: 6.6593968 | P26: 12.159192 | Q26: 8.6205737 | R26: 26.102794 | S26: 8.6154704 | T26: 13.943602 | U26: 11.812469 | V26: 38.419203 | W26: 7.3655578 | X26: 32.909845 | Y26: 13.449726 | Z26: 41.292042 | AA26: 9.8259999 | AB26: 8.3821969 | AC26: 17.611085 | AD26: 10.802529 | AE26: 2.3349054 | AF26: 13.819245 | AG26: 9.8102711 | AH26: 9.2294708 | AI26: 5.4953985 | AJ26: -4.5897741 | AK26: 14.441375
A30: a. Data reported for early learning settings with children under age 3 are limited to centre-based settings to ensure comparability with ISCED Level 02. Data from home-based settings are excluded from this table.
A31: * Estimates for sub-groups and estimated differences between sub-groups need to be interpreted with care. For more information, see Annex B in OECD (2019).
A32: ** Low response rates in the survey may result in bias in the estimates reported and limit comparability of the data.
A33: 1. “Rural” refers to locations with up to 15 000 people. “Urban” refers to locations with more than 15 000 people. In the cases of Japan and Korea, the cutoff point is 50 000 inhabitants, to account for the high population density in both countries.
A34: 2. Socio-economically disadvantage homes refer to children’s homes lacking the basic necessities or advantages of life, such as adequate housing, nutrition or medical care.
A35: 3. Children with special education needs are children for whom a special learning need has been formally identified because they are cognitively, physically or emotionally disadvantaged.
A36: 4. Children with a different first language are children whose first language, as used in their family environment, is different from the language(s) used in their ECEC centre.
A37: 5. Children who, regardless of legal status, have fled to another country in order to seek refuge from war, political oppression, persecution, or a natural disaster, or who were born while their parents were travelling to the destination or shortly after the parents’ arrival.
A38: Notes:
A39: ECEC: early childhood education and care.
A40: Centre leader refers to the person in an ECEC centre with the most responsibility for administrative, managerial and/or pedagogical leadership.
A41: Statistically significant differences are in bold. For more information, see Annex C in OECD (2019).
A42: Source: OECD, TALIS Starting Strong 2018 Database.

Sheet Table A.8
A1: Table A.8
A2: Accumulation of dimensions of diversity and centre location in early childhood education and care centres
A3: Based on centre leaders' reports
B6: All ECEC centres, by centre location3 | F6: Percentage of ECEC centers, by number of dimensions of diversity that apply to more than 10% of children in ECEC centres and by centre location1,2,3:
F7: NONE of dimensions of diversity apply in: | N7: AT LEAST ONE of dimensions of diversity applies in: | V7: AT LEAST TWO OR MORE of dimensions of diversity apply in:
B8: Urban | D8: Rural | F8: All ECEC centres | H8: Rural ECEC centres | J8: Urban ECEC centres | L8: Difference between urban and rural ECEC centers (urban - rural) | N8: All ECEC centres | P8: Rural ECEC centres | R8: Urban ECEC centres | T8: Difference between urban and rural ECEC centers (urban - rural) | V8: All ECEC centres | X8: Rural ECEC centres | Z8: Urban ECEC centres | AB8: Difference between urban and rural ECEC centers (urban - rural)
B10: % | C10: S.E. | D10: % | E10: S.E. | F10: % | G10: S.E. | H10: % | I10: S.E. | J10: % | K10: S.E. | L10: % dif. | M10: S.E. | N10: % | O10: S.E. | P10: % | Q10: S.E. | R10: % | S10: S.E. | T10: % dif. | U10: S.E. | V10: % | W10: S.E. | X10: % | Y10: S.E. | Z10: % | AA10: S.E. | AB10: % dif. | AC10: S.E.
A11: ISCED 02 centres
A12: Chile | B12: 70.938741 | C12: 2.9945188 | D12: 29.061259 | E12: 2.9945188 | F12: 30.133682 | G12: 2.5381043 | H12: 26.034009 | I12: 5.570365 | J12: 32.30371 | K12: 3.5617001 | L12: 6.2697012 | M12: 7.3945768 | N12: 36.131094 | O12: 3.2038813 | P12: 36.404167 | Q12: 6.8482826 | R12: 36.607381 | S12: 3.8197665 | T12: 0.20321402 | U12: 8.164559 | V12: 33.735223 | W12: 2.9395874 | X12: 37.561824 | Y12: 6.8713503 | Z12: 31.088909 | AA12: 3.038222 | AB12: -6.4729152 | AC12: 7.5448664
A13: Germany* | B13: 52.227523 | C13: 3.2334199 | D13: 47.772477 | E13: 3.2334199 | F13: 44.079978 | G13: 2.9440258 | H13: 57.054497 | I13: 4.3441667 | J13: 32.311443 | K13: 4.3700954 | L13: -24.743053 | M13: 6.5094228 | N13: 30.179885 | O13: 3.0293501 | P13: 28.108836 | Q13: 4.2867622 | R13: 32.058429 | S13: 4.1438452 | T13: 3.9495937 | U13: 5.8487428 | V13: 25.740137 | W13: 2.3848808 | X13: 14.836668 | Y13: 3.2241056 | Z13: 35.630127 | AA13: 4.140229 | AB13: 20.79346 | AC13: 5.7031529
A14: Iceland | B14: 46.005131 | C14: 3.1964944 | D14: 53.994869 | E14: 3.1964944 | F14: 42.225896 | G14: 4.1820615 | H14: 48.802857 | I14: 5.3266185 | J14: 35.533755 | K14: 5.7270792 | L14: -13.269101 | M14: 7.3901958 | N14: 37.07022 | O14: 3.9510834 | P14: 30.231345 | Q14: 5.1645352 | R14: 45.998001 | S14: 5.8098409 | T14: 15.766656 | U14: 7.7427035 | V14: 19.018798 | W14: 2.9429064 | X14: 19.881958 | Y14: 4.0032202 | Z14: 18.468244 | AA14: 4.3679247 | AB14: -1.4137137 | AC14: 5.8943467
A15: Israel | B15: 59.881902 | C15: 2.4313767 | D15: 40.118098 | E15: 2.4313767 | F15: 71.640406 | G15: 2.1265455 | H15: 74.668676 | I15: 3.5193189 | J15: 70.214753 | K15: 2.8093641 | L15: -4.4539232 | M15: 4.3790452 | N15: 20.372521 | O15: 1.9863168 | P15: 20.077844 | Q15: 3.275947 | R15: 19.22036 | S15: 2.5274676 | T15: -0.85748423 | U15: 3.9752767 | V15: 7.987073 | W15: 1.197876 | X15: 5.2534799 | Y15: 1.8018115 | Z15: 10.564887 | AA15: 1.6433181 | AB15: 5.3114074 | AC15: 2.3822956
A16: Japan | B16: 91.69883 | C16: 2.6843508 | D16: 8.3011695 | E16: 2.6843508 | F16: 82.937928 | G16: 3.246256 | H16: 80.104241 | I16: 17.756208 | J16: 82.961014 | K16: 3.3512242 | L16: 2.8567731 | M16: 18.358834 | N16: 14.389691 | O16: 2.4700141 | P16: 19.895759 | Q16: 17.756208 | R16: 14.088121 | S16: 2.3645269 | T16: -5.8076374 | U16: 18.158958 | V16: 2.6723806 | W16: 2.0372401 | X16: c | Y16: c | Z16: 2.9508643 | AA16: 2.2466558 | AB16: c | AC16: c
A17: Korea | B17: 85.320237 | C17: 4.0692213 | D17: 14.679763 | E17: 4.0692213 | F17: 83.964153 | G17: 5.018268 | H17: 88.437666 | I17: 9.1304641 | J17: 83.390573 | K17: 5.4193362 | L17: -5.0470931 | M17: 9.8498563 | N17: 14.804346 | O17: 4.9965983 | P17: 11.562334 | Q17: 9.1304641 | R17: 15.55229 | S17: 5.412183 | T17: 3.9899558 | U17: 9.8401349 | V17: 0.89131733 | W17: 0.54026878 | X17: c | Y17: c | Z17: 1.0571374 | AA17: 0.64316476 | AB17: c | AC17: c
A18: Norway | B18: 40.202981 | C18: 3.6337983 | D18: 59.797019 | E18: 3.6337983 | F18: 52.150176 | G18: 4.5463374 | H18: 53.264554 | I18: 5.5886646 | J18: 51.508871 | K18: 7.5666286 | L18: -1.7556827 | M18: 9.2269822 | N18: 33.985551 | O18: 4.4659742 | P18: 30.987868 | Q18: 5.5026539 | R18: 39.10648 | S18: 7.2311183 | T18: 8.1186121 | U18: 9.0041513 | V18: 12.054301 | W18: 3.1860251 | X18: 14.560884 | Y18: 4.9629884 | Z18: 8.5609533 | AA18: 3.2986757 | AB18: -5.9999312 | AC18: 5.9871182
A19: Türkiye | B19: 59.647444 | C19: 3.5395934 | D19: 40.352556 | E19: 3.5395934 | F19: 61.115309 | G19: 3.5789628 | H19: 46.916812 | I19: 5.9885695 | J19: 70.880573 | K19: 4.1257222 | L19: 23.963762 | M19: 6.7745351 | N19: 26.664872 | O19: 3.5974145 | P19: 34.641132 | Q19: 7.2399246 | R19: 21.179061 | S19: 3.4613071 | T19: -13.462071 | U19: 7.9071466 | V19: 12.219819 | W19: 2.8618546 | X19: 18.442057 | Y19: 5.5861697 | Z19: 7.9403662 | AA19: 2.8522042 | AB19: -10.50169 | AC19: 6.1816008
A20: Denmark** | B20: 52.039781 | C20: 5.4919112 | D20: 47.960219 | E20: 5.4919112 | F20: 48.664808 | G20: 5.4384382 | H20: 52.631149 | I20: 7.4783162 | J20: 46.298267 | K20: 7.2842248 | L20: -6.3328821 | M20: 10.167512 | N20: 20.787806 | O20: 4.6704203 | P20: 20.823847 | Q20: 6.9881586 | R20: 18.656692 | S20: 6.4407612 | T20: -2.1671551 | U20: 9.7841964 | V20: 28.646432 | W20: 4.9895602 | X20: 22.52677 | Y20: 6.9694157 | Z20: 35.045041 | AA20: 6.2510567 | AB20: 12.518271 | AC20: 8.6138064
A22: Centres for children under age 3a
A23: Germany* | B23: 55.194182 | C23: 2.9587355 | D23: 44.805818 | E23: 2.9587355 | F23: 51.826004 | G23: 3.5688829 | H23: 66.06612 | I23: 4.8443341 | J23: 39.508594 | K23: 4.8688974 | L23: -26.557527 | M23: 6.6871954 | N23: 22.437969 | O23: 3.1373524 | P23: 16.418934 | Q23: 3.8939422 | R23: 28.069124 | S23: 4.5370649 | T23: 11.65019 | U23: 5.7685309 | V23: 25.736027 | W23: 2.9573603 | X23: 17.514945 | Y23: 3.872276 | Z23: 32.422282 | AA23: 4.6316894 | AB23: 14.907337 | AC23: 6.192101
A24: Israel | B24: 45.959897 | C24: 3.6693628 | D24: 54.040103 | E24: 3.6693628 | F24: 72.838572 | G24: 3.4518862 | H24: 92.885185 | I24: 2.558117 | J24: 51.066321 | K24: 6.4701102 | L24: -41.818864 | M24: 6.5383514 | N24: 20.559887 | O24: 2.9871746 | P24: 5.764735 | Q24: 2.24288 | R24: 36.375684 | S24: 5.7950479 | T24: 30.610948 | U24: 5.9747441 | V24: 6.601541 | W24: 1.744859 | X24: 1.3500796 | Y24: 1.3374369 | Z24: 12.557995 | AA24: 3.48775 | AB24: 11.207916 | AC24: 3.6716312
A25: Norway | B25: 40.773453 | C25: 3.9686464 | D25: 59.226547 | E25: 3.9686464 | F25: 54.820962 | G25: 4.211997 | H25: 64.012623 | I25: 5.4898979 | J25: 45.566115 | K25: 6.3027569 | L25: -18.446508 | M25: 8.4047247 | N25: 31.441779 | O25: 3.8156428 | P25: 30.612203 | Q25: 5.0935668 | R25: 35.102447 | S25: 6.4281637 | T25: 4.4902446 | U25: 8.4219155 | V25: 10.689567 | W25: 1.9725476 | X25: 5.3751748 | Y25: 2.3497237 | Z25: 19.331438 | AA25: 3.8678666 | AB25: 13.956263 | AC25: 4.6433145
A26: Denmark** | B26: 65.726899 | C26: 8.1544123 | D26: 34.273101 | E26: 8.1544123 | F26: 58.154884 | G26: 6.9549938 | H26: 67.090155 | I26: 13.449726 | J26: 53.495612 | K26: 9.3847356 | L26: -13.594543 | M26: 17.572536 | N26: 15.654824 | O26: 4.9008364 | P26: 10.605889 | Q26: 9.9149925 | R26: 18.287576 | S26: 5.8664238 | T26: 7.6816868 | U26: 11.690563 | V26: 26.190293 | W26: 6.6546361 | X26: 22.303956 | Y26: 11.72893 | Z26: 28.216812 | AA26: 8.8562648 | AB26: 5.9128559 | AC26: 15.723223
A30: a. Data reported for early learning settings with children under age 3 are limited to centre-based settings to ensure comparability with ISCED Level 02. Data from home-based settings are excluded from this table.
A31: * Estimates for sub-groups and estimated differences between sub-groups need to be interpreted with care. For more information, see Annex B in OECD (2019).
A32: ** Low response rates in the survey may result in bias in the estimates reported and limit comparability of the data.
A33: 1. Dimensions of diversity refers to children from socio-economically disadvantaged homes, children with special education needs, children with a different first language, and children who are refugees. Full definitions are the following:
A34: Socio-economically disadvantage homes refer to children’s homes lacking the basic necessities or advantages of life, such as adequate housing, nutrition or medical care.
A35: Children with special education needs are children for whom a special learning need has been formally identified because they are cognitively, physically or emotionally disadvantaged.
A36: Children with a different first language are children whose first language, as used in their family environment, is different from the language(s) used in their ECEC centre.
A37: Children who, regardless of legal status, have fled to another country in order to seek refuge from war, political oppression, persecution, or a natural disaster, or who were born while their parents were travelling to the destination or shortly after the parents’ arrival.
A38: 2. Several dimensions of diversity accumulate within an ECEC centre when each of these dimensions, considered separately, applies to more than 10% of the children in the centre. This may occur because multiple forms of diversity apply to the same individual children, or because different forms of diversity apply to different groups of children within the centre.
A39: 3. “Rural” refers to locations with up to 15 000 people. “Urban” refers to locations with more than 15 000 people. In the cases of Japan and Korea, the cutoff point is 50 000 inhabitants, to account for the high population density in both countries.
A40: Notes:
A41: ECEC: early childhood education and care.
... A44: Source: OECD, TALIS Starting Strong 2018 Database.

Sheet Table A.9
A1: Table A.9
A2: Dimensions of diversity and centre type of management in early childhood education and care centres
A3: Based on centre leaders' reports
B6: All ECEC centres, by centre type of management1 | F6: Percentage of ECEC centers, by dimensions of diversity and type of management1:
F7: ECEC centres with more than 10% of children from socio-economically disadvantaged homes2: | N7: ECEC centres with more than 10% of children with special education needs3: | V7: ECEC centres with more than 10% of children with a different first language used in ECEC centres4: | AD7: ECEC centres with more than 10% of children who are refugees5:
B8: Privately managed ECEC centres | D8: Publicly-managed ECEC centres | F8: All ECEC centres | H8: Privately-managed ECEC centres | J8: Publicly-managed ECEC centres | L8: Difference between publicly- and privately-managed ECEC centers (publicly - privately) | N8: All ECEC centres | P8: Privately-managed ECEC centres | R8: Publicly-managed ECEC centres | T8: Difference between publicly- and privately-managed ECEC centers (publicly - privately) | V8: All ECEC centres | X8: Privately-managed ECEC centres | Z8: Publicly-managed ECEC centres | AB8: Difference between publicly- and privately-managed ECEC centers (publicly - privately) | AD8: All ECEC centres | AF8: Privately-managed ECEC centres | AH8: Publicly-managed ECEC centres | AJ8: Difference between publicly- and privately-managed ECEC centers (publicly - privately)
B10: % | C10: S.E. | D10: % | E10: S.E. | F10: % | G10: S.E. | H10: % | I10: S.E. | J10: % | K10: S.E. | L10: % dif. | M10: S.E. | N10: % | O10: S.E. | P10: % | Q10: S.E. | R10: % | S10: S.E. | T10: % dif. | U10: S.E. | V10: % | W10: S.E. | X10: % | Y10: S.E. | Z10: % | AA10: S.E. | AB10: % dif. | AC10: S.E. | AD10: % | AE10: S.E. | AF10: % | AG10: S.E. | AH10: % | AI10: S.E. | AJ10: % dif. | AK10: S.E.
A11: ISCED 02 centres
A12: Chile | B12: 42.018371 | C12: 1.7355682 | D12: 57.981629 | E12: 1.7355682 | F12: 64.653934 | G12: 2.4987975 | H12: 45.447476 | I12: 4.301164 | J12: 78.66251 | K12: 3.0343002 | L12: 33.215034 | M12: 5.4646662 | N12: 34.442344 | O12: 2.6604178 | P12: 29.749748 | Q12: 4.3094566 | R12: 37.839942 | S12: 3.7417586 | T12: 8.0901941 | U12: 6.0302252 | V12: 6.353759 | W12: 1.4799232 | X12: 5.4802128 | Y12: 2.4642161 | Z12: 6.9811944 | AA12: 2.4741745 | AB12: 1.5009816 | AC12: 4.0057521 | AD12: 0.37234341 | AE12: 0.37234339 | AF12: 0.88614434 | AG12: 0.88691984 | AH12: c | AI12: c | AJ12: c | AK12: c
A13: Germany* | B13: 70.764601 | C13: 2.908199 | D13: 29.235399 | E13: 2.908199 | F13: 27.337695 | G13: 2.517249 | H13: 28.392226 | I13: 3.3159547 | J13: 26.778364 | K13: 5.0090829 | L13: -1.6138613 | M13: 6.3716792 | N13: 8.5691142 | O13: 1.7678645 | P13: 8.9974377 | Q13: 2.2853484 | R13: 8.1563911 | S13: 3.2472853 | T13: -0.84104663 | U13: 4.1628223 | V13: 46.516154 | W13: 2.6750542 | X13: 44.659411 | Y13: 3.4804836 | Z13: 51.289795 | AA13: 5.1049325 | AB13: 6.6303837 | AC13: 6.7097039 | AD13: 9.9823215 | AE13: 1.8567382 | AF13: 9.5920902 | AG13: 2.2531502 | AH13: 11.624114 | AI13: 3.4794362 | AJ13: 2.0320242 | AK13: 4.1237406
A14: Iceland | B14: 14.371535 | C14: 0.59902542 | D14: 85.628465 | E14: 0.59902542 | F14: 6.6395607 | G14: 1.8782917 | H14: 3.7479742 | I14: 3.7431624 | J14: 7.1875489 | K14: 2.1216936 | L14: 3.4395747 | M14: 4.3006344 | N14: 23.974049 | O14: 3.3864892 | P14: 30.278215 | Q14: 12.023962 | R14: 23.18525 | S14: 3.4207072 | T14: -7.0929652 | U14: 12.502418 | V14: 46.413235 | W14: 3.6113741 | X14: 33.892394 | Y14: 8.5337896 | Z14: 48.184593 | AA14: 3.9458822 | AB14: 14.292199 | AC14: 9.4005772 | AD14: c | AE14: c | AF14: c | AG14: c | AH14: c | AI14: c | AJ14: c | AK14: c
A15: Israel | B15: 8.9861242 | C15: 1.2161396 | D15: 91.013876 | E15: 1.2161396 | F15: 13.851298 | G15: 1.5751245 | H15: 2.6703908 | I15: 2.6435809 | J15: 14.965143 | K15: 1.7873982 | L15: 12.294752 | M15: 3.3583389 | N15: 9.5873796 | O15: 1.3600376 | P15: 2.7269496 | Q15: 2.6879752 | R15: 10.458796 | S15: 1.4859407 | T15: 7.731846 | U15: 3.0219259 | V15: 15.969194 | W15: 1.7350818 | X15: 10.823741 | Y15: 5.2065272 | Z15: 16.50576 | AA15: 1.8806496 | AB15: 5.682019 | AC15: 5.5310237 | AD15: 0.73896093 | AE15: 0.42585491 | AF15: c | AG15: c | AH15: 0.82550745 | AI15: 0.47680491 | AJ15: c | AK15: c
A16: Japan | B16: 62.803273 | C16: 2.6832514 | D16: 37.196727 | E16: 2.6832514 | F16: 4.1020748 | G16: 2.2985444 | H16: 6.289691 | I16: 3.6998597 | J16: 0.54719416 | K16: 0.54883125 | L16: -5.7424968 | M16: 3.7443372 | N16: 14.065789 | O16: 3.1889949 | P16: 9.739422 | Q16: 3.9832485 | R16: 21.276398 | S16: 5.1136371 | T16: 11.536976 | U16: 6.4251939 | V16: 1.715925 | W16: 0.75578555 | X16: 1.1006133 | Y16: 1.0997584 | Z16: 2.7419171 | AA16: 0.86093032 | AB16: 1.6413037 | AC16: 1.4010056 | AD16: 1.9709602 | AE16: 1.9693628 | AF16: 3.145794 | AG16: 3.1464899 | AH16: c | AI16: c | AJ16: c | AK16: c
A17: Korea | B17: 66.953844 | C17: 2.3657331 | D17: 33.046156 | E17: 2.3657331 | F17: 10.664593 | G17: 4.8392216 | H17: 4.8066382 | I17: 2.5242167 | J17: 22.503979 | K17: 13.293496 | L17: 17.697341 | M17: 13.532419 | N17: 2.1147132 | O17: 0.92934668 | P17: 2.2586168 | Q17: 1.1992583 | R17: 1.8238727 | S17: 1.3847004 | T17: -0.43474412 | U17: 1.8202468 | V17: 1.6917355 | W17: 1.2048882 | X17: 2.5227445 | Y17: 1.7956745 | Z17: c | AA17: c | AB17: c | AC17: c | AD17: 2.2576121 | AE17: 1.0226272 | AF17: 1.2007522 | AG17: 0.87981793 | AH17: 4.3760864 | AI17: 2.6034834 | AJ17: 3.1753342 | AK17: 2.7577212
A18: Norway | B18: 49.892292 | C18: 3.0758643 | D18: 50.107708 | E18: 3.0758643 | F18: 6.6152454 | G18: 2.4481749 | H18: 4.5840042 | I18: 3.1810747 | J18: 8.7270496 | K18: 3.6649268 | L18: 4.1430453 | M18: 4.7059873 | N18: 8.1595031 | O18: 2.8832221 | P18: 5.2398665 | Q18: 4.0206863 | R18: 11.185508 | S18: 4.2412588 | T18: 5.9456411 | U18: 5.8712614 | V18: 40.347934 | W18: 4.7021796 | X18: 29.914005 | Y18: 6.2311763 | Z18: 51.398256 | AA18: 7.4655031 | AB18: 21.48425 | AC18: 9.9364797 | AD18: 5.7918647 | AE18: 2.1770693 | AF18: 3.1066901 | AG18: 1.5926507 | AH18: 8.5628942 | AI18: 4.1628865 | AJ18: 5.456204 | AK18: 4.4759404
A19: Türkiye | B19: 11.250475 | C19: 0.86304493 | D19: 88.749525 | E19: 0.86304493 | F19: 30.296869 | G19: 4.2534758 | H19: 6.5364757 | I19: 3.8017919 | J19: 33.685671 | K19: 4.8002998 | L19: 27.149195 | M19: 6.4120685 | N19: 2.765143 | O19: 1.7474216 | P19: 0.89811775 | Q19: 0.65145849 | R19: 3.0362701 | S19: 1.9884932 | T19: 2.1381523 | U19: 2.0968009 | V19: 18.581617 | W19: 2.0476729 | X19: 1.2395764 | Y19: 0.89053938 | Z19: 19.891769 | AA19: 2.4989707 | AB19: 18.652193 | AC19: 2.6551841 | AD19: 1.2311033 | AE19: 0.63754764 | AF19: 0.53714978 | AG19: 0.54119347 | AH19: 1.3341207 | AI19: 0.72388231 | AJ19: 0.79697094 | AK19: 0.90141806
A20: Denmark** | B20: 19.873344 | C20: 2.699591 | D20: 80.126656 | E20: 2.699591 | F20: 26.572663 | G20: 4.7268831 | H20: 8.826278 | I20: 6.3596333 | J20: 31.111587 | K20: 5.2856664 | L20: 22.285309 | M20: 7.5672749 | N20: 29.067283 | O20: 5.2909219 | P20: 16.127199 | Q20: 8.0507219 | R20: 32.317263 | S20: 5.9910377 | T20: 16.190064 | U20: 9.2535178 | V20: 42.806734 | W20: 5.4979386 | X20: 18.258579 | Y20: 8.6057065 | Z20: 48.972152 | AA20: 6.3311316 | AB20: 30.713573 | AC20: 10.328844 | AD20: 7.015551 | AE20: 3.0563572 | AF20: 5.6408859 | AG20: 5.4379589 | AH20: 7.3644297 | AI20: 3.5648518 | AJ20: 1.7235438 | AK20: 6.4751698
A22: Centres for children under age 3a
A23: Germany* | B23: 66.778213 | C23: 2.9998807 | D23: 33.221787 | E23: 2.9998807 | F23: 23.199961 | G23: 2.8877178 | H23: 21.665779 | I23: 3.5803473 | J23: 27.501582 | K23: 4.9671378 | L23: 5.8358034 | M23: 6.0160675 | N23: 10.431006 | O23: 1.9752803 | P23: 12.985952 | Q23: 2.7055945 | R23: 5.7471585 | S23: 2.7599109 | T23: -7.2387938 | U23: 3.9663819 | V23: 40.975539 | W23: 3.4204707 | X23: 39.206367 | Y23: 4.0619055 | Z23: 46.949652 | AA23: 6.2326207 | AB23: 7.7432856 | AC23: 7.3451904 | AD23: 9.0392214 | AE23: 1.8923483 | AF23: 7.5896908 | AG23: 2.2552613 | AH23: 12.431226 | AI23: 4.0319256 | AJ23: 4.8415353 | AK23: 4.7520209
A24: Israel | B24: 48.722769 | C24: 4.7752281 | D24: 51.277231 | E24: 4.7752281 | F24: 22.465988 | G24: 3.0915986 | H24: 17.743473 | I24: 4.2502088 | J24: 27.587354 | K24: 5.6296605 | L24: 9.8438806 | M24: 7.6797847 | N24: 2.6556502 | O24: 1.3713798 | P24: c | Q24: c | R24: 5.4691927 | S24: 2.7248476 | T24: c | U24: c | V24: 10.279211 | W24: 2.2995777 | X24: 10.859158 | Y24: 3.9517577 | Z24: 10.873407 | AA24: 3.584528 | AB24: 0.014248964 | AC24: 5.7152535 | AD24: c | AE24: c | AF24: c | AG24: c | AH24: c | AI24: c | AJ24: c | AK24: c
A25: Norway | B25: 48.154186 | C25: 2.514578 | D25: 51.845814 | E25: 2.514578 | F25: 10.543497 | G25: 1.9192384 | H25: 8.1522099 | I25: 2.3009028 | J25: 12.803399 | K25: 3.0858435 | L25: 4.6511895 | M25: 3.8604557 | N25: 4.0777756 | O25: 1.5196504 | P25: 2.9350499 | Q25: 2.4720532 | R25: 5.1490942 | S25: 1.8670577 | T25: 2.2140443 | U25: 3.1090883 | V25: 39.476828 | W25: 4.1824956 | X25: 34.5007 | Y25: 6.3981396 | Z25: 44.142006 | AA25: 6.0546819 | AB25: 9.6413064 | AC25: 9.1285575 | AD25: 3.9723298 | AE25: 1.5738747 | AF25: 2.0608877 | AG25: 1.4446761 | AH25: 5.7643289 | AI25: 2.6964871 | AJ25: 3.7034412 | AK25: 3.0258967
A26: Denmark** | B26: 20.908543 | C26: 3.449575 | D26: 79.091457 | E26: 3.449575 | F26: 18.343409 | G26: 6.6255655 | H26: 7.2638052 | I26: 5.2815568 | J26: 21.272403 | K26: 8.149085 | L26: 14.008598 | M26: 9.4316458 | N26: 21.32389 | O26: 6.6593968 | P26: 7.2638052 | Q26: 5.2815568 | R26: 25.0408 | S26: 8.1594705 | T26: 17.776995 | U26: 9.3444308 | V26: 38.419203 | W26: 7.3655578 | X26: 7.2638052 | Y26: 5.2815568 | Z26: 46.655415 | AA26: 9.1869306 | AB26: 39.391609 | AC26: 11.25924 | AD26: 10.802529 | AE26: 2.3349054 | AF26: c | AG26: c | AH26: 13.658275 | AI26: 3.0404047 | AJ26: c | AK26: c
A30: a. Data reported for early learning settings with children under age 3 are limited to centre-based settings to ensure comparability with ISCED Level 02. Data from home-based settings are excluded from this table.
A31: * Estimates for sub-groups and estimated differences between sub-groups need to be interpreted with care. For more information, see Annex B in OECD (2019).
A32: ** Low response rates in the survey may result in bias in the estimates reported and limit comparability of the data.
A33: 1. A "publicly-managed" ECEC centre refers to an ECEC centre managed by a public education authority, government agency or municipality. A "privately-managed" ECEC centre is administered/owned directly or indirectly by a non-governmental organisation, private person or institution (e.g. church, synagogue or mosque, trade union, business). Private settings may be publicly subsidised or not.
A34: 2. Socio-economically disadvantage homes refer to children’s homes lacking the basic necessities or advantages of life, such as adequate housing, nutrition or medical care.
A35: 3. Children with special education needs are children for whom a special learning need has been formally identified because they are cognitively, physically or emotionally disadvantaged.
A36: 4. Children with a different first language are children whose first language, as used in their family environment, is different from the language(s) used in their ECEC centre.
A37: 5. Children who, regardless of legal status, have fled to another country in order to seek refuge from war, political oppression, persecution, or a natural disaster, or who were born while their parents were travelling to the destination or shortly after the parents’ arrival.
A38: Notes:
A39: ECEC: early childhood education and care.
A40: Centre leader refers to the person in an ECEC centre with the most responsibility for administrative, managerial and/or pedagogical leadership.
A41: Statistically significant differences are in bold. For more information, see Annex C in OECD (2019).
A42: Source: OECD, TALIS Starting Strong 2018 Database.

Sheet Table A.10
A1: Table A.10
A2: Accumulation of dimensions of diversity and centre type of management in early childhood education and care centres
A3: Based on centre leaders' reports
B6: All ECEC centres, by centre type of management3 | F6: Percentage of ECEC centers, by number of dimensions of diversity that apply to more than 10% of children in ECEC centres and by centre type of management1.2.3:
F7: NONE of dimensions of diversity apply in: | N7: AT LEAST ONE of dimensions of diversity applies in: | V7: AT LEAST TWO OR MORE of dimensions of diversity apply in:
B8: Privately managed ECEC centres | D8: Publicly-managed ECEC centres | F8: All ECEC centres | H8: Privately-managed ECEC centres | J8: Publicly-managed ECEC centres | L8: Difference between publicly- and privately-managed ECEC centers (publicly - privately) | N8: All ECEC centres | P8: Privately-managed ECEC centres | R8: Publicly-managed ECEC centres | T8: Difference between publicly- and privately-managed ECEC centers (publicly - privately) | V8: All ECEC centres | X8: Privately-managed ECEC centres | Z8: Publicly-managed ECEC centres | AB8: Difference between publicly- and privately-managed ECEC centers (publicly - privately)
B10: % | C10: S.E. | D10: % | E10: S.E. | F10: % | G10: S.E. | H10: % | I10: S.E. | J10: % | K10: S.E. | L10: % dif. | M10: S.E. | N10: % | O10: S.E. | P10: % | Q10: S.E. | R10: % | S10: S.E. | T10: % dif. | U10: S.E. | V10: % | W10: S.E. | X10: % | Y10: S.E. | Z10: % | AA10: S.E. | AB10: % dif. | AC10: S.E.
A11: ISCED 02 centres
A12: Chile | B12: 42.018371 | C12: 1.7355682 | D12: 57.981629 | E12: 1.7355682 | F12: 30.133682 | G12: 2.5381043 | H12: 44.910516 | I12: 4.5121647 | J12: 19.425144 | K12: 3.0179786 | L12: 25.485372 | M12: 5.5085487 | N12: 36.131094 | O12: 3.2038813 | P12: 30.699863 | Q12: 5.0650802 | R12: 40.067022 | S12: 4.2403293 | T12: -9.3671587 | U12: 6.6590999 | V12: 33.735223 | W12: 2.9395874 | X12: 24.389621 | Y12: 4.2166068 | Z12: 40.507834 | AA12: 4.1303148 | AB12: -16.118213 | AC12: 6.0530242
A13: Germany* | B13: 70.764601 | C13: 2.908199 | D13: 29.235399 | E13: 2.908199 | F13: 44.079978 | G13: 2.9440258 | H13: 45.987102 | I13: 3.7396265 | J13: 38.481415 | K13: 5.3918058 | L13: 7.5056869 | M13: 6.8655092 | N13: 30.179885 | O13: 3.0293501 | P13: 27.730082 | Q13: 3.5700941 | R13: 35.229246 | S13: 5.7108721 | T13: -7.4991637 | U13: 6.703774 | V13: 25.740137 | W13: 2.3848808 | X13: 26.282816 | Y13: 2.9555602 | Z13: 26.289339 | AA13: 4.9602707 | AB13: -0.0065232345 | AC13: 6.0509998
A14: Iceland | B14: 14.371535 | C14: 0.59902542 | D14: 85.628465 | E14: 0.59902542 | F14: 42.225896 | G14: 4.1820615 | H14: 50.062225 | I14: 14.740699 | J14: 41.740679 | K14: 4.232618 | L14: 8.3215463 | M14: 15.331022 | N14: 37.07022 | O14: 3.9510834 | P14: 35.588388 | Q14: 15.008922 | R14: 37.37675 | S14: 3.8997258 | T14: -1.788362 | U14: 15.501571 | V14: 19.018798 | W14: 2.9429064 | X14: 14.349386 | Y14: 4.2346503 | Z14: 20.193859 | AA14: 3.4060509 | AB14: -5.8444732 | AC14: 5.4306055
A15: Israel | B15: 8.9861242 | C15: 1.2161396 | D15: 91.013876 | E15: 1.2161396 | F15: 71.640406 | G15: 2.1265455 | H15: 86.505868 | I15: 5.7065637 | J15: 70.180805 | K15: 2.2763161 | L15: 16.325063 | M15: 6.0031677 | N15: 20.372521 | O15: 1.9863168 | P15: 10.767182 | Q15: 5.1765978 | R15: 21.164571 | S15: 2.1493435 | T15: -10.397389 | U15: 5.6256628 | V15: 7.987073 | W15: 1.197876 | X15: 2.7269496 | Y15: 2.6879752 | Z15: 8.6546244 | AA15: 1.3264833 | AB15: -5.9276748 | AC15: 2.9970834
A16: Japan | B16: 62.803273 | C16: 2.6832514 | D16: 37.196727 | E16: 2.6832514 | F16: 82.937928 | G16: 3.246256 | H16: 87.059438 | I16: 4.1614886 | J16: 76.065579 | K16: 5.0805471 | L16: 10.99386 | M16: 6.546246 | N16: 14.389691 | O16: 2.4700141 | P16: 8.9916585 | Q16: 2.5803769 | R16: 23.390559 | S16: 5.0964854 | T16: -14.398901 | U16: 5.7970596 | V16: 2.6723806 | W16: 2.0372401 | X16: 3.9489032 | Y16: 3.244629 | Z16: 0.54386223 | AA16: 0.5456045 | AB16: 3.405041 | AC16: 3.29387
A17: Korea | B17: 66.953844 | C17: 2.3657331 | D17: 33.046156 | E17: 2.3657331 | F17: 83.964153 | G17: 5.018268 | H17: 89.987185 | I17: 3.3530822 | J17: 72.572772 | K17: 13.440063 | L17: 17.414413 | M17: 13.886341 | N17: 14.804346 | O17: 4.9965983 | P17: 9.3062723 | Q17: 3.3230242 | R17: 26.150517 | S17: 13.4407 | T17: -16.844245 | U17: 13.892535 | V17: 0.89131733 | W17: 0.54026878 | X17: 0.7065425 | Y17: 0.50710977 | Z17: 1.2767109 | AA17: 1.27027 | AB17: -0.57016837 | AC17: 1.3599259
A18: Norway | B18: 49.892292 | C18: 3.0758643 | D18: 50.107708 | E18: 3.0758643 | F18: 52.150176 | G18: 4.5463374 | H18: 65.036383 | I18: 7.2099837 | J18: 39.809953 | K18: 6.355249 | L18: 25.226429 | M18: 9.8476505 | N18: 33.985551 | O18: 4.4659742 | P18: 27.831079 | Q18: 6.6870201 | R18: 40.879359 | S18: 5.8839197 | T18: -13.04828 | U18: 8.9181907 | V18: 12.054301 | W18: 3.1860251 | X18: 7.1325383 | Y18: 3.3896048 | Z18: 17.226523 | AA18: 5.4316029 | AB18: -10.093984 | AC18: 6.2056093
A19: Türkiye | B19: 11.250475 | C19: 0.86304493 | D19: 88.749525 | E19: 0.86304493 | F19: 61.115309 | G19: 3.5789628 | H19: 92.40013 | I19: 3.8985747 | J19: 57.791009 | K19: 4.1276655 | L19: 34.609121 | M19: 5.9924551 | N19: 26.664872 | O19: 3.5974145 | P19: 7.0627205 | Q19: 3.8533468 | R19: 28.354392 | S19: 3.9437044 | T19: -21.291672 | U19: 5.8012788 | V19: 12.219819 | W19: 2.8618546 | X19: 0.53714978 | Y19: 0.54119347 | Z19: 13.854599 | AA19: 3.201583 | AB19: -13.317449 | AC19: 3.2514641
A20: Denmark** | B20: 19.873344 | C20: 2.699591 | D20: 80.126656 | E20: 2.699591 | F20: 48.664808 | G20: 5.4384382 | H20: 80.081385 | I20: 8.7455714 | J20: 41.431042 | K20: 6.1768527 | L20: 38.650343 | M20: 10.227696 | N20: 20.787806 | O20: 4.6704203 | P20: 5.4514508 | Q20: 4.155225 | R20: 24.830079 | S20: 5.869219 | T20: -19.378628 | U20: 7.2314496 | V20: 28.646432 | W20: 4.9895602 | X20: 14.467164 | Y20: 7.8918616 | Z20: 32.491876 | AA20: 5.8918845 | AB20: -18.024712 | AC20: 9.7339509
A22: Centres for children under age 3a
A23: Germany* | B23: 66.778213 | C23: 2.9998807 | D23: 33.221787 | E23: 2.9998807 | F23: 51.826004 | G23: 3.5688829 | H23: 53.296216 | I23: 4.2005424 | J23: 46.213409 | K23: 6.3789214 | L23: 7.0828072 | M23: 7.4509545 | N23: 22.437969 | O23: 3.1373524 | P23: 22.65007 | Q23: 3.6546225 | R23: 23.24935 | S23: 5.7409004 | T23: -0.59928006 | U23: 6.5866004 | V23: 25.736027 | W23: 2.9573603 | X23: 24.053714 | Y23: 3.5331893 | Z23: 30.537242 | AA23: 5.5657064 | AB23: -6.4835272 | AC23: 6.5840216
A24: Israel | B24: 48.722769 | C24: 4.7752281 | D24: 51.277231 | E24: 4.7752281 | F24: 72.838572 | G24: 3.4518862 | H24: 75.18768 | I24: 5.2546351 | J24: 69.37423 | K24: 5.8465937 | L24: 5.81345 | M24: 8.4933222 | N24: 20.559887 | O24: 2.9871746 | P24: 21.361278 | Q24: 5.0924278 | R24: 20.248382 | S24: 4.6485634 | T24: 1.1128967 | U24: 7.6453541 | V24: 6.601541 | W24: 1.744859 | X24: 3.4510418 | Y24: 2.073225 | Z24: 10.377389 | AA24: 3.5931142 | AB24: -6.9263467 | AC24: 4.6566311
A25: Norway | B25: 48.154186 | C25: 2.514578 | D25: 51.845814 | E25: 2.514578 | F25: 54.820962 | G25: 4.211997 | H25: 60.422755 | I25: 6.1710526 | J25: 52.90812 | K25: 6.1052337 | L25: 7.5146357 | M25: 8.9461607 | N25: 31.441779 | O25: 3.8156428 | P25: 32.46739 | Q25: 6.4201989 | R25: 32.395238 | S25: 5.297254 | T25: 0.072151916 | U25: 8.7991896 | V25: 10.689567 | W25: 1.9725476 | X25: 7.1098548 | Y25: 2.0802986 | Z25: 14.696642 | AA25: 3.3904244 | AB25: -7.5867876 | AC25: 3.9215473
A26: Denmark** | B26: 20.908543 | C26: 3.449575 | D26: 79.091457 | E26: 3.449575 | F26: 58.154884 | G26: 6.9549938 | H26: 92.736195 | I26: 5.2815568 | J26: 49.013001 | K26: 8.666332 | L26: 43.723194 | M26: 10.804802 | N26: 15.654824 | O26: 4.9008364 | P26: c | Q26: c | R26: 19.793318 | S26: 6.0617721 | T26: c | U26: c | V26: 26.190293 | W26: 6.6546361 | X26: 7.2638052 | Y26: 5.2815568 | Z26: 31.193681 | AA26: 8.1692417 | AB26: -23.929876 | AC26: 9.3132643
A30: a. Data reported for early learning settings with children under age 3 are limited to centre-based settings to ensure comparability with ISCED Level 02. Data from home-based settings are excluded from this table.
A31: * Estimates for sub-groups and estimated differences between sub-groups need to be interpreted with care. For more information, see Annex B in OECD (2019).
A32: ** Low response rates in the survey may result in bias in the estimates reported and limit comparability of the data.
A33: 1. Dimensions of diversity refers to children from socio-economically disadvantaged homes, children with special education needs, children with a different first language, and children who are refugees. Full definitions are the following:
A34: Socio-economically disadvantage homes refer to children’s homes lacking the basic necessities or advantages of life, such as adequate housing, nutrition or medical care.
A35: Children with special education needs are children for whom a special learning need has been formally identified because they are cognitively, physically or emotionally disadvantaged.
A36: Children with a different first language are children whose first language, as used in their family environment, is different from the language(s) used in their ECEC centre.
A37: Children who, regardless of legal status, have fled to another country in order to seek refuge from war, political oppression, persecution, or a natural disaster, or who were born while their parents were travelling to the destination or shortly after the parents’ arrival.
A38: 2. Several dimensions of diversity accumulate within an ECEC centre when each of these dimensions, considered separately, applies to more than 10% of the children in the centre. This may occur because multiple forms of diversity apply to the same individual children, or because different forms of diversity apply to different groups of children within the centre.
A39: 3. A "publicly-managed" ECEC centre refers to an ECEC centre managed by a public education authority, government agency or municipality. A "privately-managed" ECEC centre is administered/owned directly or indirectly by a non-governmental organisation, private person or institution (e.g. church, synagogue or mosque, trade union, business). Private settings may be publicly subsidised or not.
A40: Notes:
A41: ECEC: early childhood education and care.
... A44: Source: OECD, TALIS Starting Strong 2018 Database.

Sheet Table A.11
A1: Table A.11
A2: Shortages of material resources and dimensions of diversity in early childhood education and care centres
A3: Based on centre leaders' reports
B7: Percentage of centre leaders reporting that their ECEC centres face a shortage of material resources1:
B8: All ECEC centres | D8: By share of children from socio-economically disadvantaged homes in ECEC centres2: | J8: By share of children with special education needs in ECEC centres3: | P8: By share of children with a different first language in ECEC centres4: | V8: By share of children who are refugees ECEC centres5:
D9: 10% or less of children from socio-economically disadvantaged homes | F9: More than 10% of children from socio-economically disadvantaged homes | H9: Difference between more than 10% and 10% or less of children from socio-economically disadvantaged homes (more - less) | J9: 10% or less of children with special education needs | L9: More than 10% of children with special education needs | N9: Difference between more than 10% and 10% or less of children with special education needs (more - less) | P9: 10% or less of children with a different first language | R9: More than 10% of with a different first language | T9: Difference between more than 10% and 10% or less of children with a different first language (more - less) | V9: 10% or less of children who are refugees | X9: More than 10% of children who are refugees | Z9: Difference between more than 10% and 10% or less of children who are refugees (more - less)
B10: % | C10: S.E. | D10: % | E10: S.E. | F10: % | G10: S.E. | H10: % dif. | I10: S.E. | J10: % | K10: S.E. | L10: % | M10: S.E. | N10: % dif. | O10: S.E. | P10: % | Q10: S.E. | R10: % | S10: S.E. | T10: % dif. | U10: S.E. | V10: % | W10: S.E. | X10: % | Y10: S.E. | Z10: % dif. | AA10: S.E.
A11: ISCED 02 centres
A12: Chile | B12: 73.448486 | C12: 3.1224753 | D12: 68.388485 | E12: 5.5480057 | F12: 76.601633 | G12: 3.552164 | H12: 8.2131479 | I12: 6.342703 | J12: 73.792462 | K12: 4.0255442 | L12: 73.240022 | M12: 4.7991607 | N12: -0.55244024 | O12: 6.2478968 | P12: 73.475768 | Q12: 3.2424182 | R12: 71.486669 | S12: 12.742375 | T12: -1.9890995 | U12: 13.14026 | V12: 73.348774 | W12: 3.1367267 | X12: c | Y12: c | Z12: c | AA12: c
A13: Germany* | B13: 73.478225 | C13: 2.7373174 | D13: 69.729363 | E13: 3.3193552 | F13: 82.602215 | G13: 4.8508989 | H13: 12.872852 | I13: 5.870963 | J13: 73.321383 | K13: 2.8576786 | L13: 73.768654 | M13: 9.9204673 | N13: 0.44727092 | O13: 10.196011 | P13: 66.093418 | Q13: 4.4767736 | R13: 81.376807 | S13: 3.0149882 | T13: 15.283389 | U13: 5.3544414 | V13: 71.875555 | W13: 3.0529259 | X13: 87.794376 | Y13: 6.7386704 | Z13: 15.918821 | AA13: 7.4698554
A14: Iceland | B14: 58.774411 | C14: 3.462588 | D14: 57.371483 | E14: 3.6163412 | F14: 80.025117 | G14: 11.519601 | H14: 22.653634 | I14: 12.352015 | J14: 60.503497 | K14: 3.9033442 | L14: 58.295286 | M14: 8.8218117 | N14: -2.2082109 | O14: 9.5863415 | P14: 52.832693 | Q14: 4.8506588 | R14: 66.439611 | S14: 5.3513146 | T14: 13.606918 | U14: 7.5277109 | V14: 60.710172 | W14: 3.724371 | X14: c | Y14: c | Z14: c | AA14: c
A15: Israel | B15: 77.747756 | C15: 2.1633849 | D15: 74.891487 | E15: 2.415525 | F15: 96.065921 | G15: 2.7542965 | H15: 21.174433 | I15: 3.7133838 | J15: 76.51561 | K15: 2.3019244 | L15: 86.061435 | M15: 5.9400552 | N15: 9.5458247 | O15: 6.2362896 | P15: 76.079145 | Q15: 2.4404884 | R15: 85.905931 | S15: 4.4057652 | T15: 9.8267861 | U15: 5.0561443 | V15: 77.427024 | W15: 2.1713464 | X15: 100 | Y15: c | Z15: c | AA15: c
A16: Japan | B16: 58.45639 | C16: 4.4704739 | D16: 57.298251 | E16: 4.4929768 | F16: 100 | G16: c | H16: c | I16: c | J16: 55.849476 | K16: 4.6492475 | L16: 76.145212 | M16: 11.058286 | N16: 20.295736 | O16: 11.447029 | P16: 59.428746 | Q16: 4.5976515 | R16: 31.25472 | S16: 32.850327 | T16: -28.174026 | U16: 33.122133 | V16: 57.979425 | W16: 4.3137875 | X16: c | Y16: c | Z16: c | AA16: c
A17: Korea | B17: 72.190886 | C17: 4.3028223 | D17: 73.424664 | E17: 4.8317638 | F17: 64.348668 | G17: 28.528725 | H17: -9.0759955 | I17: 30.57404 | J17: 72.88056 | K17: 4.4579123 | L17: 52.423554 | M17: 22.868276 | N17: -20.457005 | O17: 23.534783 | P17: 71.596401 | Q17: 4.375306 | R17: c | S17: c | T17: c | U17: c | V17: 71.932148 | W17: 4.3978308 | X17: 87.362237 | Y17: 12.997604 | Z17: 15.430089 | AA17: 13.238076
A18: Norway | B18: 53.180974 | C18: 4.5623569 | D18: 52.946575 | E18: 4.7231863 | F18: 56.419507 | G18: 18.370877 | H18: 3.4729322 | I18: 19.103017 | J18: 53.512113 | K18: 4.6279354 | L18: 49.534406 | M18: 18.876774 | N18: -3.9777069 | O18: 19.1799 | P18: 50.164636 | Q18: 5.0598788 | R18: 56.792386 | S18: 7.4502168 | T18: 6.6277507 | U18: 8.1466237 | V18: 54.207435 | W18: 4.3199323 | X18: 36.837002 | Y18: 22.619328 | Z18: -17.370433 | AA18: 22.371962
A19: Türkiye | B19: 85.370669 | C19: 2.2261233 | D19: 82.261686 | E19: 3.1215219 | F19: 92.48411 | G19: 3.0071159 | H19: 10.222424 | I19: 4.4631254 | J19: 84.980103 | K19: 2.308091 | L19: 97.80918 | M19: 3.5453473 | N19: 12.829077 | O19: 4.4803058 | P19: 82.77107 | Q19: 2.6910949 | R19: 96.698136 | S19: 2.5516011 | T19: 13.927066 | U19: 3.6057287 | V19: 85.219342 | W19: 2.2593218 | X19: 95.08122 | Y19: 6.4028589 | Z19: 9.8618785 | AA19: 6.9057719
A20: Denmark** | B20: 56.15938 | C20: 5.6417132 | D20: 51.034107 | E20: 6.526353 | F20: 74.368764 | G20: 11.098028 | H20: 23.334657 | I20: 12.990836 | J20: 46.545796 | K20: 6.3606402 | L20: 80.57606 | M20: 9.1236501 | N20: 34.030264 | O20: 11.322666 | P20: 45.436568 | Q20: 7.5984314 | R20: 70.621066 | S20: 8.9879505 | T20: 25.184497 | U20: 12.071628 | V20: 52.923398 | W20: 5.7196135 | X20: 91.911509 | Y20: 9.0075787 | Z20: 38.98811 | AA20: 10.353374
A22: Centres for children under age 3a
A23: Germany* | B23: 71.47937 | C23: 3.0093694 | D23: 68.772197 | E23: 3.5515858 | F23: 78.638081 | G23: 6.0327363 | H23: 9.8658834 | I23: 7.115368 | J23: 72.37496 | K23: 3.1519227 | L23: 69.85892 | M23: 9.7577984 | N23: -2.5160407 | O23: 10.165966 | P23: 63.161934 | Q23: 4.532763 | R23: 84.105985 | S23: 4.0623047 | T23: 20.944052 | U23: 6.5293203 | V23: 70.927408 | W23: 3.1587074 | X23: 75.503194 | Y23: 10.255675 | Z23: 4.5757861 | AA23: 10.702101
A24: Israel | B24: 60.267979 | C24: 4.6711142 | D24: 59.080163 | E24: 5.7665246 | F24: 70.730947 | G24: 7.803563 | H24: 11.650785 | I24: 9.675326 | J24: 60.952717 | K24: 4.9764247 | L24: 68.890319 | M24: 26.039276 | N24: 7.9376018 | O24: 26.989107 | P24: 58.85632 | Q24: 5.2426641 | R24: 76.146826 | S24: 9.7491036 | T24: 17.290506 | U24: 11.385879 | V24: 60.399968 | W24: 4.8926251 | X24: c | Y24: c | Z24: c | AA24: c
A25: Norway | B25: 54.865985 | C25: 4.3903415 | D25: 51.194257 | E25: 4.7331859 | F25: 86.77817 | G25: 8.7407427 | H25: 35.583914 | I25: 9.5271375 | J25: 53.224301 | K25: 4.4837456 | L25: 100 | M25: c | N25: c | O25: c | P25: 54.051156 | Q25: 5.1198873 | R25: 56.78834 | S25: 7.1003012 | T25: 2.7371843 | U25: 8.1740138 | V25: 54.572501 | W25: 4.5394635 | X25: 68.650087 | Y25: 19.75684 | Z25: 14.077586 | AA25: 20.084776
A26: Denmark** | B26: 69.007966 | C26: 7.1768341 | D26: 63.152483 | E26: 8.3795038 | F26: 95.073939 | G26: 5.2149687 | H26: 31.921456 | I26: 9.7477241 | J26: 63.396005 | K26: 7.6572947 | L26: 89.713721 | M26: 7.5551761 | N26: 26.317716 | O26: 9.9586538 | P26: 61.711296 | Q26: 8.7152522 | R26: 80.703543 | S26: 10.069189 | T26: 18.992247 | U26: 12.358603 | V26: 65.254583 | W26: 7.7389346 | X26: 100 | Y26: c | Z26: c | AA26: c
A30: a. Data reported for early learning settings with children under age 3 are limited to centre-based settings to ensure comparability with ISCED Level 02. Data from home-based settings are excluded from this table.
A31: * Estimates for sub-groups and estimated differences between sub-groups need to be interpreted with care. For more information, see Annex B in OECD (2019).
A32: ** Low response rates in the survey may result in bias in the estimates reported and limit comparability of the data.
A33: 1. The index of "shortage of material resources" is derived from the following four items: 1) shortage or inadequacy of indoor space; 2) shortage or inadequacy of outdoor play space; 3) shortage or inadequacy of play or learning materials (e.g. books, picture books, building blocks, clay, paint); and 4) shortage or inadequacy of digital technology for play and learning (e.g. computers, tablets, smart boards).
A34: 2. Socio-economically disadvantage homes refer to children’s homes lacking the basic necessities or advantages of life, such as adequate housing, nutrition or medical care.
A35: 3. Children with special education needs are children for whom a special learning need has been formally identified because they are cognitively, physically or emotionally disadvantaged.
A36: 4. Children with a different first language are children whose first language, as used in their family environment, is different from the language(s) used in their ECEC centre.
A37: 5. Children who, regardless of legal status, have fled to another country in order to seek refuge from war, political oppression, persecution, or a natural disaster, or who were born while their parents were travelling to the destination or shortly after the parents’ arrival.
A38: Notes:
A39: ECEC: early childhood education and care.
A40: Centre leader refers to the person in an ECEC centre with the most responsibility for administrative, managerial and/or pedagogical leadership.
A41: Statistically significant differences are in bold. For more information, see Annex C in OECD (2019).
A42: Source: OECD, TALIS Starting Strong 2018 Database.

Sheet Table A.12
A1: Table A.12
A2: Shortages of human resources and dimensions of diversity in early childhood education and care centres
A3: Based on centre leaders' reports
B7: Percentage of centre leaders reporting that their ECEC centres face a shortage of human resources1:
B8: All ECEC centres | D8: By share of children from socio-economically disadvantaged homes in ECEC centres2: | J8: By share of children with special education needs in ECEC centres3: | P8: By share of children with a different first language in ECEC centres4: | V8: By share of children who are refugees ECEC centres5:
D9: 10% or less of children from socio-economically disadvantaged homes | F9: More than 10% of children from socio-economically disadvantaged homes | H9: Difference between more than 10% and 10% or less of children from socio-economically disadvantaged homes (more - less) | J9: 10% or less of children with special education needs | L9: More than 10% of children with special education needs | N9: Difference between more than 10% and 10% or less of children with special education needs (more - less) | P9: 10% or less of children whose first language is different | R9: More than 10% of children whose first language is different | T9: Difference between more than 10% and 10% or less of children whose first language is different (more - less) | V9: 10% or less of children who are refugees | X9: More than 10% of children who are refugees | Z9: Difference between more than 10% and 10% or less of children who are refugees (more - less)
B10: % | C10: S.E. | D10: % | E10: S.E. | F10: % | G10: S.E. | H10: % dif. | I10: S.E. | J10: % | K10: S.E. | L10: % | M10: S.E. | N10: % dif. | O10: S.E. | P10: % | Q10: S.E. | R10: % | S10: S.E. | T10: % dif. | U10: S.E. | V10: % | W10: S.E. | X10: % | Y10: S.E. | Z10: % dif. | AA10: S.E.
A11: ISCED 02 centres
A12: Chile | B12: 62.247759 | C12: 2.9340576 | D12: 56.26094 | E12: 5.7048797 | F12: 65.257885 | G12: 3.9230021 | H12: 8.9969448 | I12: 7.4450526 | J12: 65.210711 | K12: 3.9401826 | L12: 58.17062 | M12: 5.1762372 | N12: -7.0400907 | O12: 6.7636928 | P12: 60.949029 | Q12: 3.2712161 | R12: 79.070256 | S12: 10.467629 | T12: 18.121227 | U12: 11.672128 | V12: 62.105983 | W12: 2.94971 | X12: c | Y12: c | Z12: c | AA12: c
A13: Germany* | B13: 84.897411 | C13: 2.1634301 | D13: 82.789693 | E13: 2.7227147 | F13: 90.24498 | G13: 3.0218856 | H13: 7.4552874 | I13: 4.0585339 | J13: 85.741381 | K13: 2.1785655 | L13: 72.981365 | M13: 9.7244255 | N13: -12.760016 | O13: 9.9872188 | P13: 81.070983 | Q13: 3.426492 | R13: 89.09725 | S13: 2.6255487 | T13: 8.0262678 | U13: 4.4506595 | V13: 83.943277 | W13: 2.3556082 | X13: 91.526487 | Y13: 5.6378864 | Z13: 7.5832104 | AA13: 6.0866049
A14: Iceland | B14: 66.114447 | C14: 3.4586557 | D14: 67.158002 | E14: 3.665108 | F14: 49.235428 | G14: 16.108345 | H14: -17.922575 | I14: 16.887719 | J14: 67.920883 | K14: 3.7623217 | L14: 66.324548 | M14: 7.5907954 | N14: -1.5963352 | O14: 9.083169 | P14: 61.100814 | Q14: 5.8961212 | R14: 72.811034 | S14: 4.7053309 | T14: 11.710221 | U14: 8.318695 | V14: 67.765342 | W14: 3.0717781 | X14: c | Y14: c | Z14: c | AA14: c
A15: Israel | B15: 74.834346 | C15: 2.2198343 | D15: 72.456529 | E15: 2.4679145 | F15: 92.11171 | G15: 3.9260208 | H15: 19.655181 | I15: 4.75703 | J15: 74.11185 | K15: 2.4058998 | L15: 80.56841 | M15: 6.4423985 | N15: 6.4565599 | O15: 6.9557135 | P15: 74.186643 | Q15: 2.4228788 | R15: 77.806164 | S15: 5.1570709 | T15: 3.619521 | U15: 5.5834298 | V15: 74.69943 | W15: 2.254297 | X15: c | Y15: c | Z15: c | AA15: c
A16: Japan | B16: 67.406582 | C16: 4.9634527 | D16: 65.595919 | E16: 4.951064 | F16: 100 | G16: c | H16: c | I16: c | J16: 64.086987 | K16: 5.4890226 | L16: 84.452916 | M16: 7.2277582 | N16: 20.365928 | O16: 8.9639943 | P16: 67.117235 | Q16: 5.0560369 | R16: 68.74528 | S16: 32.850327 | T16: 1.6280453 | U16: 33.16476 | V16: 66.39481 | W16: 4.8892466 | X16: c | Y16: c | Z16: c | AA16: c
A17: Korea | B17: 73.287768 | C17: 4.5872697 | D17: 70.818198 | E17: 4.3796663 | F17: 95.995437 | G17: 4.8110792 | H17: 25.177239 | I17: 5.901813 | J17: 73.312764 | K17: 4.7323464 | L17: 84.226671 | M17: 12.619259 | N17: 10.913907 | O17: 13.566952 | P17: 72.716732 | Q17: 4.7132378 | R17: c | S17: c | T17: c | U17: c | V17: 72.77416 | W17: 4.7765545 | X17: 100 | Y17: c | Z17: c | AA17: c
A18: Norway | B18: 60.355035 | C18: 4.7705772 | D18: 57.485606 | E18: 5.1096354 | F18: 100 | G18: c | H18: c | I18: c | J18: 57.614866 | K18: 4.9408925 | L18: 90.530335 | M18: 9.8467415 | N18: 32.915469 | O18: 10.779907 | P18: 58.597654 | Q18: 6.8036293 | R18: 62.236687 | S18: 6.4544839 | T18: 3.639033 | U18: 9.3362092 | V18: 59.855462 | W18: 4.9761612 | X18: 68.309557 | Y18: 22.193056 | Z18: 8.4540948 | AA18: 22.992319
A19: Türkiye | B19: 73.746088 | C19: 3.1897916 | D19: 70.160478 | E19: 4.2216423 | F19: 81.753279 | G19: 5.100075 | H19: 11.592802 | I19: 6.9011744 | J19: 74.147888 | K19: 3.1569529 | L19: 57.520326 | M19: 30.757603 | N19: -16.627562 | O19: 31.090271 | P19: 73.86661 | Q19: 3.2682416 | R19: 73.123558 | S19: 10.274607 | T19: -0.74305166 | U19: 10.959414 | V19: 73.358673 | W19: 3.2335355 | X19: 100 | Y19: c | Z19: c | AA19: c
A20: Denmark** | B20: 62.894181 | C20: 5.3888558 | D20: 54.63534 | E20: 6.5103936 | F20: 87.321888 | G20: 6.2377036 | H20: 32.686548 | I20: 8.3732879 | J20: 58.274689 | K20: 6.703378 | L20: 74.481206 | M20: 8.1298177 | N20: 16.206517 | O20: 10.598515 | P20: 59.893232 | Q20: 7.8297666 | R20: 66.792828 | S20: 7.5994565 | T20: 6.8995956 | U20: 10.975464 | V20: 62.050959 | W20: 5.3517201 | X20: 68.901144 | Y20: 20.919087 | Z20: 6.8501853 | AA20: 20.903189
A22: Centres for children under age 3a
A23: Germany* | B23: 78.580638 | C23: 3.1606769 | D23: 75.411678 | E23: 3.7884967 | F23: 88.236934 | G23: 4.6388396 | H23: 12.825256 | I23: 5.8987802 | J23: 77.85805 | K23: 3.3564319 | L23: 87.010911 | M23: 7.0186421 | N23: 9.1528612 | O23: 7.5384375 | P23: 71.0089 | Q23: 4.3970763 | R23: 89.004159 | S23: 3.1715063 | T23: 17.995259 | U23: 5.0197441 | V23: 76.917407 | W23: 3.3686918 | X23: 100 | Y23: c | Z23: c | AA23: c
A24: Israel | B24: 79.842413 | C24: 5.2264172 | D24: 77.062976 | E24: 6.7442975 | F24: 90.238819 | G24: 5.8306799 | H24: 13.175844 | I24: 9.2739182 | J24: 80.615287 | K24: 5.379436 | L24: 68.594346 | M24: 24.897305 | N24: -12.020942 | O24: 25.500449 | P24: 77.99168 | Q24: 5.8707123 | R24: 91.928266 | S24: 8.5167723 | T24: 13.936587 | U24: 10.416935 | V24: 79.088699 | W24: 5.4160758 | X24: c | Y24: c | Z24: c | AA24: c
A25: Norway | B25: 64.23482 | C25: 5.3078849 | D25: 60.947005 | E25: 5.7773696 | F25: 89.077016 | G25: 7.8078308 | H25: 28.130011 | I25: 9.834475 | J25: 63.207961 | K25: 5.4951641 | L25: 84.141992 | M25: 11.963435 | N25: 20.934031 | O25: 13.149856 | P25: 60.370666 | Q25: 7.5247935 | R25: 69.720297 | S25: 6.0082688 | T25: 9.3496307 | U25: 9.3447672 | V25: 63.257312 | W25: 5.4735076 | X25: 83.504671 | Y25: 15.498755 | Z25: 20.247359 | AA25: 16.054357
A26: Denmark** | B26: 73.262357 | C26: 7.2807428 | D26: 72.357595 | E26: 7.7893639 | F26: 77.289947 | G26: 16.865687 | H26: 4.9323514 | I26: 18.178888 | J26: 71.31042 | K26: 8.6121421 | L26: 80.464174 | M26: 14.515782 | N26: 9.1537535 | O26: 17.1881 | P26: 73.425446 | Q26: 8.3937165 | R26: 73.000946 | S26: 12.653555 | T26: -0.42450027 | U26: 14.680534 | V26: 73.759805 | W26: 7.2060008 | X26: 69.15488 | Y26: 32.420004 | Z26: -4.6049252 | AA26: 33.243659
A30: a. Data reported for early learning settings with children under age 3 are limited to centre-based settings to ensure comparability with ISCED Level 02. Data from home-based settings are excluded from this table.
A31: * Estimates for sub-groups and estimated differences between sub-groups need to be interpreted with care. For more information, see Annex B in OECD (2019).
A32: ** Low response rates in the survey may result in bias in the estimates reported and limit comparability of the data.
A33: 1. The index of "shortage of human resources" is derived from the following four items: 1) shortage of qualified staff; 2) shortage of staff for the number of enrolled children; 3) shortage of staff with competence in working with children from socio-economically disadvantaged homes; and 4) shortage of staff with competence in working with children with special needs.
A34: 2. Socio-economically disadvantage homes refer to children’s homes lacking the basic necessities or advantages of life, such as adequate housing, nutrition or medical care.
A35: 3. Children with special education needs are children for whom a special learning need has been formally identified because they are cognitively, physically or emotionally disadvantaged.
A36: 4. Children with a different first language are children whose first language, as used in their family environment, is different from the language(s) used in their ECEC centre.
A37: 5. Children who, regardless of legal status, have fled to another country in order to seek refuge from war, political oppression, persecution, or a natural disaster, or who were born while their parents were travelling to the destination or shortly after the parents’ arrival.
A38: Notes:
A39: ECEC: early childhood education and care.
A40: Centre leader refers to the person in an ECEC centre with the most responsibility for administrative, managerial and/or pedagogical leadership.
A41: Statistically significant differences are in bold. For more information, see Annex C in OECD (2019).
A42: Source: OECD, TALIS Starting Strong 2018 Database.

Sheet Table A.13
A1: Table A.13
A2: Shortage of material and human resources and accumulation of dimensions of diversity in early childhood education and care centres
A3: Based on centre leaders' reports
B7: Percentage of centre leaders reporting that their ECEC centres face a shortage of material resources1: | N7: Percentage of centre leaders reporting that their ECEC centres face a shortage of human resources2:
B8: By number of dimensions of diversity that apply to more than 10% of children in ECEC centres3,4: | N8: By number of dimensions of diversity that apply to more than 10% of children in ECEC centres:
B9: NONE of dimensions of diversity apply | D9: ONE of dimensions of diversity apply | F9: TWO OR MORE of dimensions of diversity apply | H9: Difference between ECEC centres where ONE and NONE of dimensions of diversity apply (one - none) | J9: Difference between ECEC centres where TWO OR MORE and NONE of dimensions of diversity apply (two - none) | L9: Difference between ECEC centres where TWO OR MORE and ONE of dimensions of diversity apply (two or more - one) | N9: NONE of dimensions of diversity apply | P9: ONE of dimensions of diversity apply | R9: TWO OR MORE of dimensions of diversity apply | T9: Difference between ECEC centres where ONE and NONE of dimensions of diversity apply (one - none) | V9: Difference between ECEC centres where TWO OR MORE and NONE of dimensions of diversity apply (two - none) | X9: Difference between ECEC centres where TWO OR MORE and ONE of dimensions of diversity apply (two or more - one)
B10: % | C10: S.E. | D10: % | E10: S.E. | F10: % | G10: S.E. | H10: % dif. | I10: S.E. | J10: % dif. | K10: S.E. | L10: % dif. | M10: S.E. | N10: % | O10: S.E. | P10: % | Q10: S.E. | R10: % | S10: S.E. | T10: % dif. | U10: S.E. | V10: % dif. | W10: S.E. | X10: % dif. | Y10: S.E.
A11: ISCED 02 centres
A12: Chile | B12: 69.227719 | C12: 6.1989231 | D12: 74.969851 | E12: 4.9323168 | F12: 75.529176 | G12: 4.7769866 | H12: 5.7421324 | I12: 7.776458 | J12: 6.3014568 | K12: 7.9349719 | L12: 0.55932435 | M12: 6.4783998 | N12: 57.642041 | O12: 6.3691176 | P12: 65.424046 | Q12: 5.6205893 | R12: 62.894369 | S12: 5.2060757 | T12: 7.7820051 | U12: 8.8282454 | V12: 5.2523281 | W12: 8.7422219 | X12: -2.529677 | Y12: 7.9062564
A13: Germany* | B13: 62.828655 | C13: 4.5705891 | D13: 79.734185 | E13: 4.77301 | F13: 83.621676 | G13: 4.729893 | H13: 16.905531 | I13: 6.4217071 | J13: 20.793022 | K13: 6.5947369 | L13: 3.887491 | M13: 7.179413 | N13: 79.907961 | O13: 3.735195 | P13: 87.928433 | Q13: 4.0401314 | R13: 89.726087 | S13: 3.1953667 | T13: 8.0204718 | U13: 5.7119754 | V13: 9.8181259 | W13: 4.8220007 | X13: 1.7976542 | Y13: 5.2563398
A14: Iceland | B14: 56.30221 | C14: 5.7110854 | D14: 54.07079 | E14: 6.7018467 | F14: 75.772161 | G14: 7.8155555 | H14: -2.2314202 | I14: 9.7645596 | J14: 19.469951 | K14: 9.4917608 | L14: 21.701371 | M14: 10.817967 | N14: 62.177996 | O14: 6.1937816 | P14: 71.472334 | Q14: 5.6831519 | R14: 66.564371 | S14: 7.5981316 | T14: 9.2943381 | U14: 8.8242472 | V14: 4.3863756 | W14: 10.514014 | X14: -4.9079625 | Y14: 9.7010029
A15: Israel | B15: 73.99764 | C15: 2.608057 | D15: 85.023896 | E15: 4.3493938 | F15: 93.306942 | G15: 4.5966669 | H15: 11.026255 | I15: 5.0309374 | J15: 19.309302 | K15: 5.3938007 | L15: 8.2830462 | M15: 6.3200246 | N15: 73.470897 | O15: 2.6037708 | P15: 71.444668 | Q15: 4.6837723 | R15: 96.680834 | S15: 3.267931 | T15: -2.0262294 | U15: 5.1006559 | V15: 23.209937 | W15: 4.3108896 | X15: 25.236167 | Y15: 5.8305376
A16: Japan | B16: 55.87099 | C16: 4.6264345 | D16: 68.921152 | E16: 9.7020142 | F16: 100 | G16: c | H16: 13.050162 | I16: 10.288905 | J16: c | K16: c | L16: c | M16: c | N16: 63.582828 | O16: 5.6030729 | P16: 81.140131 | Q16: 7.5520036 | R16: 100 | S16: c | T16: 17.557303 | U16: 9.7148906 | V16: c | W16: c | X16: c | Y16: c
A17: Korea | B17: 72.323212 | C17: 4.9579958 | D17: 72.267101 | E17: 21.945302 | F17: 47.023262 | G17: 31.96175 | H17: -0.056110999 | I17: 24.138663 | J17: -25.299949 | K17: 32.400224 | L17: -25.243838 | M17: 39.101056 | N17: 68.991779 | O17: 4.6083688 | P17: 94.904352 | Q17: 3.7765616 | R17: 100 | S17: c | T17: 25.912573 | U17: 5.4210106 | V17: c | W17: c | X17: c | Y17: c
A18: Norway | B18: 50.66642 | C18: 5.2920136 | D18: 58.553034 | E18: 8.1834967 | F18: 49.00153 | G18: 15.479649 | H18: 7.8866139 | I18: 9.8576506 | J18: -1.6648899 | K18: 15.927543 | L18: -9.5515038 | M18: 17.108827 | N18: 55.204762 | O18: 6.823308 | P18: 59.294781 | Q18: 7.1563643 | R18: 85.048937 | S18: 10.675049 | T18: 4.0900192 | U18: 9.089774 | V18: 29.844174 | W18: 12.944368 | X18: 25.754155 | Y18: 13.370501
A19: Türkiye | B19: 80.687395 | C19: 3.4421415 | D19: 89.620709 | E19: 3.5390085 | F19: 99.50546 | G19: 0.52090355 | H19: 8.9333138 | I19: 4.854547 | J19: 18.818065 | K19: 3.5041457 | L19: 9.8847511 | M19: 3.5966505 | N19: 72.268796 | O19: 4.2688401 | P19: 70.308337 | Q19: 6.6722321 | R19: 88.454124 | S19: 7.7174284 | T19: -1.9604588 | U19: 8.4582844 | V19: 16.185328 | W19: 8.5457277 | X19: 18.145787 | Y19: 10.037088
A20: Denmark** | B20: 43.158704 | C20: 8.2490856 | D20: 53.157137 | E20: 12.510495 | F20: 81.169672 | G20: 8.8229146 | H20: 9.998433 | I20: 16.12464 | J20: 38.010968 | K20: 12.301633 | L20: 28.012535 | M20: 14.569611 | N20: 56.923429 | O20: 8.2627708 | P20: 55.716748 | Q20: 12.920629 | R20: 78.4353 | S20: 7.6262588 | T20: -1.2066805 | U20: 15.397796 | V20: 21.511871 | W20: 10.854145 | X20: 22.718552 | Y20: 16.173791
A22: Centres for children under age 3a
A23: Germany* | B23: 62.705486 | C23: 4.8519973 | D23: 79.038924 | E23: 6.077221 | F23: 82.669525 | G23: 5.2553555 | H23: 16.333438 | I23: 8.1657669 | J23: 19.96404 | K23: 7.5661728 | L23: 3.6306012 | M23: 7.7827364 | N23: 69.827599 | O23: 4.6102328 | P23: 83.96319 | Q23: 5.2884461 | R23: 91.361297 | S23: 3.6617503 | T23: 14.135591 | U23: 6.3765399 | V23: 21.533698 | W23: 5.8202702 | X23: 7.3981072 | Y23: 6.3126336
A24: Israel | B24: 56.025367 | C24: 5.9938472 | D24: 73.715608 | E24: 8.0200715 | F24: 68.247798 | G24: 13.251479 | H24: 17.690241 | I24: 10.138108 | J24: 12.222431 | K24: 14.61426 | L24: -5.4678099 | M24: 15.321726 | N24: 74.771578 | O24: 7.1022286 | P24: 93.421664 | Q24: 4.8224196 | R24: 87.971187 | S24: 12.411684 | T24: 18.650086 | U24: 9.0071542 | V24: 13.199609 | W24: 14.519128 | X24: -5.4504768 | Y24: 13.249594
A25: Norway | B25: 50.81782 | C25: 5.3154411 | D25: 52.755072 | E25: 8.8220262 | F25: 84.245821 | G25: 8.6919294 | H25: 1.9372519 | I25: 9.9566592 | J25: 33.428001 | K25: 9.462434 | L25: 31.490749 | M25: 12.611431 | N25: 57.582023 | O25: 7.8097309 | P25: 68.671457 | Q25: 6.6900588 | R25: 83.732643 | S25: 8.5291296 | T25: 11.089433 | U25: 9.8554124 | V25: 26.15062 | W25: 11.413016 | X25: 15.061187 | Y25: 11.045378
A26: Denmark** | B26: 61.67362 | C26: 9.0534662 | D26: 50.176605 | E26: 21.822088 | F26: 96.549838 | G26: 3.4265273 | H26: -11.497015 | I26: 24.179195 | J26: 34.876218 | K26: 9.2285805 | L26: 46.373232 | M26: 21.95281 | N26: 71.859935 | O26: 8.7472349 | P26: 81.635242 | Q26: 15.321525 | R26: 71.371641 | S26: 17.154635 | T26: 9.7753072 | U26: 16.901657 | V26: -0.48829386 | W26: 19.370499 | X26: -10.263601 | Y26: 23.347515
A30: a. Data reported for early learning settings with children under age 3 are limited to centre-based settings to ensure comparability with ISCED Level 02. Data from home-based settings are excluded from this table.
A31: * Estimates for sub-groups and estimated differences between sub-groups need to be interpreted with care. For more information, see Annex B in OECD (2019).
A32: ** Low response rates in the survey may result in bias in the estimates reported and limit comparability of the data.
A33: 1. The index of "shortage of material resources" is derived from the following four items: 1) shortage or inadequacy of indoor space; 2) shortage or inadequacy of outdoor play space; 3) shortage or inadequacy of play or learning materials (e.g. books, picture books, building blocks, clay, paint); and 4) shortage or inadequacy of digital technology for play and learning (e.g. computers, tablets, smart boards).
A34: 2. The index of "shortage of human resources" is derived from the following four items: 1) shortage of qualified staff; 2) shortage of staff for the number of enrolled children; 3) shortage of staff with competence in working with children from socio-economically disadvantaged homes; and 4) shortage of staff with competence in working with children with special needs.
A35: 3. Dimensions of diversity refers to children from socio-economically disadvantaged homes, children with special education needs, children with a different first language, and children who are refugees. Full definitions are the following:
A36: Socio-economically disadvantage homes refer to children’s homes lacking the basic necessities or advantages of life, such as adequate housing, nutrition or medical care.
A37: Children with special education needs are children for whom a special learning need has been formally identified because they are cognitively, physically or emotionally disadvantaged.
A38: Children with a different first language are children whose first language, as used in their family environment, is different from the language(s) used in their ECEC centre.
A39: Children who, regardless of legal status, have fled to another country in order to seek refuge from war, political oppression, persecution, or a natural disaster, or who were born while their parents were travelling to the destination or shortly after the parents’ arrival.
A40: 4. Several dimensions of diversity accumulate within an ECEC centre when each of these dimensions, considered separately, applies to more than 10% of the children in the centre. This may occur because multiple forms of diversity apply to the same individual children, or because different forms of diversity apply to different groups of children within the centre.
A41: Notes:
... A45: Source: OECD, TALIS Starting Strong 2018 Database.

Sheet Table A.14
A1: Table A.14
A2: Staff sources of stress and dimensions of diversity in early childhood education and care centres
A3: Based on centre staff's and centre leaders' reports
B7: Percentage of centre staff reporting that accommodating children with special education needs is a source of stress "quite a bit" or "a lot": | J7: Percentage of centre staff reporting that managing classroom / playgroup / group behaviour is a source of stress "quite a bit" or "a lot":
B8: All ECEC centres | D8: By share of children with special education needs in ECEC centres3: | J8: All ECEC centres | L8: By share of children from socio-economically disadvantaged homes in ECEC centres2:
D9: 10% or less of children with special education needs | F9: More than 10% of children with special education needs | H9: Difference between more than 10% and 10% or less of children with special education needs (more - less) | L9: 10% or less of children from socio-economically disadvantaged homes | N9: More than 10% of children from socio-economically disadvantaged homes | P9: Difference between more than 10% and 10% or less of children from socio-economically disadvantaged homes (more - less)
B10: % | C10: S.E. | D10: % | E10: S.E. | F10: % | G10: S.E. | H10: % dif. | I10: S.E. | J10: % | K10: S.E. | L10: % | M10: S.E. | N10: % | O10: S.E. | P10: % dif. | Q10: S.E.
A11: ISCED 02 centres
A12: Chile | B12: 29.18513 | C12: 1.4381291 | D12: 24.528191 | E12: 1.6437842 | F12: 35.804756 | G12: 2.636879 | H12: 11.276565 | I12: 3.1552805 | J12: 37.353426 | K12: 1.4817859 | L12: 35.929868 | M12: 2.8057233 | N12: 38.206379 | O12: 1.7300797 | P12: 2.2765112 | Q12: 3.3170346
A13: Germany* | B13: 30.247626 | C13: 1.5411294 | D13: 28.969482 | E13: 1.5890691 | F13: 42.360643 | G13: 5.8766331 | H13: 13.391161 | I13: 6.0035472 | J13: 36.78898 | K13: 1.4887086 | L13: 36.263766 | M13: 1.8729127 | N13: 35.468164 | O13: 2.6858177 | P13: -0.79560216 | Q13: 3.2896188
A14: Iceland | B14: 30.845621 | C14: 1.5214505 | D14: 29.63309 | E14: 1.7768384 | F14: 35.216698 | G14: 3.5649761 | H14: 5.5836081 | I14: 4.0719398 | J14: 37.790868 | K14: 1.5091444 | L14: 37.712432 | M14: 1.6261769 | N14: 45.188252 | O14: 7.066507 | P14: 7.4758196 | Q14: 7.4015714
A15: Israel | B15: 32.002891 | C15: 1.7429175 | D15: 30.611324 | E15: 1.9031826 | F15: 43.037587 | G15: 4.189628 | H15: 12.426263 | I15: 4.5809687 | J15: 50.901484 | K15: 1.5005019 | L15: 49.768057 | M15: 1.662717 | N15: 55.484974 | O15: 3.5914024 | P15: 5.7169172 | Q15: 3.8749537
A16: Japan | B16: 36.232777 | C16: 1.9314567 | D16: 35.912836 | E16: 1.7541792 | F16: 37.528109 | G16: 4.0794679 | H16: 1.6152725 | I16: 4.3187753 | J16: 33.350156 | K16: 1.7856115 | L16: 33.180054 | M16: 1.8754434 | N16: c | O16: c | P16: c | Q16: c
A17: Korea | B17: 31.009852 | C17: 2.3182496 | D17: 31.464459 | E17: 2.399597 | F17: c | G17: c | H17: c | I17: c | J17: 48.871058 | K17: 2.034641 | L17: 48.286221 | M17: 1.9281583 | N17: c | O17: c | P17: c | Q17: c
A18: Norway | B18: 34.571322 | C18: 2.5664092 | D18: 33.588747 | E18: 2.5338893 | F18: c | G18: c | H18: c | I18: c | J18: 30.752464 | K18: 2.3111778 | L18: 31.7823 | M18: 2.284846 | N18: 25.477487 | O18: 11.412542 | P18: -6.3048131 | Q18: 11.612199
A19: Türkiye | B19: 29.28912 | C19: 2.0386622 | D19: 29.55784 | E19: 2.0137241 | F19: 25.79904 | G19: 11.458658 | H19: -3.7588002 | I19: 11.481075 | J19: 37.730082 | K19: 1.927782 | L19: 39.285002 | M19: 2.3392181 | N19: 33.515205 | O19: 3.8196706 | P19: -5.7697971 | Q19: 4.5936529
A20: Denmark** | B20: 53.11083 | C20: 2.6029245 | D20: 50.819192 | E20: 3.3445606 | F20: 65.826834 | G20: 3.273009 | H20: 15.007642 | I20: 4.7919433 | J20: 43.735223 | K20: 2.9771767 | L20: 44.168261 | M20: 3.0877767 | N20: 51.563673 | O20: 5.0309249 | P20: 7.3954119 | Q20: 5.5788455
A22: Centres for children under age 3a
A23: Germany* | B23: 23.203888 | C23: 1.8617919 | D23: 22.599238 | E23: 2.0325612 | F23: 31.839326 | G23: 6.3764625 | H23: 9.2400883 | I23: 6.7269979 | J23: 32.667499 | K23: 1.8290395 | L23: 32.63742 | M23: 2.1101639 | N23: 33.979528 | O23: 4.5955506 | P23: 1.342108 | Q23: 5.1375436
A24: Israel | B24: 19.678718 | C24: 2.1040572 | D24: 19.112466 | E24: 2.3451751 | F24: c | G24: c | H24: c | I24: c | J24: 49.518034 | K24: 2.3140147 | L24: 48.98773 | M24: 3.1847927 | N24: 49.083263 | O24: 3.5018328 | P24: 0.095533937 | Q24: 4.8819503
A25: Norway | B25: 18.902439 | C25: 1.7162953 | D25: 18.414991 | E25: 1.7500486 | F25: c | G25: c | H25: c | I25: c | J25: 23.373141 | K25: 1.681065 | L25: 23.206926 | M25: 1.8873188 | N25: 22.529828 | O25: 3.3894101 | P25: -0.67709795 | Q25: 3.6713508
A26: Denmark** | B26: 40.294243 | C26: 3.4727218 | D26: 34.770079 | E26: 3.8570923 | F26: 59.773865 | G26: 6.7727242 | H26: 25.003786 | I26: 8.1710751 | J26: 38.670727 | K26: 2.4961413 | L26: 39.918561 | M26: 2.697271 | N26: c | O26: c | P26: c | Q26: c
A30: a. Data reported for early learning settings with children under age 3 are limited to centre-based settings to ensure comparability with ISCED Level 02. Data from home-based settings are excluded from this table.
A31: * Estimates for sub-groups and estimated differences between sub-groups need to be interpreted with care. For more information, see Annex B in OECD (2019).
A32: ** Low response rates in the survey may result in bias in the estimates reported and limit comparability of the data.
A33: 1. Children with special education needs are children for whom a special learning need has been formally identified because they are cognitively, physically or emotionally disadvantaged. Based on centre leaders' reports.
A34: 2. Socio-economically disadvantage homes refer to children’s homes lacking the basic necessities or advantages of life, such as adequate housing, nutrition or medical care. Based on centre leaders' reports.
A35: Notes:
A36: ECEC: early childhood education and care.
A37: Centre staff includes leaders, teachers, assistants or any other unspecified staff groups.
A38: Centre leader refers to the person in an ECEC centre with the most responsibility for administrative, managerial and/or pedagogical leadership.
A39: Statistically significant differences are in bold. For more information, see Annex C in OECD (2019).
A40: Source: OECD, TALIS Starting Strong 2018 Database.

Sheet Table A.15
A1: Table A.15
A2: Staff sources of stress and accumulation of dimensions of diversity in early childhood education and care centres
A3: Based on centre staff's and centre leaders' reports
B7: Percentage of centre staff reporting that accommodating children with special education needs is a source of stress "quite a bit" or "a lot": | N7: Percentage of centre staff reporting that managing classroom / playgroup / group behaviour s a source of stress "quite a bit" or "a lot":
B8: By number of dimensions of diversity that apply to more than 10% of children in ECEC centres1,2: | N8: By number of dimensions of diversity that apply to more than 10% of children in ECEC centres:
B9: NONE of dimensions of diversity apply | D9: ONE of dimensions of diversity apply | F9: TWO OR MORE of dimensions of diversity apply | H9: Difference between ECEC centres where ONE and NONE of dimensions of diversity apply (one - none) | J9: Difference between ECEC centres where TWO OR MORE and NONE of dimensions of diversity apply (two - none) | L9: Difference between ECEC centres where TWO OR MORE and ONE of dimensions of diversity apply (two or more - one) | N9: NONE of dimensions of diversity apply | P9: ONE of dimensions of diversity apply | R9: TWO OR MORE of dimensions of diversity apply | T9: Difference between ECEC centres where ONE and NONE of dimensions of diversity apply (one - none) | V9: Difference between ECEC centres where TWO OR MORE and NONE of dimensions of diversity apply (two - none) | X9: Difference between ECEC centres where TWO OR MORE and ONE of dimensions of diversity apply (two or more - one)
B10: % | C10: S.E. | D10: % | E10: S.E. | F10: % | G10: S.E. | H10: % dif. | I10: S.E. | J10: % dif. | K10: S.E. | L10: % dif. | M10: S.E. | N10: % | O10: S.E. | P10: % | Q10: S.E. | R10: % | S10: S.E. | T10: % dif. | U10: S.E. | V10: % dif. | W10: S.E. | X10: % dif. | Y10: S.E.
A11: ISCED 02 centres
A12: Chile | B12: 23.227677 | C12: 2.2264139 | D12: 27.339678 | E12: 2.6487452 | F12: 35.224962 | G12: 2.5995031 | H12: 4.1120015 | I12: 3.3805092 | J12: 11.997285 | K12: 3.5523822 | L12: 7.8852839 | M12: 3.6982965 | N12: 33.449137 | O12: 3.1202595 | P12: 36.493803 | Q12: 2.2473187 | R12: 40.795576 | S12: 2.3243768 | T12: 3.0446657 | U12: 3.843135 | V12: 7.3464386 | W12: 3.8514474 | X12: 4.3017729 | Y12: 3.2244034
A13: Germany* | B13: 26.910772 | C13: 2.199031 | D13: 25.600324 | E13: 2.1848709 | F13: 38.397408 | G13: 3.5222641 | H13: -1.3104476 | I13: 3.0556046 | J13: 11.486636 | K13: 4.1409962 | L13: 12.797083 | M13: 4.1942666 | N13: 36.546619 | O13: 2.453342 | P13: 33.901356 | Q13: 2.660676 | R13: 38.177954 | S13: 2.8785715 | T13: -2.6452626 | U13: 3.7045552 | V13: 1.6313354 | W13: 3.7260103 | X13: 4.276598 | Y13: 3.9913399
A14: Iceland | B14: 29.114832 | C14: 2.4958759 | D14: 31.634071 | E14: 2.1752476 | F14: 31.936283 | G14: 3.5809774 | H14: 2.5192396 | I14: 3.2765434 | J14: 2.8214514 | K14: 4.4355646 | L14: 0.30221181 | M14: 3.9758751 | N14: 40.026875 | O14: 2.7440588 | P14: 36.636617 | Q14: 2.7514093 | R14: 39.250571 | S14: 3.8369414 | T14: -3.3902577 | U14: 3.9559788 | V14: -0.77630439 | W14: 4.8014327 | X14: 2.6139533 | Y14: 5.2401664
A15: Israel | B15: 29.556539 | C15: 2.068035 | D15: 37.744975 | E15: 3.2969613 | F15: 39.68135 | G15: 4.6082492 | H15: 8.1884361 | I15: 3.5401763 | J15: 10.124811 | K15: 5.0823515 | L15: 1.9363753 | M15: 5.3453341 | N15: 49.450866 | O15: 1.860027 | P15: 52.364771 | Q15: 3.4918226 | R15: 59.207324 | S15: 4.9045539 | T15: 2.9139042 | U15: 3.9427079 | V15: 9.7564573 | W15: 5.3422558 | X15: 6.8425532 | Y15: 6.1306412
A16: Japan | B16: 35.656407 | C16: 2.0724982 | D16: 38.952715 | E16: 3.7560717 | F16: c | G16: c | H16: 3.2963074 | I16: 3.9521955 | J16: c | K16: c | L16: c | M16: c | N16: 32.826131 | O16: 1.8458305 | P16: 35.429201 | Q16: 3.446105 | R16: c | S16: c | T16: 2.6030702 | U16: 3.4406461 | V16: c | W16: c | X16: c | Y16: c
A17: Korea | B17: 29.848139 | C17: 2.1501168 | D17: 52.85451 | E17: 12.812734 | F17: c | G17: c | H17: 23.006372 | I17: 12.73825 | J17: c | K17: c | L17: c | M17: c | N17: 47.7424 | O17: 1.871631 | P17: 58.328231 | Q17: 13.624084 | R17: c | S17: c | T17: 10.585832 | U17: 13.562995 | V17: c | W17: c | X17: c | Y17: c
A18: Norway | B18: 31.361192 | C18: 2.9401688 | D18: 35.304132 | E18: 5.3434992 | F18: 46.139698 | G18: 7.1634409 | H18: 3.9429401 | I18: 6.0879469 | J18: 14.778506 | K18: 7.54491 | L18: 10.835566 | M18: 8.8097711 | N18: 28.372195 | O18: 2.8869647 | P18: 35.749067 | Q18: 3.7365062 | R18: 31.025352 | S18: 8.2621147 | T18: 7.3768722 | U18: 4.7540369 | V18: 2.6531568 | W18: 8.5885755 | X18: -4.7237154 | Y18: 9.3258507
A19: Türkiye | B19: 32.105712 | C19: 2.62293 | D19: 24.036971 | E19: 3.32617 | F19: 22.662051 | G19: 6.7408157 | H19: -8.0687412 | I19: 4.2464254 | J19: -9.4436613 | K19: 7.2722822 | L19: -1.3749201 | M19: 7.5368803 | N19: 38.640355 | O19: 2.539771 | P19: 38.680656 | Q19: 3.7524007 | R19: 30.169039 | S19: 6.5867249 | T19: 0.040301176 | U19: 4.6639772 | V19: -8.4713154 | W19: 7.0267719 | X19: -8.5116166 | Y19: 7.8558498
A20: Denmark** | B20: 53.682959 | C20: 4.289001 | D20: 46.973703 | E20: 3.8935832 | F20: 62.220381 | G20: 3.7013719 | H20: -6.7092562 | I20: 6.0515488 | J20: 8.5374213 | K20: 5.3837352 | L20: 15.246677 | M20: 5.2751959 | N20: 44.433933 | O20: 3.1008139 | P20: 42.412258 | Q20: 7.9157797 | R20: 50.315894 | S20: 4.6999856 | T20: -2.0216746 | U20: 8.3591715 | V20: 5.8819616 | W20: 5.0655706 | X20: 7.9036362 | Y20: 9.1840172
A22: Centres for children under age 33
A23: Germany* | B23: 16.074909 | C23: 2.0589975 | D23: 21.667882 | E23: 3.0395539 | F23: 37.668207 | G23: 4.2725423 | H23: 5.5929725 | I23: 3.5369028 | J23: 21.593298 | K23: 4.6322271 | L23: 16.000325 | M23: 5.0066655 | N23: 32.786254 | O23: 2.6519801 | P23: 32.985528 | Q23: 3.4991486 | R23: 33.23628 | S23: 4.0746802 | T23: 0.19927417 | U23: 4.3529054 | V23: 0.45002614 | W23: 4.8890447 | X23: 0.25075196 | Y23: 5.4334247
A24: Israel | B24: 17.863852 | C24: 2.9491155 | D24: 19.998091 | E24: 2.9534405 | F24: 30.405961 | G24: 6.4433591 | H24: 2.1342385 | I24: 4.4151886 | J24: 12.542109 | K24: 6.9423294 | L24: 10.40787 | M24: 7.0319661 | N24: 48.790567 | O24: 3.2561361 | P24: 50.997269 | Q24: 3.8982158 | R24: 44.951061 | S24: 4.2166464 | T24: 2.2067011 | U24: 5.2386884 | V24: -3.839506 | W24: 5.1357369 | X24: -6.0462071 | Y24: 5.816134
A25: Norway | B25: 13.686671 | C25: 2.0880441 | D25: 24.264108 | E25: 3.0716397 | F25: 24.079684 | G25: 5.2429622 | H25: 10.577437 | I25: 3.7473891 | J25: 10.393013 | K25: 5.6083142 | L25: -0.18442393 | M25: 6.1117772 | N25: 21.083433 | O25: 2.1801027 | P25: 26.735782 | Q25: 3.642602 | R25: 19.477667 | S25: 2.50676 | T25: 5.6523493 | U25: 4.3564469 | V25: -1.6057659 | W25: 3.2871477 | X25: -7.2581152 | Y25: 4.3885176
A26: Denmark** | B26: 33.823408 | C26: 4.2782587 | D26: 44.067804 | E26: 9.6116317 | F26: 53.020916 | G26: 5.4807679 | H26: 10.244396 | I26: 10.43982 | J26: 19.197508 | K26: 7.7541164 | L26: 8.9531127 | M26: 9.825279 | N26: 41.818187 | O26: 3.8343194 | P26: 33.538125 | Q26: 4.8220553 | R26: 41.825456 | S26: 4.4470804 | T26: -8.2800621 | U26: 6.424122 | V26: 0.0072688607 | W26: 5.5668772 | X26: 8.287331 | Y26: 6.3580179
A29: a. Data reported for early learning settings with children under age 3 are limited to centre-based settings to ensure comparability with ISCED Level 02. Data from home-based settings are excluded from this table.
A30: * Estimates for sub-groups and estimated differences between sub-groups need to be interpreted with care. For more information, see Annex B in OECD (2019).
A31: ** Low response rates in the survey may result in bias in the estimates reported and limit comparability of the data.
A32: 1. Dimensions of diversity refers to children from socio-economically disadvantaged homes, children with special education needs, children with a different first language, and children who are refugees. Full definitions are the following:
A33: Socio-economically disadvantage homes refer to children’s homes lacking the basic necessities or advantages of life, such as adequate housing, nutrition or medical care.
A34: Children with special education needs are children for whom a special learning need has been formally identified because they are cognitively, physically or emotionally disadvantaged.
A35: Children with a different first language are children whose first language, as used in their family environment, is different from the language(s) used in their ECEC centre.
A36: Children who, regardless of legal status, have fled to another country in order to seek refuge from war, political oppression, persecution, or a natural disaster, or who were born while their parents were travelling to the destination or shortly after the parents’ arrival.
A37: 2. Several dimensions of diversity accumulate within an ECEC centre when each of these dimensions, considered separately, applies to more than 10% of the children in the centre. This may occur because multiple forms of diversity apply to the same individual children, or because different forms of diversity apply to different groups of children within the centre.
A38: Notes:
A39: ECEC: early childhood education and care.
A40: Centre staff includes leaders, teachers, assistants or any other unspecified staff groups.
... A43: Source: OECD, TALIS Starting Strong 2018 Database.

Sheet Table A.16
A1: Table A.16
A2: Number of staff per ten children and dimensions of diversity in early childhood education and care centres
A3: Based on centre leaders' reports
B7: Percentage of centre leaders reporting the number of staff per 10 children in ECEC centers:
B8: All ECEC centres | D8: By share of children from socio-economically disadvantaged homes in ECEC centres2: | J8: By share of children with special education needs in ECEC centres3: | P8: By share of children with a different first language in ECEC centres4: | V8: By share of children who are refugees ECEC centres5:
D9: 10% or less of children from socio-economically disadvantaged homes | F9: More than 10% of children from socio-economically disadvantaged homes | H9: Difference between more than 10% and 10% or less of children from socio-economically disadvantaged homes (more - less) | J9: 10% or less of children with special education needs | L9: More than 10% of children with special education needs | N9: Difference between more than 10% and 10% or less of children with special education needs (more - less) | P9: 10% or less of children whose first language is different | R9: More than 10% of children whose first language is different | T9: Difference between more than 10% and 10% or less of children whose first language is different (more - less) | V9: 10% or less of children who are refugees | X9: More than 10% of children who are refugees | Z9: Difference between more than 10% and 10% or less of children who are refugees (more - less)
B10: % | C10: S.E. | D10: % | E10: S.E. | F10: % | G10: S.E. | H10: % dif. | I10: S.E. | J10: % | K10: S.E. | L10: % | M10: S.E. | N10: % dif. | O10: S.E. | P10: % | Q10: S.E. | R10: % | S10: S.E. | T10: % dif. | U10: S.E. | V10: % | W10: S.E. | X10: % | Y10: S.E. | Z10: % dif. | AA10: S.E.
A11: ISCED 02 centres
A12: Chile | B12: 4.7401131 | C12: 0.30222145 | D12: 4.3763606 | E12: 0.36320009 | F12: 4.9555213 | G12: 0.43221265 | H12: 0.57916074 | I12: 0.5775169 | J12: 4.5304542 | K12: 0.31218363 | L12: 5.1491477 | M12: 0.66168909 | N12: 0.61869354 | O12: 0.73974724 | P12: 4.7872938 | Q12: 0.32544936 | R12: 4.0189657 | S12: 0.48193637 | T12: -0.76832808 | U12: 0.60381197 | V12: 4.7421957 | W12: 0.30354825 | X12: c | Y12: c | Z12: c | AA12: c
A13: Germany* | B13: 2.1240042 | C13: 0.038634897 | D13: 2.1483026 | E13: 0.047724869 | F13: 2.0747961 | G13: 0.060570277 | H13: -0.073506406 | I13: 0.075781629 | J13: 2.106155 | K13: 0.044351826 | L13: 2.3658626 | M13: 0.15187276 | N13: 0.25970756 | O13: 0.16462293 | P13: 2.0874992 | Q13: 0.055030503 | R13: 2.1725905 | S13: 0.059515097 | T13: 0.085091318 | U13: 0.082355504 | V13: 2.1591038 | W13: 0.044051323 | X13: 1.8546425 | Y13: 0.092007184 | Z13: -0.30446135 | AA13: 0.11162307
A14: Iceland | B14: 3.4659424 | C14: 0.090295088 | D14: 3.4552205 | E14: 0.092440699 | F14: 3.8411081 | G14: 0.48016552 | H14: 0.38588759 | I14: 0.48436186 | J14: 3.4259905 | K14: 0.099860568 | L14: 3.6759333 | M14: 0.24522374 | N14: 0.24994274 | O14: 0.26574518 | P14: 3.3141679 | Q14: 0.10455392 | R14: 3.6623899 | S14: 0.15186812 | T14: 0.34822202 | U14: 0.18395078 | V14: 3.491191 | W14: 0.096034174 | X14: c | Y14: c | Z14: c | AA14: c
A15: Israel | B15: 2.2461005 | C15: 0.16550497 | D15: 2.2848978 | E15: 0.19354903 | F15: 2.0675741 | G15: 0.092747115 | H15: -0.21732375 | I15: 0.21563966 | J15: 2.2553939 | K15: 0.18686338 | L15: 2.2120571 | M15: 0.10447884 | N15: -0.043336715 | O15: 0.2162496 | P15: 2.2204354 | Q15: 0.18075359 | R15: 2.3803148 | S15: 0.42988488 | T15: 0.15987937 | U15: 0.46864525 | V15: 2.2506856 | W15: 0.17039538 | X15: 1.8459894 | Y15: 0.18479767 | Z15: -0.40469616 | AA15: 0.25571241
A16: Japan | B16: 1.8760211 | C16: 0.093331456 | D16: 1.8576851 | E16: 0.10461599 | F16: 2.3568292 | G16: 0.22701071 | H16: 0.49914401 | I16: 0.26763473 | J16: 1.8402489 | K16: 0.11438892 | L16: 2.0987735 | M16: 0.13936127 | N16: 0.25852458 | O16: 0.19685578 | P16: 1.8823999 | Q16: 0.094768705 | R16: 1.5311603 | S16: 0.26789464 | T16: -0.35123955 | U16: 0.28464228 | V16: 1.8621472 | W16: 0.10188296 | X16: c | Y16: c | Z16: c | AA16: c
A17: Korea | B17: 3.9212174 | C17: 0.39125763 | D17: 3.8149426 | E17: 0.41087807 | F17: 5.0979584 | G17: 1.4557458 | H17: 1.2830158 | I17: 1.5148054 | J17: 3.8213809 | K17: 0.37947736 | L17: 11.537507 | M17: 8.1313335 | N17: 7.7161263 | O17: 8.1465182 | P17: 3.9514864 | Q17: 0.40226705 | R17: c | S17: c | T17: c | U17: c | V17: 3.9583805 | W17: 0.40579292 | X17: c | Y17: c | Z17: c | AA17: c
A18: Norway | B18: 4.418271 | C18: 0.14175656 | D18: 4.3971161 | E18: 0.1516193 | F18: 4.7293362 | G18: 0.41195572 | H18: 0.33222013 | I18: 0.45003572 | J18: 4.3189029 | K18: 0.14091815 | L18: 5.540992 | M18: 0.84296372 | N18: 1.2220891 | O18: 0.85754799 | P18: 4.5789458 | Q18: 0.20061602 | R18: 4.2034129 | S18: 0.19752397 | T18: -0.37553282 | U18: 0.27810052 | V18: 4.4349812 | W18: 0.15104603 | X18: 4.1646289 | Y18: 0.41735942 | Z18: -0.27035231 | AA18: 0.45298271
A19: Türkiye | B19: 2.2444834 | C19: 0.20346158 | D19: 2.1741431 | E19: 0.19104528 | F19: 2.4200542 | G19: 0.52691206 | H19: 0.24591113 | I19: 0.56740858 | J19: 2.0873165 | K19: 0.15459417 | L19: 7.9114524 | M19: 4.5875402 | N19: 5.824136 | O19: 4.616718 | P19: 2.4333684 | Q19: 0.24892142 | R19: 1.4429917 | S19: 0.16369036 | T19: -0.9903767 | U19: 0.29665087 | V19: 2.2589071 | W19: 0.2082373 | X19: 1.572397 | Y19: 0.28070024 | Z19: -0.68651009 | AA19: 0.34434099
A20: Denmark** | B20: 2.962808 | C20: 0.4068424 | D20: 2.4537387 | E20: 0.094281823 | F20: 3.8629947 | G20: 1.3903769 | H20: 1.409256 | I20: 1.3881528 | J20: 3.1779083 | K20: 0.58693425 | L20: 2.4991768 | M20: 0.09729157 | N20: -0.6787315 | O20: 0.59246307 | P20: 2.6377543 | Q20: 0.293391 | R20: 3.4025695 | S20: 0.83544607 | T20: 0.76481514 | U20: 0.88281187 | V20: 3.0268655 | W20: 0.44566445 | X20: 2.5119586 | Y20: 0.24084116 | Z20: -0.51490691 | AA20: 0.51216194
A22: Centres for children under age 33
A23: Germany* | B23: 2.2624464 | C23: 0.059178957 | D23: 2.2724736 | E23: 0.076225647 | F23: 2.2644759 | G23: 0.1072334 | H23: -0.0079976141 | I23: 0.1422116 | J23: 2.2257927 | K23: 0.064736716 | L23: 2.5417128 | M23: 0.2103256 | N23: 0.31592006 | O23: 0.2293607 | P23: 2.2458397 | Q23: 0.090663031 | R23: 2.2904161 | S23: 0.079874674 | T23: 0.044576432 | U23: 0.12653832 | V23: 2.2516249 | W23: 0.064329447 | X23: 2.3738342 | Y23: 0.1698098 | Z23: 0.12220933 | AA23: 0.18679741
A24: Israel | B24: 2.7478344 | C24: 0.37214708 | D24: 2.9163876 | E24: 0.49811558 | F24: 2.2479277 | G24: 0.16402963 | H24: -0.66845987 | I24: 0.52048071 | J24: 2.7617137 | K24: 0.40623887 | L24: 2.5129402 | M24: 0.42920799 | N24: -0.24877345 | O24: 0.59800164 | P24: 2.8133459 | Q24: 0.42881808 | R24: 2.4088563 | S24: 0.16234331 | T24: -0.4044896 | U24: 0.46285426 | V24: 2.7786076 | W24: 0.39272855 | X24: c | Y24: c | Z24: c | AA24: c
A25: Norway | B25: 4.6242281 | C25: 0.30450785 | D25: 4.7126184 | E25: 0.33784277 | F25: 3.9589404 | G25: 0.37050064 | H25: -0.75367802 | I25: 0.50068526 | J25: 4.5944741 | K25: 0.31569749 | L25: 5.3219399 | M25: 0.6468785 | N25: 0.7274658 | O25: 0.71782708 | P25: 4.5281333 | Q25: 0.41105106 | R25: 4.7726863 | S25: 0.55765139 | T25: 0.24455302 | U25: 0.73936155 | V25: 4.6500525 | W25: 0.31664634 | X25: 4.001903 | Y25: 0.23532883 | Z25: -0.64814954 | AA25: 0.39206013
A26: Denmark** | B26: 7.6195668 | C26: 3.7834003 | D26: 6.7846778 | E26: 4.2784922 | F26: 11.72947 | G26: 8.1680468 | H26: 4.9447925 | I26: 9.2551612 | J26: 2.6428298 | K26: 0.13102244 | L26: 27.681249 | M26: 15.199313 | N26: 25.038419 | O26: 15.203023 | P26: 2.5211301 | Q26: 0.11316377 | R26: 16.019177 | S26: 8.9175892 | T26: 13.498046 | U26: 8.9400447 | V26: 8.2364327 | W26: 4.2717446 | X26: 2.7479478 | Y26: 0.59451009 | Z26: -5.4884849 | AA26: 4.3081226
A30: a. Data reported for early learning settings with children under age 3 are limited to centre-based settings to ensure comparability with ISCED Level 02. Data from home-based settings are excluded from this table.
A31: * Estimates for sub-groups and estimated differences between sub-groups need to be interpreted with care. For more information, see Annex B in OECD (2019).
A32: ** Low response rates in the survey may result in bias in the estimates reported and limit comparability of the data.
A33: 1. Socio-economically disadvantage homes refer to children’s homes lacking the basic necessities or advantages of life, such as adequate housing, nutrition or medical care.
A34: 2. Children with special education needs are children for whom a special learning need has been formally identified because they are cognitively, physically or emotionally disadvantaged.
A35: 3. Children with a different first language are children whose first language, as used in their family environment, is different from the language(s) used in their ECEC centre.
A36: 4. Children who, regardless of legal status, have fled to another country in order to seek refuge from war, political oppression, persecution, or a natural disaster, or who were born while their parents were travelling to the destination or shortly after the parents’ arrival.
A37: Notes:
A38: ECEC: early childhood education and care.
A39: Centre leader refers to the person in an ECEC centre with the most responsibility for administrative, managerial and/or pedagogical leadership.
A40: Statistically significant differences are in bold. For more information, see Annex C in OECD (2019).
A41: Source: OECD, TALIS Starting Strong 2018 Database.

Sheet Table A.17
A1: Table A.17
A2: Specialised staff and dimensions of diversity in early childhood education and care centres
A3: Based on centre leaders' reports
B7: Percentage of specialised staff in ECEC centres1:
B8: All ECEC centres | D8: By share of children from socio-economically disadvantaged homes in ECEC centres2: | J8: By share of children with special education needs in ECEC centres3: | P8: By share of children with a different first language in ECEC centres4: | V8: By share of children who are refugees ECEC centres5:
D9: 10% or less of children from socio-economically disadvantaged homes | F9: More than 10% of children from socio-economically disadvantaged homes | H9: Difference between more than 10% and 10% or less of children from socio-economically disadvantaged homes (more - less) | J9: 10% or less of children with special education needs | L9: More than 10% of children with special education needs | N9: Difference between more than 10% and 10% or less of children with special education needs (more - less) | P9: 10% or less of children whose first language is different | R9: More than 10% of children whose first language is different | T9: Difference between more than 10% and 10% or less of children whose first language is different (more - less) | V9: 10% or less of children who are refugees | X9: More than 10% of children who are refugees | Z9: Difference between more than 10% and 10% or less of children who are refugees (more - less)
B10: % | C10: S.E. | D10: % | E10: S.E. | F10: % | G10: S.E. | H10: % dif. | I10: S.E. | J10: % | K10: S.E. | L10: % | M10: S.E. | N10: % dif. | O10: S.E. | P10: % | Q10: S.E. | R10: % | S10: S.E. | T10: % dif. | U10: S.E. | V10: % | W10: S.E. | X10: % | Y10: S.E. | Z10: % dif. | AA10: S.E.
A11: ISCED 02 centres
A12: Chile | B12: 22.038806 | C12: 0.82351721 | D12: 13.022502 | E12: 1.5251365 | F12: 26.907028 | G12: 1.3107021 | H12: 13.884526 | I12: 2.3308525 | J12: 14.179711 | K12: 1.1823132 | L12: 36.95598 | M12: 1.9209722 | N12: 22.776269 | O12: 2.5329245 | P12: 22.236728 | Q12: 0.97124313 | R12: 18.475071 | S12: 6.0244354 | T12: -3.7616564 | U12: 6.4424646 | V12: 21.96503 | W12: 0.82440669 | X12: c | Y12: c | Z12: c | AA12: c
A13: Germany* | B13: 8.9774739 | C13: 0.62394499 | D13: 8.2396039 | E13: 0.75562605 | F13: 10.938309 | G13: 1.239454 | H13: 2.6987049 | I13: 1.5042887 | J13: 8.5003248 | K13: 0.61251812 | L13: 15.250133 | M13: 3.2704827 | N13: 6.7498081 | O13: 3.3682596 | P13: 8.7110536 | Q13: 1.039725 | R13: 9.2694726 | S13: 0.92494688 | T13: 0.55841894 | U13: 1.5228357 | V13: 9.0208 | W13: 0.67136306 | X13: 9.2914774 | Y13: 1.5252027 | Z13: 0.27067744 | AA13: 1.6279041
A14: Iceland | B14: 10.716803 | C14: 0.55398774 | D14: 10.78647 | E14: 0.55364229 | F14: 10.043615 | G14: 2.9720302 | H14: -0.74285556 | I14: 3.0032171 | J14: 10.617464 | K14: 0.6052038 | L14: 10.901366 | M14: 1.1877881 | N14: 0.2839027 | O14: 1.2761632 | P14: 10.337117 | Q14: 0.67551407 | R14: 11.099519 | S14: 0.87726873 | T14: 0.76240201 | U14: 1.0815848 | V14: 10.582041 | W14: 0.5659578 | X14: c | Y14: c | Z14: c | AA14: c
A15: Israel | B15: 10.992704 | C15: 0.58424898 | D15: 10.873056 | E15: 0.61598185 | F15: 12.192664 | G15: 1.3296833 | H15: 1.3196085 | I15: 1.3753475 | J15: 10.580384 | K15: 0.64696235 | L15: 14.574173 | M15: 1.8543641 | N15: 3.9937894 | O15: 2.0274794 | P15: 11.070858 | Q15: 0.64122597 | R15: 10.504764 | S15: 1.3135747 | T15: -0.56609388 | U15: 1.4392522 | V15: 11.061829 | W15: 0.59658624 | X15: c | Y15: c | Z15: c | AA15: c
A16: Japan | B16: a | C16: a | D16: a | E16: a | F16: a | G16: a | H16: a | I16: a | J16: a | K16: a | L16: a | M16: a | N16: a | O16: a | P16: a | Q16: a | R16: a | S16: a | T16: a | U16: a | V16: a | W16: a | X16: a | Y16: a | Z16: a | AA16: a
A17: Korea | B17: 12.377968 | C17: 1.1834657 | D17: 12.647199 | E17: 0.98426911 | F17: 10.012236 | G17: 6.723773 | H17: -2.6349633 | I17: 6.526204 | J17: 12.319581 | K17: 1.2121032 | L17: 14.546619 | M17: 3.6019285 | N17: 2.2270384 | O17: 3.837206 | P17: 12.514498 | Q17: 1.1847239 | R17: c | S17: c | T17: c | U17: c | V17: 12.442131 | W17: 1.2188597 | X17: c | Y17: c | Z17: c | AA17: c
A18: Norway | B18: 5.3449808 | C18: 0.50506261 | D18: 5.185036 | E18: 0.49739979 | F18: 7.2642765 | G18: 2.7760627 | H18: 2.0792405 | I18: 2.7453794 | J18: 5.2569126 | K18: 0.53150568 | L18: 6.0670832 | M18: 2.2840526 | N18: 0.81017064 | O18: 2.384384 | P18: 5.2296955 | Q18: 0.74665819 | R18: 5.554477 | S18: 0.60770137 | T18: 0.32478153 | U18: 0.96327836 | V18: 5.2906909 | W18: 0.54004784 | X18: 5.8523796 | Y18: 0.62993622 | Z18: 0.56168867 | AA18: 0.85682183
A19: Türkiye | B19: 8.5091946 | C19: 0.71250539 | D19: 8.825127 | E19: 1.0193748 | F19: 8.0520665 | G19: 1.5628392 | H19: -0.77306046 | I19: 2.0951389 | J19: 8.706457 | K19: 0.75050142 | L19: 5.3797513 | M19: 2.6607205 | N19: -3.3267057 | O19: 2.799289 | P19: 9.1419722 | Q19: 0.87814321 | R19: 6.1804815 | S19: 1.6909313 | T19: -2.9614907 | U19: 2.0378572 | V19: 8.5008431 | W19: 0.72925517 | X19: 15.25154 | Y19: 5.3557901 | Z19: 6.7506964 | AA19: 5.3655385
A20: Denmark** | B20: 6.8364502 | C20: 0.70390518 | D20: 5.6694931 | E20: 0.72643219 | F20: 9.604152 | G20: 1.3475836 | H20: 3.934659 | I20: 1.4780679 | J20: 5.3737196 | K20: 0.66464868 | L20: 10.285996 | M20: 1.2628936 | N20: 4.9122767 | O20: 1.3627446 | P20: 5.977481 | Q20: 0.86941631 | R20: 7.9241181 | S20: 1.2569749 | T20: 1.9466371 | U20: 1.614386 | V20: 6.6050551 | W20: 0.66149065 | X20: 10.487206 | Y20: 2.5550728 | Z20: 3.8821505 | AA20: 2.5311026
A22: Centres for children under age 3a
A23: Germany* | B23: 7.6796652 | C23: 0.61756298 | D23: 6.7322476 | E23: 0.6757867 | F23: 11.482274 | G23: 1.7230689 | H23: 4.7500266 | I23: 1.910704 | J23: 6.5636483 | K23: 0.66284998 | L23: 17.513653 | M23: 2.1232097 | N23: 10.950005 | O23: 2.3354047 | P23: 6.3641143 | Q23: 0.76687697 | R23: 9.7971318 | S23: 1.1466618 | T23: 3.4330175 | U23: 1.4407186 | V23: 7.1574748 | W23: 0.58237059 | X23: 13.414395 | Y23: 3.640087 | Z23: 6.2569203 | AA23: 3.7009708
A24: Israel | B24: 2.4273915 | C24: 0.79408378 | D24: 1.5619419 | E24: 0.63888225 | F24: 5.8830984 | G24: 3.9254979 | H24: 4.3211565 | I24: 4.2198752 | J24: 2.4926632 | K24: 0.85823606 | L24: c | M24: c | N24: c | O24: c | P24: 2.5871741 | Q24: 0.90413198 | R24: 1.5475637 | S24: 0.86191108 | T24: -1.0396104 | U24: 1.2582226 | V24: 2.5455621 | W24: 0.83841863 | X24: c | Y24: c | Z24: c | AA24: c
A25: Norway | B25: 6.1199301 | C25: 0.65394802 | D25: 5.7694387 | E25: 0.70640796 | F25: 8.8955302 | G25: 1.6674637 | H25: 3.1260915 | I25: 1.8148601 | J25: 5.7729249 | K25: 0.65487748 | L25: 14.164736 | M25: 3.1022524 | N25: 8.3918109 | O25: 3.1564887 | P25: 5.2199 | Q25: 0.8851661 | R25: 7.5007977 | S25: 0.67958751 | T25: 2.2808977 | U25: 0.96707912 | V25: 6.0424616 | W25: 0.68114652 | X25: 7.8921072 | Y25: 1.0713243 | Z25: 1.8496456 | AA25: 1.257699
A26: Denmark** | B26: 4.1325367 | C26: 0.97428322 | D26: 3.4210324 | E26: 0.90147664 | F26: 7.2352112 | G26: 2.6891933 | H26: 3.8141788 | I26: 2.7899425 | J26: 4.261973 | K26: 1.1959394 | L26: 3.6650843 | M26: 1.9013618 | N26: -0.59688868 | O26: 2.3490959 | P26: 3.7342603 | Q26: 1.1227359 | R26: 4.7536489 | S26: 1.892767 | T26: 1.0193885 | U26: 2.2481159 | V26: 3.8713463 | W26: 0.88623311 | X26: 6.2489277 | Y26: 5.4012653 | Z26: 2.3775814 | AA26: 5.4820132
A30: a. Data reported for early learning settings with children under age 3 are limited to centre-based settings to ensure comparability with ISCED Level 02. Data from home-based settings are excluded from this table.
A31: * Estimates for sub-groups and estimated differences between sub-groups need to be interpreted with care. For more information, see Annex B in OECD (2019).
A32: ** Low response rates in the survey may result in bias in the estimates reported and limit comparability of the data.
A33: 1. "Specialised staff" groups two of the seven categories of staff roles that were listed in the survey, namely "staff for individual children" and "staff for special tasks". The composition of staff teams within each centre was reported by centre leaders.
A34: 2. Socio-economically disadvantage homes refer to children’s homes lacking the basic necessities or advantages of life, such as adequate housing, nutrition or medical care.
A35: 3. Children with special education needs are children for whom a special learning need has been formally identified because they are cognitively, physically or emotionally disadvantaged.
A36: 4. Children with a different first language are children whose first language, as used in their family environment, is different from the language(s) used in their ECEC centre.
A37: 5. Children who, regardless of legal status, have fled to another country in order to seek refuge from war, political oppression, persecution, or a natural disaster, or who were born while their parents were travelling to the destination or shortly after the parents’ arrival.
A38: Notes:
A39: ECEC: early childhood education and care.
A40: Centre leader refers to the person in an ECEC centre with the most responsibility for administrative, managerial and/or pedagogical leadership.
A41: Statistically significant differences are in bold. For more information, see Annex C in OECD (2019).
A42: Source: OECD, TALIS Starting Strong 2018 Database.

Sheet Table A.18
A1: Table A.18
A2: Specialised staff and accumulation of dimensions of diversity in early childhood education and care centres
A3: Based on centre leaders' reports
B8: Percentage of specialised staff in ECEC centres1, by number of dimensions of diversity that apply to more than 10% of children in ECEC centres2,3:
B9: NONE of dimensions of diversity apply | D9: ONE of dimensions of diversity apply | F9: TWO OR MORE of dimensions of diversity apply | H9: Difference between ECEC centres where ONE and NONE of dimensions of diversity apply (one - none) | J9: Difference between ECEC centres where TWO OR MORE and NONE of dimensions of diversity apply (two - none) | L9: Difference between ECEC centres where TWO OR MORE and ONE of dimensions of diversity apply (two or more - one)
B10: % | C10: S.E. | D10: % | E10: S.E. | F10: % | G10: S.E. | H10: % dif. | I10: S.E. | J10: % dif. | K10: S.E. | L10: % dif. | M10: S.E.
A11: ISCED 02 centres
A12: Chile | B12: 11.892822 | C12: 1.6405488 | D12: 17.260558 | E12: 1.8167696 | F12: 36.138876 | G12: 1.9196391 | H12: 5.3677353 | I12: 2.7728038 | J12: 24.246054 | K12: 2.5903347 | L12: 18.878318 | M12: 2.9515608
A13: Germany* | B13: 7.6599442 | C13: 0.9522431 | D13: 9.6188699 | E13: 1.3033156 | F13: 10.423261 | G13: 1.1237232 | H13: 1.9589257 | I13: 1.7010081 | J13: 2.7633168 | K13: 1.4991223 | L13: 0.80439111 | M13: 1.6634213
A14: Iceland | B14: 10.713731 | C14: 0.63777907 | D14: 10.118328 | E14: 0.89561935 | F14: 11.756607 | G14: 1.5528385 | H14: -0.59540301 | I14: 1.0423115 | J14: 1.0428761 | K14: 1.5627646 | L14: 1.6382791 | M14: 1.8776467
A15: Israel | B15: 10.356247 | C15: 0.6941357 | D15: 12.973479 | E15: 1.3236995 | F15: 11.633248 | G15: 1.6835704 | H15: 2.6172317 | I15: 1.5068552 | J15: 1.2770009 | K15: 1.816158 | L15: -1.3402308 | M15: 2.1101071
A16: Japan | B16: a | C16: a | D16: a | E16: a | F16: a | G16: a | H16: a | I16: a | J16: a | K16: a | L16: a | M16: a
A17: Korea | B17: 12.77448 | C17: 1.0099172 | D17: 9.8753946 | E17: 4.9007685 | F17: c | G17: c | H17: -2.8990853 | I17: 4.7395972 | J17: c | K17: c | L17: c | M17: c
A18: Norway | B18: 5.0695652 | C18: 0.80379206 | D18: 5.2325758 | E18: 0.70675712 | F18: 6.665269 | G18: 1.4181598 | H18: 0.16301063 | I18: 1.1275619 | J18: 1.5957037 | K18: 1.5603853 | L18: 1.4326931 | M18: 1.5466654
A19: Türkiye | B19: 8.9561112 | C19: 1.0217541 | D19: 9.27521 | E19: 1.4954113 | F19: 5.2974043 | G19: 1.6673961 | H19: 0.31909887 | I19: 1.8583563 | J19: -3.6587069 | K19: 2.0289231 | L19: -3.9778058 | M19: 2.4087016
A20: Denmark** | B20: 5.4514952 | C20: 0.90154024 | D20: 6.0575488 | E20: 1.4606283 | F20: 9.6391056 | G20: 1.3071631 | H20: 0.60605358 | I20: 1.8232475 | J20: 4.1876104 | K20: 1.656592 | L20: 3.5815569 | M20: 1.7319755
A22: Centres for children under age 3a
A23: Germany* | B23: 5.7385532 | C23: 0.79813229 | D23: 6.9191759 | E23: 1.181437 | F23: 12.49443 | G23: 1.5822432 | H23: 1.1806227 | I23: 1.4305558 | J23: 6.7558767 | K23: 1.8481069 | L23: 5.575254 | M23: 2.0254093
A24: Israel | B24: 1.5266465 | C24: 0.65795885 | D24: 6.2435942 | E24: 4.1723082 | F24: 1.0865178 | G24: 0.72386163 | H24: 4.7169477 | I24: 4.4670415 | J24: -0.44012872 | K24: 0.96695007 | L24: -5.1570764 | M24: 4.228902
A25: Norway | B25: 4.9333357 | C25: 0.90950738 | D25: 7.0690717 | E25: 0.70169203 | F25: 9.4053692 | G25: 1.5652557 | H25: 2.135736 | I25: 0.96567914 | J25: 4.4720334 | K25: 1.7926549 | L25: 2.3362974 | M25: 1.7444453
A26: Denmark** | B26: 3.9008258 | C26: 1.1747969 | D26: 3.4045177 | E26: 1.2938027 | F26: 5.0674668 | G26: 2.6457711 | H26: -0.49630807 | I26: 1.6071036 | J26: 1.1666411 | K26: 3.0064532 | L26: 1.6629491 | M26: 2.8944947
A30: a. Data reported for early learning settings with children under age 3 are limited to centre-based settings to ensure comparability with ISCED Level 02. Data from home-based settings are excluded from this table.
A31: * Estimates for sub-groups and estimated differences between sub-groups need to be interpreted with care. For more information, see Annex B in OECD (2019).
A32: ** Low response rates in the survey may result in bias in the estimates reported and limit comparability of the data.
A33: 1. "Specialised staff" groups two of the seven categories of staff roles that were listed in the survey, namely "staff for individual children" and "staff for special tasks". The composition of staff teams within each centre was reported by centre leaders.
A34: 2. Dimensions of diversity refers to children from socio-economically disadvantaged homes, children with special education needs, children with a different first language, and children who are refugees. Full definitions are the following:
A35: Socio-economically disadvantage homes refer to children’s homes lacking the basic necessities or advantages of life, such as adequate housing, nutrition or medical care.
A36: Children with special education needs are children for whom a special learning need has been formally identified because they are cognitively, physically or emotionally disadvantaged.
A37: Children with a different first language are children whose first language, as used in their family environment, is different from the language(s) used in their ECEC centre.
A38: Children who, regardless of legal status, have fled to another country in order to seek refuge from war, political oppression, persecution, or a natural disaster, or who were born while their parents were travelling to the destination or shortly after the parents’ arrival.
A39: 3. Several dimensions of diversity accumulate within an ECEC centre when each of these dimensions, considered separately, applies to more than 10% of the children in the centre. This may occur because multiple forms of diversity apply to the same individual children, or because different forms of diversity apply to different groups of children within the centre.
A40: Notes:
A41: ECEC: early childhood education and care.
... A44: Source: OECD, TALIS Starting Strong 2018 Database.

Sheet Table A.19
A1: Table A.19
A2: Novice centre leaders and dimensions of diversity in early childhood education and care centres
A3: Based on centre leaders' reports
B7: Percentage of novice centre leaders1:
B8: All ECEC centres | D8: By share of children from socio-economically disadvantaged homes in ECEC centres2: | J8: By share of children with special education needs in ECEC centres3: | P8: By share of children with a different first language in ECEC centres4: | V8: By share of children who are refugees ECEC centres5:
D9: 10% or less of children from socio-economically disadvantaged homes | F9: More than 10% of children from socio-economically disadvantaged homes | H9: Difference between more than 10% and 10% or less of children from socio-economically disadvantaged homes (more - less) | J9: 10% or less of children with special education needs | L9: More than 10% of children with special education needs | N9: Difference between more than 10% and 10% or less of children with special education needs (more - less) | P9: 10% or less of children whose first language is different | R9: More than 10% of children whose first language is different | T9: Difference between more than 10% and 10% or less of children whose first language is different (more - less) | V9: 10% or less of children who are refugees | X9: More than 10% of children who are refugees | Z9: Difference between more than 10% and 10% or less of children who are refugees (more - less)
B10: % | C10: S.E. | D10: % | E10: S.E. | F10: % | G10: S.E. | H10: % dif. | I10: S.E. | J10: % | K10: S.E. | L10: % | M10: S.E. | N10: % dif. | O10: S.E. | P10: % | Q10: S.E. | R10: % | S10: S.E. | T10: % dif. | U10: S.E. | V10: % | W10: S.E. | X10: % | Y10: S.E. | Z10: % dif. | AA10: S.E.
A11: ISCED 02 centres
A12: Chile | B12: 30.764466 | C12: 3.1256699 | D12: 35.06708 | E12: 5.9064629 | F12: 28.620949 | G12: 3.8878172 | H12: -6.4461307 | I12: 7.3266422 | J12: 32.286805 | K12: 3.8449523 | L12: 28.639112 | M12: 5.2064504 | N12: -3.6476935 | O12: 6.3063903 | P12: 31.157369 | Q12: 3.4214216 | R12: 20.929744 | S12: 11.903666 | T12: -10.227625 | U12: 12.883641 | V12: 30.504502 | W12: 3.1178988 | X12: c | Y12: c | Z12: c | AA12: c
A13: Germany* | B13: 28.922752 | C13: 3.0664487 | D13: 30.595526 | E13: 3.6414157 | F13: 22.77589 | G13: 5.9556344 | H13: -7.8196357 | I13: 7.0397114 | J13: 28.37578 | K13: 3.147561 | L13: 35.815433 | M13: 11.813266 | N13: 7.4396528 | O13: 12.202912 | P13: 28.290716 | Q13: 4.1142032 | R13: 29.253622 | S13: 4.5364929 | T13: 0.96290647 | U13: 6.084478 | V13: 28.371252 | W13: 3.1236923 | X13: 30.495988 | Y13: 9.9621949 | Z13: 2.1247358 | AA13: 10.372867
A14: Iceland | B14: 30.543588 | C14: 3.3750102 | D14: 30.199126 | E14: 3.693809 | F14: 34.69476 | G14: 14.154976 | H14: 4.4956339 | I14: 15.005903 | J14: 30.67673 | K14: 3.4775662 | L14: 24.106136 | M14: 6.9346482 | N14: -6.5705936 | O14: 7.9650764 | P14: 27.914247 | Q14: 5.5440186 | R14: 32.763627 | S14: 4.8535757 | T14: 4.8493795 | U14: 7.8431297 | V14: 29.448636 | W14: 3.087638 | X14: 0 | Y14: c | Z14: 0 | AA14: c
A15: Israel | B15: 27.795681 | C15: 2.0247597 | D15: 26.822161 | E15: 2.3131574 | F15: 34.943966 | G15: 5.5333927 | H15: 8.1218052 | I15: 6.2900416 | J15: 29.138432 | K15: 2.3375739 | L15: 12.771172 | M15: 5.2644352 | N15: -16.367259 | O15: 6.1521818 | P15: 29.383481 | Q15: 2.3304711 | R15: 19.845124 | S15: 5.0221325 | T15: -9.5383571 | U15: 5.7453162 | V15: 27.628792 | W15: 2.1039097 | X15: 66.666667 | Y15: 27.909517 | Z15: 39.037875 | AA15: 28.197452
A16: Japan | B16: 42.193637 | C16: 5.517394 | D16: 40.466043 | E16: 5.4816859 | F16: 54.093247 | G16: 27.770041 | H16: 13.627204 | I16: 27.831059 | J16: 37.84067 | K16: 6.0332504 | L16: 67.271725 | M16: 9.5124302 | N16: 29.431055 | O16: 11.125273 | P16: 42.230421 | Q16: 5.632905 | R16: 40.095121 | S16: 25.76949 | T16: -2.1353008 | U16: 26.790604 | V16: 41.024429 | W16: 5.3458397 | X16: c | Y16: c | Z16: c | AA16: c
A17: Korea | B17: 30.666747 | C17: 4.1077934 | D17: 27.645498 | E17: 4.6578581 | F17: 59.678711 | G17: 22.118363 | H17: 32.033213 | I17: 24.41925 | J17: 31.31608 | K17: 4.2188319 | L17: 22.071476 | M17: 16.376134 | N17: -9.2446035 | O17: 16.884094 | P17: 31.548855 | Q17: 4.1895461 | R17: c | S17: c | T17: c | U17: c | V17: 31.393218 | W17: 4.1660614 | X17: c | Y17: c | Z17: c | AA17: c
A18: Norway | B18: 18.41816 | C18: 3.6268846 | D18: 18.40072 | E18: 3.8243846 | F18: 13.759729 | G18: 12.238319 | H18: -4.6409914 | I18: 13.025331 | J18: 17.793662 | K18: 3.6480267 | L18: 21.382391 | M18: 14.035551 | N18: 3.5887283 | O18: 14.032797 | P18: 17.317458 | Q18: 4.5543108 | R18: 19.528348 | S18: 5.9329944 | T18: 2.2108903 | U18: 7.4384169 | V18: 16.397236 | W18: 3.1821404 | X18: 45.276279 | Y18: 22.253541 | Z18: 28.879043 | AA18: 22.220422
A19: Türkiye | B19: 62.29708 | C19: 2.8468399 | D19: 56.349605 | E19: 3.6583386 | F19: 74.611014 | G19: 6.1804178 | H19: 18.261409 | I19: 7.4896939 | J19: 62.075967 | K19: 2.7753933 | L19: 53.259249 | M19: 34.082597 | N19: -8.8167179 | O19: 34.102762 | P19: 59.881253 | Q19: 2.8727469 | R19: 70.698745 | S19: 8.1047845 | T19: 10.817493 | U19: 8.2778952 | V19: 61.87102 | W19: 2.9523791 | X19: 59.903052 | Y19: 28.080797 | Z19: -1.9679676 | AA19: 28.50447
A20: Denmark** | B20: 27.5122 | C20: 4.4723057 | D20: 25.889548 | E20: 4.6571512 | F20: 33.062833 | G20: 11.793298 | H20: 7.1732856 | I20: 12.855847 | J20: 27.067339 | K20: 4.8850834 | L20: 30.408622 | M20: 10.560813 | N20: 3.3412831 | O20: 11.785576 | P20: 27.550322 | Q20: 6.0378507 | R20: 28.708053 | S20: 8.5718537 | T20: 1.157731 | U20: 11.363247 | V20: 28.298612 | W20: 4.7333567 | X20: 16.275624 | Y20: 16.33909 | Z20: -12.022988 | AA20: 16.981773
A22: Centres for children under age 3a
A23: Germany* | B23: 32.274297 | C23: 3.1188562 | D23: 33.096413 | E23: 3.7422309 | F23: 25.687668 | G23: 5.9993055 | H23: -7.408745 | I23: 7.3120086 | J23: 32.782461 | K23: 3.3995139 | L23: 30.641462 | M23: 9.9933353 | N23: -2.1409993 | O23: 10.67822 | P23: 32.631224 | Q23: 3.9725662 | R23: 32.451986 | S23: 4.7581836 | T23: -0.17923823 | U23: 5.9607897 | V23: 32.143385 | W23: 3.2949582 | X23: 30.14377 | Y23: 11.30379 | Z23: -1.9996157 | AA23: 11.89712
A24: Israel | B24: 41.37679 | C24: 5.3614755 | D24: 42.012544 | E24: 6.3021471 | F24: 36.608336 | G24: 10.299079 | H24: -5.4042072 | I24: 11.675489 | J24: 41.359613 | K24: 5.5259677 | L24: 48.640465 | M24: 26.19638 | N24: 7.2808516 | O24: 26.201118 | P24: 42.596593 | Q24: 5.7671332 | R24: 35.777562 | S24: 13.876175 | T24: -6.8190314 | U24: 14.643748 | V24: 40.931035 | W24: 5.5238735 | X24: c | Y24: c | Z24: c | AA24: c
A25: Norway | B25: 4.5481019 | C25: 1.5737441 | D25: 4.1650687 | E25: 1.618625 | F25: 8.8585598 | G25: 6.6750272 | H25: 4.6934911 | I25: 6.850809 | J25: 4.5747944 | K25: 1.6340439 | L25: 6.1915868 | M25: 6.6153001 | N25: 1.6167924 | O25: 6.7662474 | P25: 0.68974296 | Q25: 0.69401188 | R25: 10.698097 | S25: 3.7927817 | T25: 10.008354 | U25: 3.8591578 | V25: 4.4695767 | W25: 1.6213166 | X25: 8.7780524 | Y25: 9.3389363 | Z25: 4.3084757 | AA25: 9.5194726
A26: Denmark** | B26: 20.948558 | C26: 5.6182373 | D26: 21.784594 | E26: 6.3747015 | F26: 16.758523 | G26: 16.620341 | H26: -5.026071 | I26: 18.425114 | J26: 22.476962 | K26: 6.6612392 | L26: 14.709447 | M26: 14.002363 | N26: -7.7675149 | O26: 16.241273 | P26: 26.720986 | Q26: 7.9075937 | R26: 11.174477 | S26: 8.5322937 | T26: -15.546509 | U26: 12.387896 | V26: 23.545291 | W26: 6.1745482 | X26: 0 | Y26: 0 | Z26: -23.545291 | AA26: 6.1745482
A29: a. Data reported for early learning settings with children under age 3 are limited to centre-based settings to ensure comparability with ISCED Level 02. Data from home-based settings are excluded from this table.
A30: * Estimates for sub-groups and estimated differences between sub-groups need to be interpreted with care. For more information, see Annex B in OECD (2019).
A31: ** Low response rates in the survey may result in bias in the estimates reported and limit comparability of the data.
A32: 1. Novice centre leaders are those with less than 5 years of experience as an ECEC centre leader.
A33: 2. Socio-economically disadvantage homes refer to children’s homes lacking the basic necessities or advantages of life, such as adequate housing, nutrition or medical care.
A34: 3. Children with special education needs are children for whom a special learning need has been formally identified because they are cognitively, physically or emotionally disadvantaged.
A35: 4. Children with a different first language are children whose first language, as used in their family environment, is different from the language(s) used in their ECEC centre.
A36: 5. Children who, regardless of legal status, have fled to another country in order to seek refuge from war, political oppression, persecution, or a natural disaster, or who were born while their parents were travelling to the destination or shortly after the parents’ arrival.
A37: Notes:
A38: ECEC: early childhood education and care.
A39: Centre leader refers to the person in an ECEC centre with the most responsibility for administrative, managerial and/or pedagogical leadership.
A40: Statistically significant differences are in bold. For more information, see Annex C in OECD (2019).
A41: Source: OECD, TALIS Starting Strong 2018 Database.

Sheet Table A.20
A1: Table A.20
A2: Novice staff and dimensions of diversity in early childhood education and care centres
A3: Based on centre staff's and centre leaders' reports
B7: Percentage of novice centre staff1:
B8: All ECEC centres | D8: By share of children from socio-economically disadvantaged homes in ECEC centres2: | J8: By share of children with special education needs in ECEC centres3: | P8: By share of children with a different first language in ECEC centres4: | V8: By share of children who are refugees ECEC centres5:
D9: 10% or less of children from socio-economically disadvantaged homes | F9: More than 10% of children from socio-economically disadvantaged homes | H9: Difference between more than 10% and 10% or less of children from socio-economically disadvantaged homes (more - less) | J9: 10% or less of children with special education needs | L9: More than 10% of children with special education needs | N9: Difference between more than 10% and 10% or less of children with special education needs (more - less) | P9: 10% or less of children whose first language is different | R9: More than 10% of children whose first language is different | T9: Difference between more than 10% and 10% or less of children whose first language is different (more - less) | V9: 10% or less of children who are refugees | X9: More than 10% of children who are refugees | Z9: Difference between more than 10% and 10% or less of children who are refugees (more - less)
B10: % | C10: S.E. | D10: % | E10: S.E. | F10: % | G10: S.E. | H10: % dif. | I10: S.E. | J10: % | K10: S.E. | L10: % | M10: S.E. | N10: % dif. | O10: S.E. | P10: % | Q10: S.E. | R10: % | S10: S.E. | T10: % dif. | U10: S.E. | V10: % | W10: S.E. | X10: % | Y10: S.E. | Z10: % dif. | AA10: S.E.
A11: ISCED 02 centres
A12: Chile | B12: 33.986082 | C12: 1.4088493 | D12: 35.80909 | E12: 2.6194081 | F12: 33.035813 | G12: 1.6960842 | H12: -2.7732776 | I12: 3.1453988 | J12: 34.114727 | K12: 1.8232883 | L12: 33.568169 | M12: 2.2316088 | N12: -0.54655773 | O12: 2.8597477 | P12: 33.12377 | Q12: 1.4157131 | R12: 42.805032 | S12: 7.6713444 | T12: 9.6812621 | U12: 7.9407123 | V12: 33.904837 | W12: 1.428972 | X12: c | Y12: c | Z12: c | AA12: c
A13: Germany* | B13: 33.560527 | C13: 1.3720492 | D13: 30.572934 | E13: 1.5744854 | F13: 29.447954 | G13: 2.393499 | H13: -6.5378583 | I13: 2.7287639 | J13: 34.556035 | K13: 1.4114111 | L13: 26.711817 | M13: 4.9199947 | N13: -7.8442183 | O13: 4.893603 | P13: 33.230184 | Q13: 1.9545954 | R13: 34.070564 | S13: 2.0848069 | T13: 0.84037992 | U13: 2.8994924 | V13: 33.807402 | W13: 1.474499 | X13: 33.832426 | Y13: 4.8630845 | Z13: 0.025024089 | AA13: 5.0320418
A14: Iceland | B14: 36.8927 | C14: 1.4566972 | D14: 30.572934 | E14: 1.6664328 | F14: 31.45778 | G14: 6.9364486 | H14: -5.3931605 | I14: 7.1214166 | J14: 37.444602 | K14: 1.9339359 | L14: 32.102129 | M14: 3.1576203 | N14: -5.3424725 | O14: 3.7080764 | P14: 34.829853 | Q14: 2.4909322 | R14: 37.714708 | S14: 2.44818 | T14: 2.8848558 | U14: 3.6594051 | V14: 36.158101 | W14: 1.6539418 | X14: c | Y14: c | Z14: c | AA14: c
A15: Israel | B15: 40.359758 | C15: 1.2436427 | D15: 30.572934 | E15: 1.268712 | F15: 51.321772 | G15: 3.5803746 | H15: 12.308583 | I15: 3.6654546 | J15: 40.483091 | K15: 1.2267374 | L15: 39.195632 | M15: 4.2632485 | N15: -1.2874598 | O15: 4.2466242 | P15: 41.723814 | Q15: 1.3181483 | R15: 33.332168 | S15: 2.9035258 | T15: -8.3916457 | U15: 3.0458416 | V15: 40.395727 | W15: 1.1719221 | X15: c | Y15: c | Z15: c | AA15: c
A16: Japan | B16: 23.988584 | C16: 1.2085842 | D16: 30.572934 | E16: 1.2792413 | F16: c | G16: c | H16: c | I16: c | J16: 24.232232 | K16: 1.4111613 | L16: 23.753166 | M16: 4.0299878 | N16: -0.47906605 | O16: 4.6699094 | P16: 24.099953 | Q16: 1.2185439 | R16: c | S16: c | T16: c | U16: c | V16: 24.084144 | W16: 1.2337274 | X16: c | Y16: c | Z16: c | AA16: c
A17: Korea | B17: 38.160394 | C17: 2.3803246 | D17: 30.572934 | E17: 2.3659404 | F17: c | G17: c | H17: c | I17: c | J17: 38.62392 | K17: 2.4612769 | L17: c | M17: c | N17: c | O17: c | P17: 38.582456 | Q17: 2.3632765 | R17: c | S17: c | T17: c | U17: c | V17: 38.599667 | W17: 2.4969832 | X17: c | Y17: c | Z17: c | AA17: c
A18: Norway | B18: 20.805151 | C18: 1.8020315 | D18: 30.572934 | E18: 1.9434433 | F18: 23.979076 | G18: 7.9642784 | H18: 3.32936 | I18: 8.3373025 | J18: 21.2021 | K18: 1.9297106 | L18: c | M18: c | N18: c | O18: c | P18: 23.416468 | Q18: 2.6914884 | R18: 18.181395 | S18: 2.3717704 | T18: -5.2350723 | U18: 3.494217 | V18: 20.199516 | W18: 1.9175797 | X18: c | Y18: c | Z18: c | AA18: c
A19: Türkiye | B19: 27.59289 | C19: 1.5654131 | D19: 30.572934 | E19: 2.0504831 | F19: 22.816219 | G19: 3.5582025 | H19: -6.6039886 | I19: 4.517112 | J19: 27.9377 | K19: 1.5948502 | L19: 23.50304 | M19: 8.5763374 | N19: -4.4346605 | O19: 8.7616977 | P19: 29.048258 | Q19: 1.7920371 | R19: 18.556103 | S19: 4.2823399 | T19: -10.492155 | U19: 5.0377957 | V19: 27.782649 | W19: 1.5954132 | X19: c | Y19: c | Z19: c | AA19: c
A20: Denmark** | B20: 29.988756 | C20: 2.8167362 | D20: 31.291974 | E20: 3.1119998 | F20: 24.87167 | G20: 4.1402884 | H20: -6.4203047 | I20: 3.8617239 | J20: 31.416961 | K20: 3.2690261 | L20: 24.949666 | M20: 3.9802682 | N20: -6.4672946 | O20: 4.2763336 | P20: 31.893507 | Q20: 3.4823319 | R20: 26.45867 | S20: 3.7605772 | T20: -5.4348371 | U20: 4.3553995 | V20: 29.70421 | W20: 3.1658075 | X20: c | Y20: c | Z20: c | AA20: c
A22: Centres for children under age 3a
A23: Germany* | B23: 36.903341 | C23: 1.7191393 | D23: 37.26712 | E23: 1.8951881 | F23: 34.025608 | G23: 4.2428642 | H23: -3.2415127 | I23: 4.6041641 | J23: 36.77407 | K23: 1.8671803 | L23: 35.553234 | M23: 5.6932923 | N23: -1.2208362 | O23: 5.98066 | P23: 34.502054 | Q23: 2.0919194 | R23: 39.179299 | S23: 2.9001537 | T23: 4.677245 | U23: 3.5596373 | V23: 36.111316 | W23: 1.8322088 | X23: 39.491169 | Y23: 6.4602521 | Z23: 3.3798534 | AA23: 6.7361706
A24: Israel | B24: 63.58391 | C24: 2.7793338 | D24: 64.19047 | E24: 3.8968432 | F24: 62.737775 | G24: 3.3665582 | H24: -1.4526954 | I24: 5.338856 | J24: 63.842437 | K24: 3.0304663 | L24: c | M24: c | N24: c | O24: c | P24: 63.538003 | Q24: 3.1867772 | R24: 65.258032 | S24: 4.4532107 | T24: 1.7200289 | U24: 5.5591144 | V24: 63.800742 | W24: 2.8872555 | X24: c | Y24: c | Z24: c | AA24: c
A25: Norway | B25: 19.143306 | C25: 1.4277538 | D25: 18.67846 | E25: 1.5806089 | F25: 24.187207 | G25: 3.8596075 | H25: 5.5087467 | I25: 4.147419 | J25: 19.302435 | K25: 1.5469763 | L25: c | M25: c | N25: c | O25: c | P25: 17.05644 | Q25: 1.9163425 | R25: 21.90224 | S25: 2.3164642 | T25: 4.8457991 | U25: 3.018288 | V25: 19.175329 | W25: 1.5192496 | X25: c | Y25: c | Z25: c | AA25: c
A26: Denmark** | B26: 29.594566 | C26: 2.8268709 | D26: 30.572934 | E26: 3.1870667 | F26: c | G26: c | H26: c | I26: c | J26: 30.647847 | K26: 3.2266637 | L26: 23.974929 | M26: 6.1716248 | N26: -6.6729181 | O26: 7.3029501 | P26: 27.130996 | Q26: 3.4405035 | R26: 32.758431 | S26: 4.9658144 | T26: 5.6274352 | U26: 6.739178 | V26: 29.64068 | W26: 2.8834574 | X26: c | Y26: c | Z26: c | AA26: c
A30: a. Data reported for early learning settings with children under age 3 are limited to centre-based settings to ensure comparability with ISCED Level 02. Data from home-based settings are excluded from this table.
A31: * Estimates for sub-groups and estimated differences between sub-groups need to be interpreted with care. For more information, see Annex B in OECD (2019).
A32: ** Low response rates in the survey may result in bias in the estimates reported and limit comparability of the data.
A33: 1. Novice centre staff are those with less than 5 years of experience as an centre staff member.
A34: 2. Socio-economically disadvantage homes refer to children’s homes lacking the basic necessities or advantages of life, such as adequate housing, nutrition or medical care. Based on centre leaders' reports.
A35: 3. Children with special education needs are children for whom a special learning need has been formally identified because they are cognitively, physically or emotionally disadvantaged. Based on centre leaders' reports.
A36: 4. Children with a different first language are children whose first language, as used in their family environment, is different from the language(s) used in their ECEC centre. Based on centre leaders' reports.
A37: 5. Children who, regardless of legal status, have fled to another country in order to seek refuge from war, political oppression, persecution, or a natural disaster, or who were born while their parents were travelling to the destination or shortly after the parents’ arrival. Based on centre leaders' reports.
A38: Notes:
A39: ECEC: early childhood education and care.
A40: Centre staff includes leaders, teachers, assistants or any other unspecified staff groups.
A41: Centre leader refers to the person in an ECEC centre with the most responsibility for administrative, managerial and/or pedagogical leadership.
... A43: Source: OECD, TALIS Starting Strong 2018 Database.

Sheet Table A.21
A1: Table A.21
A2: Novice centre leaders and staff and accumulation of dimensions of diversity in early childhood education and care centres
A3: Based on centre leaders' reports and centre staff
B7: Percentage of novice centre leaders1: | N7: Percentage of novice centre staff2,3:
B8: By number of dimensions of diversity that apply to more than 10% of children in ECEC centres3,4: | N8: By number of dimensions of diversity that apply to more than 10% of children in ECEC centres:
B9: NONE of dimensions of diversity apply | D9: ONE of dimensions of diversity apply | F9: TWO OR MORE of dimensions of diversity apply | H9: Difference between ECEC centres where ONE and NONE of dimensions of diversity apply (one - none) | J9: Difference between ECEC centres where TWO OR MORE and NONE of dimensions of diversity apply (two - none) | L9: Difference between ECEC centres where TWO OR MORE and ONE of dimensions of diversity apply (two or more - one) | N9: NONE of dimensions of diversity apply | P9: ONE of dimensions of diversity apply | R9: TWO OR MORE of dimensions of diversity apply | T9: Difference between ECEC centres where ONE and NONE of dimensions of diversity apply (one - none) | V9: Difference between ECEC centres where TWO OR MORE and NONE of dimensions of diversity apply (two - none) | X9: Difference between ECEC centres where TWO OR MORE and ONE of dimensions of diversity apply (two or more - one)
B10: % | C10: S.E. | D10: % | E10: S.E. | F10: % | G10: S.E. | H10: % dif. | I10: S.E. | J10: % dif. | K10: S.E. | L10: % dif. | M10: S.E. | N10: % | O10: S.E. | P10: % | Q10: S.E. | R10: % | S10: S.E. | T10: % dif. | U10: S.E. | V10: % dif. | W10: S.E. | X10: % dif. | Y10: S.E.
A11: ISCED 02 centres
A12: Chile | B12: 36.532963 | C12: 6.637378 | D12: 28.770045 | E12: 5.1339513 | F12: 27.826899 | G12: 5.2398258 | H12: -7.7629183 | I12: 8.9327764 | J12: -8.7060644 | K12: 8.1596181 | L12: -0.9431461 | M12: 7.4524161 | N12: 37.54666 | O12: 2.6404108 | P12: 29.369602 | Q12: 2.1741504 | R12: 35.250256 | S12: 2.3331179 | T12: -8.1770582 | U12: 3.2115573 | V12: -2.296404 | W12: 3.5696595 | X12: 5.8806542 | Y12: 3.2563232
A13: Germany* | B13: 28.299882 | C13: 4.6241081 | D13: 33.032516 | E13: 5.0858557 | F13: 24.006573 | G13: 6.3208334 | H13: 4.7326343 | I13: 6.5599876 | J13: -4.2933089 | K13: 8.2006284 | L13: -9.0259432 | M13: 7.9542472 | N13: 35.382061 | O13: 1.9285103 | P13: 33.654658 | Q13: 2.7283619 | R13: 31.731263 | S13: 2.6398424 | T13: -1.7274036 | U13: 3.5502275 | V13: -3.6507981 | W13: 3.0257377 | X13: -1.9233945 | Y13: 3.7492163
A14: Iceland | B14: 33.457065 | C14: 5.9428256 | D14: 22.439961 | E14: 5.2460821 | F14: 37.913052 | G14: 8.0167851 | H14: -11.017104 | I14: 8.1085829 | J14: 4.4559872 | K14: 10.522349 | L14: 15.473091 | M14: 9.8415823 | N14: 36.083548 | O14: 2.7264656 | P14: 37.971509 | Q14: 2.7932525 | R14: 33.057535 | S14: 3.7890901 | T14: 1.8879616 | U14: 4.0165416 | V14: -3.0260127 | W14: 4.6410301 | X14: -4.9139743 | Y14: 4.9032285
A15: Israel | B15: 28.394127 | C15: 2.601501 | D15: 30.717052 | E15: 5.0227226 | F15: 15.135014 | G15: 6.4049093 | H15: 2.3229245 | I15: 5.7193644 | J15: -13.259114 | K15: 7.0946439 | L15: -15.582038 | M15: 9.1145342 | N15: 40.31731 | O15: 1.4839224 | P15: 39.66875 | Q15: 2.648483 | R15: 42.271997 | S15: 4.9765764 | T15: -0.64856018 | U15: 3.373338 | V15: 1.9546872 | W15: 4.7641678 | X15: 2.6032474 | Y15: 5.6643406
A16: Japan | B16: 38.666866 | C16: 6.2414915 | D16: 55.177856 | E16: 8.7282848 | F16: 81.214128 | G16: 23.176344 | H16: 16.51099 | I16: 11.143419 | J16: 42.547262 | K16: 23.237664 | L16: 26.036273 | M16: 25.629255 | N16: 24.182336 | O16: 1.4403467 | P16: 22.836628 | Q16: 3.5606939 | R16: c | S16: c | T16: -1.3457086 | U16: 4.105895 | V16: c | W16: c | X16: c | Y16: c
A17: Korea | B17: 28.229835 | C17: 4.7756992 | D17: 45.998337 | E17: 19.506813 | F17: c | G17: c | H17: 17.768502 | I17: 21.686439 | J17: c | K17: c | L17: c | M17: c | N17: 39.471727 | O17: 2.3800637 | P17: 26.038199 | Q17: 11.257752 | R17: c | S17: c | T17: -13.433528 | U17: 11.363188 | V17: c | W17: c | X17: c | Y17: c
A18: Norway | B18: 16.489117 | C18: 4.6815401 | D18: 15.965033 | E18: 5.2783255 | F18: 30.851862 | G18: 14.318018 | H18: -0.52408427 | I18: 7.4692909 | J18: 14.362745 | K18: 15.010953 | L18: 14.886829 | M18: 14.981503 | N18: 23.097231 | O18: 2.6140657 | P18: 15.573069 | Q18: 2.7288496 | R18: 25.511129 | S18: 4.5677665 | T18: -7.5241614 | U18: 3.5597753 | V18: 2.4138983 | W18: 5.297418 | X18: 9.9380596 | Y18: 5.7274899
A19: Türkiye | B19: 56.314514 | C19: 3.6548413 | D19: 68.624871 | E19: 7.0481076 | F19: 75.244321 | G19: 11.501694 | H19: 12.310357 | I19: 8.4570079 | J19: 18.929806 | K19: 11.877597 | L19: 6.6194495 | M19: 13.894655 | N19: 30.218253 | O19: 2.2552426 | P19: 22.882137 | Q19: 3.9272256 | R19: 21.374852 | S19: 4.6316566 | T19: -7.3361162 | U19: 5.0152209 | V19: -8.8434014 | W19: 5.4880318 | X19: -1.5072852 | Y19: 5.9303812
A20: Denmark** | B20: 25.934125 | C20: 6.342483 | D20: 34.32762 | E20: 11.929796 | F20: 26.990764 | G20: 10.505495 | H20: 8.3934953 | I20: 14.800931 | J20: 1.0566387 | K20: 12.732222 | L20: -7.3368566 | M20: 15.784786 | N20: 32.368254 | O20: 3.6448188 | P20: 29.503411 | Q20: 5.0966762 | R20: 24.222614 | S20: 3.8520928 | T20: -2.8648431 | U20: 6.1373978 | V20: -8.1456402 | W20: 4.0352902 | X20: -5.2807971 | Y20: 5.9766398
A22: Centres for children under age 3a
A23: Germany* | B23: 31.643105 | C23: 4.1006689 | D23: 38.298244 | E23: 6.6847935 | F23: 28.271628 | G23: 5.9356442 | H23: 6.6551391 | I23: 7.6613223 | J23: -3.371477 | K23: 7.0384497 | L23: -10.026616 | M23: 9.2765239 | N23: 35.117997 | O23: 2.2806277 | P23: 40.201189 | Q23: 4.1571344 | R23: 35.907543 | S23: 3.4796194 | T23: 5.0831916 | U23: 4.9189849 | V23: 0.78954582 | W23: 4.0796435 | X23: -4.2936458 | Y23: 5.3825643
A24: Israel | B24: 43.70492 | C24: 6.3226355 | D24: 33.970449 | E24: 10.1093 | F24: 38.749452 | G24: 18.369678 | H24: -9.7344716 | I24: 11.534943 | J24: -4.9554682 | K24: 19.266696 | L24: 4.7790034 | M24: 20.692387 | N24: 64.410991 | O24: 4.0151097 | P24: 62.056403 | Q24: 3.5131729 | R24: 62.956201 | S24: 6.3566518 | T24: -2.354588 | U24: 5.5527223 | V24: -1.4547901 | W24: 7.659629 | X24: 0.89979798 | Y24: 7.1818472
A25: Norway | B25: 0.7382789 | C25: 0.73981993 | D25: 8.3007449 | E25: 3.9032613 | F25: 13.888824 | G25: 7.368597 | H25: 7.562466 | I25: 3.9488461 | J25: 13.150545 | K25: 7.4041004 | L25: 5.5880795 | M25: 8.3108227 | N25: 17.63776 | O25: 2.0706307 | P25: 19.642474 | Q25: 2.5019132 | R25: 25.202628 | S25: 3.5955791 | T25: 2.0047148 | U25: 3.2898964 | V25: 7.5648689 | W25: 4.1312357 | X25: 5.5601541 | Y25: 4.2616608
A26: Denmark** | B26: 28.115331 | C26: 8.2699989 | D26: 9.1864268 | E26: 8.8780305 | F26: 11.310997 | G26: 11.404638 | H26: -18.928904 | I26: 12.376759 | J26: -16.804334 | K26: 14.844127 | L26: 2.1245705 | M26: 14.271263 | N26: 28.509613 | O26: 3.7264578 | P26: 32.034178 | Q26: 7.4499957 | R26: 27.975431 | S26: 5.1997429 | T26: 3.5245643 | U26: 8.6148548 | V26: -0.53418292 | W26: 6.973106 | X26: -4.0587472 | Y26: 9.0892068
A30: a. Data reported for early learning settings with children under age 3 are limited to centre-based settings to ensure comparability with ISCED Level 02. Data from home-based settings are excluded from this table.
A31: * Estimates for sub-groups and estimated differences between sub-groups need to be interpreted with care. For more information, see Annex B in OECD (2019).
A32: ** Low response rates in the survey may result in bias in the estimates reported and limit comparability of the data.
A33: 1. Novice centre leaders are those with less than 5 years of experience as an ECEC centre leader.
A34: 2. Novice centre staff are those with less than 5 years of experience as an centre staff member.
A35: 3. Dimensions of diversity refers to children from socio-economically disadvantaged homes, children with special education needs, children with a different first language, and children who are refugees. Full definitions are the following:
A36: Socio-economically disadvantage homes refer to children’s homes lacking the basic necessities or advantages of life, such as adequate housing, nutrition or medical care. Based on centre leaders' reports.
A37: Children with special education needs are children for whom a special learning need has been formally identified because they are cognitively, physically or emotionally disadvantaged. Based on centre leaders' reports.
A38: Children with a different first language are children whose first language, as used in their family environment, is different from the language(s) used in their ECEC centre. Based on centre leaders' reports.
A39: Children who, regardless of legal status, have fled to another country in order to seek refuge from war, political oppression, persecution, or a natural disaster, or who were born while their parents were travelling to the destination or shortly after the parents’ arrival. Based on centre leaders' reports.
A40: 4. Several dimensions of diversity accumulate within an ECEC centre when each of these dimensions, considered separately, applies to more than 10% of the children in the centre. This may occur because multiple forms of diversity apply to the same individual children, or because different forms of diversity apply to different groups of children within the centre.
A41: Notes:
... A46: Source: OECD, TALIS Starting Strong 2018 Database.

Sheet Table A.22
A1: Table A.22
A2: Staff pre-service training on addressing diversity and dimensions of diversity in early childhood education and care centres
A3: Based on centre staff's and centre leaders' reports
B6: Percentage of centre staff reporting that the following were included in their initial preparation to work with young children:
B7: Working with children from diverse backgrounds (e.g. multicultural, economically disadvantaged, religious) | J7: Working with children with special education needs | R7: Working with children whose first language is different from the language(s) used in the centre
B8: All ECEC centres | D8: By share of children from socio-economically disadvantaged homes in ECEC centres1: | J8: All ECEC centres | L8: By share of children with special education needs in ECEC centres2: | R8: All ECEC centres | T8: By share of children with a different first language in ECEC centres3:
D9: 10% or less of children from socio-economically disadvantaged homes | F9: More than 10% of children from socio-economically disadvantaged homes | H9: Difference between more than 10% and 10% or less of children from socio-economically disadvantaged homes (more - less) | L9: 10% or less of children with special education needs | N9: More than 10% of children with special education needs | P9: Difference between more than 10% and 10% or less of children with special education needs (more - less) | T9: 10% or less of children whose first language is different | V9: More than 10% of children whose first language is different | X9: Difference between more than 10% and 10% or less of children whose first language is different (more - less)
B10: % | C10: S.E. | D10: % | E10: S.E. | F10: % | G10: S.E. | H10: % dif. | I10: S.E. | J10: % | K10: S.E. | L10: % | M10: S.E. | N10: % | O10: S.E. | P10: % dif. | Q10: S.E. | R10: % | S10: S.E. | T10: % | U10: S.E. | V10: % | W10: S.E. | X10: % dif. | Y10: S.E.
A11: ISCED 02 centres
A12: Chile | B12: 58.965859 | C12: 1.8126741 | D12: 53.610717 | E12: 2.8832101 | F12: 61.767803 | G12: 2.1472125 | H12: 8.1570869 | I12: 3.477689 | J12: 56.216939 | K12: 2.0380107 | L12: 53.959627 | M12: 2.6410402 | N12: 58.977079 | O12: 3.5258725 | P12: 5.017452 | Q12: 4.5629672 | R12: 18.678972 | S12: 1.4700768 | T12: 18.5293 | U12: 1.4766948 | V12: 21.469744 | W12: 9.2379837 | X12: 2.9404434 | Y12: 9.4190273
A13: Germany* | B13: 64.393938 | C13: 1.5302157 | D13: 66.078932 | E13: 1.9405793 | F13: 64.068491 | G13: 2.4691407 | H13: -2.0104414 | I13: 3.1464572 | J13: 49.785424 | K13: 1.8505276 | L13: 49.014695 | M13: 2.1026767 | N13: 59.654199 | O13: 6.415697 | P13: 10.639503 | Q13: 7.021567 | R13: 44.799197 | S13: 1.7736322 | T13: 43.782517 | U13: 2.2369584 | V13: 47.65327 | W13: 2.6867529 | X13: 3.8707532 | Y13: 3.3722446
A14: Iceland | B14: 64.734046 | C14: 1.9968685 | D14: 64.33217 | E14: 2.208026 | F14: 58.437567 | G14: 8.6604698 | H14: -5.8946036 | I14: 8.7252705 | J14: 71.11424 | K14: 1.9981627 | L14: 69.744785 | M14: 2.4456626 | N14: 73.921862 | O14: 3.9849507 | P14: 4.1770774 | Q14: 4.5110692 | R14: 52.126571 | S14: 2.1393923 | T14: 53.560692 | U14: 2.8874261 | V14: 50.96942 | W14: 3.4148533 | X14: -2.5912719 | Y14: 4.1753186
A15: Israel | B15: 49.183688 | C15: 1.5115163 | D15: 47.405145 | E15: 1.7006899 | F15: 60.5064 | G15: 4.005227 | H15: 13.101255 | I15: 4.3107582 | J15: 56.327763 | K15: 1.3302862 | L15: 55.928156 | M15: 1.4678996 | N15: 60.469891 | O15: 4.5759144 | P15: 4.5417356 | Q15: 4.951542 | R15: 24.325325 | S15: 1.4727505 | T15: 22.009144 | U15: 1.5442607 | V15: 36.475069 | W15: 4.0121263 | X15: 14.465925 | Y15: 4.2395762
A16: Japan | B16: 62.127858 | C16: 2.0625017 | D16: 62.34303 | E16: 2.1378998 | F16: c | G16: c | H16: c | I16: c | J16: 86.061608 | K16: 1.1098945 | L16: 86.115525 | M16: 1.1855681 | N16: 86.551755 | O16: 3.3418635 | P16: 0.43622943 | Q16: 3.4944947 | R16: c | S16: c | T16: c | U16: c | V16: c | W16: c | X16: c | Y16: c
A17: Korea | B17: 68.398755 | C17: 2.1333814 | D17: 68.733597 | E17: 2.1804532 | F17: c | G17: c | H17: c | I17: c | J17: 74.973102 | K17: 1.7934562 | L17: 75.92642 | M17: 1.8509619 | N17: c | O17: c | P17: c | Q17: c | R17: 37.052184 | S17: 2.3419771 | T17: 36.942169 | U17: 2.3413954 | V17: c | W17: c | X17: c | Y17: c
A18: Norway | B18: 74.392284 | C18: 2.2450832 | D18: 73.823597 | E18: 2.4230381 | F18: 76.121351 | G18: 7.3874614 | H18: 2.2977543 | I18: 7.749992 | J18: 69.226615 | K18: 2.6175658 | L18: 68.804508 | M18: 2.7349224 | N18: c | O18: c | P18: c | Q18: c | R18: 63.750149 | S18: 2.357835 | T18: 60.824928 | U18: 3.0116254 | V18: 68.085253 | W18: 3.7360093 | X18: 7.2603247 | Y18: 4.805852
A19: Türkiye | B19: 74.800154 | C19: 1.8251058 | D19: 76.969318 | E19: 2.1544909 | F19: 69.149526 | G19: 4.0628576 | H19: -7.8197923 | I19: 4.7584839 | J19: 85.885217 | K19: 1.6243806 | L19: 86.060796 | M19: 1.6684751 | N19: 79.50451 | O19: 10.022858 | P19: -6.5562861 | Q19: 10.275585 | R19: c | S19: c | T19: c | U19: c | V19: c | W19: c | X19: c | Y19: c
A20: Denmark** | B20: 67.610428 | C20: 2.0744325 | D20: 66.253808 | E20: 2.7168231 | F20: 73.769691 | G20: 4.1337988 | H20: 7.5158831 | I20: 4.9021264 | J20: 78.499569 | K20: 2.1433745 | L20: 80.359973 | M20: 3.0986003 | N20: 75.541758 | O20: 3.2967632 | P20: -4.8182153 | Q20: 4.5630454 | R20: 54.846329 | S20: 2.8855621 | T20: 48.662585 | U20: 3.6593156 | V20: 62.640231 | W20: 4.0766368 | X20: 13.977646 | Y20: 5.0372432
A22: Centres for children under age 3a
A23: Germany* | B23: 61.720589 | C23: 1.6371605 | D23: 63.360375 | E23: 2.0063411 | F23: 58.613197 | G23: 3.7281153 | H23: -4.7471783 | I23: 4.4721061 | J23: 45.878739 | K23: 1.8704839 | L23: 46.647477 | M23: 2.0031055 | N23: 40.985516 | O23: 5.9370861 | P23: -5.6619604 | Q23: 6.2674309 | R23: 43.270709 | S23: 1.5641766 | T23: 38.923172 | U23: 2.4766502 | V23: 48.150347 | W23: 2.6856304 | X23: 9.2271757 | Y23: 3.8888422
A24: Israel | B24: 45.269128 | C24: 2.4313866 | D24: 42.660051 | E24: 3.0825726 | F24: 50.916831 | G24: 5.3558764 | H24: 8.2567795 | I24: 6.3609342 | J24: 28.414086 | K24: 2.3836952 | L24: 28.505533 | M24: 2.4923891 | N24: c | O24: c | P24: c | Q24: c | R24: 25.902607 | S24: 1.9170496 | T24: 24.18179 | U24: 2.0213434 | V24: 39.695936 | W24: 7.8077505 | X24: 15.514146 | Y24: 7.93382
A25: Norway | B25: 69.392845 | C25: 2.358877 | D25: 69.325896 | E25: 2.7692575 | F25: 72.712193 | G25: 5.1670906 | H25: 3.386297 | I25: 6.0670602 | J25: 60.11089 | K25: 2.0796229 | L25: 59.908885 | M25: 2.174233 | N25: c | O25: c | P25: c | Q25: c | R25: 60.683177 | S25: 2.2009249 | T25: 59.42676 | U25: 3.5155991 | V25: 63.444142 | W25: 2.8391583 | X25: 4.0173813 | Y25: 4.6305743
A26: Denmark** | B26: 64.020547 | C26: 3.7033091 | D26: 63.543267 | E26: 4.0463704 | F26: c | G26: c | H26: c | I26: c | J26: 75.315755 | K26: 3.7790576 | L26: 69.30469 | M26: 3.7735424 | N26: 95.984266 | O26: 2.7486031 | P26: 26.679576 | Q26: 4.7404835 | R26: 55.334623 | S26: 3.3753837 | T26: 47.21702 | U26: 4.7346419 | V26: 70.948568 | W26: 2.6090063 | X26: 23.731548 | Y26: 5.4027453
A30: a. Data reported for early learning settings with children under age 3 are limited to centre-based settings to ensure comparability with ISCED Level 02. Data from home-based settings are excluded from this table.
A31: * Estimates for sub-groups and estimated differences between sub-groups need to be interpreted with care. For more information, see Annex B in OECD (2019).
A32: ** Low response rates in the survey may result in bias in the estimates reported and limit comparability of the data.
A33: 1. Socio-economically disadvantage homes refer to children’s homes lacking the basic necessities or advantages of life, such as adequate housing, nutrition or medical care. Based on centre leaders' reports.
A34: 2. Children with special education needs are children for whom a special learning need has been formally identified because they are cognitively, physically or emotionally disadvantaged. Based on centre leaders' reports.
A35: 3. Children with a different first language are children whose first language, as used in their family environment, is different from the language(s) used in their ECEC centre. Based on centre leaders' reports.
A36: Notes:
A37: ECEC: early childhood education and care.
A38: Centre staff includes leaders, teachers, assistants or any other unspecified staff groups.
A39: Centre leader refers to the person in an ECEC centre with the most responsibility for administrative, managerial and/or pedagogical leadership.
A40: Statistically significant differences are in bold. For more information, see Annex C in OECD (2019).
A41: Source: OECD, TALIS Starting Strong 2018 Database.

Sheet Table A.23
A1: Table A.23
A2: Staff in-service training on addressing diversity and dimensions of diversity in early childhood education and care centres
A3: Based on centre staff's and centre leaders' reports
B6: Percentage of centre staff reporting that the following were included in their in-service training activities in the past 12 months:
B7: Working with children from diverse backgrounds (e.g. multicultural, economically disadvantaged, religious) | J7: Working with children with special education needs | R7: Working with children whose first language is different from the language(s) used in the centre
B8: All ECEC centres | D8: By share of children from socio-economically disadvantaged homes in ECEC centres1: | J8: All ECEC centres | L8: By share of children with special education needs in ECEC centres2: | R8: All ECEC centres | T8: By share of children with a different first language in ECEC centres3:
D9: 10% or less of children from socio-economically disadvantaged homes | F9: More than 10% of children from socio-economically disadvantaged homes | H9: Difference between more than 10% and 10% or less of children from socio-economically disadvantaged homes (more - less) | L9: 10% or less of children with special education needs | N9: More than 10% of children with special education needs | P9: Difference between more than 10% and 10% or less of children with special education needs (more - less) | T9: 10% or less of children whose first language is different | V9: More than 10% of children whose first language is different | X9: Difference between more than 10% and 10% or less of children whose first language is different (more - less)
B10: % | C10: S.E. | D10: % | E10: S.E. | F10: % | G10: S.E. | H10: % dif. | I10: S.E. | J10: % | K10: S.E. | L10: % | M10: S.E. | N10: % | O10: S.E. | P10: % dif. | Q10: S.E. | R10: % | S10: S.E. | T10: % | U10: S.E. | V10: % | W10: S.E. | X10: % dif. | Y10: S.E.
A11: ISCED 02 centres
A12: Chile | B12: 49.044572 | C12: 1.8138911 | D12: 44.903035 | E12: 3.2615965 | F12: 50.999243 | G12: 2.2152869 | H12: 6.096208 | I12: 4.0395188 | J12: 56.383107 | K12: 1.8251685 | L12: 48.913728 | M12: 2.694753 | N12: 66.02302 | O12: 2.3763346 | P12: 17.109291 | Q12: 3.8888547 | R12: 21.904608 | S12: 1.4144661 | T12: 21.134459 | U12: 1.4000034 | V12: 32.803924 | W12: 5.876935 | X12: 11.669465 | Y12: 5.7598267
A13: Germany* | B13: 25.458372 | C13: 1.9010306 | D13: 21.831751 | E13: 1.8953946 | F13: 33.476612 | G13: 3.9749441 | H13: 11.644861 | I13: 4.5566327 | J13: 16.688451 | K13: 1.3918097 | L13: 15.722692 | M13: 1.3540721 | N13: 23.354464 | O13: 5.5607832 | P13: 7.6317718 | Q13: 5.506393 | R13: 24.174367 | S13: 1.632382 | T13: 16.826913 | U13: 1.8747334 | V13: 30.437335 | W13: 2.5319395 | X13: 13.610422 | Y13: 3.1483462
A14: Iceland | B14: 30.062467 | C14: 1.6721789 | D14: 30.317594 | E14: 2.0643277 | F14: 33.975248 | G14: 6.9868418 | H14: 3.6576548 | I14: 7.4105678 | J14: 37.909498 | K14: 1.6445584 | L14: 37.342628 | M14: 2.1204825 | N14: 42.74894 | O14: 3.9407213 | P14: 5.4063118 | Q14: 4.3814499 | R14: 34.98478 | S14: 1.7088117 | T14: 27.794097 | U14: 2.2533071 | V14: 42.80449 | W14: 2.5457555 | X14: 15.010393 | Y14: 3.0667339
A15: Israel | B15: 31.869193 | C15: 1.4062929 | D15: 29.914902 | E15: 1.6700296 | F15: 46.286812 | G15: 3.8170964 | H15: 16.37191 | I15: 4.3589247 | J15: 38.311947 | K15: 1.4597791 | L15: 36.854221 | M15: 1.6410008 | N15: 52.196859 | O15: 5.6254725 | P15: 15.342638 | Q15: 6.0892186 | R15: 19.238247 | S15: 1.217981 | T15: 16.727466 | U15: 1.358195 | V15: 32.741157 | W15: 3.5941331 | X15: 16.013691 | Y15: 3.9293627
A16: Japan | B16: 32.467072 | C16: 2.2181673 | D16: 32.732152 | E16: 2.2672197 | F16: c | G16: c | H16: c | I16: c | J16: 74.447694 | K16: 1.7762509 | L16: 74.786068 | M16: 1.7718667 | N16: 77.826408 | O16: 4.7080984 | P16: 3.0403398 | Q16: 4.988771 | R16: 5.8849371 | S16: 1.044034 | T16: 5.9223671 | U16: 1.0529411 | V16: c | W16: c | X16: c | Y16: c
A17: Korea | B17: 45.807573 | C17: 2.3704198 | D17: 45.511834 | E17: 2.2816596 | F17: c | G17: c | H17: c | I17: c | J17: 45.011969 | K17: 1.9976798 | L17: 45.831267 | M17: 2.0520154 | N17: c | O17: c | P17: c | Q17: c | R17: 23.846187 | S17: 1.6727267 | T17: 23.798276 | U17: 1.7074827 | V17: c | W17: c | X17: c | Y17: c
A18: Norway | B18: 35.372778 | C18: 2.1374778 | D18: 35.199449 | E18: 2.2704843 | F18: 37.375158 | G18: 6.6151051 | H18: 2.175709 | I18: 6.651277 | J18: 35.609205 | K18: 2.2073455 | L18: 35.447777 | M18: 2.3485804 | N18: c | O18: c | P18: c | Q18: c | R18: 34.478216 | S18: 2.188753 | T18: 24.44168 | U18: 2.5864686 | V18: 47.422685 | W18: 3.4365263 | X18: 22.981006 | Y18: 4.1989645
A19: Türkiye | B19: 26.029664 | C19: 2.230394 | D19: 26.449605 | E19: 2.7742526 | F19: 24.228085 | G19: 3.932453 | H19: -2.2215209 | I19: 4.9640381 | J19: 35.316338 | K19: 2.1801947 | L19: 35.686061 | M19: 2.2941445 | N19: 24.664264 | O19: 12.796479 | P19: -11.021797 | Q19: 13.35562 | R19: c | S19: c | T19: c | U19: c | V19: c | W19: c | X19: c | Y19: c
A20: Denmark** | B20: 26.731506 | C20: 3.1125893 | D20: 25.430024 | E20: 3.2173959 | F20: 40.576226 | G20: 7.4958782 | H20: 15.146202 | I20: 8.2509304 | J20: 45.231896 | K20: 3.1047294 | L20: 46.688451 | M20: 4.1162326 | N20: 49.911959 | O20: 6.914729 | P20: 3.2235079 | Q20: 8.8181717 | R20: 31.986544 | S20: 3.0747341 | T20: 27.391669 | U20: 3.310111 | V20: 45.495793 | W20: 5.6886595 | X20: 18.104124 | Y20: 7.1385002
A22: Centres for children under age 3a
A23: Germany* | B23: 24.256595 | C23: 1.7563314 | D23: 22.427707 | E23: 2.0760274 | F23: 31.295205 | G23: 4.3503065 | H23: 8.8674984 | I23: 4.9206893 | J23: 19.741298 | K23: 1.8293788 | L23: 18.36763 | M23: 1.9779592 | N23: 34.501244 | O23: 7.3475101 | P23: 16.133614 | Q23: 7.7335631 | R23: 24.877525 | S23: 1.9725675 | T23: 15.587808 | U23: 1.7940405 | V23: 35.919321 | W23: 3.6041006 | X23: 20.331513 | Y23: 3.957692
A24: Israel | B24: 31.06473 | C24: 2.1307715 | D24: 27.704084 | E24: 2.8646435 | F24: 37.307607 | G24: 4.9212586 | H24: 9.6035229 | I24: 6.2962791 | J24: 20.571505 | K24: 1.9485722 | L24: 20.250077 | M24: 2.0861749 | N24: c | O24: c | P24: c | Q24: c | R24: 20.582047 | S24: 1.9478219 | T24: 18.897673 | U24: 2.1198614 | V24: 36.193595 | W24: 6.2541561 | X24: 17.295922 | Y24: 6.5288034
A25: Norway | B25: 33.324196 | C25: 1.9708579 | D25: 33.325345 | E25: 2.0036318 | F25: 37.036445 | G25: 6.8328897 | H25: 3.7110996 | I25: 7.2486825 | J25: 30.426722 | K25: 2.2797989 | L25: 29.099323 | M25: 2.4199581 | N25: c | O25: c | P25: c | Q25: c | R25: 34.661582 | S25: 2.0919674 | T25: 24.842485 | U25: 2.1848549 | V25: 46.982315 | W25: 3.6923557 | X25: 22.139831 | Y25: 4.2224073
