Workbook

Sheet TOC
A1: TOC | B1: Levelling the playing field in early childhood education and care: Results from TALIS Starting Strong 2018
A3: Annex A | B3: List of tables
A5: An overview of children's diversity in early childhood education and care centres
A6: ='Table A.1'!A1 -> Table A.1 | B6: ='Table A.1'!$A$2 -> Children from socio-economically disadvantaged homes in early childhood education and care centres
A7: ='Table A.2'!A1 -> Table A.2 | B7: ='Table A.2'!$A$2 -> Children with special education needs in early childhood education and care centres
A8: ='Table A.3'!A1 -> Table A.3 | B8: ='Table A.3'!$A$2 -> Children with a different first language in early childhood education and care centres
A9: ='Table A.4'!A1 -> Table A.4 | B9: ='Table A.4'!$A$2 -> Refugee children in early childhood education and care centres
A10: ='Table A.5'!A1 -> Table A.5 | B10: ='Table A.5'!$A$2 -> Accumulation of dimensions of diversity in early childhood education and care centres (>10% threshold)
A11: ='Table A.6'!A1 -> Table A.6 | B11: ='Table A.6'!$A$2 -> Accumulation of dimensions of diversity in early childhood education and care centres (>30% threshold)
A12: ='Table A.7'!A1 -> Table A.7 | B12: ='Table A.7'!$A$2 -> Dimensions of diversity and centre location in early childhood education and care centres
A13: ='Table A.8'!A1 -> Table A.8 | B13: ='Table A.8'!$A$2 -> Accumulation of dimensions of diversity and centre location in early childhood education and care centres
A14: ='Table A.9'!A1 -> Table A.9 | B14: ='Table A.9'!$A$2 -> Dimensions of diversity and centre type of management in early childhood education and care centres
A15: ='Table A.10'!A1 -> Table A.10 | B15: ='Table A.10'!$A$2 -> Accumulation of dimensions of diversity and centre type of management in early childhood education and care centres
A16: Structural factors that support high-quality early childhood education and care for all
A17: ='Table A.11'!A1 -> Table A.11 | B17: ='Table A.11'!$A$2 -> Shortages of material resources and dimensions of diversity in early childhood education and care centres
A18: ='Table A.12'!A1 -> Table A.12 | B18: ='Table A.12'!$A$2 -> Shortages of human resources and dimensions of diversity in early childhood education and care centres
A19: ='Table A.13'!A1 -> Table A.13 | B19: ='Table A.13'!$A$2 -> Shortage of material and human resources and accumulation of dimensions of diversity in early childhood education and care centres
A20: ='Table A.14'!A1 -> Table A.14 | B20: ='Table A.14'!$A$2 -> Staff sources of stress and dimensions of diversity in early childhood education and care centres
A21: ='Table A.15'!A1 -> Table A.15 | B21: ='Table A.15'!$A$2 -> Staff sources of stress and accumulation of dimensions of diversity in early childhood education and care centres
A22: ='Table A.16'!A1 -> Table A.16 | B22: ='Table A.16'!$A$2 -> Number of staff per ten children and dimensions of diversity in early childhood education and care centres
A23: ='Table A.17'!A1 -> Table A.17 | B23: ='Table A.17'!$A$2 -> Specialised staff and dimensions of diversity in early childhood education and care centres
A24: ='Table A.18'!A1 -> Table A.18 | B24: ='Table A.18'!$A$2 -> Specialised staff and accumulation of dimensions of diversity in early childhood education and care centres
A25: ='Table A.19'!A1 -> Table A.19 | B25: ='Table A.19'!$A$2 -> Novice centre leaders and dimensions of diversity in early childhood education and care centres
A26: ='Table A.20'!A1 -> Table A.20 | B26: ='Table A.20'!$A$2 -> Novice staff and dimensions of diversity in early childhood education and care centres
A27: ='Table A.21'!A1 -> Table A.21 | B27: ='Table A.21'!$A$2 -> Novice centre leaders and staff and accumulation of dimensions of diversity in early childhood education and care centres
A28: ='Table A.22'!A1 -> Table A.22 | B28: ='Table A.22'!$A$2 -> Staff pre-service training on addressing diversity and dimensions of diversity in early childhood education and care centres
A29: ='Table A.23'!A1 -> Table A.23 | B29: ='Table A.23'!$A$2 -> Staff in-service training on addressing diversity and dimensions of diversity in early childhood education and care centres
A30: ='Table A.24'!A1 -> Table A.24 | B30: ='Table A.24'!$A$2 -> Staff cumulative (pre-service plus in-service) training on addressing diversity and dimensions of diversity in early childhood education and care centres
A31: ='Table A.25'!A1 -> Table A.25 | B31: ='Table A.25'!$A$2 -> Staff cumulative (pre-service plus in-service) training on addressing diversity and accumulation of dimensions of diversity in early childhood education and care centres
A32: Attitudes and practices to promote equity and inclusion and the diversity of early childhood education and care centres
A33: ='Table A.26'!$A$1 -> Table A.26 | B33: ='Table A.26'!$A$2 -> Staff responsiveness to children's cultural differences and dimensions of diversity in early childhood education and care centres
A34: ='Table A.27'!$A$1 -> Table A.27 | B34: ='Table A.27'!$A$2 -> Staff responsiveness to children's cultural differences and accumulation of dimensions of diversity in early childhood education and care centres
A35: ='Table A.28'!$A$1 -> Table A.28 | B35: ='Table A.28'!$A$2 -> Staff sense of self-efficacy for working with diverse children and dimensions of diversity in early childhood education and care centres
A36: ='Table A.29'!$A$1 -> Table A.29 | B36: ='Table A.29'!$A$2 -> Staff adaptive pedagogical practices and dimensions of diversity in early childhood education and care centres
A37: ='Table A.30'!$A$1 -> Table A.30 | B37: ='Table A.30'!$A$2 -> Staff adaptive practices and accumulation of dimensions of diversity in early childhood education and care centres
A38: ='Table A.31'!$A$1 -> Table A.31 | B38: ='Table A.31'!$A$2 -> Staff facilitation of children's literacy development and dimensions of diversity in early childhood education and care centres
A39: ='Table A.32'!A1 -> Table A.32 | B39: ='Table A.32'!$A$2 -> Staff facilitation of children's literacy development and accumulation of dimensions of diversity in early childhood education and care centres
A40: ='Table A.33'!A1 -> Table A.33 | B40: ='Table A.33'!$A$2 -> Staff facilitation of children's numeracy development and dimensions of diversity in early childhood education and care centres
A41: ='Table A.34'!A1 -> Table A.34 | B41: ='Table A.34'!$A$2 -> Staff facilitation of children's numeracy development and accumulation of dimensions of diversity in early childhood education and care centres
A42: ='Table A.35'!A1 -> Table A.35 | B42: ='Table A.35'!$A$2 -> Staff facilitation of children's emotional development and dimensions of diversity in early childhood education and care centres
...

Sheet Table A.1
A1: Table A.1
A2: Children from socio-economically disadvantaged homes in early childhood education and care centres
A3: Based on centre leaders' reports
B8: Percentage of ECEC centres, by share of children from socio-economically disadvantaged homes in centers1,2:
B9: None | D9: 1% to 10% | F9: 11% to 30% | H9: 31% to 60% | J9: More than 60%
B10: % | C10: S.E. | D10: % | E10: S.E. | F10: % | G10: S.E. | H10: % | I10: S.E. | J10: % | K10: S.E.
A11: ISCED 02 centres
A12: Chile | B12: 13.678842 | C12: 1.9135255 | D12: 21.667224 | E12: 2.5345185 | F12: 14.394064 | G12: 2.6968105 | H12: 20.125196 | I12: 2.7029062 | J12: 30.134674 | K12: 2.6842462 | M12: .
A13: Germany* | B13: 25.175732 | C13: 2.4714956 | D13: 47.486573 | E13: 2.9404944 | F13: 17.289697 | G13: 2.52231 | H13: 7.752245 | I13: 1.6842479 | J13: 2.2957532 | K13: 0.94571269
A14: Iceland | B14: 31.723389 | C14: 4.1082304 | D14: 61.637051 | E14: 4.3978505 | F14: 6.6395607 | G14: 1.8782917 | H14: c | I14: c | J14: c | K14: c
A15: Israel | B15: 51.372899 | C15: 2.5566833 | D15: 34.775802 | E15: 2.6803524 | F15: 7.2853742 | G15: 1.4027781 | H15: 4.3739018 | I15: 0.75539085 | J15: 2.1920223 | K15: 0.73066751
A16: Japan | B16: 67.991783 | C16: 4.8301295 | D16: 27.906142 | E16: 4.1570585 | F16: 4.1020748 | G16: 2.2985444 | H16: c | I16: c | J16: c | K16: c
A17: Korea | B17: 56.598442 | C17: 6.0830358 | D17: 32.736965 | E17: 4.0339279 | F17: 10.472233 | G17: 4.8373854 | H17: c | I17: c | J17: 0.19235942 | K17: 0.19283596
A18: Norway | B18: 44.992302 | C18: 4.5829707 | D18: 48.392452 | E18: 4.9726958 | F18: 6.6152454 | G18: 2.4481749 | H18: c | I18: c | J18: c | K18: c
A19: Türkiye | B19: 30.032861 | C19: 3.1576683 | D19: 39.67027 | E19: 3.9341695 | F19: 11.6487 | G19: 2.2031616 | H19: 14.144574 | I19: 3.4005693 | J19: 4.5035949 | K19: 1.4591265
A20: Denmark** | B20: 23.310445 | C20: 4.5094979 | D20: 50.116892 | E20: 5.6256198 | F20: 12.26368 | G20: 3.5676029 | H20: 12.684679 | I20: 3.2325638 | J20: 1.6243043 | K20: 1.6259633
A22: Centres for children under age 3a
A23: Germany* | B23: 27.641023 | C23: 3.4804761 | D23: 49.159015 | E23: 3.9282314 | F23: 15.905492 | G23: 2.46714 | H23: 4.5459344 | I23: 1.4252691 | J23: 2.7485351 | K23: 1.1228633
A24: Israel | B24: 48.357599 | C24: 4.3100713 | D24: 29.176414 | E24: 3.857686 | F24: 15.079839 | G24: 2.8671606 | H24: 5.7860115 | I24: 1.8160147 | J24: 1.6001368 | K24: 0.99112946
A25: Norway | B25: 44.264867 | C25: 5.0742497 | D25: 45.191636 | E25: 4.9638179 | F25: 8.6959928 | G25: 1.7471612 | H25: 1.4108562 | I25: 1.0174961 | J25: 0.43664764 | K25: 0.43691455
A26: Denmark** | B26: 22.696319 | C26: 6.0999409 | D26: 58.960272 | E26: 7.837257 | F26: 14.872694 | G26: 5.845766 | H26: 2.1153037 | I26: 2.9588232 | J26: 1.3554114 | K26: 1.3515355
A30: a. Data reported for early learning settings with children under age 3 are limited to centre-based settings to ensure comparability with ISCED Level 02. Data from home-based settings are excluded from this table.
A31: * Estimates for sub-groups and estimated differences between sub-groups need to be interpreted with care. For more information, see Annex B in OECD (2019).
A32: ** Low response rates in the survey may result in bias in the estimates reported and limit comparability of the data.
A33: 1. Responses reflect ECEC center leaders' personal perceptions of children’s background and may be based on rough estimates. The responses categories were pre-defined in the questionnaire.
A34: 2. Socio-economically disadvantage homes refer to children’s homes lacking the basic necessities or advantages of life, such as adequate housing, nutrition or medical care.
A35: Notes:
A36: ECEC: early childhood education and care.
A37: Centre leader refers to the person in an ECEC centre with the most responsibility for administrative, managerial and/or pedagogical leadership.
A38: Source: OECD, TALIS Starting Strong 2018 Database.

Sheet Table A.2
A1: Table A.2
A2: Children with special education needs in early childhood education and care centres
A3: Based on centre leaders' reports
B8: Percentage of ECEC centres, by share of children with special education needs in centers1,2:
B9: None | D9: 1% to 10% | F9: 11% to 30% | H9: 31% to 60% | J9: More than 60%
B10: % | C10: S.E. | D10: % | E10: S.E. | F10: % | G10: S.E. | H10: % | I10: S.E. | J10: % | K10: S.E.
A11: ISCED 02 centres
A12: Iceland | B12: 5.3830927 | C12: 1.5246136 | D12: 70.642859 | E12: 3.4212859 | F12: 23.974049 | G12: 3.3864892 | H12: c | I12: c | J12: c | K12: c
A13: Chile | B13: 17.8146 | C13: 2.3733933 | D13: 47.743056 | E13: 3.5368711 | F13: 20.896354 | G13: 2.3284035 | H13: 12.2384 | I13: 2.1807627 | J13: 1.3075909 | K13: 0.75905917
A14: Denmark** | B14: 7.0119709 | C14: 3.0109332 | D14: 63.920746 | E14: 5.5452266 | F14: 19.986334 | G14: 4.3764214 | H14: 9.0809484 | I14: 3.1207421 | J14: c | K14: c
A15: Japan | B15: 20.831244 | C15: 3.8802134 | D15: 65.102967 | E15: 4.6329036 | F15: 13.014684 | G15: 3.0868246 | H15: 1.051105 | I15: 0.87004384 | J15: c | K15: c
A16: Israel | B16: 40.067985 | C16: 2.6236276 | D16: 50.344635 | E16: 2.7039282 | F16: 8.1179123 | G16: 1.3588476 | H16: 1.2244208 | I16: 0.54918405 | J16: 0.24504647 | K16: 0.2445023
A17: Germany* | B17: 26.579677 | C17: 2.8508243 | D17: 64.851209 | E17: 3.1951758 | F17: 7.545106 | G17: 1.7134134 | H17: 0.61607955 | I17: 0.43394435 | J17: 0.4079286 | K17: 0.4078878
A18: Norway | B18: 21.649222 | C18: 3.5978641 | D18: 70.191275 | E18: 3.9323046 | F18: 7.3868255 | G18: 2.7891782 | H18: c | I18: c | J18: 0.77267761 | K18: 0.77025008
A19: Türkiye | B19: 43.374568 | C19: 3.9345729 | D19: 53.860289 | E19: 3.855356 | F19: 1.5582878 | G19: 1.4597706 | H19: 1.0479367 | I19: 0.95367616 | J19: 0.15891847 | K19: 0.1022566
A20: Korea | B20: 55.586954 | C20: 5.6690495 | D20: 42.298333 | E20: 5.6465224 | F20: 1.4997528 | G20: 0.80345777 | H20: c | I20: c | J20: 0.61496043 | K20: 0.46492504
A22: Centres for children under age 3a
A23: Germany* | B23: 31.047634 | C23: 3.1363492 | D23: 58.52136 | E23: 3.5804238 | F23: 9.5364437 | G23: 1.8706106 | H23: 0.89456265 | I23: 0.63290256 | J23: c | K23: c
A24: Israel | B24: 59.079777 | C24: 5.2950468 | D24: 38.264573 | E24: 5.2292069 | F24: 2.6556502 | G24: 1.3713798 | H24: c | I24: c | J24: c | K24: c
A25: Norway | B25: 17.608644 | C25: 5.3084574 | D25: 78.31358 | E25: 5.3165905 | F25: 3.6367737 | G25: 1.4551768 | H25: c | I25: c | J25: 0.44100194 | K25: 0.44127552
A26: Denmark** | B26: 2.2905975 | C26: 1.3511616 | D26: 76.385513 | E26: 6.3927131 | F26: 14.363355 | G26: 5.6619117 | H26: 6.9605346 | I26: 3.51626 | J26: c | K26: c
A30: a. Data reported for early learning settings with children under age 3 are limited to centre-based settings to ensure comparability with ISCED Level 02. Data from home-based settings are excluded from this table.
A31: * Estimates for sub-groups and estimated differences between sub-groups need to be interpreted with care. For more information, see Annex B in OECD (2019).
A32: ** Low response rates in the survey may result in bias in the estimates reported and limit comparability of the data.
A33: 1. Responses reflect ECEC center leaders' personal perceptions of children’s background and may be based on rough estimates. The responses categories were pre-defined in the questionnaire.
A34: 2. Children with special education needs are children for whom a special learning need has been formally identified because they are mentally, physically or emotionally disadvantaged.
A35: Notes:
A36: ECEC: early childhood education and care.
A37: Centre leader refers to the person in an ECEC centre with the most responsibility for administrative, managerial and/or pedagogical leadership.
A38: Source: OECD, TALIS Starting Strong 2018 Database.

Sheet Table A.3
A1: Table A.3
A2: Children with a different first language in early childhood education and care centres
A3: Based on centre leaders' reports
B8: Percentage of ECEC centres, by share of children with a different first language used in centres1,2:
B9: None | D9: 1% to 10% | F9: 11% to 30% | H9: 31% to 60% | J9: More than 60%
B10: % | C10: S.E. | D10: % | E10: S.E. | F10: % | G10: S.E. | H10: % | I10: S.E. | J10: % | K10: S.E.
A11: ISCED 02 centres
A12: Chile | B12: 70.132682 | C12: 2.8148014 | D12: 23.513559 | E12: 2.737495 | F12: 2.6492984 | G12: 1.0885744 | H12: 1.6380459 | I12: 0.94837781 | J12: 2.0664147 | K12: 1.0387274
A13: Germany* | B13: 9.3928539 | C13: 1.5888782 | D13: 44.090992 | E13: 2.9996511 | F13: 23.591359 | G13: 2.6434429 | H13: 16.481142 | I13: 2.3101674 | J13: 6.443654 | K13: 1.3869465
A14: Iceland | B14: 2.3619473 | C14: 0.83517219 | D14: 51.224818 | E14: 3.6137094 | F14: 38.589055 | G14: 3.4288956 | H14: 7.2615235 | I14: 1.9457523 | J14: 0.56265646 | K14: 0.56250182
A15: Israel | B15: 46.46047 | C15: 2.0835476 | D15: 37.570336 | E15: 2.2276693 | F15: 5.3422895 | G15: 1.0298962 | H15: 5.579892 | I15: 0.99992688 | J15: 5.0470129 | K15: 1.0883512
A16: Japan | B16: 59.208477 | C16: 5.279286 | D16: 39.075598 | E16: 5.3293946 | F16: 1.715925 | G16: 0.75578555 | H16: c | I16: c | J16: c | K16: c
A17: Korea | B17: 69.390011 | C17: 4.5156272 | D17: 28.918254 | E17: 4.3680314 | F17: 0.75188245 | G17: 0.75339136 | H17: c | I17: c | J17: 0.93985306 | K17: 0.93991212
A18: Norway | B18: 19.075552 | C18: 4.5867331 | D18: 40.576515 | E18: 4.5951654 | F18: 28.992423 | G18: 4.0697333 | H18: 7.7999854 | I18: 2.4709279 | J18: 3.555525 | K18: 1.858037
A19: Türkiye | B19: 54.289538 | C19: 3.2271354 | D19: 27.128845 | E19: 3.2054075 | F19: 3.7369304 | G19: 1.5905743 | H19: 1.7102107 | I19: 0.7872654 | J19: 13.134475 | K19: 2.4298962
A20: Denmark** | B20: 4.7218582 | C20: 2.4698796 | D20: 52.471407 | E20: 5.4182435 | F20: 22.328339 | G20: 4.2917373 | H20: 13.566077 | I20: 4.2083484 | J20: 6.9123185 | K20: 2.0399106
A22: Centres for children under age 3a
A23: Germany* | B23: 12.03745 | C23: 2.2651303 | D23: 46.987012 | E23: 3.5691927 | F23: 18.716947 | G23: 2.8658896 | H23: 17.247156 | I23: 2.5332682 | J23: 5.0114356 | K23: 1.5202563
A24: Israel | B24: 51.32416 | C24: 4.6069369 | D24: 38.396629 | E24: 4.321779 | F24: 7.3154049 | G24: 1.906153 | H24: 1.6179779 | I24: 1.004353 | J24: 1.3458287 | K24: 1.3464871
A25: Norway | B25: 15.732173 | C25: 5.18568 | D25: 44.790999 | E25: 5.4698095 | F25: 25.220614 | G25: 3.758835 | H25: 13.00305 | I25: 2.8780985 | J25: 1.2531635 | K25: 0.89046007
A26: Denmark** | B26: 0.9996159 | C26: 0.99581213 | D26: 60.581181 | E26: 7.291984 | F26: 27.769238 | G26: 6.3017211 | H26: 4.6511401 | I26: 2.8082668 | J26: 5.9988254 | K26: 3.0519661
A30: a. Data reported for early learning settings with children under age 3 are limited to centre-based settings to ensure comparability with ISCED Level 02. Data from home-based settings are excluded from this table.
A31: * Estimates for sub-groups and estimated differences between sub-groups need to be interpreted with care. For more information, see Annex B in OECD (2019).
A32: ** Low response rates in the survey may result in bias in the estimates reported and limit comparability of the data.
A33: 1. Responses reflect ECEC center leaders' personal perceptions of children’s background and may be based on rough estimates. The responses categories were pre-defined in the questionnaire.
A34: 2. Children with a different first language are children whose first language, as used in their family environment, is different from the language(s) used in their ECEC centre.
A35: Notes:
A36: ECEC: early childhood education and care.
A37: Centre leader refers to the person in an ECEC centre with the most responsibility for administrative, managerial and/or pedagogical leadership.
A38: Source: OECD, TALIS Starting Strong 2018 Database.

Sheet Table A.4
A1: Table A.4
A2: Refugee children in early childhood education and care centres
A3: Based on centre leaders' reports
B8: Percentage of ECEC centres, by share of children who are refugees in centres1,2:
B9: None | D9: 1% to 10% | F9: 11% to 30% | H9: 31% to 60% | J9: More than 60%
B10: % | C10: S.E. | D10: % | E10: S.E. | F10: % | G10: S.E. | H10: % | I10: S.E. | J10: % | K10: S.E.
A11: ISCED 02 centres
A12: Chile | B12: 91.616013 | C12: 1.8840743 | D12: 8.0116435 | E12: 1.8469154 | F12: 0.37234341 | G12: 0.37234339 | H12: c | I12: c | J12: c | K12: c
A13: Germany* | B13: 45.850259 | C13: 3.1428349 | D13: 44.167419 | E13: 3.152615 | F13: 8.7303334 | G13: 1.9007707 | H13: 1.2519881 | I13: 0.72296154 | J13: c | K13: c
A14: Iceland | B14: 84.274505 | C14: 2.643196 | D14: 15.725495 | E14: 2.643196 | F14: c | G14: c | H14: c | I14: c | J14: c | K14: c
A15: Israel | B15: 96.301151 | C15: 0.88776959 | D15: 2.9598884 | E15: 0.78107156 | F15: 0.24632031 | G15: 0.24644867 | H15: c | I15: c | J15: 0.49264062 | K15: 0.34758134
A16: Japan | B16: 98.02904 | C16: 1.9693628 | D16: c | E16: c | F16: 1.9709602 | G16: 1.9693628 | H16: c | I16: c | J16: c | K16: c
A17: Korea | B17: 96.094933 | C17: 1.4637516 | D17: 1.647455 | E17: 1.0499367 | F17: 1.5473674 | G17: 0.88700708 | H17: 0.71024472 | I17: 0.51222731 | J17: c | K17: c
A18: Norway | B18: 60.756246 | C18: 4.1898145 | D18: 33.45189 | E18: 4.6695641 | F18: 5.2564722 | G18: 2.10849 | H18: 0.53539249 | I18: 0.53531065 | J18: c | K18: c
A19: Türkiye | B19: 76.144579 | C19: 3.2083226 | D19: 22.624318 | E19: 3.1209236 | F19: 1.0665584 | G19: 0.6158639 | H19: 0.16454495 | I19: 0.16458225 | J19: c | K19: c
A20: Denmark** | B20: 52.9387 | C20: 4.9558766 | D20: 40.045749 | E20: 5.204967 | F20: 7.015551 | G20: 3.0563572 | H20: c | I20: c | J20: c | K20: c
A22: Centres for children under age 3a
A23: Germany* | B23: 48.177538 | C23: 3.0988303 | D23: 42.783241 | E23: 3.1278636 | F23: 7.689836 | G23: 1.8410613 | H23: 1.3493854 | I23: 0.77968808 | J23: c | K23: c
A24: Israel | B24: 99.256754 | C24: 0.61846671 | D24: 0.74324644 | E24: 0.61846671 | F24: c | G24: c | H24: c | I24: c | J24: c | K24: c
A25: Norway | B25: 67.239094 | C25: 3.7022211 | D25: 28.788577 | E25: 3.7186493 | F25: 3.9723298 | G25: 1.5738747 | H25: c | I25: c | J25: c | K25: c
A26: Denmark** | B26: 42.1314 | C26: 5.6177534 | D26: 47.066072 | E26: 5.953234 | F26: 9.54317 | G26: 1.9655476 | H26: 1.2593587 | I26: 1.2564612 | J26: c | K26: c
A30: a. Data reported for early learning settings with children under age 3 are limited to centre-based settings to ensure comparability with ISCED Level 02. Data from home-based settings are excluded from this table.
A31: * Estimates for sub-groups and estimated differences between sub-groups need to be interpreted with care. For more information, see Annex B in OECD (2019).
A32: ** Low response rates in the survey may result in bias in the estimates reported and limit comparability of the data.
A33: 1. Responses reflect ECEC center leaders' personal perceptions of children’s background and may be based on rough estimates. The responses categories were pre-defined in the questionnaire.
A34: 2. Children who, regardless of legal status, have fled to another country in order to seek refuge from war, political oppression, persecution, or a natural disaster, or who were born while their parents were travelling to the destination or shortly after the parents’ arrival.
A35: Notes:
A36: ECEC: early childhood education and care.
A37: Centre leader refers to the person in an ECEC centre with the most responsibility for administrative, managerial and/or pedagogical leadership.
A38: Source: OECD, TALIS Starting Strong 2018 Database.

Sheet Table A.5
A1: Table A.5
A2: Accumulation of dimensions of diversity in early childhood education and care centres (>10% threshold)
A3: Based on centre leaders' reports
B7: Percentage of ECEC centres where different dimensions of diversity apply1,2:
B8: NONE of dimensions of diversity applies to more than 10% of children in ECEC centres | D8: ONE OR MORE dimensions of diversity apply to more than 10% of children in ECEC centres | F8: TWO OR MORE dimensions of diversity apply to more than 10% of children in ECEC centres | H8: ONE (and only one) dimensions of diversity applies to more than 10% of children in ECEC centres | J8: The following TWO dimensions of diversity apply to more than 10% of children in ECEC centres: | X8: ANY THREE of dimensions of diversity apply to more than 10% of children in ECEC centres | Z8: ALL FOUR children's diversity dimensions apply to more than 10% of children in ECEC centres
J9: Any TWO dimensions | L9: Children from socio-economically disadvantage homes AND children with special education needs | N9: Children from socio-economically disadvantage homes AND children with a different first language in ECEC centres | P9: Children from socio-economically disadvantage homes AND refugee children | R9: Children whose first language is different from the language(s) used in ECEC centres AND children with special education needs | T9: Children whose first language is different from the language(s) used in ECEC centres AND children who are refugees | V9: Children with special education needs AND children who are refugees
B10: % | C10: S.E. | D10: % | E10: S.E. | F10: % | G10: S.E. | H10: % | I10: S.E. | J10: % | K10: S.E. | L10: % | M10: S.E. | N10: % | O10: S.E. | P10: % | Q10: S.E. | R10: % | S10: S.E. | T10: % | U10: S.E. | V10: % | W10: S.E. | X10: % | Y10: S.E. | Z10: % | AA10: S.E.
A11: ISCED 02 centres
A12: Chile | B12: 30.133682 | C12: 2.5381043 | D12: 69.866318 | E12: 2.5381043 | F12: 33.735223 | G12: 2.9395874 | H12: 36.131094 | I12: 3.2038813 | J12: 32.438544 | K12: 3.0747371 | L12: 29.31507 | M12: 2.6817269 | N12: 3.1234748 | O12: 1.2810129 | P12: c | Q12: c | R12: c | S12: c | T12: c | U12: c | V12: c | W12: c | X12: 0.92433549 | Y12: 0.65360386 | Z12: 0.37234341 | AA12: 0.37234339
A13: Germany* | B13: 44.079978 | C13: 2.9440258 | D13: 55.920022 | E13: 2.9440258 | F13: 25.740137 | G13: 2.3848808 | H13: 30.179885 | I13: 3.0293501 | J13: 17.380531 | K13: 2.3809298 | L13: 1.2365072 | M13: 0.71376965 | N13: 11.632276 | O13: 2.0071129 | P13: 0.40111298 | Q13: 0.4009429 | R13: 0.83539423 | S13: 0.59077535 | T13: 3.2752404 | U13: 1.1541974 | V13: c | W13: c | X13: 6.6556491 | Y13: 1.3982788 | Z13: 1.7039567 | AA13: 0.85157991
A14: Iceland | B14: 42.225896 | C14: 4.1820615 | D14: 56.089018 | E14: 4.1428485 | F14: 19.018798 | G14: 2.9429064 | H14: 37.07022 | I14: 3.9510834 | J14: 19.018798 | K14: 2.9429064 | L14: 0.58053661 | M14: 0.58052535 | N14: 4.892527 | O14: 1.581994 | P14: c | Q14: c | R14: 13.545734 | S14: 2.4578759 | T14: c | U14: c | V14: c | W14: c | X14: c | Y14: c | Z14: c | AA14: c
A15: Israel | B15: 71.640406 | C15: 2.1265455 | D15: 28.359594 | E15: 2.1265455 | F15: 7.987073 | G15: 1.197876 | H15: 20.372521 | I15: 1.9863168 | J15: 5.0834718 | K15: 0.99728026 | L15: 1.938893 | M15: 0.59163258 | N15: 1.9357341 | O15: 0.59352038 | P15: c | Q15: c | R15: 1.2088446 | S15: 0.54062302 | T15: c | U15: c | V15: c | W15: c | X15: 2.4216462 | Y15: 0.7459765 | Z15: 0.48195505 | AA15: 0.34079366
A16: Japan | B16: 82.937928 | C16: 3.246256 | D16: 17.062072 | E16: 3.246256 | F16: 2.6723806 | G16: 2.0372401 | H16: 14.389691 | I16: 2.4700141 | J16: 0.70591958 | K16: 0.5412084 | L16: 0.70591958 | M16: 0.5412084 | N16: c | O16: c | P16: c | Q16: c | R16: c | S16: c | T16: c | U16: c | V16: c | W16: c | X16: 1.966461 | Y16: 1.9650684 | Z16: c | AA16: c
A17: Korea | B17: 83.964153 | C17: 5.018268 | D17: 15.695663 | E17: 5.0135503 | F17: 0.89131733 | G17: 0.54026878 | H17: 14.804346 | I17: 4.9965983 | J17: 0.89131733 | K17: 0.54026878 | L17: 0.19077789 | M17: 0.19126688 | N17: c | O17: c | P17: c | Q17: c | R17: c | S17: c | T17: c | U17: c | V17: 0.70053945 | W17: 0.5053088 | X17: c | Y17: c | Z17: c | AA17: c
A18: Norway | B18: 52.150176 | C18: 4.5463374 | D18: 46.039852 | E18: 4.5309421 | F18: 12.054301 | G18: 3.1860251 | H18: 33.985551 | I18: 4.4659742 | J18: 10.616423 | K18: 3.0713062 | L18: 0.70409165 | M18: 0.70250663 | N18: 4.7227718 | O18: 2.1711946 | P18: c | Q18: c | R18: 0.39745793 | S18: 0.29090525 | T18: 4.7921012 | U18: 2.0350169 | V18: c | W18: c | X18: 1.4378781 | Y18: 0.84280812 | Z18: c | AA18: c
A19: Türkiye | B19: 61.115309 | C19: 3.5789628 | D19: 38.884691 | E19: 3.5789628 | F19: 12.219819 | G19: 2.8618546 | H19: 26.664872 | I19: 3.5974145 | J19: 10.555289 | K19: 2.6492783 | L19: 1.3053464 | M19: 1.4483914 | N19: 8.7252966 | O19: 2.1975142 | P19: c | Q19: c | R19: 0.013321999 | S19: 0.013324232 | T19: 0.5113245 | U19: 0.36197467 | V19: c | W19: c | X19: 1.6040976 | Y19: 1.0813711 | Z19: 0.0604319 | AA19: 0.060443636
A20: Denmark** | B20: 48.664808 | C20: 5.4384382 | D20: 49.434238 | E20: 5.4514215 | F20: 28.646432 | G20: 4.9895602 | H20: 20.787806 | I20: 4.6704203 | J20: 9.4165585 | K20: 2.9732003 | L20: 3.0914505 | M20: 1.5834713 | N20: 2.6080609 | O20: 1.5187323 | P20: c | Q20: c | R20: 3.7170471 | S20: 2.0071242 | T20: c | U20: c | V20: c | W20: c | X20: 13.515632 | Y20: 3.3799975 | Z20: 5.7142411 | AA20: 2.7632217
A22: Centres for children under age 3a
A23: Germany* | B23: 51.826004 | C23: 3.5688829 | D23: 48.173996 | E23: 3.5688829 | F23: 25.736027 | G23: 2.9573603 | H23: 22.437969 | I23: 3.1373524 | J23: 17.65079 | K23: 2.7125169 | L23: 0.88686058 | M23: 0.62752157 | N23: 9.9443028 | O23: 2.0839066 | P23: 0.43049393 | Q23: 0.43051833 | R23: 2.2818332 | S23: 1.0196571 | T23: 4.1072998 | U23: 1.370139 | V23: c | W23: c | X23: 7.2242482 | Y23: 1.7808706 | Z23: 0.86098786 | AA23: 0.60942241
A24: Israel | B24: 72.838572 | C24: 3.4518862 | D24: 27.161428 | E24: 3.4518862 | F24: 6.601541 | G24: 1.744859 | H24: 20.559887 | I24: 2.9871746 | J24: 5.807454 | K24: 1.9004612 | L24: 1.2986178 | M24: 0.93966786 | N24: 4.0730568 | O24: 1.587475 | P24: c | Q24: c | R24: 0.43577948 | S24: 0.43546469 | T24: c | U24: c | V24: c | W24: c | X24: 0.79408703 | Y24: 0.79330804 | Z24: c | AA24: c
A25: Norway | B25: 54.820962 | C25: 4.211997 | D25: 42.131346 | E25: 4.0898945 | F25: 10.689567 | G25: 1.9725476 | H25: 31.441779 | I25: 3.8156428 | J25: 7.2519817 | K25: 1.8613735 | L25: 0.71260258 | M25: 0.7129282 | N25: 4.0169308 | O25: 1.31573 | P25: c | Q25: c | R25: 0.62694596 | S25: 0.45523626 | T25: 1.8955024 | U25: 0.9736663 | V25: c | W25: c | X25: 3.437585 | Y25: 1.2512049 | Z25: c | AA25: c
A26: Denmark** | B26: 58.154884 | C26: 6.9549938 | D26: 41.845116 | E26: 6.9549938 | F26: 26.190293 | G26: 6.6546361 | H26: 15.654824 | I26: 4.9008364 | J26: 7.9514414 | K26: 4.8031698 | L26: c | M26: c | N26: c | O26: c | P26: c | Q26: c | R26: 3.2406079 | S26: 3.1342528 | T26: 4.7108336 | U26: 3.6109183 | V26: c | W26: c | X26: 15.624081 | Y26: 6.3683656 | Z26: 2.6147701 | AA26: 1.8451468
A30: a. Data reported for early learning settings with children under age 3 are limited to centre-based settings to ensure comparability with ISCED Level 02. Data from home-based settings are excluded from this table.
A31: * Estimates for sub-groups and estimated differences between sub-groups need to be interpreted with care. For more information, see Annex B in OECD (2019).
A32: ** Low response rates in the survey may result in bias in the estimates reported and limit comparability of the data.
A33: 1. Dimensions of diversity refers to children from socio-economically disadvantaged homes, children with special education needs, children with a different first language, and children who are refugees. Full definitions are the following:
A34: Socio-economically disadvantage homes refer to children’s homes lacking the basic necessities or advantages of life, such as adequate housing, nutrition or medical care.
A35: Children with special education needs are children for whom a special learning need has been formally identified because they are cognitively, physically or emotionally disadvantaged.
A36: Children with a different first language are children whose first language, as used in their family environment, is different from the language(s) used in their ECEC centre.
A37: Children who, regardless of legal status, have fled to another country in order to seek refuge from war, political oppression, persecution, or a natural disaster, or who were born while their parents were travelling to the destination or shortly after the parents’ arrival.
A38: 2. Several dimensions of diversity accumulate within an ECEC centre when each of these dimensions, considered separately, applies to more than 10% of the children in the centre. This may occur because multiple forms of diversity apply to the same individual children, or because different forms of diversity apply to different groups of children within the centre.
A39: Notes:
A40: Data include reports from leaders with staff duties and one-person centres in Korea.
A41: ECEC: early childhood education and care.
... A43: Source: OECD, TALIS Starting Strong 2018 Database.

Sheet Table A.6
A1: Table A.6
A2: Accumulation of dimensions of diversity in early childhood education and care centres (>30% threshold)
A3: Based on centre leaders' reports
B7: Percentage of ECEC centres where different dimensions of diversity apply1,2:
B8: NONE of dimensions of diversity applies to more than 30% of children in ECEC centres | D8: ONE OR MORE dimensions of diversity apply to more than 30% of children in ECEC centres | F8: TWO OR MORE dimensions of diversity apply to more than 30% of children in ECEC centres | H8: ONE (and only one) dimensions of diversity applies to more than 30% of children in ECEC centres | J8: The following TWO dimensions of diversity apply to more than 30% of children in ECEC centres: | X8: ANY THREE of dimensions of diversity apply to more than 30% of children in ECEC centres | Z8: ALL FOUR children's diversity dimensions apply to more than 30% of children in ECEC centres
J9: Any TWO dimensions | L9: Children from socio-economically disadvantage homes AND children with special education needs | N9: Children from socio-economically disadvantage homes AND children with a different first language in ECEC centres | P9: Children from socio-economically disadvantage homes AND refugee children | R9: Children with a different first language in ECEC centres AND children with special education needs | T9: Children with a different first language in ECEC centres AND children who are refugees | V9: Children with special education needs AND children who are refugees
B10: % | C10: S.E. | D10: % | E10: S.E. | F10: % | G10: S.E. | H10: % | I10: S.E. | J10: % | K10: S.E. | L10: % | M10: S.E. | N10: % | O10: S.E. | P10: % | Q10: S.E. | R10: % | S10: S.E. | T10: % | U10: S.E. | V10: % | W10: S.E. | X10: % | Y10: S.E. | Z10: % | AA10: S.E.
A11: ISCED 02 centres
A12: Chile | B12: 44.975687 | C12: 2.7853685 | D12: 55.024313 | E12: 2.7853685 | F12: 12.172032 | G12: 2.2901703 | H12: 42.852282 | I12: 3.2898994 | J12: 12.172032 | K12: 2.2901703 | L12: 9.53892 | M12: 1.9357851 | N12: 2.6331119 | O12: 1.1834434 | P12: c | Q12: c | R12: c | S12: c | T12: c | U12: c | V12: c | W12: c | X12: c | Y12: c | Z12: c | AA12: c
A13: Germany* | B13: 73.891918 | C13: 2.8778631 | D13: 26.108082 | E13: 2.8778631 | F13: 7.4910434 | G13: 1.6288442 | H13: 18.617038 | I13: 2.5650255 | J13: 6.049863 | K13: 1.4553617 | L13: 0.40111298 | M13: 0.40094025 | N13: 5.247637 | O13: 1.3402789 | P13: c | Q13: c | R13: 0.40111298 | S13: 0.40094142 | T13: 0.40111298 | U13: 0.40094142 | V13: c | W13: c | X13: 1.4411804 | Y13: 0.72920732 | Z13: c | AA13: c
A14: Iceland | B14: 92.17582 | C14: 2.0268828 | D14: 7.82418 | E14: 2.0268828 | F14: c | G14: c | H14: 7.82418 | I14: 2.0268828 | J14: c | K14: c | L14: c | M14: c | N14: c | O14: c | P14: c | Q14: c | R14: c | S14: c | T14: c | U14: c | V14: c | W14: c | X14: c | Y14: c | Z14: c | AA14: c
A15: Israel | B15: 84.375041 | C15: 1.5855729 | D15: 15.624959 | E15: 1.5855729 | F15: 2.6509957 | G15: 0.63768143 | H15: 12.973964 | I15: 1.5658135 | J15: 1.9280631 | K15: 0.59039602 | L15: 0.72317552 | M15: 0.41756077 | N15: 1.2048876 | O15: 0.41738527 | P15: c | Q15: c | R15: c | S15: c | T15: c | U15: c | V15: c | W15: c | X15: 0.72293257 | Y15: 0.41738528 | Z15: c | AA15: c
A16: Japan | B16: 98.953341 | C16: 0.86655389 | D16: 1.0466586 | E16: 0.86655389 | F16: c | G16: c | H16: 1.0466586 | I16: 0.86655389 | J16: c | K16: c | L16: c | M16: c | N16: c | O16: c | P16: c | Q16: c | R16: c | S16: c | T16: c | U16: c | V16: c | W16: c | X16: c | Y16: c | Z16: c | AA16: c
A17: Korea | B17: 98.165787 | C17: 1.0842585 | D17: 1.8342129 | E17: 1.0842585 | F17: 0.61198625 | G17: 0.46281776 | H17: 1.2222266 | I17: 0.98094564 | J17: 0.61198625 | K17: 0.46281776 | L17: 0.19077789 | M17: 0.19126688 | N17: c | O17: c | P17: c | Q17: c | R17: c | S17: c | T17: c | U17: c | V17: 0.41912649 | W17: 0.41982495 | X17: c | Y17: c | Z17: c | AA17: c
A18: Norway | B18: 87.416669 | C18: 3.2009801 | D18: 12.583331 | E18: 3.2009801 | F18: c | G18: c | H18: 12.583331 | I18: 3.2009801 | J18: c | K18: c | L18: c | M18: c | N18: c | O18: c | P18: c | Q18: c | R18: c | S18: c | T18: c | U18: c | V18: c | W18: c | X18: c | Y18: c | Z18: c | AA18: c
A19: Türkiye | B19: 74.95496 | C19: 3.3996282 | D19: 25.04504 | E19: 3.3996282 | F19: 8.6797904 | G19: 2.4506087 | H19: 16.36525 | I19: 3.3795444 | J19: 7.568322 | K19: 2.253557 | L19: 0.069757301 | M19: 0.061170836 | N19: 7.4985647 | O19: 2.2529962 | P19: c | Q19: c | R19: c | S19: c | T19: c | U19: c | V19: c | W19: c | X19: 1.1114684 | Y19: 0.96285493 | Z19: c | AA19: c
A20: Denmark** | B20: 73.255536 | C20: 5.1818927 | D20: 26.744464 | E20: 5.1818927 | F20: 11.972894 | G20: 3.2314818 | H20: 14.771571 | I20: 4.1554001 | J20: 7.0280619 | K20: 2.0988908 | L20: c | M20: c | N20: 6.8944617 | O20: 2.0525626 | P20: c | Q20: c | R20: c | S20: c | T20: c | U20: c | V20: c | W20: c | X20: 4.9448318 | Y20: 2.4354401 | Z20: c | AA20: c
A22: Centres for children under age 3a
A23: Germany* | B23: 75.702964 | C23: 2.93972 | D23: 24.297036 | E23: 2.93972 | F23: 7.1983755 | G23: 1.79317 | H23: 17.09866 | I23: 2.5239047 | J23: 7.1983755 | K23: 1.79317 | L23: c | M23: c | N23: 5.8551483 | O23: 1.6172714 | P23: c | Q23: c | R23: c | S23: c | T23: c | U23: c | V23: c | W23: c | X23: c | Y23: c | Z23: c | AA23: c
A24: Israel | B24: 90.640253 | C24: 2.2488325 | D24: 9.3597473 | E24: 2.2488325 | F24: 0.76029611 | G24: 0.76021261 | H24: 8.5994512 | I24: 2.3781018 | J24: 0.76029611 | K24: 0.76021261 | L24: c | M24: c | N24: 0.76029611 | O24: 0.76021261 | P24: c | Q24: c | R24: c | S24: c | T24: c | U24: c | V24: c | W24: c | X24: c | Y24: c | Z24: c | AA24: c
A25: Norway | B25: 85.308938 | C25: 2.8880594 | D25: 14.691062 | E25: 2.8880594 | F25: 1.8460441 | G25: 1.1075013 | H25: 12.845018 | I25: 2.666884 | J25: 1.8460441 | K25: 1.1075013 | L25: c | M25: c | N25: 1.3622208 | O25: 0.98309301 | P25: c | Q25: c | R25: 0.42756156 | S25: 0.42798499 | T25: 0.42756156 | U25: 0.42798499 | V25: c | W25: c | X25: c | Y25: c | Z25: c | AA25: c
A26: Denmark** | B26: 85.477164 | C26: 5.3174398 | D26: 14.522836 | E26: 5.3174398 | F26: 6.4623268 | G26: 3.2988944 | H26: 8.0605089 | I26: 4.2117807 | J26: 5.1069154 | K26: 3.0086265 | L26: c | M26: c | N26: c | O26: c | P26: c | Q26: c | R26: 3.8475567 | S26: 2.7281845 | T26: 3.8475567 | U26: 2.7281845 | V26: c | W26: c | X26: 1.3554114 | Y26: 1.3515355 | Z26: c | AA26: c
A30: a. Data reported for early learning settings with children under age 3 are limited to centre-based settings to ensure comparability with ISCED Level 02. Data from home-based settings are excluded from this table.
A31: * Estimates for sub-groups and estimated differences between sub-groups need to be interpreted with care. For more information, see Annex B in OECD (2019).
A32: ** Low response rates in the survey may result in bias in the estimates reported and limit comparability of the data.
A33: 1. Dimensions of diversity refers to children from socio-economically disadvantaged homes, children with special education needs, children with a different first language, and children who are refugees. Full definitions are the following:
A34: Socio-economically disadvantage homes refer to children’s homes lacking the basic necessities or advantages of life, such as adequate housing, nutrition or medical care.
A35: Children with special education needs are children for whom a special learning need has been formally identified because they are cognitively, physically or emotionally disadvantaged.
A36: Children with a different first language are children whose first language, as used in their family environment, is different from the language(s) used in their ECEC centre.
A37: Children who, regardless of legal status, have fled to another country in order to seek refuge from war, political oppression, persecution, or a natural disaster, or who were born while their parents were travelling to the destination or shortly after the parents’ arrival.
A38: 2. Several dimensions of diversity accumulate within an ECEC centre when each of these dimensions, considered separately, applies to more than 30% of the children in the centre. This may occur because multiple forms of diversity apply to the same individual children, or because different forms of diversity apply to different groups of children within the centre.
A39: Notes:
A40: Data include reports from leaders with staff duties and one-person centres in Korea.
A41: ECEC: early childhood education and care.
... A43: Source: OECD, TALIS Starting Strong 2018 Database.

Sheet Table A.7
A1: Table A.7
A2: Dimensions of diversity and centre location in early childhood education and care centres
A3: Based on centre leaders' reports
B6: All ECEC centres, by centre location1 | F6: Percentage of ECEC centers, by dimensions of diversity and centre location1:
F7: ECEC centres with more than 10% of children from socio-economically disadvantaged homes2: | N7: ECEC centres with more than 10% of children with special education needs3: | V7: ECEC centres with more than 10% of children with a different first language used in ECEC centres4: | AD7: ECEC centres with more than 10% of children who are refugees5:
B8: Rural ECEC centres | D8: Urban ECEC centres | F8: All ECEC centres | H8: Rural ECEC centres | J8: Urban ECEC centres | L8: Difference between urban and rural ECEC centers (urban - rural) | N8: All ECEC centres | P8: Rural ECEC centres | R8: Urban ECEC centres | T8: Difference between urban and rural ECEC centers (urban - rural) | V8: All ECEC centres | X8: Rural ECEC centres | Z8: Urban ECEC centres | AB8: Difference between urban and rural ECEC centers (urban - rural) | AD8: All ECEC centres | AF8: Rural ECEC centres | AH8: Urban ECEC centres | AJ8: Difference between urban and rural ECEC centers (urban - rural)
B10: % | C10: S.E. | D10: % | E10: S.E. | F10: % | G10: S.E. | H10: % | I10: S.E. | J10: % | K10: S.E. | L10: % dif. | M10: S.E. | N10: % | O10: S.E. | P10: % | Q10: S.E. | R10: % | S10: S.E. | T10: % dif. | U10: S.E. | V10: % | W10: S.E. | X10: % | Y10: S.E. | Z10: % | AA10: S.E. | AB10: % dif. | AC10: S.E. | AD10: % | AE10: S.E. | AF10: % | AG10: S.E. | AH10: % | AI10: S.E. | AJ10: % dif. | AK10: S.E.
A11: ISCED 02 centres
A12: Chile | B12: 29.061259 | C12: 2.9945188 | D12: 70.938741 | E12: 2.9945188 | F12: 64.653934 | G12: 2.4987975 | H12: 72.357304 | I12: 5.6809771 | J12: 60.902826 | K12: 3.5551458 | L12: -11.454478 | M12: 7.5262092 | N12: 34.442344 | O12: 2.6604178 | P12: 31.906495 | Q12: 6.1217482 | R12: 35.2426 | S12: 3.127686 | T12: 3.3361055 | U12: 7.1252558 | V12: 6.353759 | W12: 1.4799232 | X12: 7.3593966 | Y12: 3.5103285 | Z12: 5.2314999 | AA12: 1.5990598 | AB12: -2.1278967 | AC12: 4.1314974 | AD12: 0.37234341 | AE12: 0.37234339 | AF12: c | AG12: c | AH12: 0.53094135 | AI12: 0.53136122 | AJ12: c | AK12: c
A13: Germany* | B13: 47.772477 | C13: 3.2334199 | D13: 52.227523 | E13: 3.2334199 | F13: 27.337695 | G13: 2.517249 | H13: 17.890085 | I13: 3.5705848 | J13: 35.756634 | K13: 3.680499 | L13: 17.866549 | M13: 5.2161769 | N13: 8.5691142 | O13: 1.7678645 | P13: 4.8460703 | Q13: 1.95056 | R13: 11.881289 | S13: 3.0233077 | T13: 7.0352191 | U13: 3.7413097 | V13: 46.516154 | W13: 2.6750542 | X13: 30.790204 | Y13: 3.8053942 | Z13: 60.890329 | AA13: 4.2866281 | AB13: 30.100125 | AC13: 6.3089001 | AD13: 9.9823215 | AE13: 1.8567382 | AF13: 7.7966464 | AG13: 2.4942033 | AH13: 11.945031 | AI13: 2.9122288 | AJ13: 4.1483841 | AK13: 4.0190001
A14: Iceland | B14: 53.994869 | C14: 3.1964944 | D14: 46.005131 | E14: 3.1964944 | F14: 6.6395607 | G14: 1.8782917 | H14: 7.3697589 | I14: 2.658686 | J14: 5.8090721 | K14: 2.6053435 | L14: -1.5606868 | M14: 3.6803177 | N14: 23.974049 | O14: 3.3864892 | P14: 23.27099 | Q14: 4.466051 | R14: 24.754797 | S14: 5.2606204 | T14: 1.4838065 | U14: 6.9554219 | V14: 46.413235 | W14: 3.6113741 | X14: 41.281604 | Y14: 4.8553039 | Z14: 52.37062 | AA14: 5.985147 | AB14: 11.089016 | AC14: 8.0520998 | AD14: c | AE14: c | AF14: c | AG14: c | AH14: c | AI14: c | AJ14: c | AK14: c
A15: Israel | B15: 40.118098 | C15: 2.4313767 | D15: 59.881902 | E15: 2.4313767 | F15: 13.851298 | G15: 1.5751245 | H15: 15.649881 | I15: 3.1248207 | J15: 13.286046 | K15: 1.8663639 | L15: -2.3638346 | M15: 3.6440179 | N15: 9.5873796 | O15: 1.3600376 | P15: 9.2521126 | Q15: 1.9563854 | R15: 10.731971 | S15: 2.025576 | T15: 1.4798581 | U15: 2.7761863 | V15: 15.969194 | W15: 1.7350818 | X15: 8.4779712 | Y15: 2.2315581 | Z15: 19.859475 | AA15: 2.604689 | AB15: 11.381504 | AC15: 3.4147729 | AD15: 0.73896093 | AE15: 0.42585491 | AF15: 1.3087043 | AG15: 0.91668695 | AH15: 0.45432102 | AI15: 0.45268254 | AJ15: -0.85438326 | AK15: 1.0188935
A16: Japan | B16: 8.3011695 | C16: 2.6843508 | D16: 91.69883 | E16: 2.6843508 | F16: 4.1020748 | G16: 2.2985444 | H16: c | I16: c | J16: c | K16: c | L16: c | M16: c | N16: 14.065789 | O16: 3.1889949 | P16: 20.137778 | Q16: 18.006853 | R16: 13.713903 | S16: 3.2449981 | T16: -6.4238758 | U16: 18.54628 | V16: 1.715925 | W16: 0.75578555 | X16: c | Y16: c | Z16: 1.8947383 | AA16: 0.8370184 | AB16: c | AC16: c | AD16: 1.9709602 | AE16: 1.9693628 | AF16: c | AG16: c | AH16: 2.1744976 | AI16: 2.1704015 | AJ16: c | AK16: c
A17: Korea | B17: 14.679763 | C17: 4.0692213 | D17: 85.320237 | E17: 4.0692213 | F17: 10.664593 | G17: 4.8392216 | H17: 9.6179491 | I17: 9.3998903 | J17: 10.930749 | K17: 5.2532731 | L17: 1.3128001 | M17: 10.168129 | N17: 2.1147132 | O17: 0.92934668 | P17: 2.3382928 | Q17: 1.8342132 | R17: 2.0951483 | S17: 1.0614756 | T17: -0.24314452 | U17: 2.1482363 | V17: 1.6917355 | W17: 1.2048882 | X17: c | Y17: c | Z17: 1.9996391 | AA17: 1.4358946 | AB17: c | AC17: c | AD17: 2.2576121 | AE17: 1.0226272 | AF17: c | AG17: c | AH17: 2.6581879 | AI17: 1.1838517 | AJ17: c | AK17: c
A18: Norway | B18: 59.797019 | C18: 3.6337983 | D18: 40.202981 | E18: 3.6337983 | F18: 6.6152454 | G18: 2.4481749 | H18: 6.5620282 | I18: 3.5432967 | J18: 6.6941096 | K18: 3.0889061 | L18: 0.13208136 | M18: 4.7026901 | N18: 8.1595031 | O18: 2.8832221 | P18: 5.5694237 | Q18: 2.8683473 | R18: 11.997829 | S18: 5.6324832 | T18: 6.4284056 | U18: 6.3193125 | V18: 40.347934 | W18: 4.7021796 | X18: 41.886726 | Y18: 6.2679409 | Z18: 38.094535 | AA18: 6.3234935 | AB18: -3.7921905 | AC18: 8.4134795 | AD18: 5.7918647 | AE18: 2.1770693 | AF18: 8.1737245 | AG18: 3.506357 | AH18: 2.2621062 | AI18: 1.6661704 | AJ18: -5.9116183 | AK18: 3.8977647
A19: Türkiye | B19: 40.352556 | C19: 3.5395934 | D19: 59.647444 | E19: 3.5395934 | F19: 30.296869 | G19: 4.2534758 | H19: 38.755571 | I19: 7.9016513 | J19: 24.472002 | K19: 4.010239 | L19: -14.283569 | M19: 8.3187347 | N19: 2.765143 | O19: 1.7474216 | P19: 2.4697721 | Q19: 2.3035932 | R19: 2.9691272 | S19: 2.437652 | T19: 0.49935518 | U19: 3.2877067 | V19: 18.581617 | W19: 2.0476729 | X19: 32.624455 | Y19: 4.1905212 | Z19: 8.9113799 | AA19: 2.3753703 | AB19: -23.713075 | AC19: 4.9863712 | AD19: 1.2311033 | AE19: 0.63754764 | AF19: c | AG19: c | AH19: 2.0807373 | AI19: 1.0665076 | AJ19: c | AK19: c
A20: Denmark** | B20: 47.960219 | C20: 5.4919112 | D20: 52.039781 | E20: 5.4919112 | F20: 26.572663 | G20: 4.7268831 | H20: 20.16603 | I20: 6.7211391 | J20: 32.966619 | K20: 6.0930815 | L20: 12.800589 | M20: 8.7473104 | N20: 29.067283 | O20: 5.2909219 | P20: 28.203575 | Q20: 7.9966746 | R20: 30.60113 | S20: 6.3560273 | T20: 2.3975548 | U20: 9.5109499 | V20: 42.806734 | W20: 5.4979386 | X20: 33.1079 | Y20: 6.3350592 | Z20: 49.871339 | AA20: 7.6300334 | AB20: 16.763439 | AC20: 9.4844058 | AD20: 7.015551 | AE20: 3.0563572 | AF20: 5.2552112 | AG20: 4.2312052 | AH20: 8.7305824 | AI20: 4.4879871 | AJ20: 3.4753712 | AK20: 6.1580963
A22: Centres for children under age 3a
A23: Germany* | B23: 44.805818 | C23: 2.9587355 | D23: 55.194182 | E23: 2.9587355 | F23: 23.199961 | G23: 2.8877178 | H23: 16.521782 | I23: 3.6880359 | J23: 28.584573 | K23: 4.629296 | L23: 12.062791 | M23: 6.0634429 | N23: 10.431006 | O23: 1.9752803 | P23: 6.1644506 | Q23: 2.4836626 | R23: 13.446781 | S23: 2.8705603 | T23: 7.2823307 | U23: 3.7262952 | V23: 40.975539 | W23: 3.4204707 | X23: 25.812616 | Y23: 4.7877436 | Z23: 54.010121 | AA23: 4.667039 | AB23: 28.197505 | AC23: 6.6251927 | AD23: 9.0392214 | AE23: 1.8923483 | AF23: 8.2388683 | AG23: 2.4420972 | AH23: 9.9129495 | AI23: 2.8391566 | AJ23: 1.6740812 | AK23: 3.7150338
A24: Israel | B24: 54.040103 | C24: 3.6693628 | D24: 45.959897 | E24: 3.6693628 | F24: 22.465988 | G24: 3.0915986 | H24: 5.4985838 | I24: 2.2823444 | J24: 39.175095 | K24: 5.7263785 | L24: 33.676511 | M24: 5.7496374 | N24: 2.6556502 | O24: 1.3713798 | P24: c | Q24: c | R24: 6.1414503 | S24: 3.0953378 | T24: c | U24: c | V24: 10.279211 | W24: 2.2995777 | X24: 3.0530789 | Y24: 1.8376109 | Z24: 19.283974 | AA24: 4.8298661 | AB24: 16.230895 | AC24: 5.126047 | AD24: c | AE24: c | AF24: c | AG24: c | AH24: c | AI24: c | AJ24: c | AK24: c
A25: Norway | B25: 59.226547 | C25: 3.9686464 | D25: 40.773453 | E25: 3.9686464 | F25: 10.543497 | G25: 1.9192384 | H25: 5.3005779 | I25: 2.2947375 | J25: 18.329588 | K25: 3.7249629 | L25: 13.02901 | M25: 4.4939811 | N25: 4.0777756 | O25: 1.5196504 | P25: 3.197127 | Q25: 2.2637419 | R25: 5.3722872 | S25: 1.6518499 | T25: 2.1751602 | U25: 2.7042725 | V25: 39.476828 | W25: 4.1824956 | X25: 31.35554 | Y25: 5.2087664 | Z25: 51.414735 | AA25: 6.2906297 | AB25: 20.059195 | AC25: 8.0344965 | AD25: 3.9723298 | AE25: 1.5738747 | AF25: 1.5093072 | AG25: 1.1162506 | AH25: 7.5928558 | AI25: 3.4932419 | AJ25: 6.0835486 | AK25: 3.6727773
A26: Denmark** | B26: 34.273101 | C26: 8.1544123 | D26: 65.726899 | E26: 8.1544123 | F26: 18.343409 | G26: 6.6255655 | H26: 22.303956 | I26: 11.72893 | J26: 16.278194 | K26: 7.1229194 | L26: -6.0257622 | M26: 12.964584 | N26: 21.32389 | O26: 6.6593968 | P26: 12.159192 | Q26: 8.6205737 | R26: 26.102794 | S26: 8.6154704 | T26: 13.943602 | U26: 11.812469 | V26: 38.419203 | W26: 7.3655578 | X26: 32.909845 | Y26: 13.449726 | Z26: 41.292042 | AA26: 9.8259999 | AB26: 8.3821969 | AC26: 17.611085 | AD26: 10.802529 | AE26: 2.3349054 | AF26: 13.819245 | AG26: 9.8102711 | AH26: 9.2294708 | AI26: 5.4953985 | AJ26: -4.5897741 | AK26: 14.441375
A30: a. Data reported for early learning settings with children under age 3 are limited to centre-based settings to ensure comparability with ISCED Level 02. Data from home-based settings are excluded from this table.
A31: * Estimates for sub-groups and estimated differences between sub-groups need to be interpreted with care. For more information, see Annex B in OECD (2019).
A32: ** Low response rates in the survey may result in bias in the estimates reported and limit comparability of the data.
A33: 1. “Rural” refers to locations with up to 15 000 people. “Urban” refers to locations with more than 15 000 people. In the cases of Japan and Korea, the cutoff point is 50 000 inhabitants, to account for the high population density in both countries.
A34: 2. Socio-economically disadvantage homes refer to children’s homes lacking the basic necessities or advantages of life, such as adequate housing, nutrition or medical care.
A35: 3. Children with special education needs are children for whom a special learning need has been formally identified because they are cognitively, physically or emotionally disadvantaged.
A36: 4. Children with a different first language are children whose first language, as used in their family environment, is different from the language(s) used in their ECEC centre.
A37: 5. Children who, regardless of legal status, have fled to another country in order to seek refuge from war, political oppression, persecution, or a natural disaster, or who were born while their parents were travelling to the destination or shortly after the parents’ arrival.
A38: Notes:
A39: ECEC: early childhood education and care.
A40: Centre leader refers to the person in an ECEC centre with the most responsibility for administrative, managerial and/or pedagogical leadership.
A41: Statistically significant differences are in bold. For more information, see Annex C in OECD (2019).
A42: Source: OECD, TALIS Starting Strong 2018 Database.

Sheet Table A.8
A1: Table A.8
A2: Accumulation of dimensions of diversity and centre location in early childhood education and care centres
A3: Based on centre leaders' reports
B6: All ECEC centres, by centre location3 | F6: Percentage of ECEC centers, by number of dimensions of diversity that apply to more than 10% of children in ECEC centres and by centre location1,2,3:
F7: NONE of dimensions of diversity apply in: | N7: AT LEAST ONE of dimensions of diversity applies in: | V7: AT LEAST TWO OR MORE of dimensions of diversity apply in:
B8: Urban | D8: Rural | F8: All ECEC centres | H8: Rural ECEC centres | J8: Urban ECEC centres | L8: Difference between urban and rural ECEC centers (urban - rural) | N8: All ECEC centres | P8: Rural ECEC centres | R8: Urban ECEC centres | T8: Difference between urban and rural ECEC centers (urban - rural) | V8: All ECEC centres | X8: Rural ECEC centres | Z8: Urban ECEC centres | AB8: Difference between urban and rural ECEC centers (urban - rural)
B10: % | C10: S.E. | D10: % | E10: S.E. | F10: % | G10: S.E. | H10: % | I10: S.E. | J10: % | K10: S.E. | L10: % dif. | M10: S.E. | N10: % | O10: S.E. | P10: % | Q10: S.E. | R10: % | S10: S.E. | T10: % dif. | U10: S.E. | V10: % | W10: S.E. | X10: % | Y10: S.E. | Z10: % | AA10: S.E. | AB10: % dif. | AC10: S.E.
A11: ISCED 02 centres
A12: Chile | B12: 70.938741 | C12: 2.9945188 | D12: 29.061259 | E12: 2.9945188 | F12: 30.133682 | G12: 2.5381043 | H12: 26.034009 | I12: 5.570365 | J12: 32.30371 | K12: 3.5617001 | L12: 6.2697012 | M12: 7.3945768 | N12: 36.131094 | O12: 3.2038813 | P12: 36.404167 | Q12: 6.8482826 | R12: 36.607381 | S12: 3.8197665 | T12: 0.20321402 | U12: 8.164559 | V12: 33.735223 | W12: 2.9395874 | X12: 37.561824 | Y12: 6.8713503 | Z12: 31.088909 | AA12: 3.038222 | AB12: -6.4729152 | AC12: 7.5448664
A13: Germany* | B13: 52.227523 | C13: 3.2334199 | D13: 47.772477 | E13: 3.2334199 | F13: 44.079978 | G13: 2.9440258 | H13: 57.054497 | I13: 4.3441667 | J13: 32.311443 | K13: 4.3700954 | L13: -24.743053 | M13: 6.5094228 | N13: 30.179885 | O13: 3.0293501 | P13: 28.108836 | Q13: 4.2867622 | R13: 32.058429 | S13: 4.1438452 | T13: 3.9495937 | U13: 5.8487428 | V13: 25.740137 | W13: 2.3848808 | X13: 14.836668 | Y13: 3.2241056 | Z13: 35.630127 | AA13: 4.140229 | AB13: 20.79346 | AC13: 5.7031529
A14: Iceland | B14: 46.005131 | C14: 3.1964944 | D14: 53.994869 | E14: 3.1964944 | F14: 42.225896 | G14: 4.1820615 | H14: 48.802857 | I14: 5.3266185 | J14: 35.533755 | K14: 5.7270792 | L14: -13.269101 | M14: 7.3901958 | N14: 37.07022 | O14: 3.9510834 | P14: 30.231345 | Q14: 5.1645352 | R14: 45.998001 | S14: 5.8098409 | T14: 15.766656 | U14: 7.7427035 | V14: 19.018798 | W14: 2.9429064 | X14: 19.881958 | Y14: 4.0032202 | Z14: 18.468244 | AA14: 4.3679247 | AB14: -1.4137137 | AC14: 5.8943467
A15: Israel | B15: 59.881902 | C15: 2.4313767 | D15: 40.118098 | E15: 2.4313767 | F15: 71.640406 | G15: 2.1265455 | H15: 74.668676 | I15: 3.5193189 | J15: 70.214753 | K15: 2.8093641 | L15: -4.4539232 | M15: 4.3790452 | N15: 20.372521 | O15: 1.9863168 | P15: 20.077844 | Q15: 3.275947 | R15: 19.22036 | S15: 2.5274676 | T15: -0.85748423 | U15: 3.9752767 | V15: 7.987073 | W15: 1.197876 | X15: 5.2534799 | Y15: 1.8018115 | Z15: 10.564887 | AA15: 1.6433181 | AB15: 5.3114074 | AC15: 2.3822956
A16: Japan | B16: 91.69883 | C16: 2.6843508 | D16: 8.3011695 | E16: 2.6843508 | F16: 82.937928 | G16: 3.246256 | H16: 80.104241 | I16: 17.756208 | J16: 82.961014 | K16: 3.3512242 | L16: 2.8567731 | M16: 18.358834 | N16: 14.389691 | O16: 2.4700141 | P16: 19.895759 | Q16: 17.756208 | R16: 14.088121 | S16: 2.3645269 | T16: -5.8076374 | U16: 18.158958 | V16: 2.6723806 | W16: 2.0372401 | X16: c | Y16: c | Z16: 2.9508643 | AA16: 2.2466558 | AB16: c | AC16: c
A17: Korea | B17: 85.320237 | C17: 4.0692213 | D17: 14.679763 | E17: 4.0692213 | F17: 83.964153 | G17: 5.018268 | H17: 88.437666 | I17: 9.1304641 | J17: 83.390573 | K17: 5.4193362 | L17: -5.0470931 | M17: 9.8498563 | N17: 14.804346 | O17: 4.9965983 | P17: 11.562334 | Q17: 9.1304641 | R17: 15.55229 | S17: 5.412183 | T17: 3.9899558 | U17: 9.8401349 | V17: 0.89131733 | W17: 0.54026878 | X17: c | Y17: c | Z17: 1.0571374 | AA17: 0.64316476 | AB17: c | AC17: c
A18: Norway | B18: 40.202981 | C18: 3.6337983 | D18: 59.797019 | E18: 3.6337983 | F18: 52.150176 | G18: 4.5463374 | H18: 53.264554 | I18: 5.5886646 | J18: 51.508871 | K18: 7.5666286 | L18: -1.7556827 | M18: 9.2269822 | N18: 33.985551 | O18: 4.4659742 | P18: 30.987868 | Q18: 5.5026539 | R18: 39.10648 | S18: 7.2311183 | T18: 8.1186121 | U18: 9.0041513 | V18: 12.054301 | W18: 3.1860251 | X18: 14.560884 | Y18: 4.9629884 | Z18: 8.5609533 | AA18: 3.2986757 | AB18: -5.9999312 | AC18: 5.9871182
A19: Türkiye | B19: 59.647444 | C19: 3.5395934 | D19: 40.352556 | E19: 3.5395934 | F19: 61.115309 | G19: 3.5789628 | H19: 46.916812 | I19: 5.9885695 | J19: 70.880573 | K19: 4.1257222 | L19: 23.963762 | M19: 6.7745351 | N19: 26.664872 | O19: 3.5974145 | P19: 34.641132 | Q19: 7.2399246 | R19: 21.179061 | S19: 3.4613071 | T19: -13.462071 | U19: 7.9071466 | V19: 12.219819 | W19: 2.8618546 | X19: 18.442057 | Y19: 5.5861697 | Z19: 7.9403662 | AA19: 2.8522042 | AB19: -10.50169 | AC19: 6.1816008
A20: Denmark** | B20: 52.039781 | C20: 5.4919112 | D20: 47.960219 | E20: 5.4919112 | F20: 48.664808 | G20: 5.4384382 | H20: 52.631149 | I20: 7.4783162 | J20: 46.298267 | K20: 7.2842248 | L20: -6.3328821 | M20: 10.167512 | N20: 20.787806 | O20: 4.6704203 | P20: 20.823847 | Q20: 6.9881586 | R20: 18.656692 | S20: 6.4407612 | T20: -2.1671551 | U20: 9.7841964 | V20: 28.646432 | W20: 4.9895602 | X20: 22.52677 | Y20: 6.9694157 | Z20: 35.045041 | AA20: 6.2510567 | AB20: 12.518271 | AC20: 8.6138064
A22: Centres for children under age 3a
A23: Germany* | B23: 55.194182 | C23: 2.9587355 | D23: 44.805818 | E23: 2.9587355 | F23: 51.826004 | G23: 3.5688829 | H23: 66.06612 | I23: 4.8443341 | J23: 39.508594 | K23: 4.8688974 | L23: -26.557527 | M23: 6.6871954 | N23: 22.437969 | O23: 3.1373524 | P23: 16.418934 | Q23: 3.8939422 | R23: 28.069124 | S23: 4.5370649 | T23: 11.65019 | U23: 5.7685309 | V23: 25.736027 | W23: 2.9573603 | X23: 17.514945 | Y23: 3.872276 | Z23: 32.422282 | AA23: 4.6316894 | AB23: 14.907337 | AC23: 6.192101
A24: Israel | B24: 45.959897 | C24: 3.6693628 | D24: 54.040103 | E24: 3.6693628 | F24: 72.838572 | G24: 3.4518862 | H24: 92.885185 | I24: 2.558117 | J24: 51.066321 | K24: 6.4701102 | L24: -41.818864 | M24: 6.5383514 | N24: 20.559887 | O24: 2.9871746 | P24: 5.764735 | Q24: 2.24288 | R24: 36.375684 | S24: 5.7950479 | T24: 30.610948 | U24: 5.9747441 | V24: 6.601541 | W24: 1.744859 | X24: 1.3500796 | Y24: 1.3374369 | Z24: 12.557995 | AA24: 3.48775 | AB24: 11.207916 | AC24: 3.6716312
A25: Norway | B25: 40.773453 | C25: 3.9686464 | D25: 59.226547 | E25: 3.9686464 | F25: 54.820962 | G25: 4.211997 | H25: 64.012623 | I25: 5.4898979 | J25: 45.566115 | K25: 6.3027569 | L25: -18.446508 | M25: 8.4047247 | N25: 31.441779 | O25: 3.8156428 | P25: 30.612203 | Q25: 5.0935668 | R25: 35.102447 | S25: 6.4281637 | T25: 4.4902446 | U25: 8.4219155 | V25: 10.689567 | W25: 1.9725476 | X25: 5.3751748 | Y25: 2.3497237 | Z25: 19.331438 | AA25: 3.8678666 | AB25: 13.956263 | AC25: 4.6433145
A26: Denmark** | B26: 65.726899 | C26: 8.1544123 | D26: 34.273101 | E26: 8.1544123 | F26: 58.154884 | G26: 6.9549938 | H26: 67.090155 | I26: 13.449726 | J26: 53.495612 | K26: 9.3847356 | L26: -13.594543 | M26: 17.572536 | N26: 15.654824 | O26: 4.9008364 | P26: 10.605889 | Q26: 9.9149925 | R26: 18.287576 | S26: 5.8664238 | T26: 7.6816868 | U26: 11.690563 | V26: 26.190293 | W26: 6.6546361 | X26: 22.303956 | Y26: 11.72893 | Z26: 28.216812 | AA26: 8.8562648 | AB26: 5.9128559 | AC26: 15.723223
A30: a. Data reported for early learning settings with children under age 3 are limited to centre-based settings to ensure comparability with ISCED Level 02. Data from home-based settings are excluded from this table.
A31: * Estimates for sub-groups and estimated differences between sub-groups need to be interpreted with care. For more information, see Annex B in OECD (2019).
A32: ** Low response rates in the survey may result in bias in the estimates reported and limit comparability of the data.
