{"text_format":"1","workbook":"xlsx","n_sheets":29,"sheets":["README","DAC1a_E","DAC1b_E","CRSDATA","TOSSD","TOSSDKEEP","Mobilisation","Validation table","type_of_finance","tossd codelist","type_of_aid","donor_agency","Type of blended finance","Mobilisation codes","MOB_validation","PSI","Marker","Currency","IncomeGroup","Repayment","ChannelDiscountGroup","purpose_code","SDG_focus","channel_codes","type_of_flow","Bi_Multi","recipient_country","nature_of_submission","Donor"],"not_rendered":{"charts":0,"images":0,"macros":1,"external_links":4,"defined_names":526,"comments":0,"pivot_tables":0},"unopened":[],"bounds":{"document_bytes":16777216,"sheet_cells":100000,"rows_first":2000,"rows_last":500,"rows_between":2000,"halvings":0,"cell_chars":16384,"cell_head_chars":4096},"cells_cut":0,"cells_raw":0,"read":"whole","date_system":"1900"}

{"sheet":"README","index":0,"n_rows":0,"n_cols":0,"rows_kept":0,"cut":false,"hidden":false,"merged":[[7,1,7,15],[1,1,1,15],[3,1,3,15],[4,1,4,15],[5,1,5,15],[6,1,6,15],[27,1,27,15],[8,1,8,15],[9,1,9,15],[10,1,10,15],[11,1,11,15],[13,1,13,15],[14,1,14,15],[15,1,15,15],[16,1,16,15],[17,1,17,15],[18,1,18,15],[19,1,19,15],[47,1,47,15],[30,1,30,15],[34,1,34,15],[36,1,36,15],[38,1,38,15],[39,1,39,15],[40,1,40,15],[42,1,42,15],[43,1,43,15],[44,1,44,15],[45,1,45,15],[46,1,46,15],[54,1,54,15],[55,1,55,15],[56,1,56,15],[48,1,48,15],[49,1,49,15],[50,1,50,15],[51,1,51,15],[52,1,52,15],[53,1,53,15]]}

{"sheet":"DAC1a_E","index":1,"n_rows":27,"n_cols":3,"rows_kept":27,"cut":false,"hidden":false,"merged":[[26,0,26,2]]}
["TABLE DAC 1a","Reporting country:","???"]
["ODA GRANT EQUIVALENT MEASURE","Period:",2023]
["2024 edition","Date:","???"]
[]
["KEY INDICATORS"]
["GNI","001"]
["ODA GRANT EQUIVALENT % GNI","002"]
["POPULATION (millions)","004"]
["I. OFFICIAL DEVELOPMENT ASSISTANCE (I.A + I.B) *","1010",{"$f":"C10+C24","v":0}]
[" I.A ODA, bilateral total *","1015",{"$f":"C11+C12+C17+C18+C22","v":0}]
[" I.A.1 ODA bilateral grants",11016]
[" I.A.2 ODA grant equivalents of bilateral loans","11017",{"$f":"C13+C14+C15+C16","v":0}]
["    1. Loans to LDCs and other LICs","11019"]
["    2. Loans to LMICs","11020"]
["    3. Loans to UMICs","11021"]
["    4. Loans for multi-country agreements","11022"]
[" I.A.3 ODA, grant equivalents of debt relief",1600]
["I.A.4 ODA, Grant equivalents of private sector instruments (PSI)",11040,{"$f":"C19+C20+C21","v":0}]
["    1. Institutional approach, capital increases of ODA-eligible PSI vehicles","11041"]
["    2. Instrument approach, grant equivalents of individual PSI activities",11042]
["    3. Decapitalisations and dividends paid to the government",11043]
[" I.A.4 ODA, other bilateral, net flows *",11018,{"$f":"C23","v":0}]
["    1. Private sector instruments - instrument approach *",11024]
[" I.B ODA, multilateral total ",2000,{"$f":"C25+C26","v":0}]
[" I.B.1 ODA, multilateral grants and capital subscriptions",12100]
[" I.B.2 ODA grant equivalents of multilateral loans",12110]
["* Used under the instrument approach if using a transition period for implementing the revised methods for PSI."]

{"sheet":"DAC1b_E","index":2,"n_rows":146,"n_cols":11,"rows_kept":146,"cut":false,"hidden":false,"merged":[[4,3,4,7],[4,8,4,10],[6,3,6,5],[6,6,7,6],[6,7,7,7],[6,10,7,10]]}
["TABLE DAC 1b",null,null,null,null,null,null,null,"Reporting country:",null,"???"]
["DISBURSEMENTS AND COMMITMENTS OF OFFICIAL AND PRIVATE FLOWS",null,null,null,null,null,null,null,"Period:",null,2023]
["2024 edition",null,null,null,null,null,null,null,"Date:",null,"???"]
[]
[null,null,null,"D I S B U R S E M E N T S",null,null,null,null,"COMMITMENTS"]
[null,null,"1160",1121,1122,1120,1130,1140,1151,1152,1150]
["Million US dollars",null,null,"-------- Amounts extended --------",null,null,"Amounts received      (-) \nNon grants (2)","NET AMOUNTS",null,null,"Total commitments"]
[null,null,"Grant equivalents *","Grants (1)","Non grants","Total amounts extended",null,null,"Grants (1)","Non grants"]
["KEY INDICATORS",null,null,"/","/","/","/","/","/","/","/"]
["TOTAL FLOWS % GNI","003",null,"/","/","/","/",null,"/","/","/"]
["TOTAL OFFICIAL AND PRIVATE FLOWS (I+II+III+IV+V)","005","/",{"$f":"D12+D91+D125+D138","v":0},{"$f":"E12+E91+E121+E125","v":0},{"$f":"D11+E11","v":0},{"$f":"G12+G91+G121+G125+G138","v":0},{"$f":"F11+G11","v":0},"/","/","/"]
["I. OFFICIAL DEVELOPMENT ASSISTANCE (I.A + I.B) *","1010",{"$f":"C13+C73","v":0},{"$f":"D13+D73","v":0},{"$f":"E13+E73","v":0},{"$f":"D12+E12","v":0},{"$f":"G13+G73","v":0},0,{"$f":"I13+I73","v":0},{"$f":"J13+J73","v":0},{"$f":"I12+J12","v":0}]
["I.A. Bilateral Official Development Assistance by types of aid \n      (1+2+3+4+5+6+7+8+9+10+11) *","1015",{"$f":"C14+C17+C25+C30+C33+C36+C50+C51+C54+C55+C56","v":0},{"$f":"D14+D17+D25+D30+D33+D36+D50+D51","v":0},{"$f":"E14+E17+E25+E36","v":0},{"$f":"D13+E13","v":0},{"$f":"G14+G17+G25+G36+G54+G55","v":0},{"$f":"F13+G13","v":0},{"$f":"I14+I17+I25+I30+I33+I36+I50+I51+I54","v":0},{"$f":"J14+J17+J25+J36+J54","v":0},{"$f":"I13+J13","v":0}]
["1.  Budget support","1100",{"$f":"SUM(C15:C16)","v":0},{"$f":"SUM(D15:D16)","v":0},{"$f":"SUM(E15:E16)","v":0},0,0,0,0,0,0]
["  1.1 General budget support","1110",null,null,null,0,null,0,null,null,0]
["  1.2 Sector budget support","1120",null,null,null,0,null,0,null,null,0]
["2.  Bilateral core support & pooled programmes & funds","1200",{"$f":"C18+C23+C24","v":0},{"$f":"D18+D23+D24","v":0},{"$f":"E18+E23+E24","v":0},0,{"$f":"G18+G23+G24","v":0},0,{"$f":"I18+I23+I24","v":0},{"$f":"J18+J23+J24","v":0},0]
["  2.1 Core support to NGOs and civil society, PPPs & research institutes","1210",{"$f":"SUM(C19:C22)","v":0},{"$f":"SUM(D19:D22)","v":0},{"$f":"E21+E22","v":0},{"$f":"D18+E18","v":0},{"$f":"G21+G22","v":0},0,{"$f":"SUM(I19:I22)","v":0},{"$f":"J21+J22","v":0},0]
["       a) Core support to donor country-based NGOs & civil society","1211",null,null,"/",{"$f":"D19","v":0},"/",{"$f":"F19","v":0},null,"/",{"$f":"I19","v":0}]
["       b) Core support to international NGOs","1212",null,null,"/",{"$f":"D20","v":0},"/",{"$f":"F20","v":0},null,"/",{"$f":"I20","v":0}]
["       c) Core support to Public-Private Partnerships (including networks)","1213",null,null,null,{"$f":"D21+E21","v":0},null,{"$f":"F21+G21","v":0},null,null,{"$f":"I21+J21","v":0}]
["       d) Other","1214",null,null,null,{"$f":"D22+E22","v":0},null,0,null,null,0]
["  2.2 Specific-purpose programmes & funds managed by implementing partners","1220",null,null,null,{"$f":"D23+E23","v":0},null,0,null,null,0]
["  2.3 Basket funds/pooled funding","1230",null,null,null,{"$f":"D24+E24","v":0},null,0,null,null,0]
["3.  Project-type interventions","1300",{"$f":"C26+C27","v":0},{"$f":"D26+D27","v":0},{"$f":"E26+E27","v":0},{"$f":"D25+E25","v":0},{"$f":"G26+G27","v":0},0,{"$f":"I26+I27","v":0},{"$f":"J26+J27","v":0},0]
["  3.1 Investment projects","1310",null,null,null,0,null,0,null,null,0]
["  3.2 Other projects","1320",null,null,null,0,null,0,null,null,{"$f":"I27+J27","v":0}]
[" Memo:  Projects qualifying as programme-based approaches","1330",null,null,null,0,null,0,null,null,{"$f":"I28+J28","v":0}]
[" Memo:  Cost of donor experts incl. in project-type interventions (optional)","1301",null,null,null,0,null,0,null,null,{"$f":"I29+J29","v":0}]
["4.  Experts and other technical assistance","1400",{"$f":"SUM(C31:C32)","v":0},{"$f":"SUM(D31:D32)","v":0},"/",{"$f":"D30","v":0},"/",{"$f":"F30","v":0},{"$f":"SUM(I31:I32)","v":0},"/",{"$f":"I30","v":0}]
["  4.1 Donor country personnel","1410",null,null,"/",0,"/",0,null,"/",0]
["  4.2 Other technical assistance","1420",null,null,"/",0,"/",0,null,"/",0]
["5.  Scholarships and student costs in donor countries","1500",{"$f":"SUM(C34:C35)","v":0},{"$f":"SUM(D34:D35)","v":0},"/",0,"/",0,{"$f":"SUM(I34:I35)","v":0},"/",0]
["  5.1 Scholarships/training in donor country","1510",null,null,"/",0,"/",0,null,"/",0]
["  5.2 Imputed student costs","1520",null,null,"/",0,"/",0,null,"/",0]
["6.  Debt relief ","1600",{"$f":"C37+C43+C48","v":0},{"$f":"D37+D43","v":0},{"$f":"E37","v":0},0,{"$f":"G37+G48","v":0},{"$f":"F36+G36","v":0},{"$f":"I37+I43","v":0},{"$f":"J37","v":0},{"$f":"I36+J36","v":0}]
["   6.1 Debt forgiveness and debt rescheduling ","1610",{"$f":"SUM(C38:C41)","v":0},{"$f":"SUM(D38:D41)","v":0},{"$f":"SUM(E38:E40)","v":0},0,{"$f":"SUM(G38:G40)","v":0},{"$f":"F37+G37","v":0},{"$f":"SUM(I38:I41)","v":0},{"$f":"SUM(J38:J40)","v":0},{"$f":"I37+J37","v":0}]
["       a) ODA claims (for rescheduling, only capitalised interest) ","1611",null,null,null,0,null,{"$f":"F38+G38","v":0},null,null,{"$f":"I38+J38","v":0}]
["       b) OOF claims ","1615",null,null,null,0,null,{"$f":"F39+G39","v":0},null,null,{"$f":"I39+J39","v":0}]
["       c) Claims of officially supported export credits ","1616",null,null,null,0,null,{"$f":"F40+G40","v":0},null,null,{"$f":"I40+J40","v":0}]
["       d) Private claims ","1617",null,null,"/",{"$f":"D41","v":0},"/",{"$f":"F41","v":0},null,"/",{"$f":"I41","v":0}]
["   Memo:   Grants for debt service reduction ","1614",null,null,"/",0,"/",0,null,"/",0]
["   6.2 Other action on debt ","1620",{"$f":"SUM(C44:C47)","v":0},{"$f":"SUM(D44:D47)","v":0},"/",{"$f":"D43","v":0},"/",0,{"$f":"SUM(I44:I47)","v":0},"/",{"$f":"I43","v":0}]
["       a) Service payments to third parties ","1621",null,null,"/",0,"/",0,null,"/",0]
["       b) Debt conversion ","1622",null,null,"/",0,"/",0,null,"/",0]
["       c) Debt buybacks ","1623",null,null,"/",0,"/",0,null,"/",0]
["       d) Other ","1624",null,null,"/",0,"/",0,null,"/",0]
["   6.3 Offsetting entry for debt forgiveness (ODA claims, principal) ","1630",null,"/","/","/",null,{"$f":"G48","v":0},"/","/","/"]
["   Memo:  Offsetting entry for forgiven interest (ODA claims, interest) ","1640",null,"/","/","/",null,{"$f":"G49","v":0},"/","/","/"]
["7.  Administrative costs not included elsewhere","1700",null,null,"/",{"$f":"D50","v":0},"/",{"$f":"F50","v":0},null,"/",{"$f":"I50","v":0}]
["8.  Other in-donor expenditures","1800",{"$f":"SUM(C52:C53)","v":0},{"$f":"SUM(D52:D53)","v":0},"/",{"$f":"D51","v":0},"/",{"$f":"F51","v":0},{"$f":"SUM(I52:I53)","v":0},"/",{"$f":"I51","v":0}]
["  8.1 Development awareness","1810",null,null,"/",{"$f":"D52","v":0},"/",{"$f":"F52","v":0},null,"/",{"$f":"I52","v":0}]
["  8.2 Refugees in donor countries","1820",null,null,"/",{"$f":"D53","v":0},"/",{"$f":"F53","v":0},null,"/",{"$f":"I53","v":0}]
["9. Recoveries on bilateral ODA grants and negative commitments","1900",null,"/","/","/",null,{"$f":"G54","v":0},null,null,{"$f":"I54+J54","v":0}]
["10. Other loans repayments","1999",null,"/","/","/",null,{"$f":"G55","v":0},"/","/","/"]
["11. ODA, Grant equivalents of private sector instruments (PSI) ","11040",{"$f":"SUM(C57:C60)","v":0},"/","/","/","/","/","/","/","/"]
["  11.1 Institutional approach, capital increases of ODA-eligible PSI vehicles","11041",null,"/","/","/","/","/","/","/","/"]
["  11.2 Instrument approach, grant equivalents of individual PSI activities","11042",null,"/","/","/","/","/","/","/","/"]
["  11.3 Decapitalisations and dividends paid to the government","11044",null,"/","/","/","/","/","/","/","/"]
["  11.4  Instrument approach, net flows *","11024",null,"/","/","/","/","/","/","/","/"]
["Memo items for PSI:"]
["      Institutional approach, grant equivalents of individual PSI activities",1041,null,"/","/","/","/","/","/","/","/"]
["      Instrument approach, capital increases of ODAeligible PSI vehicles",1042,null,"/","/","/","/","/","/","/","/"]
["      Decapitalisations and dividends paid to the government ",1045,null,"/","/","/","/","/","/","/","/"]
["      Outstanding ODA equities upon transition to grant equivalent measurement ex ante",1044,null,"/","/","/","/","/","/","/","/"]
["Other memo items:"]
["  Programme-based approaches (PBAs)","1901",null,null,null,{"$f":"D67+E67","v":0},null,{"$f":"F67+G67","v":0},null,null,{"$f":"I67+J67","v":0}]
["  Free-standing technical co-operation (FTC)","1902",null,null,null,{"$f":"D68+E68","v":0},null,{"$f":"F68+G68","v":0},null,null,{"$f":"I68+J68","v":0}]
["  ODA channelled through private entities (as distinct from support to private sources)","1903",null,null,null,0,null,0,null,null,{"$f":"I69+J69","v":0}]
["  ODA channelled through multilateral organisations","1904",null,null,null,0,null,0,null,null,0]
["  Participation in international peacekeeping operations","1905",null,null,null,0,null,0,null,null,0]
["  Relief food aid","1906",null,null,null,0,null,0,null,null,0]
["I.B. Multilateral Official Development Assistance (capital subscriptions are included with grants)","2000",{"$f":"C74+C82","v":0},{"$f":"D74","v":0},{"$f":"E74","v":0},0,{"$f":"G74+G82","v":0},0,{"$f":"I74+I82","v":0},{"$f":"J74+J82","v":0},0]
["1. Multilateral contributions to:  ","2100",{"$f":"SUM(C75:C81)","v":0},{"$f":"SUM(D75:D81)","v":0},{"$f":"SUM(E75:E81)","v":0},0,{"$f":"SUM(G75:G81)","v":0},0,{"$f":"SUM(I75:I81)","v":0},{"$f":"SUM(J75:J81)","v":0},0]
["                                  1.1 UN agencies","2101",null,null,null,{"$f":"D75+E75","v":0},null,0,null,null,0]
["                                  1.2 European Union","2102",null,null,null,0,null,0,null,null,0]
["                                  1.3 IDA","2103",null,null,null,0,null,0,null,null,0]
["                                  1.4 Other World Bank (AMCs, IBRD,IFC,MIGA)","2104",null,null,null,0,null,0,null,null,0]
["                                  1.5 Regional development banks","2105",null,null,null,{"$f":"D79+E79","v":0},null,0,null,null,0]
["                                  1.6 Global Environment Facility","2106",null,null,null,0,null,0,null,null,0]
["                                  1.7 Other agencies","2108",null,null,null,0,null,0,null,null,{"$f":"I81+J81","v":0}]
["2. Recoveries on multilateral ODA grants and capital subscriptions and negative commitments","2110",null,"/","/","/",null,{"$f":"G82","v":0},null,null,{"$f":"I82+J82","v":0}]
["Memo (bilat. + multilat.):  "]
["               - HIPC Initiative","2901",null,null,"/",{"$f":"D84","v":0},"/",{"$f":"F84","v":0},"/","/","/"]
["              - IDA Debt Reduction Facility","2902",null,null,"/",{"$f":"D85","v":0},"/",{"$f":"F85","v":0},"/","/","/"]
["II.  PRIVATE SECTOR INSTRUMENTS (PSI) FLOWS","3400","/",{"$f":"D87+D88+D89+D90","v":0},{"$f":"E87+E88+E89+E90","v":0},{"$f":"D86+E86","v":0},{"$f":"G87+G88+G89+G90","v":0},{"$f":"F86+G86","v":0},"/","/","/"]
["  1. Grants","3401","/",null,null,0,null,{"$f":"F87+G87","v":0},"/","/","/"]
["  2. Debt instruments","3402","/",null,null,0,null,{"$f":"F88+G88","v":0},"/","/","/"]
["  3. Equities and shares in collective investment vehicles","3403","/",null,null,0,null,{"$f":"F89+G89","v":0},"/","/","/"]
["  4.  Mezzanine finance instruments","3404","/",null,null,0,null,{"$f":"F90+G90","v":0},"/","/","/"]
["III. OTHER OFFICIAL FLOWS","200","/",{"$f":"D92+D109","v":0},{"$f":"E92+E109","v":0},0,{"$f":"G92+G109","v":0},{"$f":"F91+G91","v":0},{"$f":"I92+I109","v":0},{"$f":"J92+J109","v":0},{"$f":"I91+J91","v":0}]
["III.A. Other Official Bilateral Flows ","210","/",{"$f":"D93+D106","v":0},{"$f":"E93+E94+E100+E106","v":0},0,{"$f":"G93+G94+G100+G106+G107+G108","v":0},{"$f":"F92+G92","v":0},{"$f":"I93+I106","v":0},{"$f":"J93+J94+J100+J106","v":0},{"$f":"I92+J92","v":0}]
["1.  Budget Support","2210","/",null,null,0,null,0,null,null,{"$f":"I93+J93","v":0}]
["2.  Investment-related transactions","2220","/","/",{"$f":"E95+E96+E98","v":0},{"$f":"F95+F96+F98","v":0},{"$f":"G95+G96+G98","v":0},{"$f":"H95+H96+H98","v":0},"/",{"$f":"J95+J96+J98","v":0},{"$f":"K95+K96+K98","v":0}]
["  2.1 Through debt","2221","/","/",null,{"$f":"E95","v":0},null,{"$f":"F95+G95","v":0},"/",null,{"$f":"J95","v":0}]
["  2.2 Through equity investments","2222","/","/",null,{"$f":"E96","v":0},null,{"$f":"F96+G96","v":0},"/",null,{"$f":"J96","v":0}]
["            of which shares in CIVs","2223","/","/",null,{"$f":"E97","v":0},null,{"$f":"F97+G97","v":0},"/",null,{"$f":"J97","v":0}]
["  2.3 Through mezzanine finance","2224","/","/",null,{"$f":"E98","v":0},null,{"$f":"F98+G98","v":0},"/",null,{"$f":"J98","v":0}]
[" Memo:  Investment-related transactions, of which to the private sector","2225","/","/",null,{"$f":"E99","v":0},null,{"$f":"F99+G99","v":0},"/",null,{"$f":"J99","v":0}]
["3.  Debt rescheduling","300","/","/",{"$f":"E101+E105","v":0},{"$f":"E100","v":0},{"$f":"G101+G105","v":0},0,"/",{"$f":"J101+J105","v":0},{"$f":"J100","v":0}]
["  3.1 Non-concessional rescheduling","301","/","/",{"$f":"SUM(E102:E104)","v":0},0,{"$f":"SUM(G102:G104)","v":0},0,"/",{"$f":"SUM(J102:J104)","v":0},0]
["        a) OOF claims (capitalised interest)","304","/","/",null,0,null,0,"/",null,0]
["        b) Claims of officially supported export credits","305","/","/",null,0,null,0,"/",null,0]
["        c) Private claims","306","/","/",null,0,null,0,"/",null,0]
["  3.2 OOF component of debt service reduction","303","/","/",null,0,null,0,"/",null,0]
["4.  Other claims and grants","298","/"]
["5.  Offsetting entry for debt relief (claims of OOF, principal)","1020","/","/","/","/",null,{"$f":"G107","v":0},"/","/","/"]
["6.  Offsetting entry for PSI reported using the institutional approach","307","/","/","/","/",null,{"$f":"G108","v":0},"/","/","/"]
["III.B. Transactions with Multilateral Agencies at Market Terms","325","/",{"$f":"D111","v":0},{"$f":"SUM(E110:E111)","v":0},{"$f":"D109+E109","v":0},{"$f":"SUM(G110:G111)","v":0},0,{"$f":"I111","v":0},{"$f":"SUM(J110:J111)","v":0},{"$f":"I109+J109","v":0}]
["1.  Purchase of securities from issuing agencies","326","/","/",null,{"$f":"E110","v":0},null,0,"/",null,{"$f":"J110","v":0}]
["2.  Other transactions","327","/",null,null,{"$f":"D111+E111","v":0},null,0,null,null,{"$f":"I111+J111","v":0}]
["Memo:  - Interest received on OOF, total (bilat.+multilat.)","7950","/","/","/","/",{"$f":"SUM(G113:G114)","v":0},{"$f":"G112","v":0},"/","/","/"]
["                      - Bilateral","8000","/","/","/","/",null,{"$f":"G113","v":0},"/","/","/"]
["                      - Multilateral    ","805","/","/","/","/",null,{"$f":"G114","v":0},"/","/","/"]
["              - Offsetting entry for forgiven interest (claims of OOF, interest) ","7860","/","/","/","/",null,{"$f":"G115","v":0},"/","/","/"]
["Memo items on development finance interventions (I. ODA + II. PSI flows + III. OOF): ",null,"/","/","/","/"]
["               1. Development finance in blended finance packages","2231","/","/",null,null,null,{"$f":"F117+G117","v":0}]
["                    of which through funds and facilities","2232","/","/",null,null,null,0]
["               2. Amounts mobilised from the private sector","2233","/","/",null,null,null,0]
["                    of which through guarantees","2234","/","/",null,null,null,0]
["IV. OFFICIALLY SUPPORTED EXPORT CREDITS","3000","/","/",{"$f":"E122+E123","v":0},{"$f":"E121","v":0},{"$f":"G122+G123+G124","v":0},0,"/","/","/"]
["IV.A. Official direct export credits","3100","/","/",null,{"$f":"E122","v":0},null,0,"/","/","/"]
["IV.B. Officially guaranteed or insured export credits ","3200","/","/",null,{"$f":"E123","v":0},null,0,"/","/","/"]
["IV.C.  Offsetting entry for debt relief (export credit claims, principal)","3102","/","/","/","/",null,{"$f":"G124","v":0},"/","/","/"]
["V. PRIVATE FLOWS AT MARKET TERMS","3300","/",{"$f":"D137","v":0},{"$f":"E126+E137","v":0},{"$f":"E125+D125","v":0},{"$f":"G126+G137","v":0},{"$f":"F125+G125","v":0},"/","/","/"]
["V.A. Bilateral Private Flows","3320","/","/",{"$f":"E127+E129","v":0},{"$f":"E126","v":0},{"$f":"G127+G129+G136","v":0},{"$f":"F126+G126","v":0},"/","/","/"]
["1.  Direct Investment","340","/","/",null,{"$f":"E127","v":0},null,{"$f":"F127+G127","v":0},"/","/","/"]
["     of which:   New capital outflows","345","/","/",null,{"$f":"E128","v":0},null,{"$f":"F128+G128","v":0},"/","/","/"]
["2.  Other securities and claims","3530","/","/",{"$f":"E130+E133","v":0},0,{"$f":"G130+G133","v":0},0,"/","/","/"]
["   2.1 Total banks (long-term)","3840","/","/",{"$f":"E131+E132","v":0},0,{"$f":"SUM(G131:G132)","v":0},0,"/","/","/"]
["        a) Bonds","751","/","/",null,0,null,0,"/","/","/"]
["        b) Other bank","7530","/","/",null,0,null,0,"/","/","/"]
["   2.2 Non-banks","3860","/","/",{"$f":"SUM(E134:E135)","v":0},0,{"$f":"SUM(G134:G135)","v":0},{"$f":"F133+G133","v":0},"/","/","/"]
["        a) Bonds","388","/","/",null,0,null,0,"/","/","/"]
["        b) Other securities (incl. equities)","3890","/","/",null,0,null,0,"/","/","/"]
["3.  Offsetting entry for debt relief (other private claims, principal)","1030","/","/","/","/",null,{"$f":"G136","v":0},"/","/","/"]
["V.B. Multilateral Private Flows","359","/",null,null,{"$f":"D137+E137","v":0},null,{"$f":"F137+G137","v":0},"/","/","/"]
["VI. NET PRIVATE GRANTS","415","/",{"$f":"D139","v":0},"/",{"$f":"D138","v":0},{"$f":"G140","v":0},{"$f":"F138+G138","v":0},"/","/","/"]
["derived as:  1.  Gross outflow from private sources, less","425","/",null,"/",{"$f":"D139","v":0},"/",{"$f":"F139","v":0},"/","/","/"]
["                    2.  Support received from official sector","420","/","/","/","/",null,{"$f":"G140","v":0},"/","/","/"]
["VII. ITEM ONLY PARTLY COVERED IN DAC RESOURCE FLOW STATISTICS",null,"/","/","/","/","/","/","/","/","/"]
["1.  Total participation in peacebuilding operations (incl. non-ODA)","207","/",null,null,{"$f":"D142+E142","v":0},null,{"$f":"F142+G142","v":0},"/","/","/"]
[]
["(1) Also includes capital subscriptions to multilateral agencies."]
["(2) Also includes total recoveries on grants and capital subscriptions (codes 1900 and 2110)."]
["* Used under the instrument approach if using a transition period for implementing the revised methods for PSI."]

{"sheet":"CRSDATA","index":3,"n_rows":3,"n_cols":73,"rows_kept":3,"cut":false,"hidden":false,"merged":[]}
["A. Identification data",null,null,null,null,null,null,"B.Basic data",null,null,null,null,null,null,null,null,"C. Supplementary data",null,null,null,null,"Asterisk (*) means that reporting in the field is optional",null,null,null,null,null,null,null,null,null,null,null,null,null,null,null,null,"D. Volume data",null,null,null,null,"FOR OECD USE ONLY",null,null,null,null,null,null,null,null,null,null,null,"E. For non-grant instruments",null,null,null,null,null,null,null,null,null,null,null,"F. For PSI ",null,null,"FOR OECD USE ONLY (not to be filled)","FOR OECD USE ONLY (not to be filled)","FOR OECD USE ONLY (not to be filled)"]
["Reporting year","Commitment date (dd-mm-yyyy)","Reporting country / organisation","Extending agency","CRS Identification N°","Donor project N°","Nature of submission","Recipient code","Channel of delivery name","Channel code","Bi/Multi","Type of flow (main DAC 1 category)","Type of finance","Co-operation modality (replaces the type of aid)","Short description / Project title","Sector / Purpose code and corresponding shares","Geographical target area","Regional aid to LDCs (codes 1-5)","Expected starting date ","Expected completion date","Description","SDG focus*","Keywords*","Gender equality","Aid to environment","DIG","RMNCH","Disaster Risk Reduction","Nutrition*","Inclusion and empowerment of persons with disabilities*","FTC","PBA","Investment","Type of blended finance (codes 1-4) ","Biodiversity","Climate change - mitigation","Climate change - adaptation","Desertification","Currency","Commitments","Capital Expenditure %*","Amounts extended","ODA grant equivalent"," Amounts received (for loans:principal only)","Amount untied","Amount partially untied","Amount tied","Amount of IRTC","If project type, amount of experts-commitments*","If project type, amount of experts-extended*","Amount of export credit","Leveraging mechanism and role/position","Amounts mobilised from the private sector","Origin of the funds mobilised","Type or repayment \nor type of fee payment","Number of repayment \nor fee payment per annum","Interest rate /\n Fee rate /\nExpected return per annum","Second interest rate","First repayment date /\nExposure reduction starting date \n(dd-mm-yyyy)","Final repayment date / \nGuarantee maturity date / \nExpected maturity \n(dd-mm-yyyy)","Interest received / \nGuarantee fee received / \nDividends received per annum","Principal disbursed and still outstanding / \nEquity disbursed and still held","Arrears of principal (included in the item 62)","Arrears of interest / \nArrears of guarantee fee","Guaranteed amount","Average use of portfolio guarantee %","PSI flag","Additionality type","Additionality assessment","Additionality – development objective","Income Group ","Discount Rate","Grant Element"]
[1,2,3,4,5,6,7,8,9,10,11,12,13,14,15,16,17,18,19,20,21,22,23,24,25,26,27,28,29,30,31,32,33,34,35,36,37,38,39,40,41,42,43,44,45,46,47,48,49,50,51,52,53,54,55,56,57,58,59,60,61,62,63,64,65,66,67,68,69,70,71,72]

{"sheet":"TOSSD","index":4,"n_rows":300,"n_cols":31,"rows_kept":300,"cut":false,"hidden":false,"merged":[[0,0,0,4],[0,19,0,23],[0,5,0,17]]}
["A Identification data",null,null,null,null,null,null,null,null,null,null,null,null,null,null,null,null,null,null,"C. Volume data",null,null,null,null,"For in-kind technical co-operation","For loans only",null,"For mobilisation only"]
["1.Reporting year","2.Provider country/institution","3.Provider agency","4.Provider project number","5.TOSSD ID Number","6.TOSSD recipient","7.Project title","8.Description","9.External link","10a.SDG focus","10b. Keywords","11.Sector","12.Channelcode","13.Channel name","14.Modality","15.Financial instrument","16. Financing arrangement","17. Framework of collaboration","18. TOSSD pillar","19. Currency","20.   Amount committed (thousand)","21.   Amount disbursed (thousand)","22.   Reflows to the provider (thousand)","23.Amount mobilised  (thousand)","24. Salary cost (thousand)","25. Concessionality","26.Maturity (in months)","27.Leveraging mechanism","28.Origin of the funds mobilised","For reference: category of flows","Notes"]
[1,2,3,4,5,6,7,8,9,"10a","10b",11,12,13,14,15,16,17,18,19,20,21,22,23,24,25,26,27,28]
[{"$f":"CRSDATA!A4","v":0},{"$f":"CRSDATA!C4","v":0},{"$f":"CRSDATA!D4","v":0},{"$f":"CRSDATA!F4","v":0},{"$f":"CRSDATA!E4","v":0},{"$f":"IF(CRSDATA!H4=3000,998,CRSDATA!H4)","v":0},{"$f":"CRSDATA!O4","v":0},{"$f":"CRSDATA!U4","v":0},null,{"$f":"IF(CRSDATA!V4=\"\",\"\",CRSDATA!V4)","v":""},{"$f":"key_row(CRSDATA!W4,CRSDATA!X4,CRSDATA!AK4,CRSDATA!AJ4,CRSDATA!P4,CRSDATA!V4)","v":""},{"$f":"CRSDATA!P4","v":0},{"$f":"CRSDATA!J4","v":0},{"$f":"CRSDATA!I4","v":0},{"$f":"IF(LEFT(CRSDATA!N4,2)=\"A0\",\"A00\",IF(LEFT(CRSDATA!N4,3)=\"B02\",\"B02\",IF(LEFT(CRSDATA!N4,3)=\"B03\",\"B03\",IF(CRSDATA!N4=\"B04\",\"C01\",IF(CRSDATA!N4=\"H01\",\"H00\",IF(OR(CRSDATA!N4=\"H02\",CRSDATA!N4=\"H03\",CRSDATA!N4=\"H04\",CRSDATA!N4=\"H05\",CRSDATA!N4=\"H06\"),\"I01\",CRSDATA!N4))))))","v":0},{"$f":"CRSDATA!M4","v":0},{"$f":"IF(CRSDATA!L4=22,\"FA04\",\"\")","v":""},{"$f":"IF(CRSDATA!K4=8,\"FC02\",\"\")","v":""},{"$f":"IF(OR(O4=\"B02\",O4=\"E02\",O4=\"G01\",O4=\"H00\",O4=\"I01\"),2,IF(OR(O4=\"A00\",O4=\"E01\",O4=\"F01\",P4=510,P4=520),1,IF(VLOOKUP(F4,recipient_country!AB:AD,3,FALSE)=\"Part I unallocated by income\",\"\",1)))","v":{"$error":"#N/A"}},{"$f":"CRSDATA!AM4","v":0},{"$f":"CRSDATA!AN4","v":0},{"$f":"CRSDATA!AP4","v":0},{"$f":"CRSDATA!AR4","v":0},{"$f":"CRSDATA!BA4","v":0},null,{"$f":"IF(Q4=\"FA04\",0,\"\")","v":""},{"$f":"IF(CRSDATA!M4=421,DATEDIF(CRSDATA!B4,CRSDATA!BH4,\"m\"),\"\")","v":""},{"$f":"CRSDATA!AZ4","v":0},{"$f":"CRSDATA!BB4","v":0},{"$f":"CRSDATA!L4","v":0}]
[{"$f":"CRSDATA!A5","v":0},{"$f":"CRSDATA!C5","v":0},{"$f":"CRSDATA!D5","v":0},{"$f":"CRSDATA!F5","v":0},{"$f":"CRSDATA!E5","v":0},{"$f":"IF(CRSDATA!H5=3000,998,CRSDATA!H5)","v":0},{"$f":"CRSDATA!O5","v":0},{"$f":"CRSDATA!U5","v":0},null,{"$f":"IF(CRSDATA!V5=\"\",\"\",CRSDATA!V5)","v":""},{"$f":"key_row(CRSDATA!W5,CRSDATA!X5,CRSDATA!AK5,CRSDATA!AJ5,CRSDATA!P5,CRSDATA!V5)","v":""},{"$f":"CRSDATA!P5","v":0},{"$f":"CRSDATA!J5","v":0},{"$f":"CRSDATA!I5","v":0},{"$f":"IF(LEFT(CRSDATA!N5,2)=\"A0\",\"A00\",IF(LEFT(CRSDATA!N5,3)=\"B02\",\"B02\",IF(LEFT(CRSDATA!N5,3)=\"B03\",\"B03\",IF(CRSDATA!N5=\"B04\",\"C01\",IF(CRSDATA!N5=\"H01\",\"H00\",IF(OR(CRSDATA!N5=\"H02\",CRSDATA!N5=\"H03\",CRSDATA!N5=\"H04\",CRSDATA!N5=\"H05\",CRSDATA!N5=\"H06\"),\"I01\",CRSDATA!N5))))))","v":0},{"$f":"CRSDATA!M5","v":0},{"$f":"IF(CRSDATA!L5=22,\"FA04\",\"\")","v":""},{"$f":"IF(CRSDATA!K5=8,\"FC02\",\"\")","v":""},{"$f":"IF(OR(O5=\"B02\",O5=\"E02\",O5=\"G01\",O5=\"H00\",O5=\"I01\"),2,IF(OR(O5=\"A00\",O5=\"E01\",O5=\"F01\",P5=510,P5=520),1,IF(VLOOKUP(F5,recipient_country!AB:AD,3,FALSE)=\"Part I unallocated by income\",\"\",1)))","v":{"$error":"#N/A"}},{"$f":"CRSDATA!AM5","v":0},{"$f":"CRSDATA!AN5","v":0},{"$f":"CRSDATA!AP5","v":0},{"$f":"CRSDATA!AR5","v":0},{"$f":"CRSDATA!BA5","v":0},null,"",{"$f":"IF(CRSDATA!M5=421,DATEDIF(CRSDATA!B5,CRSDATA!BH5,\"m\"),\"\")","v":""},{"$f":"CRSDATA!AZ5","v":0},{"$f":"CRSDATA!BB5","v":0},{"$f":"CRSDATA!L5","v":0}]
[{"$f":"CRSDATA!A6","v":0},{"$f":"CRSDATA!C6","v":0},{"$f":"CRSDATA!D6","v":0},{"$f":"CRSDATA!F6","v":0},{"$f":"CRSDATA!E6","v":0},{"$f":"IF(CRSDATA!H6=3000,998,CRSDATA!H6)","v":0},{"$f":"CRSDATA!O6","v":0},{"$f":"CRSDATA!U6","v":0},null,{"$f":"IF(CRSDATA!V6=\"\",\"\",CRSDATA!V6)","v":""},{"$f":"key_row(CRSDATA!W6,CRSDATA!X6,CRSDATA!AK6,CRSDATA!AJ6,CRSDATA!P6,CRSDATA!V6)","v":""},{"$f":"CRSDATA!P6","v":0},{"$f":"CRSDATA!J6","v":0},{"$f":"CRSDATA!I6","v":0},{"$f":"IF(LEFT(CRSDATA!N6,2)=\"A0\",\"A00\",IF(LEFT(CRSDATA!N6,3)=\"B02\",\"B02\",IF(LEFT(CRSDATA!N6,3)=\"B03\",\"B03\",IF(CRSDATA!N6=\"B04\",\"C01\",IF(CRSDATA!N6=\"H01\",\"H00\",IF(OR(CRSDATA!N6=\"H02\",CRSDATA!N6=\"H03\",CRSDATA!N6=\"H04\",CRSDATA!N6=\"H05\",CRSDATA!N6=\"H06\"),\"I01\",CRSDATA!N6))))))","v":0},{"$f":"CRSDATA!M6","v":0},{"$f":"IF(CRSDATA!L6=22,\"FA04\",\"\")","v":""},{"$f":"IF(CRSDATA!K6=8,\"FC02\",\"\")","v":""},{"$f":"IF(OR(O6=\"B02\",O6=\"E02\",O6=\"G01\",O6=\"H00\",O6=\"I01\"),2,IF(OR(O6=\"A00\",O6=\"E01\",O6=\"F01\",P6=510,P6=520),1,IF(VLOOKUP(F6,recipient_country!AB:AD,3,FALSE)=\"Part I unallocated by income\",\"\",1)))","v":{"$error":"#N/A"}},{"$f":"CRSDATA!AM6","v":0},{"$f":"CRSDATA!AN6","v":0},{"$f":"CRSDATA!AP6","v":0},{"$f":"CRSDATA!AR6","v":0},{"$f":"CRSDATA!BA6","v":0},null,"",{"$f":"IF(CRSDATA!M6=421,DATEDIF(CRSDATA!B6,CRSDATA!BH6,\"m\"),\"\")","v":""},{"$f":"CRSDATA!AZ6","v":0},{"$f":"CRSDATA!BB6","v":0},{"$f":"CRSDATA!L6","v":0}]
[{"$f":"CRSDATA!A7","v":0},{"$f":"CRSDATA!C7","v":0},{"$f":"CRSDATA!D7","v":0},{"$f":"CRSDATA!F7","v":0},{"$f":"CRSDATA!E7","v":0},{"$f":"IF(CRSDATA!H7=3000,998,CRSDATA!H7)","v":0},{"$f":"CRSDATA!O7","v":0},{"$f":"CRSDATA!U7","v":0},null,{"$f":"IF(CRSDATA!V7=\"\",\"\",CRSDATA!V7)","v":""},{"$f":"key_row(CRSDATA!W7,CRSDATA!X7,CRSDATA!AK7,CRSDATA!AJ7,CRSDATA!P7,CRSDATA!V7)","v":""},{"$f":"CRSDATA!P7","v":0},{"$f":"CRSDATA!J7","v":0},{"$f":"CRSDATA!I7","v":0},{"$f":"IF(LEFT(CRSDATA!N7,2)=\"A0\",\"A00\",IF(LEFT(CRSDATA!N7,3)=\"B02\",\"B02\",IF(LEFT(CRSDATA!N7,3)=\"B03\",\"B03\",IF(CRSDATA!N7=\"B04\",\"C01\",IF(CRSDATA!N7=\"H01\",\"H00\",IF(OR(CRSDATA!N7=\"H02\",CRSDATA!N7=\"H03\",CRSDATA!N7=\"H04\",CRSDATA!N7=\"H05\",CRSDATA!N7=\"H06\"),\"I01\",CRSDATA!N7))))))","v":0},{"$f":"CRSDATA!M7","v":0},{"$f":"IF(CRSDATA!L7=22,\"FA04\",\"\")","v":""},{"$f":"IF(CRSDATA!K7=8,\"FC02\",\"\")","v":""},{"$f":"IF(OR(O7=\"B02\",O7=\"E02\",O7=\"G01\",O7=\"H00\",O7=\"I01\"),2,IF(OR(O7=\"A00\",O7=\"E01\",O7=\"F01\",P7=510,P7=520),1,IF(VLOOKUP(F7,recipient_country!AB:AD,3,FALSE)=\"Part I unallocated by income\",\"\",1)))","v":{"$error":"#N/A"}},{"$f":"CRSDATA!AM7","v":0},{"$f":"CRSDATA!AN7","v":0},{"$f":"CRSDATA!AP7","v":0},{"$f":"CRSDATA!AR7","v":0},{"$f":"CRSDATA!BA7","v":0},null,"",{"$f":"IF(CRSDATA!M7=421,DATEDIF(CRSDATA!B7,CRSDATA!BH7,\"m\"),\"\")","v":""},{"$f":"CRSDATA!AZ7","v":0},{"$f":"CRSDATA!BB7","v":0},{"$f":"CRSDATA!L7","v":0}]
[{"$f":"CRSDATA!A8","v":0},{"$f":"CRSDATA!C8","v":0},{"$f":"CRSDATA!D8","v":0},{"$f":"CRSDATA!F8","v":0},{"$f":"CRSDATA!E8","v":0},{"$f":"IF(CRSDATA!H8=3000,998,CRSDATA!H8)","v":0},{"$f":"CRSDATA!O8","v":0},{"$f":"CRSDATA!U8","v":0},null,{"$f":"IF(CRSDATA!V8=\"\",\"\",CRSDATA!V8)","v":""},{"$f":"key_row(CRSDATA!W8,CRSDATA!X8,CRSDATA!AK8,CRSDATA!AJ8,CRSDATA!P8,CRSDATA!V8)","v":""},{"$f":"CRSDATA!P8","v":0},{"$f":"CRSDATA!J8","v":0},{"$f":"CRSDATA!I8","v":0},{"$f":"IF(LEFT(CRSDATA!N8,2)=\"A0\",\"A00\",IF(LEFT(CRSDATA!N8,3)=\"B02\",\"B02\",IF(LEFT(CRSDATA!N8,3)=\"B03\",\"B03\",IF(CRSDATA!N8=\"B04\",\"C01\",IF(CRSDATA!N8=\"H01\",\"H00\",IF(OR(CRSDATA!N8=\"H02\",CRSDATA!N8=\"H03\",CRSDATA!N8=\"H04\",CRSDATA!N8=\"H05\",CRSDATA!N8=\"H06\"),\"I01\",CRSDATA!N8))))))","v":0},{"$f":"CRSDATA!M8","v":0},{"$f":"IF(CRSDATA!L8=22,\"FA04\",\"\")","v":""},{"$f":"IF(CRSDATA!K8=8,\"FC02\",\"\")","v":""},{"$f":"IF(OR(O8=\"B02\",O8=\"E02\",O8=\"G01\",O8=\"H00\",O8=\"I01\"),2,IF(OR(O8=\"A00\",O8=\"E01\",O8=\"F01\",P8=510,P8=520),1,IF(VLOOKUP(F8,recipient_country!AB:AD,3,FALSE)=\"Part I unallocated by income\",\"\",1)))","v":{"$error":"#N/A"}},{"$f":"CRSDATA!AM8","v":0},{"$f":"CRSDATA!AN8","v":0},{"$f":"CRSDATA!AP8","v":0},{"$f":"CRSDATA!AR8","v":0},{"$f":"CRSDATA!BA8","v":0},null,"",{"$f":"IF(CRSDATA!M8=421,DATEDIF(CRSDATA!B8,CRSDATA!BH8,\"m\"),\"\")","v":""},{"$f":"CRSDATA!AZ8","v":0},{"$f":"CRSDATA!BB8","v":0},{"$f":"CRSDATA!L8","v":0}]
[{"$f":"CRSDATA!A9","v":0},{"$f":"CRSDATA!C9","v":0},{"$f":"CRSDATA!D9","v":0},{"$f":"CRSDATA!F9","v":0},{"$f":"CRSDATA!E9","v":0},{"$f":"IF(CRSDATA!H9=3000,998,CRSDATA!H9)","v":0},{"$f":"CRSDATA!O9","v":0},{"$f":"CRSDATA!U9","v":0},null,{"$f":"IF(CRSDATA!V9=\"\",\"\",CRSDATA!V9)","v":""},{"$f":"key_row(CRSDATA!W9,CRSDATA!X9,CRSDATA!AK9,CRSDATA!AJ9,CRSDATA!P9,CRSDATA!V9)","v":""},{"$f":"CRSDATA!P9","v":0},{"$f":"CRSDATA!J9","v":0},{"$f":"CRSDATA!I9","v":0},{"$f":"IF(LEFT(CRSDATA!N9,2)=\"A0\",\"A00\",IF(LEFT(CRSDATA!N9,3)=\"B02\",\"B02\",IF(LEFT(CRSDATA!N9,3)=\"B03\",\"B03\",IF(CRSDATA!N9=\"B04\",\"C01\",IF(CRSDATA!N9=\"H01\",\"H00\",IF(OR(CRSDATA!N9=\"H02\",CRSDATA!N9=\"H03\",CRSDATA!N9=\"H04\",CRSDATA!N9=\"H05\",CRSDATA!N9=\"H06\"),\"I01\",CRSDATA!N9))))))","v":0},{"$f":"CRSDATA!M9","v":0},{"$f":"IF(CRSDATA!L9=22,\"FA04\",\"\")","v":""},{"$f":"IF(CRSDATA!K9=8,\"FC02\",\"\")","v":""},{"$f":"IF(OR(O9=\"B02\",O9=\"E02\",O9=\"G01\",O9=\"H00\",O9=\"I01\"),2,IF(OR(O9=\"A00\",O9=\"E01\",O9=\"F01\",P9=510,P9=520),1,IF(VLOOKUP(F9,recipient_country!AB:AD,3,FALSE)=\"Part I unallocated by income\",\"\",1)))","v":{"$error":"#N/A"}},{"$f":"CRSDATA!AM9","v":0},{"$f":"CRSDATA!AN9","v":0},{"$f":"CRSDATA!AP9","v":0},{"$f":"CRSDATA!AR9","v":0},{"$f":"CRSDATA!BA9","v":0},null,"",{"$f":"IF(CRSDATA!M9=421,DATEDIF(CRSDATA!B9,CRSDATA!BH9,\"m\"),\"\")","v":""},{"$f":"CRSDATA!AZ9","v":0},{"$f":"CRSDATA!BB9","v":0},{"$f":"CRSDATA!L9","v":0}]
[{"$f":"CRSDATA!A10","v":0},{"$f":"CRSDATA!C10","v":0},{"$f":"CRSDATA!D10","v":0},{"$f":"CRSDATA!F10","v":0},{"$f":"CRSDATA!E10","v":0},{"$f":"IF(CRSDATA!H10=3000,998,CRSDATA!H10)","v":0},{"$f":"CRSDATA!O10","v":0},{"$f":"CRSDATA!U10","v":0},null,{"$f":"IF(CRSDATA!V10=\"\",\"\",CRSDATA!V10)","v":""},{"$f":"key_row(CRSDATA!W10,CRSDATA!X10,CRSDATA!AK10,CRSDATA!AJ10,CRSDATA!P10,CRSDATA!V10)","v":""},{"$f":"CRSDATA!P10","v":0},{"$f":"CRSDATA!J10","v":0},{"$f":"CRSDATA!I10","v":0},{"$f":"IF(LEFT(CRSDATA!N10,2)=\"A0\",\"A00\",IF(LEFT(CRSDATA!N10,3)=\"B02\",\"B02\",IF(LEFT(CRSDATA!N10,3)=\"B03\",\"B03\",IF(CRSDATA!N10=\"B04\",\"C01\",IF(CRSDATA!N10=\"H01\",\"H00\",IF(OR(CRSDATA!N10=\"H02\",CRSDATA!N10=\"H03\",CRSDATA!N10=\"H04\",CRSDATA!N10=\"H05\",CRSDATA!N10=\"H06\"),\"I01\",CRSDATA!N10))))))","v":0},{"$f":"CRSDATA!M10","v":0},{"$f":"IF(CRSDATA!L10=22,\"FA04\",\"\")","v":""},{"$f":"IF(CRSDATA!K10=8,\"FC02\",\"\")","v":""},{"$f":"IF(OR(O10=\"B02\",O10=\"E02\",O10=\"G01\",O10=\"H00\",O10=\"I01\"),2,IF(OR(O10=\"A00\",O10=\"E01\",O10=\"F01\",P10=510,P10=520),1,IF(VLOOKUP(F10,recipient_country!AB:AD,3,FALSE)=\"Part I unallocated by income\",\"\",1)))","v":{"$error":"#N/A"}},{"$f":"CRSDATA!AM10","v":0},{"$f":"CRSDATA!AN10","v":0},{"$f":"CRSDATA!AP10","v":0},{"$f":"CRSDATA!AR10","v":0},{"$f":"CRSDATA!BA10","v":0},null,"",{"$f":"IF(CRSDATA!M10=421,DATEDIF(CRSDATA!B10,CRSDATA!BH10,\"m\"),\"\")","v":""},{"$f":"CRSDATA!AZ10","v":0},{"$f":"CRSDATA!BB10","v":0},{"$f":"CRSDATA!L10","v":0}]
[{"$f":"CRSDATA!A11","v":0},{"$f":"CRSDATA!C11","v":0},{"$f":"CRSDATA!D11","v":0},{"$f":"CRSDATA!F11","v":0},{"$f":"CRSDATA!E11","v":0},{"$f":"IF(CRSDATA!H11=3000,998,CRSDATA!H11)","v":0},{"$f":"CRSDATA!O11","v":0},{"$f":"CRSDATA!U11","v":0},null,{"$f":"IF(CRSDATA!V11=\"\",\"\",CRSDATA!V11)","v":""},{"$f":"key_row(CRSDATA!W11,CRSDATA!X11,CRSDATA!AK11,CRSDATA!AJ11,CRSDATA!P11,CRSDATA!V11)","v":""},{"$f":"CRSDATA!P11","v":0},{"$f":"CRSDATA!J11","v":0},{"$f":"CRSDATA!I11","v":0},{"$f":"IF(LEFT(CRSDATA!N11,2)=\"A0\",\"A00\",IF(LEFT(CRSDATA!N11,3)=\"B02\",\"B02\",IF(LEFT(CRSDATA!N11,3)=\"B03\",\"B03\",IF(CRSDATA!N11=\"B04\",\"C01\",IF(CRSDATA!N11=\"H01\",\"H00\",IF(OR(CRSDATA!N11=\"H02\",CRSDATA!N11=\"H03\",CRSDATA!N11=\"H04\",CRSDATA!N11=\"H05\",CRSDATA!N11=\"H06\"),\"I01\",CRSDATA!N11))))))","v":0},{"$f":"CRSDATA!M11","v":0},{"$f":"IF(CRSDATA!L11=22,\"FA04\",\"\")","v":""},{"$f":"IF(CRSDATA!K11=8,\"FC02\",\"\")","v":""},{"$f":"IF(OR(O11=\"B02\",O11=\"E02\",O11=\"G01\",O11=\"H00\",O11=\"I01\"),2,IF(OR(O11=\"A00\",O11=\"E01\",O11=\"F01\",P11=510,P11=520),1,IF(VLOOKUP(F11,recipient_country!AB:AD,3,FALSE)=\"Part I unallocated by income\",\"\",1)))","v":{"$error":"#N/A"}},{"$f":"CRSDATA!AM11","v":0},{"$f":"CRSDATA!AN11","v":0},{"$f":"CRSDATA!AP11","v":0},{"$f":"CRSDATA!AR11","v":0},{"$f":"CRSDATA!BA11","v":0},null,"",{"$f":"IF(CRSDATA!M11=421,DATEDIF(CRSDATA!B11,CRSDATA!BH11,\"m\"),\"\")","v":""},{"$f":"CRSDATA!AZ11","v":0},{"$f":"CRSDATA!BB11","v":0},{"$f":"CRSDATA!L11","v":0}]
[{"$f":"CRSDATA!A12","v":0},{"$f":"CRSDATA!C12","v":0},{"$f":"CRSDATA!D12","v":0},{"$f":"CRSDATA!F12","v":0},{"$f":"CRSDATA!E12","v":0},{"$f":"IF(CRSDATA!H12=3000,998,CRSDATA!H12)","v":0},{"$f":"CRSDATA!O12","v":0},{"$f":"CRSDATA!U12","v":0},null,{"$f":"IF(CRSDATA!V12=\"\",\"\",CRSDATA!V12)","v":""},{"$f":"key_row(CRSDATA!W12,CRSDATA!X12,CRSDATA!AK12,CRSDATA!AJ12,CRSDATA!P12,CRSDATA!V12)","v":""},{"$f":"CRSDATA!P12","v":0},{"$f":"CRSDATA!J12","v":0},{"$f":"CRSDATA!I12","v":0},{"$f":"IF(LEFT(CRSDATA!N12,2)=\"A0\",\"A00\",IF(LEFT(CRSDATA!N12,3)=\"B02\",\"B02\",IF(LEFT(CRSDATA!N12,3)=\"B03\",\"B03\",IF(CRSDATA!N12=\"B04\",\"C01\",IF(CRSDATA!N12=\"H01\",\"H00\",IF(OR(CRSDATA!N12=\"H02\",CRSDATA!N12=\"H03\",CRSDATA!N12=\"H04\",CRSDATA!N12=\"H05\",CRSDATA!N12=\"H06\"),\"I01\",CRSDATA!N12))))))","v":0},{"$f":"CRSDATA!M12","v":0},{"$f":"IF(CRSDATA!L12=22,\"FA04\",\"\")","v":""},{"$f":"IF(CRSDATA!K12=8,\"FC02\",\"\")","v":""},{"$f":"IF(OR(O12=\"B02\",O12=\"E02\",O12=\"G01\",O12=\"H00\",O12=\"I01\"),2,IF(OR(O12=\"A00\",O12=\"E01\",O12=\"F01\",P12=510,P12=520),1,IF(VLOOKUP(F12,recipient_country!AB:AD,3,FALSE)=\"Part I unallocated by income\",\"\",1)))","v":{"$error":"#N/A"}},{"$f":"CRSDATA!AM12","v":0},{"$f":"CRSDATA!AN12","v":0},{"$f":"CRSDATA!AP12","v":0},{"$f":"CRSDATA!AR12","v":0},{"$f":"CRSDATA!BA12","v":0},null,"",{"$f":"IF(CRSDATA!M12=421,DATEDIF(CRSDATA!B12,CRSDATA!BH12,\"m\"),\"\")","v":""},{"$f":"CRSDATA!AZ12","v":0},{"$f":"CRSDATA!BB12","v":0},{"$f":"CRSDATA!L12","v":0}]
[{"$f":"CRSDATA!A13","v":0},{"$f":"CRSDATA!C13","v":0},{"$f":"CRSDATA!D13","v":0},{"$f":"CRSDATA!F13","v":0},{"$f":"CRSDATA!E13","v":0},{"$f":"IF(CRSDATA!H13=3000,998,CRSDATA!H13)","v":0},{"$f":"CRSDATA!O13","v":0},{"$f":"CRSDATA!U13","v":0},null,{"$f":"IF(CRSDATA!V13=\"\",\"\",CRSDATA!V13)","v":""},{"$f":"key_row(CRSDATA!W13,CRSDATA!X13,CRSDATA!AK13,CRSDATA!AJ13,CRSDATA!P13,CRSDATA!V13)","v":""},{"$f":"CRSDATA!P13","v":0},{"$f":"CRSDATA!J13","v":0},{"$f":"CRSDATA!I13","v":0},{"$f":"IF(LEFT(CRSDATA!N13,2)=\"A0\",\"A00\",IF(LEFT(CRSDATA!N13,3)=\"B02\",\"B02\",IF(LEFT(CRSDATA!N13,3)=\"B03\",\"B03\",IF(CRSDATA!N13=\"B04\",\"C01\",IF(CRSDATA!N13=\"H01\",\"H00\",IF(OR(CRSDATA!N13=\"H02\",CRSDATA!N13=\"H03\",CRSDATA!N13=\"H04\",CRSDATA!N13=\"H05\",CRSDATA!N13=\"H06\"),\"I01\",CRSDATA!N13))))))","v":0},{"$f":"CRSDATA!M13","v":0},{"$f":"IF(CRSDATA!L13=22,\"FA04\",\"\")","v":""},{"$f":"IF(CRSDATA!K13=8,\"FC02\",\"\")","v":""},{"$f":"IF(OR(O13=\"B02\",O13=\"E02\",O13=\"G01\",O13=\"H00\",O13=\"I01\"),2,IF(OR(O13=\"A00\",O13=\"E01\",O13=\"F01\",P13=510,P13=520),1,IF(VLOOKUP(F13,recipient_country!AB:AD,3,FALSE)=\"Part I unallocated by income\",\"\",1)))","v":{"$error":"#N/A"}},{"$f":"CRSDATA!AM13","v":0},{"$f":"CRSDATA!AN13","v":0},{"$f":"CRSDATA!AP13","v":0},{"$f":"CRSDATA!AR13","v":0},{"$f":"CRSDATA!BA13","v":0},null,"",{"$f":"IF(CRSDATA!M13=421,DATEDIF(CRSDATA!B13,CRSDATA!BH13,\"m\"),\"\")","v":""},{"$f":"CRSDATA!AZ13","v":0},{"$f":"CRSDATA!BB13","v":0},{"$f":"CRSDATA!L13","v":0}]
[{"$f":"CRSDATA!A14","v":0},{"$f":"CRSDATA!C14","v":0},{"$f":"CRSDATA!D14","v":0},{"$f":"CRSDATA!F14","v":0},{"$f":"CRSDATA!E14","v":0},{"$f":"IF(CRSDATA!H14=3000,998,CRSDATA!H14)","v":0},{"$f":"CRSDATA!O14","v":0},{"$f":"CRSDATA!U14","v":0},null,{"$f":"IF(CRSDATA!V14=\"\",\"\",CRSDATA!V14)","v":""},{"$f":"key_row(CRSDATA!W14,CRSDATA!X14,CRSDATA!AK14,CRSDATA!AJ14,CRSDATA!P14,CRSDATA!V14)","v":""},{"$f":"CRSDATA!P14","v":0},{"$f":"CRSDATA!J14","v":0},{"$f":"CRSDATA!I14","v":0},{"$f":"IF(LEFT(CRSDATA!N14,2)=\"A0\",\"A00\",IF(LEFT(CRSDATA!N14,3)=\"B02\",\"B02\",IF(LEFT(CRSDATA!N14,3)=\"B03\",\"B03\",IF(CRSDATA!N14=\"B04\",\"C01\",IF(CRSDATA!N14=\"H01\",\"H00\",IF(OR(CRSDATA!N14=\"H02\",CRSDATA!N14=\"H03\",CRSDATA!N14=\"H04\",CRSDATA!N14=\"H05\",CRSDATA!N14=\"H06\"),\"I01\",CRSDATA!N14))))))","v":0},{"$f":"CRSDATA!M14","v":0},{"$f":"IF(CRSDATA!L14=22,\"FA04\",\"\")","v":""},{"$f":"IF(CRSDATA!K14=8,\"FC02\",\"\")","v":""},{"$f":"IF(OR(O14=\"B02\",O14=\"E02\",O14=\"G01\",O14=\"H00\",O14=\"I01\"),2,IF(OR(O14=\"A00\",O14=\"E01\",O14=\"F01\",P14=510,P14=520),1,IF(VLOOKUP(F14,recipient_country!AB:AD,3,FALSE)=\"Part I unallocated by income\",\"\",1)))","v":{"$error":"#N/A"}},{"$f":"CRSDATA!AM14","v":0},{"$f":"CRSDATA!AN14","v":0},{"$f":"CRSDATA!AP14","v":0},{"$f":"CRSDATA!AR14","v":0},{"$f":"CRSDATA!BA14","v":0},null,"",{"$f":"IF(CRSDATA!M14=421,DATEDIF(CRSDATA!B14,CRSDATA!BH14,\"m\"),\"\")","v":""},{"$f":"CRSDATA!AZ14","v":0},{"$f":"CRSDATA!BB14","v":0},{"$f":"CRSDATA!L14","v":0}]
[{"$f":"CRSDATA!A15","v":0},{"$f":"CRSDATA!C15","v":0},{"$f":"CRSDATA!D15","v":0},{"$f":"CRSDATA!F15","v":0},{"$f":"CRSDATA!E15","v":0},{"$f":"IF(CRSDATA!H15=3000,998,CRSDATA!H15)","v":0},{"$f":"CRSDATA!O15","v":0},{"$f":"CRSDATA!U15","v":0},null,{"$f":"IF(CRSDATA!V15=\"\",\"\",CRSDATA!V15)","v":""},{"$f":"key_row(CRSDATA!W15,CRSDATA!X15,CRSDATA!AK15,CRSDATA!AJ15,CRSDATA!P15,CRSDATA!V15)","v":""},{"$f":"CRSDATA!P15","v":0},{"$f":"CRSDATA!J15","v":0},{"$f":"CRSDATA!I15","v":0},{"$f":"IF(LEFT(CRSDATA!N15,2)=\"A0\",\"A00\",IF(LEFT(CRSDATA!N15,3)=\"B02\",\"B02\",IF(LEFT(CRSDATA!N15,3)=\"B03\",\"B03\",IF(CRSDATA!N15=\"B04\",\"C01\",IF(CRSDATA!N15=\"H01\",\"H00\",IF(OR(CRSDATA!N15=\"H02\",CRSDATA!N15=\"H03\",CRSDATA!N15=\"H04\",CRSDATA!N15=\"H05\",CRSDATA!N15=\"H06\"),\"I01\",CRSDATA!N15))))))","v":0},{"$f":"CRSDATA!M15","v":0},{"$f":"IF(CRSDATA!L15=22,\"FA04\",\"\")","v":""},{"$f":"IF(CRSDATA!K15=8,\"FC02\",\"\")","v":""},{"$f":"IF(OR(O15=\"B02\",O15=\"E02\",O15=\"G01\",O15=\"H00\",O15=\"I01\"),2,IF(OR(O15=\"A00\",O15=\"E01\",O15=\"F01\",P15=510,P15=520),1,IF(VLOOKUP(F15,recipient_country!AB:AD,3,FALSE)=\"Part I unallocated by income\",\"\",1)))","v":{"$error":"#N/A"}},{"$f":"CRSDATA!AM15","v":0},{"$f":"CRSDATA!AN15","v":0},{"$f":"CRSDATA!AP15","v":0},{"$f":"CRSDATA!AR15","v":0},{"$f":"CRSDATA!BA15","v":0},null,"",{"$f":"IF(CRSDATA!M15=421,DATEDIF(CRSDATA!B15,CRSDATA!BH15,\"m\"),\"\")","v":""},{"$f":"CRSDATA!AZ15","v":0},{"$f":"CRSDATA!BB15","v":0},{"$f":"CRSDATA!L15","v":0}]
[{"$f":"CRSDATA!A16","v":0},{"$f":"CRSDATA!C16","v":0},{"$f":"CRSDATA!D16","v":0},{"$f":"CRSDATA!F16","v":0},{"$f":"CRSDATA!E16","v":0},{"$f":"IF(CRSDATA!H16=3000,998,CRSDATA!H16)","v":0},{"$f":"CRSDATA!O16","v":0},{"$f":"CRSDATA!U16","v":0},null,{"$f":"IF(CRSDATA!V16=\"\",\"\",CRSDATA!V16)","v":""},{"$f":"key_row(CRSDATA!W16,CRSDATA!X16,CRSDATA!AK16,CRSDATA!AJ16,CRSDATA!P16,CRSDATA!V16)","v":""},{"$f":"CRSDATA!P16","v":0},{"$f":"CRSDATA!J16","v":0},{"$f":"CRSDATA!I16","v":0},{"$f":"IF(LEFT(CRSDATA!N16,2)=\"A0\",\"A00\",IF(LEFT(CRSDATA!N16,3)=\"B02\",\"B02\",IF(LEFT(CRSDATA!N16,3)=\"B03\",\"B03\",IF(CRSDATA!N16=\"B04\",\"C01\",IF(CRSDATA!N16=\"H01\",\"H00\",IF(OR(CRSDATA!N16=\"H02\",CRSDATA!N16=\"H03\",CRSDATA!N16=\"H04\",CRSDATA!N16=\"H05\",CRSDATA!N16=\"H06\"),\"I01\",CRSDATA!N16))))))","v":0},{"$f":"CRSDATA!M16","v":0},{"$f":"IF(CRSDATA!L16=22,\"FA04\",\"\")","v":""},{"$f":"IF(CRSDATA!K16=8,\"FC02\",\"\")","v":""},{"$f":"IF(OR(O16=\"B02\",O16=\"E02\",O16=\"G01\",O16=\"H00\",O16=\"I01\"),2,IF(OR(O16=\"A00\",O16=\"E01\",O16=\"F01\",P16=510,P16=520),1,IF(VLOOKUP(F16,recipient_country!AB:AD,3,FALSE)=\"Part I unallocated by income\",\"\",1)))","v":{"$error":"#N/A"}},{"$f":"CRSDATA!AM16","v":0},{"$f":"CRSDATA!AN16","v":0},{"$f":"CRSDATA!AP16","v":0},{"$f":"CRSDATA!AR16","v":0},{"$f":"CRSDATA!BA16","v":0},null,"",{"$f":"IF(CRSDATA!M16=421,DATEDIF(CRSDATA!B16,CRSDATA!BH16,\"m\"),\"\")","v":""},{"$f":"CRSDATA!AZ16","v":0},{"$f":"CRSDATA!BB16","v":0},{"$f":"CRSDATA!L16","v":0}]
[{"$f":"CRSDATA!A17","v":0},{"$f":"CRSDATA!C17","v":0},{"$f":"CRSDATA!D17","v":0},{"$f":"CRSDATA!F17","v":0},{"$f":"CRSDATA!E17","v":0},{"$f":"IF(CRSDATA!H17=3000,998,CRSDATA!H17)","v":0},{"$f":"CRSDATA!O17","v":0},{"$f":"CRSDATA!U17","v":0},null,{"$f":"IF(CRSDATA!V17=\"\",\"\",CRSDATA!V17)","v":""},{"$f":"key_row(CRSDATA!W17,CRSDATA!X17,CRSDATA!AK17,CRSDATA!AJ17,CRSDATA!P17,CRSDATA!V17)","v":""},{"$f":"CRSDATA!P17","v":0},{"$f":"CRSDATA!J17","v":0},{"$f":"CRSDATA!I17","v":0},{"$f":"IF(LEFT(CRSDATA!N17,2)=\"A0\",\"A00\",IF(LEFT(CRSDATA!N17,3)=\"B02\",\"B02\",IF(LEFT(CRSDATA!N17,3)=\"B03\",\"B03\",IF(CRSDATA!N17=\"B04\",\"C01\",IF(CRSDATA!N17=\"H01\",\"H00\",IF(OR(CRSDATA!N17=\"H02\",CRSDATA!N17=\"H03\",CRSDATA!N17=\"H04\",CRSDATA!N17=\"H05\",CRSDATA!N17=\"H06\"),\"I01\",CRSDATA!N17))))))","v":0},{"$f":"CRSDATA!M17","v":0},{"$f":"IF(CRSDATA!L17=22,\"FA04\",\"\")","v":""},{"$f":"IF(CRSDATA!K17=8,\"FC02\",\"\")","v":""},{"$f":"IF(OR(O17=\"B02\",O17=\"E02\",O17=\"G01\",O17=\"H00\",O17=\"I01\"),2,IF(OR(O17=\"A00\",O17=\"E01\",O17=\"F01\",P17=510,P17=520),1,IF(VLOOKUP(F17,recipient_country!AB:AD,3,FALSE)=\"Part I unallocated by income\",\"\",1)))","v":{"$error":"#N/A"}},{"$f":"CRSDATA!AM17","v":0},{"$f":"CRSDATA!AN17","v":0},{"$f":"CRSDATA!AP17","v":0},{"$f":"CRSDATA!AR17","v":0},{"$f":"CRSDATA!BA17","v":0},null,"",{"$f":"IF(CRSDATA!M17=421,DATEDIF(CRSDATA!B17,CRSDATA!BH17,\"m\"),\"\")","v":""},{"$f":"CRSDATA!AZ17","v":0},{"$f":"CRSDATA!BB17","v":0},{"$f":"CRSDATA!L17","v":0}]
[{"$f":"CRSDATA!A18","v":0},{"$f":"CRSDATA!C18","v":0},{"$f":"CRSDATA!D18","v":0},{"$f":"CRSDATA!F18","v":0},{"$f":"CRSDATA!E18","v":0},{"$f":"IF(CRSDATA!H18=3000,998,CRSDATA!H18)","v":0},{"$f":"CRSDATA!O18","v":0},{"$f":"CRSDATA!U18","v":0},null,{"$f":"IF(CRSDATA!V18=\"\",\"\",CRSDATA!V18)","v":""},{"$f":"key_row(CRSDATA!W18,CRSDATA!X18,CRSDATA!AK18,CRSDATA!AJ18,CRSDATA!P18,CRSDATA!V18)","v":""},{"$f":"CRSDATA!P18","v":0},{"$f":"CRSDATA!J18","v":0},{"$f":"CRSDATA!I18","v":0},{"$f":"IF(LEFT(CRSDATA!N18,2)=\"A0\",\"A00\",IF(LEFT(CRSDATA!N18,3)=\"B02\",\"B02\",IF(LEFT(CRSDATA!N18,3)=\"B03\",\"B03\",IF(CRSDATA!N18=\"B04\",\"C01\",IF(CRSDATA!N18=\"H01\",\"H00\",IF(OR(CRSDATA!N18=\"H02\",CRSDATA!N18=\"H03\",CRSDATA!N18=\"H04\",CRSDATA!N18=\"H05\",CRSDATA!N18=\"H06\"),\"I01\",CRSDATA!N18))))))","v":0},{"$f":"CRSDATA!M18","v":0},{"$f":"IF(CRSDATA!L18=22,\"FA04\",\"\")","v":""},{"$f":"IF(CRSDATA!K18=8,\"FC02\",\"\")","v":""},{"$f":"IF(OR(O18=\"B02\",O18=\"E02\",O18=\"G01\",O18=\"H00\",O18=\"I01\"),2,IF(OR(O18=\"A00\",O18=\"E01\",O18=\"F01\",P18=510,P18=520),1,IF(VLOOKUP(F18,recipient_country!AB:AD,3,FALSE)=\"Part I unallocated by income\",\"\",1)))","v":{"$error":"#N/A"}},{"$f":"CRSDATA!AM18","v":0},{"$f":"CRSDATA!AN18","v":0},{"$f":"CRSDATA!AP18","v":0},{"$f":"CRSDATA!AR18","v":0},{"$f":"CRSDATA!BA18","v":0},null,"",{"$f":"IF(CRSDATA!M18=421,DATEDIF(CRSDATA!B18,CRSDATA!BH18,\"m\"),\"\")","v":""},{"$f":"CRSDATA!AZ18","v":0},{"$f":"CRSDATA!BB18","v":0},{"$f":"CRSDATA!L18","v":0}]
[{"$f":"CRSDATA!A19","v":0},{"$f":"CRSDATA!C19","v":0},{"$f":"CRSDATA!D19","v":0},{"$f":"CRSDATA!F19","v":0},{"$f":"CRSDATA!E19","v":0},{"$f":"IF(CRSDATA!H19=3000,998,CRSDATA!H19)","v":0},{"$f":"CRSDATA!O19","v":0},{"$f":"CRSDATA!U19","v":0},null,{"$f":"IF(CRSDATA!V19=\"\",\"\",CRSDATA!V19)","v":""},{"$f":"key_row(CRSDATA!W19,CRSDATA!X19,CRSDATA!AK19,CRSDATA!AJ19,CRSDATA!P19,CRSDATA!V19)","v":""},{"$f":"CRSDATA!P19","v":0},{"$f":"CRSDATA!J19","v":0},{"$f":"CRSDATA!I19","v":0},{"$f":"IF(LEFT(CRSDATA!N19,2)=\"A0\",\"A00\",IF(LEFT(CRSDATA!N19,3)=\"B02\",\"B02\",IF(LEFT(CRSDATA!N19,3)=\"B03\",\"B03\",IF(CRSDATA!N19=\"B04\",\"C01\",IF(CRSDATA!N19=\"H01\",\"H00\",IF(OR(CRSDATA!N19=\"H02\",CRSDATA!N19=\"H03\",CRSDATA!N19=\"H04\",CRSDATA!N19=\"H05\",CRSDATA!N19=\"H06\"),\"I01\",CRSDATA!N19))))))","v":0},{"$f":"CRSDATA!M19","v":0},{"$f":"IF(CRSDATA!L19=22,\"FA04\",\"\")","v":""},{"$f":"IF(CRSDATA!K19=8,\"FC02\",\"\")","v":""},{"$f":"IF(OR(O19=\"B02\",O19=\"E02\",O19=\"G01\",O19=\"H00\",O19=\"I01\"),2,IF(OR(O19=\"A00\",O19=\"E01\",O19=\"F01\",P19=510,P19=520),1,IF(VLOOKUP(F19,recipient_country!AB:AD,3,FALSE)=\"Part I unallocated by income\",\"\",1)))","v":{"$error":"#N/A"}},{"$f":"CRSDATA!AM19","v":0},{"$f":"CRSDATA!AN19","v":0},{"$f":"CRSDATA!AP19","v":0},{"$f":"CRSDATA!AR19","v":0},{"$f":"CRSDATA!BA19","v":0},null,"",{"$f":"IF(CRSDATA!M19=421,DATEDIF(CRSDATA!B19,CRSDATA!BH19,\"m\"),\"\")","v":""},{"$f":"CRSDATA!AZ19","v":0},{"$f":"CRSDATA!BB19","v":0},{"$f":"CRSDATA!L19","v":0}]
[{"$f":"CRSDATA!A20","v":0},{"$f":"CRSDATA!C20","v":0},{"$f":"CRSDATA!D20","v":0},{"$f":"CRSDATA!F20","v":0},{"$f":"CRSDATA!E20","v":0},{"$f":"IF(CRSDATA!H20=3000,998,CRSDATA!H20)","v":0},{"$f":"CRSDATA!O20","v":0},{"$f":"CRSDATA!U20","v":0},null,{"$f":"IF(CRSDATA!V20=\"\",\"\",CRSDATA!V20)","v":""},{"$f":"key_row(CRSDATA!W20,CRSDATA!X20,CRSDATA!AK20,CRSDATA!AJ20,CRSDATA!P20,CRSDATA!V20)","v":""},{"$f":"CRSDATA!P20","v":0},{"$f":"CRSDATA!J20","v":0},{"$f":"CRSDATA!I20","v":0},{"$f":"IF(LEFT(CRSDATA!N20,2)=\"A0\",\"A00\",IF(LEFT(CRSDATA!N20,3)=\"B02\",\"B02\",IF(LEFT(CRSDATA!N20,3)=\"B03\",\"B03\",IF(CRSDATA!N20=\"B04\",\"C01\",IF(CRSDATA!N20=\"H01\",\"H00\",IF(OR(CRSDATA!N20=\"H02\",CRSDATA!N20=\"H03\",CRSDATA!N20=\"H04\",CRSDATA!N20=\"H05\",CRSDATA!N20=\"H06\"),\"I01\",CRSDATA!N20))))))","v":0},{"$f":"CRSDATA!M20","v":0},{"$f":"IF(CRSDATA!L20=22,\"FA04\",\"\")","v":""},{"$f":"IF(CRSDATA!K20=8,\"FC02\",\"\")","v":""},{"$f":"IF(OR(O20=\"B02\",O20=\"E02\",O20=\"G01\",O20=\"H00\",O20=\"I01\"),2,IF(OR(O20=\"A00\",O20=\"E01\",O20=\"F01\",P20=510,P20=520),1,IF(VLOOKUP(F20,recipient_country!AB:AD,3,FALSE)=\"Part I unallocated by income\",\"\",1)))","v":{"$error":"#N/A"}},{"$f":"CRSDATA!AM20","v":0},{"$f":"CRSDATA!AN20","v":0},{"$f":"CRSDATA!AP20","v":0},{"$f":"CRSDATA!AR20","v":0},{"$f":"CRSDATA!BA20","v":0},null,"",{"$f":"IF(CRSDATA!M20=421,DATEDIF(CRSDATA!B20,CRSDATA!BH20,\"m\"),\"\")","v":""},{"$f":"CRSDATA!AZ20","v":0},{"$f":"CRSDATA!BB20","v":0},{"$f":"CRSDATA!L20","v":0}]
[{"$f":"CRSDATA!A21","v":0},{"$f":"CRSDATA!C21","v":0},{"$f":"CRSDATA!D21","v":0},{"$f":"CRSDATA!F21","v":0},{"$f":"CRSDATA!E21","v":0},{"$f":"IF(CRSDATA!H21=3000,998,CRSDATA!H21)","v":0},{"$f":"CRSDATA!O21","v":0},{"$f":"CRSDATA!U21","v":0},null,{"$f":"IF(CRSDATA!V21=\"\",\"\",CRSDATA!V21)","v":""},{"$f":"key_row(CRSDATA!W21,CRSDATA!X21,CRSDATA!AK21,CRSDATA!AJ21,CRSDATA!P21,CRSDATA!V21)","v":""},{"$f":"CRSDATA!P21","v":0},{"$f":"CRSDATA!J21","v":0},{"$f":"CRSDATA!I21","v":0},{"$f":"IF(LEFT(CRSDATA!N21,2)=\"A0\",\"A00\",IF(LEFT(CRSDATA!N21,3)=\"B02\",\"B02\",IF(LEFT(CRSDATA!N21,3)=\"B03\",\"B03\",IF(CRSDATA!N21=\"B04\",\"C01\",IF(CRSDATA!N21=\"H01\",\"H00\",IF(OR(CRSDATA!N21=\"H02\",CRSDATA!N21=\"H03\",CRSDATA!N21=\"H04\",CRSDATA!N21=\"H05\",CRSDATA!N21=\"H06\"),\"I01\",CRSDATA!N21))))))","v":0},{"$f":"CRSDATA!M21","v":0},{"$f":"IF(CRSDATA!L21=22,\"FA04\",\"\")","v":""},{"$f":"IF(CRSDATA!K21=8,\"FC02\",\"\")","v":""},{"$f":"IF(OR(O21=\"B02\",O21=\"E02\",O21=\"G01\",O21=\"H00\",O21=\"I01\"),2,IF(OR(O21=\"A00\",O21=\"E01\",O21=\"F01\",P21=510,P21=520),1,IF(VLOOKUP(F21,recipient_country!AB:AD,3,FALSE)=\"Part I unallocated by income\",\"\",1)))","v":{"$error":"#N/A"}},{"$f":"CRSDATA!AM21","v":0},{"$f":"CRSDATA!AN21","v":0},{"$f":"CRSDATA!AP21","v":0},{"$f":"CRSDATA!AR21","v":0},{"$f":"CRSDATA!BA21","v":0},null,"",{"$f":"IF(CRSDATA!M21=421,DATEDIF(CRSDATA!B21,CRSDATA!BH21,\"m\"),\"\")","v":""},{"$f":"CRSDATA!AZ21","v":0},{"$f":"CRSDATA!BB21","v":0},{"$f":"CRSDATA!L21","v":0}]
[{"$f":"CRSDATA!A22","v":0},{"$f":"CRSDATA!C22","v":0},{"$f":"CRSDATA!D22","v":0},{"$f":"CRSDATA!F22","v":0},{"$f":"CRSDATA!E22","v":0},{"$f":"IF(CRSDATA!H22=3000,998,CRSDATA!H22)","v":0},{"$f":"CRSDATA!O22","v":0},{"$f":"CRSDATA!U22","v":0},null,{"$f":"IF(CRSDATA!V22=\"\",\"\",CRSDATA!V22)","v":""},{"$f":"key_row(CRSDATA!W22,CRSDATA!X22,CRSDATA!AK22,CRSDATA!AJ22,CRSDATA!P22,CRSDATA!V22)","v":""},{"$f":"CRSDATA!P22","v":0},{"$f":"CRSDATA!J22","v":0},{"$f":"CRSDATA!I22","v":0},{"$f":"IF(LEFT(CRSDATA!N22,2)=\"A0\",\"A00\",IF(LEFT(CRSDATA!N22,3)=\"B02\",\"B02\",IF(LEFT(CRSDATA!N22,3)=\"B03\",\"B03\",IF(CRSDATA!N22=\"B04\",\"C01\",IF(CRSDATA!N22=\"H01\",\"H00\",IF(OR(CRSDATA!N22=\"H02\",CRSDATA!N22=\"H03\",CRSDATA!N22=\"H04\",CRSDATA!N22=\"H05\",CRSDATA!N22=\"H06\"),\"I01\",CRSDATA!N22))))))","v":0},{"$f":"CRSDATA!M22","v":0},{"$f":"IF(CRSDATA!L22=22,\"FA04\",\"\")","v":""},{"$f":"IF(CRSDATA!K22=8,\"FC02\",\"\")","v":""},{"$f":"IF(OR(O22=\"B02\",O22=\"E02\",O22=\"G01\",O22=\"H00\",O22=\"I01\"),2,IF(OR(O22=\"A00\",O22=\"E01\",O22=\"F01\",P22=510,P22=520),1,IF(VLOOKUP(F22,recipient_country!AB:AD,3,FALSE)=\"Part I unallocated by income\",\"\",1)))","v":{"$error":"#N/A"}},{"$f":"CRSDATA!AM22","v":0},{"$f":"CRSDATA!AN22","v":0},{"$f":"CRSDATA!AP22","v":0},{"$f":"CRSDATA!AR22","v":0},{"$f":"CRSDATA!BA22","v":0},null,"",{"$f":"IF(CRSDATA!M22=421,DATEDIF(CRSDATA!B22,CRSDATA!BH22,\"m\"),\"\")","v":""},{"$f":"CRSDATA!AZ22","v":0},{"$f":"CRSDATA!BB22","v":0},{"$f":"CRSDATA!L22","v":0}]
[{"$f":"CRSDATA!A23","v":0},{"$f":"CRSDATA!C23","v":0},{"$f":"CRSDATA!D23","v":0},{"$f":"CRSDATA!F23","v":0},{"$f":"CRSDATA!E23","v":0},{"$f":"IF(CRSDATA!H23=3000,998,CRSDATA!H23)","v":0},{"$f":"CRSDATA!O23","v":0},{"$f":"CRSDATA!U23","v":0},null,{"$f":"IF(CRSDATA!V23=\"\",\"\",CRSDATA!V23)","v":""},{"$f":"key_row(CRSDATA!W23,CRSDATA!X23,CRSDATA!AK23,CRSDATA!AJ23,CRSDATA!P23,CRSDATA!V23)","v":""},{"$f":"CRSDATA!P23","v":0},{"$f":"CRSDATA!J23","v":0},{"$f":"CRSDATA!I23","v":0},{"$f":"IF(LEFT(CRSDATA!N23,2)=\"A0\",\"A00\",IF(LEFT(CRSDATA!N23,3)=\"B02\",\"B02\",IF(LEFT(CRSDATA!N23,3)=\"B03\",\"B03\",IF(CRSDATA!N23=\"B04\",\"C01\",IF(CRSDATA!N23=\"H01\",\"H00\",IF(OR(CRSDATA!N23=\"H02\",CRSDATA!N23=\"H03\",CRSDATA!N23=\"H04\",CRSDATA!N23=\"H05\",CRSDATA!N23=\"H06\"),\"I01\",CRSDATA!N23))))))","v":0},{"$f":"CRSDATA!M23","v":0},{"$f":"IF(CRSDATA!L23=22,\"FA04\",\"\")","v":""},{"$f":"IF(CRSDATA!K23=8,\"FC02\",\"\")","v":""},{"$f":"IF(OR(O23=\"B02\",O23=\"E02\",O23=\"G01\",O23=\"H00\",O23=\"I01\"),2,IF(OR(O23=\"A00\",O23=\"E01\",O23=\"F01\",P23=510,P23=520),1,IF(VLOOKUP(F23,recipient_country!AB:AD,3,FALSE)=\"Part I unallocated by income\",\"\",1)))","v":{"$error":"#N/A"}},{"$f":"CRSDATA!AM23","v":0},{"$f":"CRSDATA!AN23","v":0},{"$f":"CRSDATA!AP23","v":0},{"$f":"CRSDATA!AR23","v":0},{"$f":"CRSDATA!BA23","v":0},null,"",{"$f":"IF(CRSDATA!M23=421,DATEDIF(CRSDATA!B23,CRSDATA!BH23,\"m\"),\"\")","v":""},{"$f":"CRSDATA!AZ23","v":0},{"$f":"CRSDATA!BB23","v":0},{"$f":"CRSDATA!L23","v":0}]
[{"$f":"CRSDATA!A24","v":0},{"$f":"CRSDATA!C24","v":0},{"$f":"CRSDATA!D24","v":0},{"$f":"CRSDATA!F24","v":0},{"$f":"CRSDATA!E24","v":0},{"$f":"IF(CRSDATA!H24=3000,998,CRSDATA!H24)","v":0},{"$f":"CRSDATA!O24","v":0},{"$f":"CRSDATA!U24","v":0},null,{"$f":"IF(CRSDATA!V24=\"\",\"\",CRSDATA!V24)","v":""},{"$f":"key_row(CRSDATA!W24,CRSDATA!X24,CRSDATA!AK24,CRSDATA!AJ24,CRSDATA!P24,CRSDATA!V24)","v":""},{"$f":"CRSDATA!P24","v":0},{"$f":"CRSDATA!J24","v":0},{"$f":"CRSDATA!I24","v":0},{"$f":"IF(LEFT(CRSDATA!N24,2)=\"A0\",\"A00\",IF(LEFT(CRSDATA!N24,3)=\"B02\",\"B02\",IF(LEFT(CRSDATA!N24,3)=\"B03\",\"B03\",IF(CRSDATA!N24=\"B04\",\"C01\",IF(CRSDATA!N24=\"H01\",\"H00\",IF(OR(CRSDATA!N24=\"H02\",CRSDATA!N24=\"H03\",CRSDATA!N24=\"H04\",CRSDATA!N24=\"H05\",CRSDATA!N24=\"H06\"),\"I01\",CRSDATA!N24))))))","v":0},{"$f":"CRSDATA!M24","v":0},{"$f":"IF(CRSDATA!L24=22,\"FA04\",\"\")","v":""},{"$f":"IF(CRSDATA!K24=8,\"FC02\",\"\")","v":""},{"$f":"IF(OR(O24=\"B02\",O24=\"E02\",O24=\"G01\",O24=\"H00\",O24=\"I01\"),2,IF(OR(O24=\"A00\",O24=\"E01\",O24=\"F01\",P24=510,P24=520),1,IF(VLOOKUP(F24,recipient_country!AB:AD,3,FALSE)=\"Part I unallocated by income\",\"\",1)))","v":{"$error":"#N/A"}},{"$f":"CRSDATA!AM24","v":0},{"$f":"CRSDATA!AN24","v":0},{"$f":"CRSDATA!AP24","v":0},{"$f":"CRSDATA!AR24","v":0},{"$f":"CRSDATA!BA24","v":0},null,"",{"$f":"IF(CRSDATA!M24=421,DATEDIF(CRSDATA!B24,CRSDATA!BH24,\"m\"),\"\")","v":""},{"$f":"CRSDATA!AZ24","v":0},{"$f":"CRSDATA!BB24","v":0},{"$f":"CRSDATA!L24","v":0}]
[{"$f":"CRSDATA!A25","v":0},{"$f":"CRSDATA!C25","v":0},{"$f":"CRSDATA!D25","v":0},{"$f":"CRSDATA!F25","v":0},{"$f":"CRSDATA!E25","v":0},{"$f":"IF(CRSDATA!H25=3000,998,CRSDATA!H25)","v":0},{"$f":"CRSDATA!O25","v":0},{"$f":"CRSDATA!U25","v":0},null,{"$f":"IF(CRSDATA!V25=\"\",\"\",CRSDATA!V25)","v":""},{"$f":"key_row(CRSDATA!W25,CRSDATA!X25,CRSDATA!AK25,CRSDATA!AJ25,CRSDATA!P25,CRSDATA!V25)","v":""},{"$f":"CRSDATA!P25","v":0},{"$f":"CRSDATA!J25","v":0},{"$f":"CRSDATA!I25","v":0},{"$f":"IF(LEFT(CRSDATA!N25,2)=\"A0\",\"A00\",IF(LEFT(CRSDATA!N25,3)=\"B02\",\"B02\",IF(LEFT(CRSDATA!N25,3)=\"B03\",\"B03\",IF(CRSDATA!N25=\"B04\",\"C01\",IF(CRSDATA!N25=\"H01\",\"H00\",IF(OR(CRSDATA!N25=\"H02\",CRSDATA!N25=\"H03\",CRSDATA!N25=\"H04\",CRSDATA!N25=\"H05\",CRSDATA!N25=\"H06\"),\"I01\",CRSDATA!N25))))))","v":0},{"$f":"CRSDATA!M25","v":0},{"$f":"IF(CRSDATA!L25=22,\"FA04\",\"\")","v":""},{"$f":"IF(CRSDATA!K25=8,\"FC02\",\"\")","v":""},{"$f":"IF(OR(O25=\"B02\",O25=\"E02\",O25=\"G01\",O25=\"H00\",O25=\"I01\"),2,IF(OR(O25=\"A00\",O25=\"E01\",O25=\"F01\",P25=510,P25=520),1,IF(VLOOKUP(F25,recipient_country!AB:AD,3,FALSE)=\"Part I unallocated by income\",\"\",1)))","v":{"$error":"#N/A"}},{"$f":"CRSDATA!AM25","v":0},{"$f":"CRSDATA!AN25","v":0},{"$f":"CRSDATA!AP25","v":0},{"$f":"CRSDATA!AR25","v":0},{"$f":"CRSDATA!BA25","v":0},null,"",{"$f":"IF(CRSDATA!M25=421,DATEDIF(CRSDATA!B25,CRSDATA!BH25,\"m\"),\"\")","v":""},{"$f":"CRSDATA!AZ25","v":0},{"$f":"CRSDATA!BB25","v":0},{"$f":"CRSDATA!L25","v":0}]
[{"$f":"CRSDATA!A26","v":0},{"$f":"CRSDATA!C26","v":0},{"$f":"CRSDATA!D26","v":0},{"$f":"CRSDATA!F26","v":0},{"$f":"CRSDATA!E26","v":0},{"$f":"IF(CRSDATA!H26=3000,998,CRSDATA!H26)","v":0},{"$f":"CRSDATA!O26","v":0},{"$f":"CRSDATA!U26","v":0},null,{"$f":"IF(CRSDATA!V26=\"\",\"\",CRSDATA!V26)","v":""},{"$f":"key_row(CRSDATA!W26,CRSDATA!X26,CRSDATA!AK26,CRSDATA!AJ26,CRSDATA!P26,CRSDATA!V26)","v":""},{"$f":"CRSDATA!P26","v":0},{"$f":"CRSDATA!J26","v":0},{"$f":"CRSDATA!I26","v":0},{"$f":"IF(LEFT(CRSDATA!N26,2)=\"A0\",\"A00\",IF(LEFT(CRSDATA!N26,3)=\"B02\",\"B02\",IF(LEFT(CRSDATA!N26,3)=\"B03\",\"B03\",IF(CRSDATA!N26=\"B04\",\"C01\",IF(CRSDATA!N26=\"H01\",\"H00\",IF(OR(CRSDATA!N26=\"H02\",CRSDATA!N26=\"H03\",CRSDATA!N26=\"H04\",CRSDATA!N26=\"H05\",CRSDATA!N26=\"H06\"),\"I01\",CRSDATA!N26))))))","v":0},{"$f":"CRSDATA!M26","v":0},{"$f":"IF(CRSDATA!L26=22,\"FA04\",\"\")","v":""},{"$f":"IF(CRSDATA!K26=8,\"FC02\",\"\")","v":""},{"$f":"IF(OR(O26=\"B02\",O26=\"E02\",O26=\"G01\",O26=\"H00\",O26=\"I01\"),2,IF(OR(O26=\"A00\",O26=\"E01\",O26=\"F01\",P26=510,P26=520),1,IF(VLOOKUP(F26,recipient_country!AB:AD,3,FALSE)=\"Part I unallocated by income\",\"\",1)))","v":{"$error":"#N/A"}},{"$f":"CRSDATA!AM26","v":0},{"$f":"CRSDATA!AN26","v":0},{"$f":"CRSDATA!AP26","v":0},{"$f":"CRSDATA!AR26","v":0},{"$f":"CRSDATA!BA26","v":0},null,"",{"$f":"IF(CRSDATA!M26=421,DATEDIF(CRSDATA!B26,CRSDATA!BH26,\"m\"),\"\")","v":""},{"$f":"CRSDATA!AZ26","v":0},{"$f":"CRSDATA!BB26","v":0},{"$f":"CRSDATA!L26","v":0}]
[{"$f":"CRSDATA!A27","v":0},{"$f":"CRSDATA!C27","v":0},{"$f":"CRSDATA!D27","v":0},{"$f":"CRSDATA!F27","v":0},{"$f":"CRSDATA!E27","v":0},{"$f":"IF(CRSDATA!H27=3000,998,CRSDATA!H27)","v":0},{"$f":"CRSDATA!O27","v":0},{"$f":"CRSDATA!U27","v":0},null,{"$f":"IF(CRSDATA!V27=\"\",\"\",CRSDATA!V27)","v":""},{"$f":"key_row(CRSDATA!W27,CRSDATA!X27,CRSDATA!AK27,CRSDATA!AJ27,CRSDATA!P27,CRSDATA!V27)","v":""},{"$f":"CRSDATA!P27","v":0},{"$f":"CRSDATA!J27","v":0},{"$f":"CRSDATA!I27","v":0},{"$f":"IF(LEFT(CRSDATA!N27,2)=\"A0\",\"A00\",IF(LEFT(CRSDATA!N27,3)=\"B02\",\"B02\",IF(LEFT(CRSDATA!N27,3)=\"B03\",\"B03\",IF(CRSDATA!N27=\"B04\",\"C01\",IF(CRSDATA!N27=\"H01\",\"H00\",IF(OR(CRSDATA!N27=\"H02\",CRSDATA!N27=\"H03\",CRSDATA!N27=\"H04\",CRSDATA!N27=\"H05\",CRSDATA!N27=\"H06\"),\"I01\",CRSDATA!N27))))))","v":0},{"$f":"CRSDATA!M27","v":0},{"$f":"IF(CRSDATA!L27=22,\"FA04\",\"\")","v":""},{"$f":"IF(CRSDATA!K27=8,\"FC02\",\"\")","v":""},{"$f":"IF(OR(O27=\"B02\",O27=\"E02\",O27=\"G01\",O27=\"H00\",O27=\"I01\"),2,IF(OR(O27=\"A00\",O27=\"E01\",O27=\"F01\",P27=510,P27=520),1,IF(VLOOKUP(F27,recipient_country!AB:AD,3,FALSE)=\"Part I unallocated by income\",\"\",1)))","v":{"$error":"#N/A"}},{"$f":"CRSDATA!AM27","v":0},{"$f":"CRSDATA!AN27","v":0},{"$f":"CRSDATA!AP27","v":0},{"$f":"CRSDATA!AR27","v":0},{"$f":"CRSDATA!BA27","v":0},null,"",{"$f":"IF(CRSDATA!M27=421,DATEDIF(CRSDATA!B27,CRSDATA!BH27,\"m\"),\"\")","v":""},{"$f":"CRSDATA!AZ27","v":0},{"$f":"CRSDATA!BB27","v":0},{"$f":"CRSDATA!L27","v":0}]
[{"$f":"CRSDATA!A28","v":0},{"$f":"CRSDATA!C28","v":0},{"$f":"CRSDATA!D28","v":0},{"$f":"CRSDATA!F28","v":0},{"$f":"CRSDATA!E28","v":0},{"$f":"IF(CRSDATA!H28=3000,998,CRSDATA!H28)","v":0},{"$f":"CRSDATA!O28","v":0},{"$f":"CRSDATA!U28","v":0},null,{"$f":"IF(CRSDATA!V28=\"\",\"\",CRSDATA!V28)","v":""},{"$f":"key_row(CRSDATA!W28,CRSDATA!X28,CRSDATA!AK28,CRSDATA!AJ28,CRSDATA!P28,CRSDATA!V28)","v":""},{"$f":"CRSDATA!P28","v":0},{"$f":"CRSDATA!J28","v":0},{"$f":"CRSDATA!I28","v":0},{"$f":"IF(LEFT(CRSDATA!N28,2)=\"A0\",\"A00\",IF(LEFT(CRSDATA!N28,3)=\"B02\",\"B02\",IF(LEFT(CRSDATA!N28,3)=\"B03\",\"B03\",IF(CRSDATA!N28=\"B04\",\"C01\",IF(CRSDATA!N28=\"H01\",\"H00\",IF(OR(CRSDATA!N28=\"H02\",CRSDATA!N28=\"H03\",CRSDATA!N28=\"H04\",CRSDATA!N28=\"H05\",CRSDATA!N28=\"H06\"),\"I01\",CRSDATA!N28))))))","v":0},{"$f":"CRSDATA!M28","v":0},{"$f":"IF(CRSDATA!L28=22,\"FA04\",\"\")","v":""},{"$f":"IF(CRSDATA!K28=8,\"FC02\",\"\")","v":""},{"$f":"IF(OR(O28=\"B02\",O28=\"E02\",O28=\"G01\",O28=\"H00\",O28=\"I01\"),2,IF(OR(O28=\"A00\",O28=\"E01\",O28=\"F01\",P28=510,P28=520),1,IF(VLOOKUP(F28,recipient_country!AB:AD,3,FALSE)=\"Part I unallocated by income\",\"\",1)))","v":{"$error":"#N/A"}},{"$f":"CRSDATA!AM28","v":0},{"$f":"CRSDATA!AN28","v":0},{"$f":"CRSDATA!AP28","v":0},{"$f":"CRSDATA!AR28","v":0},{"$f":"CRSDATA!BA28","v":0},null,"",{"$f":"IF(CRSDATA!M28=421,DATEDIF(CRSDATA!B28,CRSDATA!BH28,\"m\"),\"\")","v":""},{"$f":"CRSDATA!AZ28","v":0},{"$f":"CRSDATA!BB28","v":0},{"$f":"CRSDATA!L28","v":0}]
[{"$f":"CRSDATA!A29","v":0},{"$f":"CRSDATA!C29","v":0},{"$f":"CRSDATA!D29","v":0},{"$f":"CRSDATA!F29","v":0},{"$f":"CRSDATA!E29","v":0},{"$f":"IF(CRSDATA!H29=3000,998,CRSDATA!H29)","v":0},{"$f":"CRSDATA!O29","v":0},{"$f":"CRSDATA!U29","v":0},null,{"$f":"IF(CRSDATA!V29=\"\",\"\",CRSDATA!V29)","v":""},{"$f":"key_row(CRSDATA!W29,CRSDATA!X29,CRSDATA!AK29,CRSDATA!AJ29,CRSDATA!P29,CRSDATA!V29)","v":""},{"$f":"CRSDATA!P29","v":0},{"$f":"CRSDATA!J29","v":0},{"$f":"CRSDATA!I29","v":0},{"$f":"IF(LEFT(CRSDATA!N29,2)=\"A0\",\"A00\",IF(LEFT(CRSDATA!N29,3)=\"B02\",\"B02\",IF(LEFT(CRSDATA!N29,3)=\"B03\",\"B03\",IF(CRSDATA!N29=\"B04\",\"C01\",IF(CRSDATA!N29=\"H01\",\"H00\",IF(OR(CRSDATA!N29=\"H02\",CRSDATA!N29=\"H03\",CRSDATA!N29=\"H04\",CRSDATA!N29=\"H05\",CRSDATA!N29=\"H06\"),\"I01\",CRSDATA!N29))))))","v":0},{"$f":"CRSDATA!M29","v":0},{"$f":"IF(CRSDATA!L29=22,\"FA04\",\"\")","v":""},{"$f":"IF(CRSDATA!K29=8,\"FC02\",\"\")","v":""},{"$f":"IF(OR(O29=\"B02\",O29=\"E02\",O29=\"G01\",O29=\"H00\",O29=\"I01\"),2,IF(OR(O29=\"A00\",O29=\"E01\",O29=\"F01\",P29=510,P29=520),1,IF(VLOOKUP(F29,recipient_country!AB:AD,3,FALSE)=\"Part I unallocated by income\",\"\",1)))","v":{"$error":"#N/A"}},{"$f":"CRSDATA!AM29","v":0},{"$f":"CRSDATA!AN29","v":0},{"$f":"CRSDATA!AP29","v":0},{"$f":"CRSDATA!AR29","v":0},{"$f":"CRSDATA!BA29","v":0},null,"",{"$f":"IF(CRSDATA!M29=421,DATEDIF(CRSDATA!B29,CRSDATA!BH29,\"m\"),\"\")","v":""},{"$f":"CRSDATA!AZ29","v":0},{"$f":"CRSDATA!BB29","v":0},{"$f":"CRSDATA!L29","v":0}]
[{"$f":"CRSDATA!A30","v":0},{"$f":"CRSDATA!C30","v":0},{"$f":"CRSDATA!D30","v":0},{"$f":"CRSDATA!F30","v":0},{"$f":"CRSDATA!E30","v":0},{"$f":"IF(CRSDATA!H30=3000,998,CRSDATA!H30)","v":0},{"$f":"CRSDATA!O30","v":0},{"$f":"CRSDATA!U30","v":0},null,{"$f":"IF(CRSDATA!V30=\"\",\"\",CRSDATA!V30)","v":""},{"$f":"key_row(CRSDATA!W30,CRSDATA!X30,CRSDATA!AK30,CRSDATA!AJ30,CRSDATA!P30,CRSDATA!V30)","v":""},{"$f":"CRSDATA!P30","v":0},{"$f":"CRSDATA!J30","v":0},{"$f":"CRSDATA!I30","v":0},{"$f":"IF(LEFT(CRSDATA!N30,2)=\"A0\",\"A00\",IF(LEFT(CRSDATA!N30,3)=\"B02\",\"B02\",IF(LEFT(CRSDATA!N30,3)=\"B03\",\"B03\",IF(CRSDATA!N30=\"B04\",\"C01\",IF(CRSDATA!N30=\"H01\",\"H00\",IF(OR(CRSDATA!N30=\"H02\",CRSDATA!N30=\"H03\",CRSDATA!N30=\"H04\",CRSDATA!N30=\"H05\",CRSDATA!N30=\"H06\"),\"I01\",CRSDATA!N30))))))","v":0},{"$f":"CRSDATA!M30","v":0},{"$f":"IF(CRSDATA!L30=22,\"FA04\",\"\")","v":""},{"$f":"IF(CRSDATA!K30=8,\"FC02\",\"\")","v":""},{"$f":"IF(OR(O30=\"B02\",O30=\"E02\",O30=\"G01\",O30=\"H00\",O30=\"I01\"),2,IF(OR(O30=\"A00\",O30=\"E01\",O30=\"F01\",P30=510,P30=520),1,IF(VLOOKUP(F30,recipient_country!AB:AD,3,FALSE)=\"Part I unallocated by income\",\"\",1)))","v":{"$error":"#N/A"}},{"$f":"CRSDATA!AM30","v":0},{"$f":"CRSDATA!AN30","v":0},{"$f":"CRSDATA!AP30","v":0},{"$f":"CRSDATA!AR30","v":0},{"$f":"CRSDATA!BA30","v":0},null,"",{"$f":"IF(CRSDATA!M30=421,DATEDIF(CRSDATA!B30,CRSDATA!BH30,\"m\"),\"\")","v":""},{"$f":"CRSDATA!AZ30","v":0},{"$f":"CRSDATA!BB30","v":0},{"$f":"CRSDATA!L30","v":0}]
[{"$f":"CRSDATA!A31","v":0},{"$f":"CRSDATA!C31","v":0},{"$f":"CRSDATA!D31","v":0},{"$f":"CRSDATA!F31","v":0},{"$f":"CRSDATA!E31","v":0},{"$f":"IF(CRSDATA!H31=3000,998,CRSDATA!H31)","v":0},{"$f":"CRSDATA!O31","v":0},{"$f":"CRSDATA!U31","v":0},null,{"$f":"IF(CRSDATA!V31=\"\",\"\",CRSDATA!V31)","v":""},{"$f":"key_row(CRSDATA!W31,CRSDATA!X31,CRSDATA!AK31,CRSDATA!AJ31,CRSDATA!P31,CRSDATA!V31)","v":""},{"$f":"CRSDATA!P31","v":0},{"$f":"CRSDATA!J31","v":0},{"$f":"CRSDATA!I31","v":0},{"$f":"IF(LEFT(CRSDATA!N31,2)=\"A0\",\"A00\",IF(LEFT(CRSDATA!N31,3)=\"B02\",\"B02\",IF(LEFT(CRSDATA!N31,3)=\"B03\",\"B03\",IF(CRSDATA!N31=\"B04\",\"C01\",IF(CRSDATA!N31=\"H01\",\"H00\",IF(OR(CRSDATA!N31=\"H02\",CRSDATA!N31=\"H03\",CRSDATA!N31=\"H04\",CRSDATA!N31=\"H05\",CRSDATA!N31=\"H06\"),\"I01\",CRSDATA!N31))))))","v":0},{"$f":"CRSDATA!M31","v":0},{"$f":"IF(CRSDATA!L31=22,\"FA04\",\"\")","v":""},{"$f":"IF(CRSDATA!K31=8,\"FC02\",\"\")","v":""},{"$f":"IF(OR(O31=\"B02\",O31=\"E02\",O31=\"G01\",O31=\"H00\",O31=\"I01\"),2,IF(OR(O31=\"A00\",O31=\"E01\",O31=\"F01\",P31=510,P31=520),1,IF(VLOOKUP(F31,recipient_country!AB:AD,3,FALSE)=\"Part I unallocated by income\",\"\",1)))","v":{"$error":"#N/A"}},{"$f":"CRSDATA!AM31","v":0},{"$f":"CRSDATA!AN31","v":0},{"$f":"CRSDATA!AP31","v":0},{"$f":"CRSDATA!AR31","v":0},{"$f":"CRSDATA!BA31","v":0},null,"",{"$f":"IF(CRSDATA!M31=421,DATEDIF(CRSDATA!B31,CRSDATA!BH31,\"m\"),\"\")","v":""},{"$f":"CRSDATA!AZ31","v":0},{"$f":"CRSDATA!BB31","v":0},{"$f":"CRSDATA!L31","v":0}]
[{"$f":"CRSDATA!A32","v":0},{"$f":"CRSDATA!C32","v":0},{"$f":"CRSDATA!D32","v":0},{"$f":"CRSDATA!F32","v":0},{"$f":"CRSDATA!E32","v":0},{"$f":"IF(CRSDATA!H32=3000,998,CRSDATA!H32)","v":0},{"$f":"CRSDATA!O32","v":0},{"$f":"CRSDATA!U32","v":0},null,{"$f":"IF(CRSDATA!V32=\"\",\"\",CRSDATA!V32)","v":""},{"$f":"key_row(CRSDATA!W32,CRSDATA!X32,CRSDATA!AK32,CRSDATA!AJ32,CRSDATA!P32,CRSDATA!V32)","v":""},{"$f":"CRSDATA!P32","v":0},{"$f":"CRSDATA!J32","v":0},{"$f":"CRSDATA!I32","v":0},{"$f":"IF(LEFT(CRSDATA!N32,2)=\"A0\",\"A00\",IF(LEFT(CRSDATA!N32,3)=\"B02\",\"B02\",IF(LEFT(CRSDATA!N32,3)=\"B03\",\"B03\",IF(CRSDATA!N32=\"B04\",\"C01\",IF(CRSDATA!N32=\"H01\",\"H00\",IF(OR(CRSDATA!N32=\"H02\",CRSDATA!N32=\"H03\",CRSDATA!N32=\"H04\",CRSDATA!N32=\"H05\",CRSDATA!N32=\"H06\"),\"I01\",CRSDATA!N32))))))","v":0},{"$f":"CRSDATA!M32","v":0},{"$f":"IF(CRSDATA!L32=22,\"FA04\",\"\")","v":""},{"$f":"IF(CRSDATA!K32=8,\"FC02\",\"\")","v":""},{"$f":"IF(OR(O32=\"B02\",O32=\"E02\",O32=\"G01\",O32=\"H00\",O32=\"I01\"),2,IF(OR(O32=\"A00\",O32=\"E01\",O32=\"F01\",P32=510,P32=520),1,IF(VLOOKUP(F32,recipient_country!AB:AD,3,FALSE)=\"Part I unallocated by income\",\"\",1)))","v":{"$error":"#N/A"}},{"$f":"CRSDATA!AM32","v":0},{"$f":"CRSDATA!AN32","v":0},{"$f":"CRSDATA!AP32","v":0},{"$f":"CRSDATA!AR32","v":0},{"$f":"CRSDATA!BA32","v":0},null,"",{"$f":"IF(CRSDATA!M32=421,DATEDIF(CRSDATA!B32,CRSDATA!BH32,\"m\"),\"\")","v":""},{"$f":"CRSDATA!AZ32","v":0},{"$f":"CRSDATA!BB32","v":0},{"$f":"CRSDATA!L32","v":0}]
[{"$f":"CRSDATA!A33","v":0},{"$f":"CRSDATA!C33","v":0},{"$f":"CRSDATA!D33","v":0},{"$f":"CRSDATA!F33","v":0},{"$f":"CRSDATA!E33","v":0},{"$f":"IF(CRSDATA!H33=3000,998,CRSDATA!H33)","v":0},{"$f":"CRSDATA!O33","v":0},{"$f":"CRSDATA!U33","v":0},null,{"$f":"IF(CRSDATA!V33=\"\",\"\",CRSDATA!V33)","v":""},{"$f":"key_row(CRSDATA!W33,CRSDATA!X33,CRSDATA!AK33,CRSDATA!AJ33,CRSDATA!P33,CRSDATA!V33)","v":""},{"$f":"CRSDATA!P33","v":0},{"$f":"CRSDATA!J33","v":0},{"$f":"CRSDATA!I33","v":0},{"$f":"IF(LEFT(CRSDATA!N33,2)=\"A0\",\"A00\",IF(LEFT(CRSDATA!N33,3)=\"B02\",\"B02\",IF(LEFT(CRSDATA!N33,3)=\"B03\",\"B03\",IF(CRSDATA!N33=\"B04\",\"C01\",IF(CRSDATA!N33=\"H01\",\"H00\",IF(OR(CRSDATA!N33=\"H02\",CRSDATA!N33=\"H03\",CRSDATA!N33=\"H04\",CRSDATA!N33=\"H05\",CRSDATA!N33=\"H06\"),\"I01\",CRSDATA!N33))))))","v":0},{"$f":"CRSDATA!M33","v":0},{"$f":"IF(CRSDATA!L33=22,\"FA04\",\"\")","v":""},{"$f":"IF(CRSDATA!K33=8,\"FC02\",\"\")","v":""},{"$f":"IF(OR(O33=\"B02\",O33=\"E02\",O33=\"G01\",O33=\"H00\",O33=\"I01\"),2,IF(OR(O33=\"A00\",O33=\"E01\",O33=\"F01\",P33=510,P33=520),1,IF(VLOOKUP(F33,recipient_country!AB:AD,3,FALSE)=\"Part I unallocated by income\",\"\",1)))","v":{"$error":"#N/A"}},{"$f":"CRSDATA!AM33","v":0},{"$f":"CRSDATA!AN33","v":0},{"$f":"CRSDATA!AP33","v":0},{"$f":"CRSDATA!AR33","v":0},{"$f":"CRSDATA!BA33","v":0},null,"",{"$f":"IF(CRSDATA!M33=421,DATEDIF(CRSDATA!B33,CRSDATA!BH33,\"m\"),\"\")","v":""},{"$f":"CRSDATA!AZ33","v":0},{"$f":"CRSDATA!BB33","v":0},{"$f":"CRSDATA!L33","v":0}]
[{"$f":"CRSDATA!A34","v":0},{"$f":"CRSDATA!C34","v":0},{"$f":"CRSDATA!D34","v":0},{"$f":"CRSDATA!F34","v":0},{"$f":"CRSDATA!E34","v":0},{"$f":"IF(CRSDATA!H34=3000,998,CRSDATA!H34)","v":0},{"$f":"CRSDATA!O34","v":0},{"$f":"CRSDATA!U34","v":0},null,{"$f":"IF(CRSDATA!V34=\"\",\"\",CRSDATA!V34)","v":""},{"$f":"key_row(CRSDATA!W34,CRSDATA!X34,CRSDATA!AK34,CRSDATA!AJ34,CRSDATA!P34,CRSDATA!V34)","v":""},{"$f":"CRSDATA!P34","v":0},{"$f":"CRSDATA!J34","v":0},{"$f":"CRSDATA!I34","v":0},{"$f":"IF(LEFT(CRSDATA!N34,2)=\"A0\",\"A00\",IF(LEFT(CRSDATA!N34,3)=\"B02\",\"B02\",IF(LEFT(CRSDATA!N34,3)=\"B03\",\"B03\",IF(CRSDATA!N34=\"B04\",\"C01\",IF(CRSDATA!N34=\"H01\",\"H00\",IF(OR(CRSDATA!N34=\"H02\",CRSDATA!N34=\"H03\",CRSDATA!N34=\"H04\",CRSDATA!N34=\"H05\",CRSDATA!N34=\"H06\"),\"I01\",CRSDATA!N34))))))","v":0},{"$f":"CRSDATA!M34","v":0},{"$f":"IF(CRSDATA!L34=22,\"FA04\",\"\")","v":""},{"$f":"IF(CRSDATA!K34=8,\"FC02\",\"\")","v":""},{"$f":"IF(OR(O34=\"B02\",O34=\"E02\",O34=\"G01\",O34=\"H00\",O34=\"I01\"),2,IF(OR(O34=\"A00\",O34=\"E01\",O34=\"F01\",P34=510,P34=520),1,IF(VLOOKUP(F34,recipient_country!AB:AD,3,FALSE)=\"Part I unallocated by income\",\"\",1)))","v":{"$error":"#N/A"}},{"$f":"CRSDATA!AM34","v":0},{"$f":"CRSDATA!AN34","v":0},{"$f":"CRSDATA!AP34","v":0},{"$f":"CRSDATA!AR34","v":0},{"$f":"CRSDATA!BA34","v":0},null,"",{"$f":"IF(CRSDATA!M34=421,DATEDIF(CRSDATA!B34,CRSDATA!BH34,\"m\"),\"\")","v":""},{"$f":"CRSDATA!AZ34","v":0},{"$f":"CRSDATA!BB34","v":0},{"$f":"CRSDATA!L34","v":0}]
[{"$f":"CRSDATA!A35","v":0},{"$f":"CRSDATA!C35","v":0},{"$f":"CRSDATA!D35","v":0},{"$f":"CRSDATA!F35","v":0},{"$f":"CRSDATA!E35","v":0},{"$f":"IF(CRSDATA!H35=3000,998,CRSDATA!H35)","v":0},{"$f":"CRSDATA!O35","v":0},{"$f":"CRSDATA!U35","v":0},null,{"$f":"IF(CRSDATA!V35=\"\",\"\",CRSDATA!V35)","v":""},{"$f":"key_row(CRSDATA!W35,CRSDATA!X35,CRSDATA!AK35,CRSDATA!AJ35,CRSDATA!P35,CRSDATA!V35)","v":""},{"$f":"CRSDATA!P35","v":0},{"$f":"CRSDATA!J35","v":0},{"$f":"CRSDATA!I35","v":0},{"$f":"IF(LEFT(CRSDATA!N35,2)=\"A0\",\"A00\",IF(LEFT(CRSDATA!N35,3)=\"B02\",\"B02\",IF(LEFT(CRSDATA!N35,3)=\"B03\",\"B03\",IF(CRSDATA!N35=\"B04\",\"C01\",IF(CRSDATA!N35=\"H01\",\"H00\",IF(OR(CRSDATA!N35=\"H02\",CRSDATA!N35=\"H03\",CRSDATA!N35=\"H04\",CRSDATA!N35=\"H05\",CRSDATA!N35=\"H06\"),\"I01\",CRSDATA!N35))))))","v":0},{"$f":"CRSDATA!M35","v":0},{"$f":"IF(CRSDATA!L35=22,\"FA04\",\"\")","v":""},{"$f":"IF(CRSDATA!K35=8,\"FC02\",\"\")","v":""},{"$f":"IF(OR(O35=\"B02\",O35=\"E02\",O35=\"G01\",O35=\"H00\",O35=\"I01\"),2,IF(OR(O35=\"A00\",O35=\"E01\",O35=\"F01\",P35=510,P35=520),1,IF(VLOOKUP(F35,recipient_country!AB:AD,3,FALSE)=\"Part I unallocated by income\",\"\",1)))","v":{"$error":"#N/A"}},{"$f":"CRSDATA!AM35","v":0},{"$f":"CRSDATA!AN35","v":0},{"$f":"CRSDATA!AP35","v":0},{"$f":"CRSDATA!AR35","v":0},{"$f":"CRSDATA!BA35","v":0},null,"",{"$f":"IF(CRSDATA!M35=421,DATEDIF(CRSDATA!B35,CRSDATA!BH35,\"m\"),\"\")","v":""},{"$f":"CRSDATA!AZ35","v":0},{"$f":"CRSDATA!BB35","v":0},{"$f":"CRSDATA!L35","v":0}]
[{"$f":"CRSDATA!A36","v":0},{"$f":"CRSDATA!C36","v":0},{"$f":"CRSDATA!D36","v":0},{"$f":"CRSDATA!F36","v":0},{"$f":"CRSDATA!E36","v":0},{"$f":"IF(CRSDATA!H36=3000,998,CRSDATA!H36)","v":0},{"$f":"CRSDATA!O36","v":0},{"$f":"CRSDATA!U36","v":0},null,{"$f":"IF(CRSDATA!V36=\"\",\"\",CRSDATA!V36)","v":""},{"$f":"key_row(CRSDATA!W36,CRSDATA!X36,CRSDATA!AK36,CRSDATA!AJ36,CRSDATA!P36,CRSDATA!V36)","v":""},{"$f":"CRSDATA!P36","v":0},{"$f":"CRSDATA!J36","v":0},{"$f":"CRSDATA!I36","v":0},{"$f":"IF(LEFT(CRSDATA!N36,2)=\"A0\",\"A00\",IF(LEFT(CRSDATA!N36,3)=\"B02\",\"B02\",IF(LEFT(CRSDATA!N36,3)=\"B03\",\"B03\",IF(CRSDATA!N36=\"B04\",\"C01\",IF(CRSDATA!N36=\"H01\",\"H00\",IF(OR(CRSDATA!N36=\"H02\",CRSDATA!N36=\"H03\",CRSDATA!N36=\"H04\",CRSDATA!N36=\"H05\",CRSDATA!N36=\"H06\"),\"I01\",CRSDATA!N36))))))","v":0},{"$f":"CRSDATA!M36","v":0},{"$f":"IF(CRSDATA!L36=22,\"FA04\",\"\")","v":""},{"$f":"IF(CRSDATA!K36=8,\"FC02\",\"\")","v":""},{"$f":"IF(OR(O36=\"B02\",O36=\"E02\",O36=\"G01\",O36=\"H00\",O36=\"I01\"),2,IF(OR(O36=\"A00\",O36=\"E01\",O36=\"F01\",P36=510,P36=520),1,IF(VLOOKUP(F36,recipient_country!AB:AD,3,FALSE)=\"Part I unallocated by income\",\"\",1)))","v":{"$error":"#N/A"}},{"$f":"CRSDATA!AM36","v":0},{"$f":"CRSDATA!AN36","v":0},{"$f":"CRSDATA!AP36","v":0},{"$f":"CRSDATA!AR36","v":0},{"$f":"CRSDATA!BA36","v":0},null,"",{"$f":"IF(CRSDATA!M36=421,DATEDIF(CRSDATA!B36,CRSDATA!BH36,\"m\"),\"\")","v":""},{"$f":"CRSDATA!AZ36","v":0},{"$f":"CRSDATA!BB36","v":0},{"$f":"CRSDATA!L36","v":0}]
[{"$f":"CRSDATA!A37","v":0},{"$f":"CRSDATA!C37","v":0},{"$f":"CRSDATA!D37","v":0},{"$f":"CRSDATA!F37","v":0},{"$f":"CRSDATA!E37","v":0},{"$f":"IF(CRSDATA!H37=3000,998,CRSDATA!H37)","v":0},{"$f":"CRSDATA!O37","v":0},{"$f":"CRSDATA!U37","v":0},null,{"$f":"IF(CRSDATA!V37=\"\",\"\",CRSDATA!V37)","v":""},{"$f":"key_row(CRSDATA!W37,CRSDATA!X37,CRSDATA!AK37,CRSDATA!AJ37,CRSDATA!P37,CRSDATA!V37)","v":""},{"$f":"CRSDATA!P37","v":0},{"$f":"CRSDATA!J37","v":0},{"$f":"CRSDATA!I37","v":0},{"$f":"IF(LEFT(CRSDATA!N37,2)=\"A0\",\"A00\",IF(LEFT(CRSDATA!N37,3)=\"B02\",\"B02\",IF(LEFT(CRSDATA!N37,3)=\"B03\",\"B03\",IF(CRSDATA!N37=\"B04\",\"C01\",IF(CRSDATA!N37=\"H01\",\"H00\",IF(OR(CRSDATA!N37=\"H02\",CRSDATA!N37=\"H03\",CRSDATA!N37=\"H04\",CRSDATA!N37=\"H05\",CRSDATA!N37=\"H06\"),\"I01\",CRSDATA!N37))))))","v":0},{"$f":"CRSDATA!M37","v":0},{"$f":"IF(CRSDATA!L37=22,\"FA04\",\"\")","v":""},{"$f":"IF(CRSDATA!K37=8,\"FC02\",\"\")","v":""},{"$f":"IF(OR(O37=\"B02\",O37=\"E02\",O37=\"G01\",O37=\"H00\",O37=\"I01\"),2,IF(OR(O37=\"A00\",O37=\"E01\",O37=\"F01\",P37=510,P37=520),1,IF(VLOOKUP(F37,recipient_country!AB:AD,3,FALSE)=\"Part I unallocated by income\",\"\",1)))","v":{"$error":"#N/A"}},{"$f":"CRSDATA!AM37","v":0},{"$f":"CRSDATA!AN37","v":0},{"$f":"CRSDATA!AP37","v":0},{"$f":"CRSDATA!AR37","v":0},{"$f":"CRSDATA!BA37","v":0},null,"",{"$f":"IF(CRSDATA!M37=421,DATEDIF(CRSDATA!B37,CRSDATA!BH37,\"m\"),\"\")","v":""},{"$f":"CRSDATA!AZ37","v":0},{"$f":"CRSDATA!BB37","v":0},{"$f":"CRSDATA!L37","v":0}]
[{"$f":"CRSDATA!A38","v":0},{"$f":"CRSDATA!C38","v":0},{"$f":"CRSDATA!D38","v":0},{"$f":"CRSDATA!F38","v":0},{"$f":"CRSDATA!E38","v":0},{"$f":"IF(CRSDATA!H38=3000,998,CRSDATA!H38)","v":0},{"$f":"CRSDATA!O38","v":0},{"$f":"CRSDATA!U38","v":0},null,{"$f":"IF(CRSDATA!V38=\"\",\"\",CRSDATA!V38)","v":""},{"$f":"key_row(CRSDATA!W38,CRSDATA!X38,CRSDATA!AK38,CRSDATA!AJ38,CRSDATA!P38,CRSDATA!V38)","v":""},{"$f":"CRSDATA!P38","v":0},{"$f":"CRSDATA!J38","v":0},{"$f":"CRSDATA!I38","v":0},{"$f":"IF(LEFT(CRSDATA!N38,2)=\"A0\",\"A00\",IF(LEFT(CRSDATA!N38,3)=\"B02\",\"B02\",IF(LEFT(CRSDATA!N38,3)=\"B03\",\"B03\",IF(CRSDATA!N38=\"B04\",\"C01\",IF(CRSDATA!N38=\"H01\",\"H00\",IF(OR(CRSDATA!N38=\"H02\",CRSDATA!N38=\"H03\",CRSDATA!N38=\"H04\",CRSDATA!N38=\"H05\",CRSDATA!N38=\"H06\"),\"I01\",CRSDATA!N38))))))","v":0},{"$f":"CRSDATA!M38","v":0},{"$f":"IF(CRSDATA!L38=22,\"FA04\",\"\")","v":""},{"$f":"IF(CRSDATA!K38=8,\"FC02\",\"\")","v":""},{"$f":"IF(OR(O38=\"B02\",O38=\"E02\",O38=\"G01\",O38=\"H00\",O38=\"I01\"),2,IF(OR(O38=\"A00\",O38=\"E01\",O38=\"F01\",P38=510,P38=520),1,IF(VLOOKUP(F38,recipient_country!AB:AD,3,FALSE)=\"Part I unallocated by income\",\"\",1)))","v":{"$error":"#N/A"}},{"$f":"CRSDATA!AM38","v":0},{"$f":"CRSDATA!AN38","v":0},{"$f":"CRSDATA!AP38","v":0},{"$f":"CRSDATA!AR38","v":0},{"$f":"CRSDATA!BA38","v":0},null,"",{"$f":"IF(CRSDATA!M38=421,DATEDIF(CRSDATA!B38,CRSDATA!BH38,\"m\"),\"\")","v":""},{"$f":"CRSDATA!AZ38","v":0},{"$f":"CRSDATA!BB38","v":0},{"$f":"CRSDATA!L38","v":0}]
[{"$f":"CRSDATA!A39","v":0},{"$f":"CRSDATA!C39","v":0},{"$f":"CRSDATA!D39","v":0},{"$f":"CRSDATA!F39","v":0},{"$f":"CRSDATA!E39","v":0},{"$f":"IF(CRSDATA!H39=3000,998,CRSDATA!H39)","v":0},{"$f":"CRSDATA!O39","v":0},{"$f":"CRSDATA!U39","v":0},null,{"$f":"IF(CRSDATA!V39=\"\",\"\",CRSDATA!V39)","v":""},{"$f":"key_row(CRSDATA!W39,CRSDATA!X39,CRSDATA!AK39,CRSDATA!AJ39,CRSDATA!P39,CRSDATA!V39)","v":""},{"$f":"CRSDATA!P39","v":0},{"$f":"CRSDATA!J39","v":0},{"$f":"CRSDATA!I39","v":0},{"$f":"IF(LEFT(CRSDATA!N39,2)=\"A0\",\"A00\",IF(LEFT(CRSDATA!N39,3)=\"B02\",\"B02\",IF(LEFT(CRSDATA!N39,3)=\"B03\",\"B03\",IF(CRSDATA!N39=\"B04\",\"C01\",IF(CRSDATA!N39=\"H01\",\"H00\",IF(OR(CRSDATA!N39=\"H02\",CRSDATA!N39=\"H03\",CRSDATA!N39=\"H04\",CRSDATA!N39=\"H05\",CRSDATA!N39=\"H06\"),\"I01\",CRSDATA!N39))))))","v":0},{"$f":"CRSDATA!M39","v":0},{"$f":"IF(CRSDATA!L39=22,\"FA04\",\"\")","v":""},{"$f":"IF(CRSDATA!K39=8,\"FC02\",\"\")","v":""},{"$f":"IF(OR(O39=\"B02\",O39=\"E02\",O39=\"G01\",O39=\"H00\",O39=\"I01\"),2,IF(OR(O39=\"A00\",O39=\"E01\",O39=\"F01\",P39=510,P39=520),1,IF(VLOOKUP(F39,recipient_country!AB:AD,3,FALSE)=\"Part I unallocated by income\",\"\",1)))","v":{"$error":"#N/A"}},{"$f":"CRSDATA!AM39","v":0},{"$f":"CRSDATA!AN39","v":0},{"$f":"CRSDATA!AP39","v":0},{"$f":"CRSDATA!AR39","v":0},{"$f":"CRSDATA!BA39","v":0},null,"",{"$f":"IF(CRSDATA!M39=421,DATEDIF(CRSDATA!B39,CRSDATA!BH39,\"m\"),\"\")","v":""},{"$f":"CRSDATA!AZ39","v":0},{"$f":"CRSDATA!BB39","v":0},{"$f":"CRSDATA!L39","v":0}]
[{"$f":"CRSDATA!A40","v":0},{"$f":"CRSDATA!C40","v":0},{"$f":"CRSDATA!D40","v":0},{"$f":"CRSDATA!F40","v":0},{"$f":"CRSDATA!E40","v":0},{"$f":"IF(CRSDATA!H40=3000,998,CRSDATA!H40)","v":0},{"$f":"CRSDATA!O40","v":0},{"$f":"CRSDATA!U40","v":0},null,{"$f":"IF(CRSDATA!V40=\"\",\"\",CRSDATA!V40)","v":""},{"$f":"key_row(CRSDATA!W40,CRSDATA!X40,CRSDATA!AK40,CRSDATA!AJ40,CRSDATA!P40,CRSDATA!V40)","v":""},{"$f":"CRSDATA!P40","v":0},{"$f":"CRSDATA!J40","v":0},{"$f":"CRSDATA!I40","v":0},{"$f":"IF(LEFT(CRSDATA!N40,2)=\"A0\",\"A00\",IF(LEFT(CRSDATA!N40,3)=\"B02\",\"B02\",IF(LEFT(CRSDATA!N40,3)=\"B03\",\"B03\",IF(CRSDATA!N40=\"B04\",\"C01\",IF(CRSDATA!N40=\"H01\",\"H00\",IF(OR(CRSDATA!N40=\"H02\",CRSDATA!N40=\"H03\",CRSDATA!N40=\"H04\",CRSDATA!N40=\"H05\",CRSDATA!N40=\"H06\"),\"I01\",CRSDATA!N40))))))","v":0},{"$f":"CRSDATA!M40","v":0},{"$f":"IF(CRSDATA!L40=22,\"FA04\",\"\")","v":""},{"$f":"IF(CRSDATA!K40=8,\"FC02\",\"\")","v":""},{"$f":"IF(OR(O40=\"B02\",O40=\"E02\",O40=\"G01\",O40=\"H00\",O40=\"I01\"),2,IF(OR(O40=\"A00\",O40=\"E01\",O40=\"F01\",P40=510,P40=520),1,IF(VLOOKUP(F40,recipient_country!AB:AD,3,FALSE)=\"Part I unallocated by income\",\"\",1)))","v":{"$error":"#N/A"}},{"$f":"CRSDATA!AM40","v":0},{"$f":"CRSDATA!AN40","v":0},{"$f":"CRSDATA!AP40","v":0},{"$f":"CRSDATA!AR40","v":0},{"$f":"CRSDATA!BA40","v":0},null,"",{"$f":"IF(CRSDATA!M40=421,DATEDIF(CRSDATA!B40,CRSDATA!BH40,\"m\"),\"\")","v":""},{"$f":"CRSDATA!AZ40","v":0},{"$f":"CRSDATA!BB40","v":0},{"$f":"CRSDATA!L40","v":0}]
[{"$f":"CRSDATA!A41","v":0},{"$f":"CRSDATA!C41","v":0},{"$f":"CRSDATA!D41","v":0},{"$f":"CRSDATA!F41","v":0},{"$f":"CRSDATA!E41","v":0},{"$f":"IF(CRSDATA!H41=3000,998,CRSDATA!H41)","v":0},{"$f":"CRSDATA!O41","v":0},{"$f":"CRSDATA!U41","v":0},null,{"$f":"IF(CRSDATA!V41=\"\",\"\",CRSDATA!V41)","v":""},{"$f":"key_row(CRSDATA!W41,CRSDATA!X41,CRSDATA!AK41,CRSDATA!AJ41,CRSDATA!P41,CRSDATA!V41)","v":""},{"$f":"CRSDATA!P41","v":0},{"$f":"CRSDATA!J41","v":0},{"$f":"CRSDATA!I41","v":0},{"$f":"IF(LEFT(CRSDATA!N41,2)=\"A0\",\"A00\",IF(LEFT(CRSDATA!N41,3)=\"B02\",\"B02\",IF(LEFT(CRSDATA!N41,3)=\"B03\",\"B03\",IF(CRSDATA!N41=\"B04\",\"C01\",IF(CRSDATA!N41=\"H01\",\"H00\",IF(OR(CRSDATA!N41=\"H02\",CRSDATA!N41=\"H03\",CRSDATA!N41=\"H04\",CRSDATA!N41=\"H05\",CRSDATA!N41=\"H06\"),\"I01\",CRSDATA!N41))))))","v":0},{"$f":"CRSDATA!M41","v":0},{"$f":"IF(CRSDATA!L41=22,\"FA04\",\"\")","v":""},{"$f":"IF(CRSDATA!K41=8,\"FC02\",\"\")","v":""},{"$f":"IF(OR(O41=\"B02\",O41=\"E02\",O41=\"G01\",O41=\"H00\",O41=\"I01\"),2,IF(OR(O41=\"A00\",O41=\"E01\",O41=\"F01\",P41=510,P41=520),1,IF(VLOOKUP(F41,recipient_country!AB:AD,3,FALSE)=\"Part I unallocated by income\",\"\",1)))","v":{"$error":"#N/A"}},{"$f":"CRSDATA!AM41","v":0},{"$f":"CRSDATA!AN41","v":0},{"$f":"CRSDATA!AP41","v":0},{"$f":"CRSDATA!AR41","v":0},{"$f":"CRSDATA!BA41","v":0},null,"",{"$f":"IF(CRSDATA!M41=421,DATEDIF(CRSDATA!B41,CRSDATA!BH41,\"m\"),\"\")","v":""},{"$f":"CRSDATA!AZ41","v":0},{"$f":"CRSDATA!BB41","v":0},{"$f":"CRSDATA!L41","v":0}]
[{"$f":"CRSDATA!A42","v":0},{"$f":"CRSDATA!C42","v":0},{"$f":"CRSDATA!D42","v":0},{"$f":"CRSDATA!F42","v":0},{"$f":"CRSDATA!E42","v":0},{"$f":"IF(CRSDATA!H42=3000,998,CRSDATA!H42)","v":0},{"$f":"CRSDATA!O42","v":0},{"$f":"CRSDATA!U42","v":0},null,{"$f":"IF(CRSDATA!V42=\"\",\"\",CRSDATA!V42)","v":""},{"$f":"key_row(CRSDATA!W42,CRSDATA!X42,CRSDATA!AK42,CRSDATA!AJ42,CRSDATA!P42,CRSDATA!V42)","v":""},{"$f":"CRSDATA!P42","v":0},{"$f":"CRSDATA!J42","v":0},{"$f":"CRSDATA!I42","v":0},{"$f":"IF(LEFT(CRSDATA!N42,2)=\"A0\",\"A00\",IF(LEFT(CRSDATA!N42,3)=\"B02\",\"B02\",IF(LEFT(CRSDATA!N42,3)=\"B03\",\"B03\",IF(CRSDATA!N42=\"B04\",\"C01\",IF(CRSDATA!N42=\"H01\",\"H00\",IF(OR(CRSDATA!N42=\"H02\",CRSDATA!N42=\"H03\",CRSDATA!N42=\"H04\",CRSDATA!N42=\"H05\",CRSDATA!N42=\"H06\"),\"I01\",CRSDATA!N42))))))","v":0},{"$f":"CRSDATA!M42","v":0},{"$f":"IF(CRSDATA!L42=22,\"FA04\",\"\")","v":""},{"$f":"IF(CRSDATA!K42=8,\"FC02\",\"\")","v":""},{"$f":"IF(OR(O42=\"B02\",O42=\"E02\",O42=\"G01\",O42=\"H00\",O42=\"I01\"),2,IF(OR(O42=\"A00\",O42=\"E01\",O42=\"F01\",P42=510,P42=520),1,IF(VLOOKUP(F42,recipient_country!AB:AD,3,FALSE)=\"Part I unallocated by income\",\"\",1)))","v":{"$error":"#N/A"}},{"$f":"CRSDATA!AM42","v":0},{"$f":"CRSDATA!AN42","v":0},{"$f":"CRSDATA!AP42","v":0},{"$f":"CRSDATA!AR42","v":0},{"$f":"CRSDATA!BA42","v":0},null,"",{"$f":"IF(CRSDATA!M42=421,DATEDIF(CRSDATA!B42,CRSDATA!BH42,\"m\"),\"\")","v":""},{"$f":"CRSDATA!AZ42","v":0},{"$f":"CRSDATA!BB42","v":0},{"$f":"CRSDATA!L42","v":0}]
[{"$f":"CRSDATA!A43","v":0},{"$f":"CRSDATA!C43","v":0},{"$f":"CRSDATA!D43","v":0},{"$f":"CRSDATA!F43","v":0},{"$f":"CRSDATA!E43","v":0},{"$f":"IF(CRSDATA!H43=3000,998,CRSDATA!H43)","v":0},{"$f":"CRSDATA!O43","v":0},{"$f":"CRSDATA!U43","v":0},null,{"$f":"IF(CRSDATA!V43=\"\",\"\",CRSDATA!V43)","v":""},{"$f":"key_row(CRSDATA!W43,CRSDATA!X43,CRSDATA!AK43,CRSDATA!AJ43,CRSDATA!P43,CRSDATA!V43)","v":""},{"$f":"CRSDATA!P43","v":0},{"$f":"CRSDATA!J43","v":0},{"$f":"CRSDATA!I43","v":0},{"$f":"IF(LEFT(CRSDATA!N43,2)=\"A0\",\"A00\",IF(LEFT(CRSDATA!N43,3)=\"B02\",\"B02\",IF(LEFT(CRSDATA!N43,3)=\"B03\",\"B03\",IF(CRSDATA!N43=\"B04\",\"C01\",IF(CRSDATA!N43=\"H01\",\"H00\",IF(OR(CRSDATA!N43=\"H02\",CRSDATA!N43=\"H03\",CRSDATA!N43=\"H04\",CRSDATA!N43=\"H05\",CRSDATA!N43=\"H06\"),\"I01\",CRSDATA!N43))))))","v":0},{"$f":"CRSDATA!M43","v":0},{"$f":"IF(CRSDATA!L43=22,\"FA04\",\"\")","v":""},{"$f":"IF(CRSDATA!K43=8,\"FC02\",\"\")","v":""},{"$f":"IF(OR(O43=\"B02\",O43=\"E02\",O43=\"G01\",O43=\"H00\",O43=\"I01\"),2,IF(OR(O43=\"A00\",O43=\"E01\",O43=\"F01\",P43=510,P43=520),1,IF(VLOOKUP(F43,recipient_country!AB:AD,3,FALSE)=\"Part I unallocated by income\",\"\",1)))","v":{"$error":"#N/A"}},{"$f":"CRSDATA!AM43","v":0},{"$f":"CRSDATA!AN43","v":0},{"$f":"CRSDATA!AP43","v":0},{"$f":"CRSDATA!AR43","v":0},{"$f":"CRSDATA!BA43","v":0},null,"",{"$f":"IF(CRSDATA!M43=421,DATEDIF(CRSDATA!B43,CRSDATA!BH43,\"m\"),\"\")","v":""},{"$f":"CRSDATA!AZ43","v":0},{"$f":"CRSDATA!BB43","v":0},{"$f":"CRSDATA!L43","v":0}]
[{"$f":"CRSDATA!A44","v":0},{"$f":"CRSDATA!C44","v":0},{"$f":"CRSDATA!D44","v":0},{"$f":"CRSDATA!F44","v":0},{"$f":"CRSDATA!E44","v":0},{"$f":"IF(CRSDATA!H44=3000,998,CRSDATA!H44)","v":0},{"$f":"CRSDATA!O44","v":0},{"$f":"CRSDATA!U44","v":0},null,{"$f":"IF(CRSDATA!V44=\"\",\"\",CRSDATA!V44)","v":""},{"$f":"key_row(CRSDATA!W44,CRSDATA!X44,CRSDATA!AK44,CRSDATA!AJ44,CRSDATA!P44,CRSDATA!V44)","v":""},{"$f":"CRSDATA!P44","v":0},{"$f":"CRSDATA!J44","v":0},{"$f":"CRSDATA!I44","v":0},{"$f":"IF(LEFT(CRSDATA!N44,2)=\"A0\",\"A00\",IF(LEFT(CRSDATA!N44,3)=\"B02\",\"B02\",IF(LEFT(CRSDATA!N44,3)=\"B03\",\"B03\",IF(CRSDATA!N44=\"B04\",\"C01\",IF(CRSDATA!N44=\"H01\",\"H00\",IF(OR(CRSDATA!N44=\"H02\",CRSDATA!N44=\"H03\",CRSDATA!N44=\"H04\",CRSDATA!N44=\"H05\",CRSDATA!N44=\"H06\"),\"I01\",CRSDATA!N44))))))","v":0},{"$f":"CRSDATA!M44","v":0},{"$f":"IF(CRSDATA!L44=22,\"FA04\",\"\")","v":""},{"$f":"IF(CRSDATA!K44=8,\"FC02\",\"\")","v":""},{"$f":"IF(OR(O44=\"B02\",O44=\"E02\",O44=\"G01\",O44=\"H00\",O44=\"I01\"),2,IF(OR(O44=\"A00\",O44=\"E01\",O44=\"F01\",P44=510,P44=520),1,IF(VLOOKUP(F44,recipient_country!AB:AD,3,FALSE)=\"Part I unallocated by income\",\"\",1)))","v":{"$error":"#N/A"}},{"$f":"CRSDATA!AM44","v":0},{"$f":"CRSDATA!AN44","v":0},{"$f":"CRSDATA!AP44","v":0},{"$f":"CRSDATA!AR44","v":0},{"$f":"CRSDATA!BA44","v":0},null,"",{"$f":"IF(CRSDATA!M44=421,DATEDIF(CRSDATA!B44,CRSDATA!BH44,\"m\"),\"\")","v":""},{"$f":"CRSDATA!AZ44","v":0},{"$f":"CRSDATA!BB44","v":0},{"$f":"CRSDATA!L44","v":0}]
[{"$f":"CRSDATA!A45","v":0},{"$f":"CRSDATA!C45","v":0},{"$f":"CRSDATA!D45","v":0},{"$f":"CRSDATA!F45","v":0},{"$f":"CRSDATA!E45","v":0},{"$f":"IF(CRSDATA!H45=3000,998,CRSDATA!H45)","v":0},{"$f":"CRSDATA!O45","v":0},{"$f":"CRSDATA!U45","v":0},null,{"$f":"IF(CRSDATA!V45=\"\",\"\",CRSDATA!V45)","v":""},{"$f":"key_row(CRSDATA!W45,CRSDATA!X45,CRSDATA!AK45,CRSDATA!AJ45,CRSDATA!P45,CRSDATA!V45)","v":""},{"$f":"CRSDATA!P45","v":0},{"$f":"CRSDATA!J45","v":0},{"$f":"CRSDATA!I45","v":0},{"$f":"IF(LEFT(CRSDATA!N45,2)=\"A0\",\"A00\",IF(LEFT(CRSDATA!N45,3)=\"B02\",\"B02\",IF(LEFT(CRSDATA!N45,3)=\"B03\",\"B03\",IF(CRSDATA!N45=\"B04\",\"C01\",IF(CRSDATA!N45=\"H01\",\"H00\",IF(OR(CRSDATA!N45=\"H02\",CRSDATA!N45=\"H03\",CRSDATA!N45=\"H04\",CRSDATA!N45=\"H05\",CRSDATA!N45=\"H06\"),\"I01\",CRSDATA!N45))))))","v":0},{"$f":"CRSDATA!M45","v":0},{"$f":"IF(CRSDATA!L45=22,\"FA04\",\"\")","v":""},{"$f":"IF(CRSDATA!K45=8,\"FC02\",\"\")","v":""},{"$f":"IF(OR(O45=\"B02\",O45=\"E02\",O45=\"G01\",O45=\"H00\",O45=\"I01\"),2,IF(OR(O45=\"A00\",O45=\"E01\",O45=\"F01\",P45=510,P45=520),1,IF(VLOOKUP(F45,recipient_country!AB:AD,3,FALSE)=\"Part I unallocated by income\",\"\",1)))","v":{"$error":"#N/A"}},{"$f":"CRSDATA!AM45","v":0},{"$f":"CRSDATA!AN45","v":0},{"$f":"CRSDATA!AP45","v":0},{"$f":"CRSDATA!AR45","v":0},{"$f":"CRSDATA!BA45","v":0},null,"",{"$f":"IF(CRSDATA!M45=421,DATEDIF(CRSDATA!B45,CRSDATA!BH45,\"m\"),\"\")","v":""},{"$f":"CRSDATA!AZ45","v":0},{"$f":"CRSDATA!BB45","v":0},{"$f":"CRSDATA!L45","v":0}]
[{"$f":"CRSDATA!A46","v":0},{"$f":"CRSDATA!C46","v":0},{"$f":"CRSDATA!D46","v":0},{"$f":"CRSDATA!F46","v":0},{"$f":"CRSDATA!E46","v":0},{"$f":"IF(CRSDATA!H46=3000,998,CRSDATA!H46)","v":0},{"$f":"CRSDATA!O46","v":0},{"$f":"CRSDATA!U46","v":0},null,{"$f":"IF(CRSDATA!V46=\"\",\"\",CRSDATA!V46)","v":""},{"$f":"key_row(CRSDATA!W46,CRSDATA!X46,CRSDATA!AK46,CRSDATA!AJ46,CRSDATA!P46,CRSDATA!V46)","v":""},{"$f":"CRSDATA!P46","v":0},{"$f":"CRSDATA!J46","v":0},{"$f":"CRSDATA!I46","v":0},{"$f":"IF(LEFT(CRSDATA!N46,2)=\"A0\",\"A00\",IF(LEFT(CRSDATA!N46,3)=\"B02\",\"B02\",IF(LEFT(CRSDATA!N46,3)=\"B03\",\"B03\",IF(CRSDATA!N46=\"B04\",\"C01\",IF(CRSDATA!N46=\"H01\",\"H00\",IF(OR(CRSDATA!N46=\"H02\",CRSDATA!N46=\"H03\",CRSDATA!N46=\"H04\",CRSDATA!N46=\"H05\",CRSDATA!N46=\"H06\"),\"I01\",CRSDATA!N46))))))","v":0},{"$f":"CRSDATA!M46","v":0},{"$f":"IF(CRSDATA!L46=22,\"FA04\",\"\")","v":""},{"$f":"IF(CRSDATA!K46=8,\"FC02\",\"\")","v":""},{"$f":"IF(OR(O46=\"B02\",O46=\"E02\",O46=\"G01\",O46=\"H00\",O46=\"I01\"),2,IF(OR(O46=\"A00\",O46=\"E01\",O46=\"F01\",P46=510,P46=520),1,IF(VLOOKUP(F46,recipient_country!AB:AD,3,FALSE)=\"Part I unallocated by income\",\"\",1)))","v":{"$error":"#N/A"}},{"$f":"CRSDATA!AM46","v":0},{"$f":"CRSDATA!AN46","v":0},{"$f":"CRSDATA!AP46","v":0},{"$f":"CRSDATA!AR46","v":0},{"$f":"CRSDATA!BA46","v":0},null,"",{"$f":"IF(CRSDATA!M46=421,DATEDIF(CRSDATA!B46,CRSDATA!BH46,\"m\"),\"\")","v":""},{"$f":"CRSDATA!AZ46","v":0},{"$f":"CRSDATA!BB46","v":0},{"$f":"CRSDATA!L46","v":0}]
[{"$f":"CRSDATA!A47","v":0},{"$f":"CRSDATA!C47","v":0},{"$f":"CRSDATA!D47","v":0},{"$f":"CRSDATA!F47","v":0},{"$f":"CRSDATA!E47","v":0},{"$f":"IF(CRSDATA!H47=3000,998,CRSDATA!H47)","v":0},{"$f":"CRSDATA!O47","v":0},{"$f":"CRSDATA!U47","v":0},null,{"$f":"IF(CRSDATA!V47=\"\",\"\",CRSDATA!V47)","v":""},{"$f":"key_row(CRSDATA!W47,CRSDATA!X47,CRSDATA!AK47,CRSDATA!AJ47,CRSDATA!P47,CRSDATA!V47)","v":""},{"$f":"CRSDATA!P47","v":0},{"$f":"CRSDATA!J47","v":0},{"$f":"CRSDATA!I47","v":0},{"$f":"IF(LEFT(CRSDATA!N47,2)=\"A0\",\"A00\",IF(LEFT(CRSDATA!N47,3)=\"B02\",\"B02\",IF(LEFT(CRSDATA!N47,3)=\"B03\",\"B03\",IF(CRSDATA!N47=\"B04\",\"C01\",IF(CRSDATA!N47=\"H01\",\"H00\",IF(OR(CRSDATA!N47=\"H02\",CRSDATA!N47=\"H03\",CRSDATA!N47=\"H04\",CRSDATA!N47=\"H05\",CRSDATA!N47=\"H06\"),\"I01\",CRSDATA!N47))))))","v":0},{"$f":"CRSDATA!M47","v":0},{"$f":"IF(CRSDATA!L47=22,\"FA04\",\"\")","v":""},{"$f":"IF(CRSDATA!K47=8,\"FC02\",\"\")","v":""},{"$f":"IF(OR(O47=\"B02\",O47=\"E02\",O47=\"G01\",O47=\"H00\",O47=\"I01\"),2,IF(OR(O47=\"A00\",O47=\"E01\",O47=\"F01\",P47=510,P47=520),1,IF(VLOOKUP(F47,recipient_country!AB:AD,3,FALSE)=\"Part I unallocated by income\",\"\",1)))","v":{"$error":"#N/A"}},{"$f":"CRSDATA!AM47","v":0},{"$f":"CRSDATA!AN47","v":0},{"$f":"CRSDATA!AP47","v":0},{"$f":"CRSDATA!AR47","v":0},{"$f":"CRSDATA!BA47","v":0},null,"",{"$f":"IF(CRSDATA!M47=421,DATEDIF(CRSDATA!B47,CRSDATA!BH47,\"m\"),\"\")","v":""},{"$f":"CRSDATA!AZ47","v":0},{"$f":"CRSDATA!BB47","v":0},{"$f":"CRSDATA!L47","v":0}]
[{"$f":"CRSDATA!A48","v":0},{"$f":"CRSDATA!C48","v":0},{"$f":"CRSDATA!D48","v":0},{"$f":"CRSDATA!F48","v":0},{"$f":"CRSDATA!E48","v":0},{"$f":"IF(CRSDATA!H48=3000,998,CRSDATA!H48)","v":0},{"$f":"CRSDATA!O48","v":0},{"$f":"CRSDATA!U48","v":0},null,{"$f":"IF(CRSDATA!V48=\"\",\"\",CRSDATA!V48)","v":""},{"$f":"key_row(CRSDATA!W48,CRSDATA!X48,CRSDATA!AK48,CRSDATA!AJ48,CRSDATA!P48,CRSDATA!V48)","v":""},{"$f":"CRSDATA!P48","v":0},{"$f":"CRSDATA!J48","v":0},{"$f":"CRSDATA!I48","v":0},{"$f":"IF(LEFT(CRSDATA!N48,2)=\"A0\",\"A00\",IF(LEFT(CRSDATA!N48,3)=\"B02\",\"B02\",IF(LEFT(CRSDATA!N48,3)=\"B03\",\"B03\",IF(CRSDATA!N48=\"B04\",\"C01\",IF(CRSDATA!N48=\"H01\",\"H00\",IF(OR(CRSDATA!N48=\"H02\",CRSDATA!N48=\"H03\",CRSDATA!N48=\"H04\",CRSDATA!N48=\"H05\",CRSDATA!N48=\"H06\"),\"I01\",CRSDATA!N48))))))","v":0},{"$f":"CRSDATA!M48","v":0},{"$f":"IF(CRSDATA!L48=22,\"FA04\",\"\")","v":""},{"$f":"IF(CRSDATA!K48=8,\"FC02\",\"\")","v":""},{"$f":"IF(OR(O48=\"B02\",O48=\"E02\",O48=\"G01\",O48=\"H00\",O48=\"I01\"),2,IF(OR(O48=\"A00\",O48=\"E01\",O48=\"F01\",P48=510,P48=520),1,IF(VLOOKUP(F48,recipient_country!AB:AD,3,FALSE)=\"Part I unallocated by income\",\"\",1)))","v":{"$error":"#N/A"}},{"$f":"CRSDATA!AM48","v":0},{"$f":"CRSDATA!AN48","v":0},{"$f":"CRSDATA!AP48","v":0},{"$f":"CRSDATA!AR48","v":0},{"$f":"CRSDATA!BA48","v":0},null,"",{"$f":"IF(CRSDATA!M48=421,DATEDIF(CRSDATA!B48,CRSDATA!BH48,\"m\"),\"\")","v":""},{"$f":"CRSDATA!AZ48","v":0},{"$f":"CRSDATA!BB48","v":0},{"$f":"CRSDATA!L48","v":0}]
[{"$f":"CRSDATA!A49","v":0},{"$f":"CRSDATA!C49","v":0},{"$f":"CRSDATA!D49","v":0},{"$f":"CRSDATA!F49","v":0},{"$f":"CRSDATA!E49","v":0},{"$f":"IF(CRSDATA!H49=3000,998,CRSDATA!H49)","v":0},{"$f":"CRSDATA!O49","v":0},{"$f":"CRSDATA!U49","v":0},null,{"$f":"IF(CRSDATA!V49=\"\",\"\",CRSDATA!V49)","v":""},{"$f":"key_row(CRSDATA!W49,CRSDATA!X49,CRSDATA!AK49,CRSDATA!AJ49,CRSDATA!P49,CRSDATA!V49)","v":""},{"$f":"CRSDATA!P49","v":0},{"$f":"CRSDATA!J49","v":0},{"$f":"CRSDATA!I49","v":0},{"$f":"IF(LEFT(CRSDATA!N49,2)=\"A0\",\"A00\",IF(LEFT(CRSDATA!N49,3)=\"B02\",\"B02\",IF(LEFT(CRSDATA!N49,3)=\"B03\",\"B03\",IF(CRSDATA!N49=\"B04\",\"C01\",IF(CRSDATA!N49=\"H01\",\"H00\",IF(OR(CRSDATA!N49=\"H02\",CRSDATA!N49=\"H03\",CRSDATA!N49=\"H04\",CRSDATA!N49=\"H05\",CRSDATA!N49=\"H06\"),\"I01\",CRSDATA!N49))))))","v":0},{"$f":"CRSDATA!M49","v":0},{"$f":"IF(CRSDATA!L49=22,\"FA04\",\"\")","v":""},{"$f":"IF(CRSDATA!K49=8,\"FC02\",\"\")","v":""},{"$f":"IF(OR(O49=\"B02\",O49=\"E02\",O49=\"G01\",O49=\"H00\",O49=\"I01\"),2,IF(OR(O49=\"A00\",O49=\"E01\",O49=\"F01\",P49=510,P49=520),1,IF(VLOOKUP(F49,recipient_country!AB:AD,3,FALSE)=\"Part I unallocated by income\",\"\",1)))","v":{"$error":"#N/A"}},{"$f":"CRSDATA!AM49","v":0},{"$f":"CRSDATA!AN49","v":0},{"$f":"CRSDATA!AP49","v":0},{"$f":"CRSDATA!AR49","v":0},{"$f":"CRSDATA!BA49","v":0},null,"",{"$f":"IF(CRSDATA!M49=421,DATEDIF(CRSDATA!B49,CRSDATA!BH49,\"m\"),\"\")","v":""},{"$f":"CRSDATA!AZ49","v":0},{"$f":"CRSDATA!BB49","v":0},{"$f":"CRSDATA!L49","v":0}]
[{"$f":"CRSDATA!A50","v":0},{"$f":"CRSDATA!C50","v":0},{"$f":"CRSDATA!D50","v":0},{"$f":"CRSDATA!F50","v":0},{"$f":"CRSDATA!E50","v":0},{"$f":"IF(CRSDATA!H50=3000,998,CRSDATA!H50)","v":0},{"$f":"CRSDATA!O50","v":0},{"$f":"CRSDATA!U50","v":0},null,{"$f":"IF(CRSDATA!V50=\"\",\"\",CRSDATA!V50)","v":""},{"$f":"key_row(CRSDATA!W50,CRSDATA!X50,CRSDATA!AK50,CRSDATA!AJ50,CRSDATA!P50,CRSDATA!V50)","v":""},{"$f":"CRSDATA!P50","v":0},{"$f":"CRSDATA!J50","v":0},{"$f":"CRSDATA!I50","v":0},{"$f":"IF(LEFT(CRSDATA!N50,2)=\"A0\",\"A00\",IF(LEFT(CRSDATA!N50,3)=\"B02\",\"B02\",IF(LEFT(CRSDATA!N50,3)=\"B03\",\"B03\",IF(CRSDATA!N50=\"B04\",\"C01\",IF(CRSDATA!N50=\"H01\",\"H00\",IF(OR(CRSDATA!N50=\"H02\",CRSDATA!N50=\"H03\",CRSDATA!N50=\"H04\",CRSDATA!N50=\"H05\",CRSDATA!N50=\"H06\"),\"I01\",CRSDATA!N50))))))","v":0},{"$f":"CRSDATA!M50","v":0},{"$f":"IF(CRSDATA!L50=22,\"FA04\",\"\")","v":""},{"$f":"IF(CRSDATA!K50=8,\"FC02\",\"\")","v":""},{"$f":"IF(OR(O50=\"B02\",O50=\"E02\",O50=\"G01\",O50=\"H00\",O50=\"I01\"),2,IF(OR(O50=\"A00\",O50=\"E01\",O50=\"F01\",P50=510,P50=520),1,IF(VLOOKUP(F50,recipient_country!AB:AD,3,FALSE)=\"Part I unallocated by income\",\"\",1)))","v":{"$error":"#N/A"}},{"$f":"CRSDATA!AM50","v":0},{"$f":"CRSDATA!AN50","v":0},{"$f":"CRSDATA!AP50","v":0},{"$f":"CRSDATA!AR50","v":0},{"$f":"CRSDATA!BA50","v":0},null,"",{"$f":"IF(CRSDATA!M50=421,DATEDIF(CRSDATA!B50,CRSDATA!BH50,\"m\"),\"\")","v":""},{"$f":"CRSDATA!AZ50","v":0},{"$f":"CRSDATA!BB50","v":0},{"$f":"CRSDATA!L50","v":0}]
[{"$f":"CRSDATA!A51","v":0},{"$f":"CRSDATA!C51","v":0},{"$f":"CRSDATA!D51","v":0},{"$f":"CRSDATA!F51","v":0},{"$f":"CRSDATA!E51","v":0},{"$f":"IF(CRSDATA!H51=3000,998,CRSDATA!H51)","v":0},{"$f":"CRSDATA!O51","v":0},{"$f":"CRSDATA!U51","v":0},null,{"$f":"IF(CRSDATA!V51=\"\",\"\",CRSDATA!V51)","v":""},{"$f":"key_row(CRSDATA!W51,CRSDATA!X51,CRSDATA!AK51,CRSDATA!AJ51,CRSDATA!P51,CRSDATA!V51)","v":""},{"$f":"CRSDATA!P51","v":0},{"$f":"CRSDATA!J51","v":0},{"$f":"CRSDATA!I51","v":0},{"$f":"IF(LEFT(CRSDATA!N51,2)=\"A0\",\"A00\",IF(LEFT(CRSDATA!N51,3)=\"B02\",\"B02\",IF(LEFT(CRSDATA!N51,3)=\"B03\",\"B03\",IF(CRSDATA!N51=\"B04\",\"C01\",IF(CRSDATA!N51=\"H01\",\"H00\",IF(OR(CRSDATA!N51=\"H02\",CRSDATA!N51=\"H03\",CRSDATA!N51=\"H04\",CRSDATA!N51=\"H05\",CRSDATA!N51=\"H06\"),\"I01\",CRSDATA!N51))))))","v":0},{"$f":"CRSDATA!M51","v":0},{"$f":"IF(CRSDATA!L51=22,\"FA04\",\"\")","v":""},{"$f":"IF(CRSDATA!K51=8,\"FC02\",\"\")","v":""},{"$f":"IF(OR(O51=\"B02\",O51=\"E02\",O51=\"G01\",O51=\"H00\",O51=\"I01\"),2,IF(OR(O51=\"A00\",O51=\"E01\",O51=\"F01\",P51=510,P51=520),1,IF(VLOOKUP(F51,recipient_country!AB:AD,3,FALSE)=\"Part I unallocated by income\",\"\",1)))","v":{"$error":"#N/A"}},{"$f":"CRSDATA!AM51","v":0},{"$f":"CRSDATA!AN51","v":0},{"$f":"CRSDATA!AP51","v":0},{"$f":"CRSDATA!AR51","v":0},{"$f":"CRSDATA!BA51","v":0},null,"",{"$f":"IF(CRSDATA!M51=421,DATEDIF(CRSDATA!B51,CRSDATA!BH51,\"m\"),\"\")","v":""},{"$f":"CRSDATA!AZ51","v":0},{"$f":"CRSDATA!BB51","v":0},{"$f":"CRSDATA!L51","v":0}]
[{"$f":"CRSDATA!A52","v":0},{"$f":"CRSDATA!C52","v":0},{"$f":"CRSDATA!D52","v":0},{"$f":"CRSDATA!F52","v":0},{"$f":"CRSDATA!E52","v":0},{"$f":"IF(CRSDATA!H52=3000,998,CRSDATA!H52)","v":0},{"$f":"CRSDATA!O52","v":0},{"$f":"CRSDATA!U52","v":0},null,{"$f":"IF(CRSDATA!V52=\"\",\"\",CRSDATA!V52)","v":""},{"$f":"key_row(CRSDATA!W52,CRSDATA!X52,CRSDATA!AK52,CRSDATA!AJ52,CRSDATA!P52,CRSDATA!V52)","v":""},{"$f":"CRSDATA!P52","v":0},{"$f":"CRSDATA!J52","v":0},{"$f":"CRSDATA!I52","v":0},{"$f":"IF(LEFT(CRSDATA!N52,2)=\"A0\",\"A00\",IF(LEFT(CRSDATA!N52,3)=\"B02\",\"B02\",IF(LEFT(CRSDATA!N52,3)=\"B03\",\"B03\",IF(CRSDATA!N52=\"B04\",\"C01\",IF(CRSDATA!N52=\"H01\",\"H00\",IF(OR(CRSDATA!N52=\"H02\",CRSDATA!N52=\"H03\",CRSDATA!N52=\"H04\",CRSDATA!N52=\"H05\",CRSDATA!N52=\"H06\"),\"I01\",CRSDATA!N52))))))","v":0},{"$f":"CRSDATA!M52","v":0},{"$f":"IF(CRSDATA!L52=22,\"FA04\",\"\")","v":""},{"$f":"IF(CRSDATA!K52=8,\"FC02\",\"\")","v":""},{"$f":"IF(OR(O52=\"B02\",O52=\"E02\",O52=\"G01\",O52=\"H00\",O52=\"I01\"),2,IF(OR(O52=\"A00\",O52=\"E01\",O52=\"F01\",P52=510,P52=520),1,IF(VLOOKUP(F52,recipient_country!AB:AD,3,FALSE)=\"Part I unallocated by income\",\"\",1)))","v":{"$error":"#N/A"}},{"$f":"CRSDATA!AM52","v":0},{"$f":"CRSDATA!AN52","v":0},{"$f":"CRSDATA!AP52","v":0},{"$f":"CRSDATA!AR52","v":0},{"$f":"CRSDATA!BA52","v":0},null,"",{"$f":"IF(CRSDATA!M52=421,DATEDIF(CRSDATA!B52,CRSDATA!BH52,\"m\"),\"\")","v":""},{"$f":"CRSDATA!AZ52","v":0},{"$f":"CRSDATA!BB52","v":0},{"$f":"CRSDATA!L52","v":0}]
[{"$f":"CRSDATA!A53","v":0},{"$f":"CRSDATA!C53","v":0},{"$f":"CRSDATA!D53","v":0},{"$f":"CRSDATA!F53","v":0},{"$f":"CRSDATA!E53","v":0},{"$f":"IF(CRSDATA!H53=3000,998,CRSDATA!H53)","v":0},{"$f":"CRSDATA!O53","v":0},{"$f":"CRSDATA!U53","v":0},null,{"$f":"IF(CRSDATA!V53=\"\",\"\",CRSDATA!V53)","v":""},{"$f":"key_row(CRSDATA!W53,CRSDATA!X53,CRSDATA!AK53,CRSDATA!AJ53,CRSDATA!P53,CRSDATA!V53)","v":""},{"$f":"CRSDATA!P53","v":0},{"$f":"CRSDATA!J53","v":0},{"$f":"CRSDATA!I53","v":0},{"$f":"IF(LEFT(CRSDATA!N53,2)=\"A0\",\"A00\",IF(LEFT(CRSDATA!N53,3)=\"B02\",\"B02\",IF(LEFT(CRSDATA!N53,3)=\"B03\",\"B03\",IF(CRSDATA!N53=\"B04\",\"C01\",IF(CRSDATA!N53=\"H01\",\"H00\",IF(OR(CRSDATA!N53=\"H02\",CRSDATA!N53=\"H03\",CRSDATA!N53=\"H04\",CRSDATA!N53=\"H05\",CRSDATA!N53=\"H06\"),\"I01\",CRSDATA!N53))))))","v":0},{"$f":"CRSDATA!M53","v":0},{"$f":"IF(CRSDATA!L53=22,\"FA04\",\"\")","v":""},{"$f":"IF(CRSDATA!K53=8,\"FC02\",\"\")","v":""},{"$f":"IF(OR(O53=\"B02\",O53=\"E02\",O53=\"G01\",O53=\"H00\",O53=\"I01\"),2,IF(OR(O53=\"A00\",O53=\"E01\",O53=\"F01\",P53=510,P53=520),1,IF(VLOOKUP(F53,recipient_country!AB:AD,3,FALSE)=\"Part I unallocated by income\",\"\",1)))","v":{"$error":"#N/A"}},{"$f":"CRSDATA!AM53","v":0},{"$f":"CRSDATA!AN53","v":0},{"$f":"CRSDATA!AP53","v":0},{"$f":"CRSDATA!AR53","v":0},{"$f":"CRSDATA!BA53","v":0},null,"",{"$f":"IF(CRSDATA!M53=421,DATEDIF(CRSDATA!B53,CRSDATA!BH53,\"m\"),\"\")","v":""},{"$f":"CRSDATA!AZ53","v":0},{"$f":"CRSDATA!BB53","v":0},{"$f":"CRSDATA!L53","v":0}]
[{"$f":"CRSDATA!A54","v":0},{"$f":"CRSDATA!C54","v":0},{"$f":"CRSDATA!D54","v":0},{"$f":"CRSDATA!F54","v":0},{"$f":"CRSDATA!E54","v":0},{"$f":"IF(CRSDATA!H54=3000,998,CRSDATA!H54)","v":0},{"$f":"CRSDATA!O54","v":0},{"$f":"CRSDATA!U54","v":0},null,{"$f":"IF(CRSDATA!V54=\"\",\"\",CRSDATA!V54)","v":""},{"$f":"key_row(CRSDATA!W54,CRSDATA!X54,CRSDATA!AK54,CRSDATA!AJ54,CRSDATA!P54,CRSDATA!V54)","v":""},{"$f":"CRSDATA!P54","v":0},{"$f":"CRSDATA!J54","v":0},{"$f":"CRSDATA!I54","v":0},{"$f":"IF(LEFT(CRSDATA!N54,2)=\"A0\",\"A00\",IF(LEFT(CRSDATA!N54,3)=\"B02\",\"B02\",IF(LEFT(CRSDATA!N54,3)=\"B03\",\"B03\",IF(CRSDATA!N54=\"B04\",\"C01\",IF(CRSDATA!N54=\"H01\",\"H00\",IF(OR(CRSDATA!N54=\"H02\",CRSDATA!N54=\"H03\",CRSDATA!N54=\"H04\",CRSDATA!N54=\"H05\",CRSDATA!N54=\"H06\"),\"I01\",CRSDATA!N54))))))","v":0},{"$f":"CRSDATA!M54","v":0},{"$f":"IF(CRSDATA!L54=22,\"FA04\",\"\")","v":""},{"$f":"IF(CRSDATA!K54=8,\"FC02\",\"\")","v":""},{"$f":"IF(OR(O54=\"B02\",O54=\"E02\",O54=\"G01\",O54=\"H00\",O54=\"I01\"),2,IF(OR(O54=\"A00\",O54=\"E01\",O54=\"F01\",P54=510,P54=520),1,IF(VLOOKUP(F54,recipient_country!AB:AD,3,FALSE)=\"Part I unallocated by income\",\"\",1)))","v":{"$error":"#N/A"}},{"$f":"CRSDATA!AM54","v":0},{"$f":"CRSDATA!AN54","v":0},{"$f":"CRSDATA!AP54","v":0},{"$f":"CRSDATA!AR54","v":0},{"$f":"CRSDATA!BA54","v":0},null,"",{"$f":"IF(CRSDATA!M54=421,DATEDIF(CRSDATA!B54,CRSDATA!BH54,\"m\"),\"\")","v":""},{"$f":"CRSDATA!AZ54","v":0},{"$f":"CRSDATA!BB54","v":0},{"$f":"CRSDATA!L54","v":0}]
[{"$f":"CRSDATA!A55","v":0},{"$f":"CRSDATA!C55","v":0},{"$f":"CRSDATA!D55","v":0},{"$f":"CRSDATA!F55","v":0},{"$f":"CRSDATA!E55","v":0},{"$f":"IF(CRSDATA!H55=3000,998,CRSDATA!H55)","v":0},{"$f":"CRSDATA!O55","v":0},{"$f":"CRSDATA!U55","v":0},null,{"$f":"IF(CRSDATA!V55=\"\",\"\",CRSDATA!V55)","v":""},{"$f":"key_row(CRSDATA!W55,CRSDATA!X55,CRSDATA!AK55,CRSDATA!AJ55,CRSDATA!P55,CRSDATA!V55)","v":""},{"$f":"CRSDATA!P55","v":0},{"$f":"CRSDATA!J55","v":0},{"$f":"CRSDATA!I55","v":0},{"$f":"IF(LEFT(CRSDATA!N55,2)=\"A0\",\"A00\",IF(LEFT(CRSDATA!N55,3)=\"B02\",\"B02\",IF(LEFT(CRSDATA!N55,3)=\"B03\",\"B03\",IF(CRSDATA!N55=\"B04\",\"C01\",IF(CRSDATA!N55=\"H01\",\"H00\",IF(OR(CRSDATA!N55=\"H02\",CRSDATA!N55=\"H03\",CRSDATA!N55=\"H04\",CRSDATA!N55=\"H05\",CRSDATA!N55=\"H06\"),\"I01\",CRSDATA!N55))))))","v":0},{"$f":"CRSDATA!M55","v":0},{"$f":"IF(CRSDATA!L55=22,\"FA04\",\"\")","v":""},{"$f":"IF(CRSDATA!K55=8,\"FC02\",\"\")","v":""},{"$f":"IF(OR(O55=\"B02\",O55=\"E02\",O55=\"G01\",O55=\"H00\",O55=\"I01\"),2,IF(OR(O55=\"A00\",O55=\"E01\",O55=\"F01\",P55=510,P55=520),1,IF(VLOOKUP(F55,recipient_country!AB:AD,3,FALSE)=\"Part I unallocated by income\",\"\",1)))","v":{"$error":"#N/A"}},{"$f":"CRSDATA!AM55","v":0},{"$f":"CRSDATA!AN55","v":0},{"$f":"CRSDATA!AP55","v":0},{"$f":"CRSDATA!AR55","v":0},{"$f":"CRSDATA!BA55","v":0},null,"",{"$f":"IF(CRSDATA!M55=421,DATEDIF(CRSDATA!B55,CRSDATA!BH55,\"m\"),\"\")","v":""},{"$f":"CRSDATA!AZ55","v":0},{"$f":"CRSDATA!BB55","v":0},{"$f":"CRSDATA!L55","v":0}]
[{"$f":"CRSDATA!A56","v":0},{"$f":"CRSDATA!C56","v":0},{"$f":"CRSDATA!D56","v":0},{"$f":"CRSDATA!F56","v":0},{"$f":"CRSDATA!E56","v":0},{"$f":"IF(CRSDATA!H56=3000,998,CRSDATA!H56)","v":0},{"$f":"CRSDATA!O56","v":0},{"$f":"CRSDATA!U56","v":0},null,{"$f":"IF(CRSDATA!V56=\"\",\"\",CRSDATA!V56)","v":""},{"$f":"key_row(CRSDATA!W56,CRSDATA!X56,CRSDATA!AK56,CRSDATA!AJ56,CRSDATA!P56,CRSDATA!V56)","v":""},{"$f":"CRSDATA!P56","v":0},{"$f":"CRSDATA!J56","v":0},{"$f":"CRSDATA!I56","v":0},{"$f":"IF(LEFT(CRSDATA!N56,2)=\"A0\",\"A00\",IF(LEFT(CRSDATA!N56,3)=\"B02\",\"B02\",IF(LEFT(CRSDATA!N56,3)=\"B03\",\"B03\",IF(CRSDATA!N56=\"B04\",\"C01\",IF(CRSDATA!N56=\"H01\",\"H00\",IF(OR(CRSDATA!N56=\"H02\",CRSDATA!N56=\"H03\",CRSDATA!N56=\"H04\",CRSDATA!N56=\"H05\",CRSDATA!N56=\"H06\"),\"I01\",CRSDATA!N56))))))","v":0},{"$f":"CRSDATA!M56","v":0},{"$f":"IF(CRSDATA!L56=22,\"FA04\",\"\")","v":""},{"$f":"IF(CRSDATA!K56=8,\"FC02\",\"\")","v":""},{"$f":"IF(OR(O56=\"B02\",O56=\"E02\",O56=\"G01\",O56=\"H00\",O56=\"I01\"),2,IF(OR(O56=\"A00\",O56=\"E01\",O56=\"F01\",P56=510,P56=520),1,IF(VLOOKUP(F56,recipient_country!AB:AD,3,FALSE)=\"Part I unallocated by income\",\"\",1)))","v":{"$error":"#N/A"}},{"$f":"CRSDATA!AM56","v":0},{"$f":"CRSDATA!AN56","v":0},{"$f":"CRSDATA!AP56","v":0},{"$f":"CRSDATA!AR56","v":0},{"$f":"CRSDATA!BA56","v":0},null,"",{"$f":"IF(CRSDATA!M56=421,DATEDIF(CRSDATA!B56,CRSDATA!BH56,\"m\"),\"\")","v":""},{"$f":"CRSDATA!AZ56","v":0},{"$f":"CRSDATA!BB56","v":0},{"$f":"CRSDATA!L56","v":0}]
[{"$f":"CRSDATA!A57","v":0},{"$f":"CRSDATA!C57","v":0},{"$f":"CRSDATA!D57","v":0},{"$f":"CRSDATA!F57","v":0},{"$f":"CRSDATA!E57","v":0},{"$f":"IF(CRSDATA!H57=3000,998,CRSDATA!H57)","v":0},{"$f":"CRSDATA!O57","v":0},{"$f":"CRSDATA!U57","v":0},null,{"$f":"IF(CRSDATA!V57=\"\",\"\",CRSDATA!V57)","v":""},{"$f":"key_row(CRSDATA!W57,CRSDATA!X57,CRSDATA!AK57,CRSDATA!AJ57,CRSDATA!P57,CRSDATA!V57)","v":""},{"$f":"CRSDATA!P57","v":0},{"$f":"CRSDATA!J57","v":0},{"$f":"CRSDATA!I57","v":0},{"$f":"IF(LEFT(CRSDATA!N57,2)=\"A0\",\"A00\",IF(LEFT(CRSDATA!N57,3)=\"B02\",\"B02\",IF(LEFT(CRSDATA!N57,3)=\"B03\",\"B03\",IF(CRSDATA!N57=\"B04\",\"C01\",IF(CRSDATA!N57=\"H01\",\"H00\",IF(OR(CRSDATA!N57=\"H02\",CRSDATA!N57=\"H03\",CRSDATA!N57=\"H04\",CRSDATA!N57=\"H05\",CRSDATA!N57=\"H06\"),\"I01\",CRSDATA!N57))))))","v":0},{"$f":"CRSDATA!M57","v":0},{"$f":"IF(CRSDATA!L57=22,\"FA04\",\"\")","v":""},{"$f":"IF(CRSDATA!K57=8,\"FC02\",\"\")","v":""},{"$f":"IF(OR(O57=\"B02\",O57=\"E02\",O57=\"G01\",O57=\"H00\",O57=\"I01\"),2,IF(OR(O57=\"A00\",O57=\"E01\",O57=\"F01\",P57=510,P57=520),1,IF(VLOOKUP(F57,recipient_country!AB:AD,3,FALSE)=\"Part I unallocated by income\",\"\",1)))","v":{"$error":"#N/A"}},{"$f":"CRSDATA!AM57","v":0},{"$f":"CRSDATA!AN57","v":0},{"$f":"CRSDATA!AP57","v":0},{"$f":"CRSDATA!AR57","v":0},{"$f":"CRSDATA!BA57","v":0},null,"",{"$f":"IF(CRSDATA!M57=421,DATEDIF(CRSDATA!B57,CRSDATA!BH57,\"m\"),\"\")","v":""},{"$f":"CRSDATA!AZ57","v":0},{"$f":"CRSDATA!BB57","v":0},{"$f":"CRSDATA!L57","v":0}]
[{"$f":"CRSDATA!A58","v":0},{"$f":"CRSDATA!C58","v":0},{"$f":"CRSDATA!D58","v":0},{"$f":"CRSDATA!F58","v":0},{"$f":"CRSDATA!E58","v":0},{"$f":"IF(CRSDATA!H58=3000,998,CRSDATA!H58)","v":0},{"$f":"CRSDATA!O58","v":0},{"$f":"CRSDATA!U58","v":0},null,{"$f":"IF(CRSDATA!V58=\"\",\"\",CRSDATA!V58)","v":""},{"$f":"key_row(CRSDATA!W58,CRSDATA!X58,CRSDATA!AK58,CRSDATA!AJ58,CRSDATA!P58,CRSDATA!V58)","v":""},{"$f":"CRSDATA!P58","v":0},{"$f":"CRSDATA!J58","v":0},{"$f":"CRSDATA!I58","v":0},{"$f":"IF(LEFT(CRSDATA!N58,2)=\"A0\",\"A00\",IF(LEFT(CRSDATA!N58,3)=\"B02\",\"B02\",IF(LEFT(CRSDATA!N58,3)=\"B03\",\"B03\",IF(CRSDATA!N58=\"B04\",\"C01\",IF(CRSDATA!N58=\"H01\",\"H00\",IF(OR(CRSDATA!N58=\"H02\",CRSDATA!N58=\"H03\",CRSDATA!N58=\"H04\",CRSDATA!N58=\"H05\",CRSDATA!N58=\"H06\"),\"I01\",CRSDATA!N58))))))","v":0},{"$f":"CRSDATA!M58","v":0},{"$f":"IF(CRSDATA!L58=22,\"FA04\",\"\")","v":""},{"$f":"IF(CRSDATA!K58=8,\"FC02\",\"\")","v":""},{"$f":"IF(OR(O58=\"B02\",O58=\"E02\",O58=\"G01\",O58=\"H00\",O58=\"I01\"),2,IF(OR(O58=\"A00\",O58=\"E01\",O58=\"F01\",P58=510,P58=520),1,IF(VLOOKUP(F58,recipient_country!AB:AD,3,FALSE)=\"Part I unallocated by income\",\"\",1)))","v":{"$error":"#N/A"}},{"$f":"CRSDATA!AM58","v":0},{"$f":"CRSDATA!AN58","v":0},{"$f":"CRSDATA!AP58","v":0},{"$f":"CRSDATA!AR58","v":0},{"$f":"CRSDATA!BA58","v":0},null,"",{"$f":"IF(CRSDATA!M58=421,DATEDIF(CRSDATA!B58,CRSDATA!BH58,\"m\"),\"\")","v":""},{"$f":"CRSDATA!AZ58","v":0},{"$f":"CRSDATA!BB58","v":0},{"$f":"CRSDATA!L58","v":0}]
[{"$f":"CRSDATA!A59","v":0},{"$f":"CRSDATA!C59","v":0},{"$f":"CRSDATA!D59","v":0},{"$f":"CRSDATA!F59","v":0},{"$f":"CRSDATA!E59","v":0},{"$f":"IF(CRSDATA!H59=3000,998,CRSDATA!H59)","v":0},{"$f":"CRSDATA!O59","v":0},{"$f":"CRSDATA!U59","v":0},null,{"$f":"IF(CRSDATA!V59=\"\",\"\",CRSDATA!V59)","v":""},{"$f":"key_row(CRSDATA!W59,CRSDATA!X59,CRSDATA!AK59,CRSDATA!AJ59,CRSDATA!P59,CRSDATA!V59)","v":""},{"$f":"CRSDATA!P59","v":0},{"$f":"CRSDATA!J59","v":0},{"$f":"CRSDATA!I59","v":0},{"$f":"IF(LEFT(CRSDATA!N59,2)=\"A0\",\"A00\",IF(LEFT(CRSDATA!N59,3)=\"B02\",\"B02\",IF(LEFT(CRSDATA!N59,3)=\"B03\",\"B03\",IF(CRSDATA!N59=\"B04\",\"C01\",IF(CRSDATA!N59=\"H01\",\"H00\",IF(OR(CRSDATA!N59=\"H02\",CRSDATA!N59=\"H03\",CRSDATA!N59=\"H04\",CRSDATA!N59=\"H05\",CRSDATA!N59=\"H06\"),\"I01\",CRSDATA!N59))))))","v":0},{"$f":"CRSDATA!M59","v":0},{"$f":"IF(CRSDATA!L59=22,\"FA04\",\"\")","v":""},{"$f":"IF(CRSDATA!K59=8,\"FC02\",\"\")","v":""},{"$f":"IF(OR(O59=\"B02\",O59=\"E02\",O59=\"G01\",O59=\"H00\",O59=\"I01\"),2,IF(OR(O59=\"A00\",O59=\"E01\",O59=\"F01\",P59=510,P59=520),1,IF(VLOOKUP(F59,recipient_country!AB:AD,3,FALSE)=\"Part I unallocated by income\",\"\",1)))","v":{"$error":"#N/A"}},{"$f":"CRSDATA!AM59","v":0},{"$f":"CRSDATA!AN59","v":0},{"$f":"CRSDATA!AP59","v":0},{"$f":"CRSDATA!AR59","v":0},{"$f":"CRSDATA!BA59","v":0},null,"",{"$f":"IF(CRSDATA!M59=421,DATEDIF(CRSDATA!B59,CRSDATA!BH59,\"m\"),\"\")","v":""},{"$f":"CRSDATA!AZ59","v":0},{"$f":"CRSDATA!BB59","v":0},{"$f":"CRSDATA!L59","v":0}]
[{"$f":"CRSDATA!A60","v":0},{"$f":"CRSDATA!C60","v":0},{"$f":"CRSDATA!D60","v":0},{"$f":"CRSDATA!F60","v":0},{"$f":"CRSDATA!E60","v":0},{"$f":"IF(CRSDATA!H60=3000,998,CRSDATA!H60)","v":0},{"$f":"CRSDATA!O60","v":0},{"$f":"CRSDATA!U60","v":0},null,{"$f":"IF(CRSDATA!V60=\"\",\"\",CRSDATA!V60)","v":""},{"$f":"key_row(CRSDATA!W60,CRSDATA!X60,CRSDATA!AK60,CRSDATA!AJ60,CRSDATA!P60,CRSDATA!V60)","v":""},{"$f":"CRSDATA!P60","v":0},{"$f":"CRSDATA!J60","v":0},{"$f":"CRSDATA!I60","v":0},{"$f":"IF(LEFT(CRSDATA!N60,2)=\"A0\",\"A00\",IF(LEFT(CRSDATA!N60,3)=\"B02\",\"B02\",IF(LEFT(CRSDATA!N60,3)=\"B03\",\"B03\",IF(CRSDATA!N60=\"B04\",\"C01\",IF(CRSDATA!N60=\"H01\",\"H00\",IF(OR(CRSDATA!N60=\"H02\",CRSDATA!N60=\"H03\",CRSDATA!N60=\"H04\",CRSDATA!N60=\"H05\",CRSDATA!N60=\"H06\"),\"I01\",CRSDATA!N60))))))","v":0},{"$f":"CRSDATA!M60","v":0},{"$f":"IF(CRSDATA!L60=22,\"FA04\",\"\")","v":""},{"$f":"IF(CRSDATA!K60=8,\"FC02\",\"\")","v":""},{"$f":"IF(OR(O60=\"B02\",O60=\"E02\",O60=\"G01\",O60=\"H00\",O60=\"I01\"),2,IF(OR(O60=\"A00\",O60=\"E01\",O60=\"F01\",P60=510,P60=520),1,IF(VLOOKUP(F60,recipient_country!AB:AD,3,FALSE)=\"Part I unallocated by income\",\"\",1)))","v":{"$error":"#N/A"}},{"$f":"CRSDATA!AM60","v":0},{"$f":"CRSDATA!AN60","v":0},{"$f":"CRSDATA!AP60","v":0},{"$f":"CRSDATA!AR60","v":0},{"$f":"CRSDATA!BA60","v":0},null,"",{"$f":"IF(CRSDATA!M60=421,DATEDIF(CRSDATA!B60,CRSDATA!BH60,\"m\"),\"\")","v":""},{"$f":"CRSDATA!AZ60","v":0},{"$f":"CRSDATA!BB60","v":0},{"$f":"CRSDATA!L60","v":0}]
[{"$f":"CRSDATA!A61","v":0},{"$f":"CRSDATA!C61","v":0},{"$f":"CRSDATA!D61","v":0},{"$f":"CRSDATA!F61","v":0},{"$f":"CRSDATA!E61","v":0},{"$f":"IF(CRSDATA!H61=3000,998,CRSDATA!H61)","v":0},{"$f":"CRSDATA!O61","v":0},{"$f":"CRSDATA!U61","v":0},null,{"$f":"IF(CRSDATA!V61=\"\",\"\",CRSDATA!V61)","v":""},{"$f":"key_row(CRSDATA!W61,CRSDATA!X61,CRSDATA!AK61,CRSDATA!AJ61,CRSDATA!P61,CRSDATA!V61)","v":""},{"$f":"CRSDATA!P61","v":0},{"$f":"CRSDATA!J61","v":0},{"$f":"CRSDATA!I61","v":0},{"$f":"IF(LEFT(CRSDATA!N61,2)=\"A0\",\"A00\",IF(LEFT(CRSDATA!N61,3)=\"B02\",\"B02\",IF(LEFT(CRSDATA!N61,3)=\"B03\",\"B03\",IF(CRSDATA!N61=\"B04\",\"C01\",IF(CRSDATA!N61=\"H01\",\"H00\",IF(OR(CRSDATA!N61=\"H02\",CRSDATA!N61=\"H03\",CRSDATA!N61=\"H04\",CRSDATA!N61=\"H05\",CRSDATA!N61=\"H06\"),\"I01\",CRSDATA!N61))))))","v":0},{"$f":"CRSDATA!M61","v":0},{"$f":"IF(CRSDATA!L61=22,\"FA04\",\"\")","v":""},{"$f":"IF(CRSDATA!K61=8,\"FC02\",\"\")","v":""},{"$f":"IF(OR(O61=\"B02\",O61=\"E02\",O61=\"G01\",O61=\"H00\",O61=\"I01\"),2,IF(OR(O61=\"A00\",O61=\"E01\",O61=\"F01\",P61=510,P61=520),1,IF(VLOOKUP(F61,recipient_country!AB:AD,3,FALSE)=\"Part I unallocated by income\",\"\",1)))","v":{"$error":"#N/A"}},{"$f":"CRSDATA!AM61","v":0},{"$f":"CRSDATA!AN61","v":0},{"$f":"CRSDATA!AP61","v":0},{"$f":"CRSDATA!AR61","v":0},{"$f":"CRSDATA!BA61","v":0},null,"",{"$f":"IF(CRSDATA!M61=421,DATEDIF(CRSDATA!B61,CRSDATA!BH61,\"m\"),\"\")","v":""},{"$f":"CRSDATA!AZ61","v":0},{"$f":"CRSDATA!BB61","v":0},{"$f":"CRSDATA!L61","v":0}]
[{"$f":"CRSDATA!A62","v":0},{"$f":"CRSDATA!C62","v":0},{"$f":"CRSDATA!D62","v":0},{"$f":"CRSDATA!F62","v":0},{"$f":"CRSDATA!E62","v":0},{"$f":"IF(CRSDATA!H62=3000,998,CRSDATA!H62)","v":0},{"$f":"CRSDATA!O62","v":0},{"$f":"CRSDATA!U62","v":0},null,{"$f":"IF(CRSDATA!V62=\"\",\"\",CRSDATA!V62)","v":""},{"$f":"key_row(CRSDATA!W62,CRSDATA!X62,CRSDATA!AK62,CRSDATA!AJ62,CRSDATA!P62,CRSDATA!V62)","v":""},{"$f":"CRSDATA!P62","v":0},{"$f":"CRSDATA!J62","v":0},{"$f":"CRSDATA!I62","v":0},{"$f":"IF(LEFT(CRSDATA!N62,2)=\"A0\",\"A00\",IF(LEFT(CRSDATA!N62,3)=\"B02\",\"B02\",IF(LEFT(CRSDATA!N62,3)=\"B03\",\"B03\",IF(CRSDATA!N62=\"B04\",\"C01\",IF(CRSDATA!N62=\"H01\",\"H00\",IF(OR(CRSDATA!N62=\"H02\",CRSDATA!N62=\"H03\",CRSDATA!N62=\"H04\",CRSDATA!N62=\"H05\",CRSDATA!N62=\"H06\"),\"I01\",CRSDATA!N62))))))","v":0},{"$f":"CRSDATA!M62","v":0},{"$f":"IF(CRSDATA!L62=22,\"FA04\",\"\")","v":""},{"$f":"IF(CRSDATA!K62=8,\"FC02\",\"\")","v":""},{"$f":"IF(OR(O62=\"B02\",O62=\"E02\",O62=\"G01\",O62=\"H00\",O62=\"I01\"),2,IF(OR(O62=\"A00\",O62=\"E01\",O62=\"F01\",P62=510,P62=520),1,IF(VLOOKUP(F62,recipient_country!AB:AD,3,FALSE)=\"Part I unallocated by income\",\"\",1)))","v":{"$error":"#N/A"}},{"$f":"CRSDATA!AM62","v":0},{"$f":"CRSDATA!AN62","v":0},{"$f":"CRSDATA!AP62","v":0},{"$f":"CRSDATA!AR62","v":0},{"$f":"CRSDATA!BA62","v":0},null,"",{"$f":"IF(CRSDATA!M62=421,DATEDIF(CRSDATA!B62,CRSDATA!BH62,\"m\"),\"\")","v":""},{"$f":"CRSDATA!AZ62","v":0},{"$f":"CRSDATA!BB62","v":0},{"$f":"CRSDATA!L62","v":0}]
[{"$f":"CRSDATA!A63","v":0},{"$f":"CRSDATA!C63","v":0},{"$f":"CRSDATA!D63","v":0},{"$f":"CRSDATA!F63","v":0},{"$f":"CRSDATA!E63","v":0},{"$f":"IF(CRSDATA!H63=3000,998,CRSDATA!H63)","v":0},{"$f":"CRSDATA!O63","v":0},{"$f":"CRSDATA!U63","v":0},null,{"$f":"IF(CRSDATA!V63=\"\",\"\",CRSDATA!V63)","v":""},{"$f":"key_row(CRSDATA!W63,CRSDATA!X63,CRSDATA!AK63,CRSDATA!AJ63,CRSDATA!P63,CRSDATA!V63)","v":""},{"$f":"CRSDATA!P63","v":0},{"$f":"CRSDATA!J63","v":0},{"$f":"CRSDATA!I63","v":0},{"$f":"IF(LEFT(CRSDATA!N63,2)=\"A0\",\"A00\",IF(LEFT(CRSDATA!N63,3)=\"B02\",\"B02\",IF(LEFT(CRSDATA!N63,3)=\"B03\",\"B03\",IF(CRSDATA!N63=\"B04\",\"C01\",IF(CRSDATA!N63=\"H01\",\"H00\",IF(OR(CRSDATA!N63=\"H02\",CRSDATA!N63=\"H03\",CRSDATA!N63=\"H04\",CRSDATA!N63=\"H05\",CRSDATA!N63=\"H06\"),\"I01\",CRSDATA!N63))))))","v":0},{"$f":"CRSDATA!M63","v":0},{"$f":"IF(CRSDATA!L63=22,\"FA04\",\"\")","v":""},{"$f":"IF(CRSDATA!K63=8,\"FC02\",\"\")","v":""},{"$f":"IF(OR(O63=\"B02\",O63=\"E02\",O63=\"G01\",O63=\"H00\",O63=\"I01\"),2,IF(OR(O63=\"A00\",O63=\"E01\",O63=\"F01\",P63=510,P63=520),1,IF(VLOOKUP(F63,recipient_country!AB:AD,3,FALSE)=\"Part I unallocated by income\",\"\",1)))","v":{"$error":"#N/A"}},{"$f":"CRSDATA!AM63","v":0},{"$f":"CRSDATA!AN63","v":0},{"$f":"CRSDATA!AP63","v":0},{"$f":"CRSDATA!AR63","v":0},{"$f":"CRSDATA!BA63","v":0},null,"",{"$f":"IF(CRSDATA!M63=421,DATEDIF(CRSDATA!B63,CRSDATA!BH63,\"m\"),\"\")","v":""},{"$f":"CRSDATA!AZ63","v":0},{"$f":"CRSDATA!BB63","v":0},{"$f":"CRSDATA!L63","v":0}]
[{"$f":"CRSDATA!A64","v":0},{"$f":"CRSDATA!C64","v":0},{"$f":"CRSDATA!D64","v":0},{"$f":"CRSDATA!F64","v":0},{"$f":"CRSDATA!E64","v":0},{"$f":"IF(CRSDATA!H64=3000,998,CRSDATA!H64)","v":0},{"$f":"CRSDATA!O64","v":0},{"$f":"CRSDATA!U64","v":0},null,{"$f":"IF(CRSDATA!V64=\"\",\"\",CRSDATA!V64)","v":""},{"$f":"key_row(CRSDATA!W64,CRSDATA!X64,CRSDATA!AK64,CRSDATA!AJ64,CRSDATA!P64,CRSDATA!V64)","v":""},{"$f":"CRSDATA!P64","v":0},{"$f":"CRSDATA!J64","v":0},{"$f":"CRSDATA!I64","v":0},{"$f":"IF(LEFT(CRSDATA!N64,2)=\"A0\",\"A00\",IF(LEFT(CRSDATA!N64,3)=\"B02\",\"B02\",IF(LEFT(CRSDATA!N64,3)=\"B03\",\"B03\",IF(CRSDATA!N64=\"B04\",\"C01\",IF(CRSDATA!N64=\"H01\",\"H00\",IF(OR(CRSDATA!N64=\"H02\",CRSDATA!N64=\"H03\",CRSDATA!N64=\"H04\",CRSDATA!N64=\"H05\",CRSDATA!N64=\"H06\"),\"I01\",CRSDATA!N64))))))","v":0},{"$f":"CRSDATA!M64","v":0},{"$f":"IF(CRSDATA!L64=22,\"FA04\",\"\")","v":""},{"$f":"IF(CRSDATA!K64=8,\"FC02\",\"\")","v":""},{"$f":"IF(OR(O64=\"B02\",O64=\"E02\",O64=\"G01\",O64=\"H00\",O64=\"I01\"),2,IF(OR(O64=\"A00\",O64=\"E01\",O64=\"F01\",P64=510,P64=520),1,IF(VLOOKUP(F64,recipient_country!AB:AD,3,FALSE)=\"Part I unallocated by income\",\"\",1)))","v":{"$error":"#N/A"}},{"$f":"CRSDATA!AM64","v":0},{"$f":"CRSDATA!AN64","v":0},{"$f":"CRSDATA!AP64","v":0},{"$f":"CRSDATA!AR64","v":0},{"$f":"CRSDATA!BA64","v":0},null,"",{"$f":"IF(CRSDATA!M64=421,DATEDIF(CRSDATA!B64,CRSDATA!BH64,\"m\"),\"\")","v":""},{"$f":"CRSDATA!AZ64","v":0},{"$f":"CRSDATA!BB64","v":0},{"$f":"CRSDATA!L64","v":0}]
[{"$f":"CRSDATA!A65","v":0},{"$f":"CRSDATA!C65","v":0},{"$f":"CRSDATA!D65","v":0},{"$f":"CRSDATA!F65","v":0},{"$f":"CRSDATA!E65","v":0},{"$f":"IF(CRSDATA!H65=3000,998,CRSDATA!H65)","v":0},{"$f":"CRSDATA!O65","v":0},{"$f":"CRSDATA!U65","v":0},null,{"$f":"IF(CRSDATA!V65=\"\",\"\",CRSDATA!V65)","v":""},{"$f":"key_row(CRSDATA!W65,CRSDATA!X65,CRSDATA!AK65,CRSDATA!AJ65,CRSDATA!P65,CRSDATA!V65)","v":""},{"$f":"CRSDATA!P65","v":0},{"$f":"CRSDATA!J65","v":0},{"$f":"CRSDATA!I65","v":0},{"$f":"IF(LEFT(CRSDATA!N65,2)=\"A0\",\"A00\",IF(LEFT(CRSDATA!N65,3)=\"B02\",\"B02\",IF(LEFT(CRSDATA!N65,3)=\"B03\",\"B03\",IF(CRSDATA!N65=\"B04\",\"C01\",IF(CRSDATA!N65=\"H01\",\"H00\",IF(OR(CRSDATA!N65=\"H02\",CRSDATA!N65=\"H03\",CRSDATA!N65=\"H04\",CRSDATA!N65=\"H05\",CRSDATA!N65=\"H06\"),\"I01\",CRSDATA!N65))))))","v":0},{"$f":"CRSDATA!M65","v":0},{"$f":"IF(CRSDATA!L65=22,\"FA04\",\"\")","v":""},{"$f":"IF(CRSDATA!K65=8,\"FC02\",\"\")","v":""},{"$f":"IF(OR(O65=\"B02\",O65=\"E02\",O65=\"G01\",O65=\"H00\",O65=\"I01\"),2,IF(OR(O65=\"A00\",O65=\"E01\",O65=\"F01\",P65=510,P65=520),1,IF(VLOOKUP(F65,recipient_country!AB:AD,3,FALSE)=\"Part I unallocated by income\",\"\",1)))","v":{"$error":"#N/A"}},{"$f":"CRSDATA!AM65","v":0},{"$f":"CRSDATA!AN65","v":0},{"$f":"CRSDATA!AP65","v":0},{"$f":"CRSDATA!AR65","v":0},{"$f":"CRSDATA!BA65","v":0},null,"",{"$f":"IF(CRSDATA!M65=421,DATEDIF(CRSDATA!B65,CRSDATA!BH65,\"m\"),\"\")","v":""},{"$f":"CRSDATA!AZ65","v":0},{"$f":"CRSDATA!BB65","v":0},{"$f":"CRSDATA!L65","v":0}]
[{"$f":"CRSDATA!A66","v":0},{"$f":"CRSDATA!C66","v":0},{"$f":"CRSDATA!D66","v":0},{"$f":"CRSDATA!F66","v":0},{"$f":"CRSDATA!E66","v":0},{"$f":"IF(CRSDATA!H66=3000,998,CRSDATA!H66)","v":0},{"$f":"CRSDATA!O66","v":0},{"$f":"CRSDATA!U66","v":0},null,{"$f":"IF(CRSDATA!V66=\"\",\"\",CRSDATA!V66)","v":""},{"$f":"key_row(CRSDATA!W66,CRSDATA!X66,CRSDATA!AK66,CRSDATA!AJ66,CRSDATA!P66,CRSDATA!V66)","v":""},{"$f":"CRSDATA!P66","v":0},{"$f":"CRSDATA!J66","v":0},{"$f":"CRSDATA!I66","v":0},{"$f":"IF(LEFT(CRSDATA!N66,2)=\"A0\",\"A00\",IF(LEFT(CRSDATA!N66,3)=\"B02\",\"B02\",IF(LEFT(CRSDATA!N66,3)=\"B03\",\"B03\",IF(CRSDATA!N66=\"B04\",\"C01\",IF(CRSDATA!N66=\"H01\",\"H00\",IF(OR(CRSDATA!N66=\"H02\",CRSDATA!N66=\"H03\",CRSDATA!N66=\"H04\",CRSDATA!N66=\"H05\",CRSDATA!N66=\"H06\"),\"I01\",CRSDATA!N66))))))","v":0},{"$f":"CRSDATA!M66","v":0},{"$f":"IF(CRSDATA!L66=22,\"FA04\",\"\")","v":""},{"$f":"IF(CRSDATA!K66=8,\"FC02\",\"\")","v":""},{"$f":"IF(OR(O66=\"B02\",O66=\"E02\",O66=\"G01\",O66=\"H00\",O66=\"I01\"),2,IF(OR(O66=\"A00\",O66=\"E01\",O66=\"F01\",P66=510,P66=520),1,IF(VLOOKUP(F66,recipient_country!AB:AD,3,FALSE)=\"Part I unallocated by income\",\"\",1)))","v":{"$error":"#N/A"}},{"$f":"CRSDATA!AM66","v":0},{"$f":"CRSDATA!AN66","v":0},{"$f":"CRSDATA!AP66","v":0},{"$f":"CRSDATA!AR66","v":0},{"$f":"CRSDATA!BA66","v":0},null,"",{"$f":"IF(CRSDATA!M66=421,DATEDIF(CRSDATA!B66,CRSDATA!BH66,\"m\"),\"\")","v":""},{"$f":"CRSDATA!AZ66","v":0},{"$f":"CRSDATA!BB66","v":0},{"$f":"CRSDATA!L66","v":0}]
[{"$f":"CRSDATA!A67","v":0},{"$f":"CRSDATA!C67","v":0},{"$f":"CRSDATA!D67","v":0},{"$f":"CRSDATA!F67","v":0},{"$f":"CRSDATA!E67","v":0},{"$f":"IF(CRSDATA!H67=3000,998,CRSDATA!H67)","v":0},{"$f":"CRSDATA!O67","v":0},{"$f":"CRSDATA!U67","v":0},null,{"$f":"IF(CRSDATA!V67=\"\",\"\",CRSDATA!V67)","v":""},{"$f":"key_row(CRSDATA!W67,CRSDATA!X67,CRSDATA!AK67,CRSDATA!AJ67,CRSDATA!P67,CRSDATA!V67)","v":""},{"$f":"CRSDATA!P67","v":0},{"$f":"CRSDATA!J67","v":0},{"$f":"CRSDATA!I67","v":0},{"$f":"IF(LEFT(CRSDATA!N67,2)=\"A0\",\"A00\",IF(LEFT(CRSDATA!N67,3)=\"B02\",\"B02\",IF(LEFT(CRSDATA!N67,3)=\"B03\",\"B03\",IF(CRSDATA!N67=\"B04\",\"C01\",IF(CRSDATA!N67=\"H01\",\"H00\",IF(OR(CRSDATA!N67=\"H02\",CRSDATA!N67=\"H03\",CRSDATA!N67=\"H04\",CRSDATA!N67=\"H05\",CRSDATA!N67=\"H06\"),\"I01\",CRSDATA!N67))))))","v":0},{"$f":"CRSDATA!M67","v":0},{"$f":"IF(CRSDATA!L67=22,\"FA04\",\"\")","v":""},{"$f":"IF(CRSDATA!K67=8,\"FC02\",\"\")","v":""},{"$f":"IF(OR(O67=\"B02\",O67=\"E02\",O67=\"G01\",O67=\"H00\",O67=\"I01\"),2,IF(OR(O67=\"A00\",O67=\"E01\",O67=\"F01\",P67=510,P67=520),1,IF(VLOOKUP(F67,recipient_country!AB:AD,3,FALSE)=\"Part I unallocated by income\",\"\",1)))","v":{"$error":"#N/A"}},{"$f":"CRSDATA!AM67","v":0},{"$f":"CRSDATA!AN67","v":0},{"$f":"CRSDATA!AP67","v":0},{"$f":"CRSDATA!AR67","v":0},{"$f":"CRSDATA!BA67","v":0},null,"",{"$f":"IF(CRSDATA!M67=421,DATEDIF(CRSDATA!B67,CRSDATA!BH67,\"m\"),\"\")","v":""},{"$f":"CRSDATA!AZ67","v":0},{"$f":"CRSDATA!BB67","v":0},{"$f":"CRSDATA!L67","v":0}]
[{"$f":"CRSDATA!A68","v":0},{"$f":"CRSDATA!C68","v":0},{"$f":"CRSDATA!D68","v":0},{"$f":"CRSDATA!F68","v":0},{"$f":"CRSDATA!E68","v":0},{"$f":"IF(CRSDATA!H68=3000,998,CRSDATA!H68)","v":0},{"$f":"CRSDATA!O68","v":0},{"$f":"CRSDATA!U68","v":0},null,{"$f":"IF(CRSDATA!V68=\"\",\"\",CRSDATA!V68)","v":""},{"$f":"key_row(CRSDATA!W68,CRSDATA!X68,CRSDATA!AK68,CRSDATA!AJ68,CRSDATA!P68,CRSDATA!V68)","v":""},{"$f":"CRSDATA!P68","v":0},{"$f":"CRSDATA!J68","v":0},{"$f":"CRSDATA!I68","v":0},{"$f":"IF(LEFT(CRSDATA!N68,2)=\"A0\",\"A00\",IF(LEFT(CRSDATA!N68,3)=\"B02\",\"B02\",IF(LEFT(CRSDATA!N68,3)=\"B03\",\"B03\",IF(CRSDATA!N68=\"B04\",\"C01\",IF(CRSDATA!N68=\"H01\",\"H00\",IF(OR(CRSDATA!N68=\"H02\",CRSDATA!N68=\"H03\",CRSDATA!N68=\"H04\",CRSDATA!N68=\"H05\",CRSDATA!N68=\"H06\"),\"I01\",CRSDATA!N68))))))","v":0},{"$f":"CRSDATA!M68","v":0},{"$f":"IF(CRSDATA!L68=22,\"FA04\",\"\")","v":""},{"$f":"IF(CRSDATA!K68=8,\"FC02\",\"\")","v":""},{"$f":"IF(OR(O68=\"B02\",O68=\"E02\",O68=\"G01\",O68=\"H00\",O68=\"I01\"),2,IF(OR(O68=\"A00\",O68=\"E01\",O68=\"F01\",P68=510,P68=520),1,IF(VLOOKUP(F68,recipient_country!AB:AD,3,FALSE)=\"Part I unallocated by income\",\"\",1)))","v":{"$error":"#N/A"}},{"$f":"CRSDATA!AM68","v":0},{"$f":"CRSDATA!AN68","v":0},{"$f":"CRSDATA!AP68","v":0},{"$f":"CRSDATA!AR68","v":0},{"$f":"CRSDATA!BA68","v":0},null,{"$f":"IF(Q68=\"FA04\",0,\"\")","v":""},{"$f":"IF(CRSDATA!M68=421,DATEDIF(CRSDATA!B68,CRSDATA!BH68,\"m\"),\"\")","v":""},{"$f":"CRSDATA!AZ68","v":0},{"$f":"CRSDATA!BB68","v":0},{"$f":"CRSDATA!L68","v":0}]
[{"$f":"CRSDATA!A69","v":0},{"$f":"CRSDATA!C69","v":0},{"$f":"CRSDATA!D69","v":0},{"$f":"CRSDATA!F69","v":0},{"$f":"CRSDATA!E69","v":0},{"$f":"IF(CRSDATA!H69=3000,998,CRSDATA!H69)","v":0},{"$f":"CRSDATA!O69","v":0},{"$f":"CRSDATA!U69","v":0},null,{"$f":"IF(CRSDATA!V69=\"\",\"\",CRSDATA!V69)","v":""},{"$f":"key_row(CRSDATA!W69,CRSDATA!X69,CRSDATA!AK69,CRSDATA!AJ69,CRSDATA!P69,CRSDATA!V69)","v":""},{"$f":"CRSDATA!P69","v":0},{"$f":"CRSDATA!J69","v":0},{"$f":"CRSDATA!I69","v":0},{"$f":"IF(LEFT(CRSDATA!N69,2)=\"A0\",\"A00\",IF(LEFT(CRSDATA!N69,3)=\"B02\",\"B02\",IF(LEFT(CRSDATA!N69,3)=\"B03\",\"B03\",IF(CRSDATA!N69=\"B04\",\"C01\",IF(CRSDATA!N69=\"H01\",\"H00\",IF(OR(CRSDATA!N69=\"H02\",CRSDATA!N69=\"H03\",CRSDATA!N69=\"H04\",CRSDATA!N69=\"H05\",CRSDATA!N69=\"H06\"),\"I01\",CRSDATA!N69))))))","v":0},{"$f":"CRSDATA!M69","v":0},{"$f":"IF(CRSDATA!L69=22,\"FA04\",\"\")","v":""},{"$f":"IF(CRSDATA!K69=8,\"FC02\",\"\")","v":""},{"$f":"IF(OR(O69=\"B02\",O69=\"E02\",O69=\"G01\",O69=\"H00\",O69=\"I01\"),2,IF(OR(O69=\"A00\",O69=\"E01\",O69=\"F01\",P69=510,P69=520),1,IF(VLOOKUP(F69,recipient_country!AB:AD,3,FALSE)=\"Part I unallocated by income\",\"\",1)))","v":{"$error":"#N/A"}},{"$f":"CRSDATA!AM69","v":0},{"$f":"CRSDATA!AN69","v":0},{"$f":"CRSDATA!AP69","v":0},{"$f":"CRSDATA!AR69","v":0},{"$f":"CRSDATA!BA69","v":0},null,"",{"$f":"IF(CRSDATA!M69=421,DATEDIF(CRSDATA!B69,CRSDATA!BH69,\"m\"),\"\")","v":""},{"$f":"CRSDATA!AZ69","v":0},{"$f":"CRSDATA!BB69","v":0},{"$f":"CRSDATA!L69","v":0}]
[{"$f":"CRSDATA!A70","v":0},{"$f":"CRSDATA!C70","v":0},{"$f":"CRSDATA!D70","v":0},{"$f":"CRSDATA!F70","v":0},{"$f":"CRSDATA!E70","v":0},{"$f":"IF(CRSDATA!H70=3000,998,CRSDATA!H70)","v":0},{"$f":"CRSDATA!O70","v":0},{"$f":"CRSDATA!U70","v":0},null,{"$f":"IF(CRSDATA!V70=\"\",\"\",CRSDATA!V70)","v":""},{"$f":"key_row(CRSDATA!W70,CRSDATA!X70,CRSDATA!AK70,CRSDATA!AJ70,CRSDATA!P70,CRSDATA!V70)","v":""},{"$f":"CRSDATA!P70","v":0},{"$f":"CRSDATA!J70","v":0},{"$f":"CRSDATA!I70","v":0},{"$f":"IF(LEFT(CRSDATA!N70,2)=\"A0\",\"A00\",IF(LEFT(CRSDATA!N70,3)=\"B02\",\"B02\",IF(LEFT(CRSDATA!N70,3)=\"B03\",\"B03\",IF(CRSDATA!N70=\"B04\",\"C01\",IF(CRSDATA!N70=\"H01\",\"H00\",IF(OR(CRSDATA!N70=\"H02\",CRSDATA!N70=\"H03\",CRSDATA!N70=\"H04\",CRSDATA!N70=\"H05\",CRSDATA!N70=\"H06\"),\"I01\",CRSDATA!N70))))))","v":0},{"$f":"CRSDATA!M70","v":0},{"$f":"IF(CRSDATA!L70=22,\"FA04\",\"\")","v":""},{"$f":"IF(CRSDATA!K70=8,\"FC02\",\"\")","v":""},{"$f":"IF(OR(O70=\"B02\",O70=\"E02\",O70=\"G01\",O70=\"H00\",O70=\"I01\"),2,IF(OR(O70=\"A00\",O70=\"E01\",O70=\"F01\",P70=510,P70=520),1,IF(VLOOKUP(F70,recipient_country!AB:AD,3,FALSE)=\"Part I unallocated by income\",\"\",1)))","v":{"$error":"#N/A"}},{"$f":"CRSDATA!AM70","v":0},{"$f":"CRSDATA!AN70","v":0},{"$f":"CRSDATA!AP70","v":0},{"$f":"CRSDATA!AR70","v":0},{"$f":"CRSDATA!BA70","v":0},null,"",{"$f":"IF(CRSDATA!M70=421,DATEDIF(CRSDATA!B70,CRSDATA!BH70,\"m\"),\"\")","v":""},{"$f":"CRSDATA!AZ70","v":0},{"$f":"CRSDATA!BB70","v":0},{"$f":"CRSDATA!L70","v":0}]
[{"$f":"CRSDATA!A71","v":0},{"$f":"CRSDATA!C71","v":0},{"$f":"CRSDATA!D71","v":0},{"$f":"CRSDATA!F71","v":0},{"$f":"CRSDATA!E71","v":0},{"$f":"IF(CRSDATA!H71=3000,998,CRSDATA!H71)","v":0},{"$f":"CRSDATA!O71","v":0},{"$f":"CRSDATA!U71","v":0},null,{"$f":"IF(CRSDATA!V71=\"\",\"\",CRSDATA!V71)","v":""},{"$f":"key_row(CRSDATA!W71,CRSDATA!X71,CRSDATA!AK71,CRSDATA!AJ71,CRSDATA!P71,CRSDATA!V71)","v":""},{"$f":"CRSDATA!P71","v":0},{"$f":"CRSDATA!J71","v":0},{"$f":"CRSDATA!I71","v":0},{"$f":"IF(LEFT(CRSDATA!N71,2)=\"A0\",\"A00\",IF(LEFT(CRSDATA!N71,3)=\"B02\",\"B02\",IF(LEFT(CRSDATA!N71,3)=\"B03\",\"B03\",IF(CRSDATA!N71=\"B04\",\"C01\",IF(CRSDATA!N71=\"H01\",\"H00\",IF(OR(CRSDATA!N71=\"H02\",CRSDATA!N71=\"H03\",CRSDATA!N71=\"H04\",CRSDATA!N71=\"H05\",CRSDATA!N71=\"H06\"),\"I01\",CRSDATA!N71))))))","v":0},{"$f":"CRSDATA!M71","v":0},{"$f":"IF(CRSDATA!L71=22,\"FA04\",\"\")","v":""},{"$f":"IF(CRSDATA!K71=8,\"FC02\",\"\")","v":""},{"$f":"IF(OR(O71=\"B02\",O71=\"E02\",O71=\"G01\",O71=\"H00\",O71=\"I01\"),2,IF(OR(O71=\"A00\",O71=\"E01\",O71=\"F01\",P71=510,P71=520),1,IF(VLOOKUP(F71,recipient_country!AB:AD,3,FALSE)=\"Part I unallocated by income\",\"\",1)))","v":{"$error":"#N/A"}},{"$f":"CRSDATA!AM71","v":0},{"$f":"CRSDATA!AN71","v":0},{"$f":"CRSDATA!AP71","v":0},{"$f":"CRSDATA!AR71","v":0},{"$f":"CRSDATA!BA71","v":0},null,"",{"$f":"IF(CRSDATA!M71=421,DATEDIF(CRSDATA!B71,CRSDATA!BH71,\"m\"),\"\")","v":""},{"$f":"CRSDATA!AZ71","v":0},{"$f":"CRSDATA!BB71","v":0},{"$f":"CRSDATA!L71","v":0}]
[{"$f":"CRSDATA!A72","v":0},{"$f":"CRSDATA!C72","v":0},{"$f":"CRSDATA!D72","v":0},{"$f":"CRSDATA!F72","v":0},{"$f":"CRSDATA!E72","v":0},{"$f":"IF(CRSDATA!H72=3000,998,CRSDATA!H72)","v":0},{"$f":"CRSDATA!O72","v":0},{"$f":"CRSDATA!U72","v":0},null,{"$f":"IF(CRSDATA!V72=\"\",\"\",CRSDATA!V72)","v":""},{"$f":"key_row(CRSDATA!W72,CRSDATA!X72,CRSDATA!AK72,CRSDATA!AJ72,CRSDATA!P72,CRSDATA!V72)","v":""},{"$f":"CRSDATA!P72","v":0},{"$f":"CRSDATA!J72","v":0},{"$f":"CRSDATA!I72","v":0},{"$f":"IF(LEFT(CRSDATA!N72,2)=\"A0\",\"A00\",IF(LEFT(CRSDATA!N72,3)=\"B02\",\"B02\",IF(LEFT(CRSDATA!N72,3)=\"B03\",\"B03\",IF(CRSDATA!N72=\"B04\",\"C01\",IF(CRSDATA!N72=\"H01\",\"H00\",IF(OR(CRSDATA!N72=\"H02\",CRSDATA!N72=\"H03\",CRSDATA!N72=\"H04\",CRSDATA!N72=\"H05\",CRSDATA!N72=\"H06\"),\"I01\",CRSDATA!N72))))))","v":0},{"$f":"CRSDATA!M72","v":0},{"$f":"IF(CRSDATA!L72=22,\"FA04\",\"\")","v":""},{"$f":"IF(CRSDATA!K72=8,\"FC02\",\"\")","v":""},{"$f":"IF(OR(O72=\"B02\",O72=\"E02\",O72=\"G01\",O72=\"H00\",O72=\"I01\"),2,IF(OR(O72=\"A00\",O72=\"E01\",O72=\"F01\",P72=510,P72=520),1,IF(VLOOKUP(F72,recipient_country!AB:AD,3,FALSE)=\"Part I unallocated by income\",\"\",1)))","v":{"$error":"#N/A"}},{"$f":"CRSDATA!AM72","v":0},{"$f":"CRSDATA!AN72","v":0},{"$f":"CRSDATA!AP72","v":0},{"$f":"CRSDATA!AR72","v":0},{"$f":"CRSDATA!BA72","v":0},null,"",{"$f":"IF(CRSDATA!M72=421,DATEDIF(CRSDATA!B72,CRSDATA!BH72,\"m\"),\"\")","v":""},{"$f":"CRSDATA!AZ72","v":0},{"$f":"CRSDATA!BB72","v":0},{"$f":"CRSDATA!L72","v":0}]
[{"$f":"CRSDATA!A73","v":0},{"$f":"CRSDATA!C73","v":0},{"$f":"CRSDATA!D73","v":0},{"$f":"CRSDATA!F73","v":0},{"$f":"CRSDATA!E73","v":0},{"$f":"IF(CRSDATA!H73=3000,998,CRSDATA!H73)","v":0},{"$f":"CRSDATA!O73","v":0},{"$f":"CRSDATA!U73","v":0},null,{"$f":"IF(CRSDATA!V73=\"\",\"\",CRSDATA!V73)","v":""},{"$f":"key_row(CRSDATA!W73,CRSDATA!X73,CRSDATA!AK73,CRSDATA!AJ73,CRSDATA!P73,CRSDATA!V73)","v":""},{"$f":"CRSDATA!P73","v":0},{"$f":"CRSDATA!J73","v":0},{"$f":"CRSDATA!I73","v":0},{"$f":"IF(LEFT(CRSDATA!N73,2)=\"A0\",\"A00\",IF(LEFT(CRSDATA!N73,3)=\"B02\",\"B02\",IF(LEFT(CRSDATA!N73,3)=\"B03\",\"B03\",IF(CRSDATA!N73=\"B04\",\"C01\",IF(CRSDATA!N73=\"H01\",\"H00\",IF(OR(CRSDATA!N73=\"H02\",CRSDATA!N73=\"H03\",CRSDATA!N73=\"H04\",CRSDATA!N73=\"H05\",CRSDATA!N73=\"H06\"),\"I01\",CRSDATA!N73))))))","v":0},{"$f":"CRSDATA!M73","v":0},{"$f":"IF(CRSDATA!L73=22,\"FA04\",\"\")","v":""},{"$f":"IF(CRSDATA!K73=8,\"FC02\",\"\")","v":""},{"$f":"IF(OR(O73=\"B02\",O73=\"E02\",O73=\"G01\",O73=\"H00\",O73=\"I01\"),2,IF(OR(O73=\"A00\",O73=\"E01\",O73=\"F01\",P73=510,P73=520),1,IF(VLOOKUP(F73,recipient_country!AB:AD,3,FALSE)=\"Part I unallocated by income\",\"\",1)))","v":{"$error":"#N/A"}},{"$f":"CRSDATA!AM73","v":0},{"$f":"CRSDATA!AN73","v":0},{"$f":"CRSDATA!AP73","v":0},{"$f":"CRSDATA!AR73","v":0},{"$f":"CRSDATA!BA73","v":0},null,"",{"$f":"IF(CRSDATA!M73=421,DATEDIF(CRSDATA!B73,CRSDATA!BH73,\"m\"),\"\")","v":""},{"$f":"CRSDATA!AZ73","v":0},{"$f":"CRSDATA!BB73","v":0},{"$f":"CRSDATA!L73","v":0}]
[{"$f":"CRSDATA!A74","v":0},{"$f":"CRSDATA!C74","v":0},{"$f":"CRSDATA!D74","v":0},{"$f":"CRSDATA!F74","v":0},{"$f":"CRSDATA!E74","v":0},{"$f":"IF(CRSDATA!H74=3000,998,CRSDATA!H74)","v":0},{"$f":"CRSDATA!O74","v":0},{"$f":"CRSDATA!U74","v":0},null,{"$f":"IF(CRSDATA!V74=\"\",\"\",CRSDATA!V74)","v":""},{"$f":"key_row(CRSDATA!W74,CRSDATA!X74,CRSDATA!AK74,CRSDATA!AJ74,CRSDATA!P74,CRSDATA!V74)","v":""},{"$f":"CRSDATA!P74","v":0},{"$f":"CRSDATA!J74","v":0},{"$f":"CRSDATA!I74","v":0},{"$f":"IF(LEFT(CRSDATA!N74,2)=\"A0\",\"A00\",IF(LEFT(CRSDATA!N74,3)=\"B02\",\"B02\",IF(LEFT(CRSDATA!N74,3)=\"B03\",\"B03\",IF(CRSDATA!N74=\"B04\",\"C01\",IF(CRSDATA!N74=\"H01\",\"H00\",IF(OR(CRSDATA!N74=\"H02\",CRSDATA!N74=\"H03\",CRSDATA!N74=\"H04\",CRSDATA!N74=\"H05\",CRSDATA!N74=\"H06\"),\"I01\",CRSDATA!N74))))))","v":0},{"$f":"CRSDATA!M74","v":0},{"$f":"IF(CRSDATA!L74=22,\"FA04\",\"\")","v":""},{"$f":"IF(CRSDATA!K74=8,\"FC02\",\"\")","v":""},{"$f":"IF(OR(O74=\"B02\",O74=\"E02\",O74=\"G01\",O74=\"H00\",O74=\"I01\"),2,IF(OR(O74=\"A00\",O74=\"E01\",O74=\"F01\",P74=510,P74=520),1,IF(VLOOKUP(F74,recipient_country!AB:AD,3,FALSE)=\"Part I unallocated by income\",\"\",1)))","v":{"$error":"#N/A"}},{"$f":"CRSDATA!AM74","v":0},{"$f":"CRSDATA!AN74","v":0},{"$f":"CRSDATA!AP74","v":0},{"$f":"CRSDATA!AR74","v":0},{"$f":"CRSDATA!BA74","v":0},null,"",{"$f":"IF(CRSDATA!M74=421,DATEDIF(CRSDATA!B74,CRSDATA!BH74,\"m\"),\"\")","v":""},{"$f":"CRSDATA!AZ74","v":0},{"$f":"CRSDATA!BB74","v":0},{"$f":"CRSDATA!L74","v":0}]
[{"$f":"CRSDATA!A75","v":0},{"$f":"CRSDATA!C75","v":0},{"$f":"CRSDATA!D75","v":0},{"$f":"CRSDATA!F75","v":0},{"$f":"CRSDATA!E75","v":0},{"$f":"IF(CRSDATA!H75=3000,998,CRSDATA!H75)","v":0},{"$f":"CRSDATA!O75","v":0},{"$f":"CRSDATA!U75","v":0},null,{"$f":"IF(CRSDATA!V75=\"\",\"\",CRSDATA!V75)","v":""},{"$f":"key_row(CRSDATA!W75,CRSDATA!X75,CRSDATA!AK75,CRSDATA!AJ75,CRSDATA!P75,CRSDATA!V75)","v":""},{"$f":"CRSDATA!P75","v":0},{"$f":"CRSDATA!J75","v":0},{"$f":"CRSDATA!I75","v":0},{"$f":"IF(LEFT(CRSDATA!N75,2)=\"A0\",\"A00\",IF(LEFT(CRSDATA!N75,3)=\"B02\",\"B02\",IF(LEFT(CRSDATA!N75,3)=\"B03\",\"B03\",IF(CRSDATA!N75=\"B04\",\"C01\",IF(CRSDATA!N75=\"H01\",\"H00\",IF(OR(CRSDATA!N75=\"H02\",CRSDATA!N75=\"H03\",CRSDATA!N75=\"H04\",CRSDATA!N75=\"H05\",CRSDATA!N75=\"H06\"),\"I01\",CRSDATA!N75))))))","v":0},{"$f":"CRSDATA!M75","v":0},{"$f":"IF(CRSDATA!L75=22,\"FA04\",\"\")","v":""},{"$f":"IF(CRSDATA!K75=8,\"FC02\",\"\")","v":""},{"$f":"IF(OR(O75=\"B02\",O75=\"E02\",O75=\"G01\",O75=\"H00\",O75=\"I01\"),2,IF(OR(O75=\"A00\",O75=\"E01\",O75=\"F01\",P75=510,P75=520),1,IF(VLOOKUP(F75,recipient_country!AB:AD,3,FALSE)=\"Part I unallocated by income\",\"\",1)))","v":{"$error":"#N/A"}},{"$f":"CRSDATA!AM75","v":0},{"$f":"CRSDATA!AN75","v":0},{"$f":"CRSDATA!AP75","v":0},{"$f":"CRSDATA!AR75","v":0},{"$f":"CRSDATA!BA75","v":0},null,"",{"$f":"IF(CRSDATA!M75=421,DATEDIF(CRSDATA!B75,CRSDATA!BH75,\"m\"),\"\")","v":""},{"$f":"CRSDATA!AZ75","v":0},{"$f":"CRSDATA!BB75","v":0},{"$f":"CRSDATA!L75","v":0}]
[{"$f":"CRSDATA!A76","v":0},{"$f":"CRSDATA!C76","v":0},{"$f":"CRSDATA!D76","v":0},{"$f":"CRSDATA!F76","v":0},{"$f":"CRSDATA!E76","v":0},{"$f":"IF(CRSDATA!H76=3000,998,CRSDATA!H76)","v":0},{"$f":"CRSDATA!O76","v":0},{"$f":"CRSDATA!U76","v":0},null,{"$f":"IF(CRSDATA!V76=\"\",\"\",CRSDATA!V76)","v":""},{"$f":"key_row(CRSDATA!W76,CRSDATA!X76,CRSDATA!AK76,CRSDATA!AJ76,CRSDATA!P76,CRSDATA!V76)","v":""},{"$f":"CRSDATA!P76","v":0},{"$f":"CRSDATA!J76","v":0},{"$f":"CRSDATA!I76","v":0},{"$f":"IF(LEFT(CRSDATA!N76,2)=\"A0\",\"A00\",IF(LEFT(CRSDATA!N76,3)=\"B02\",\"B02\",IF(LEFT(CRSDATA!N76,3)=\"B03\",\"B03\",IF(CRSDATA!N76=\"B04\",\"C01\",IF(CRSDATA!N76=\"H01\",\"H00\",IF(OR(CRSDATA!N76=\"H02\",CRSDATA!N76=\"H03\",CRSDATA!N76=\"H04\",CRSDATA!N76=\"H05\",CRSDATA!N76=\"H06\"),\"I01\",CRSDATA!N76))))))","v":0},{"$f":"CRSDATA!M76","v":0},{"$f":"IF(CRSDATA!L76=22,\"FA04\",\"\")","v":""},{"$f":"IF(CRSDATA!K76=8,\"FC02\",\"\")","v":""},{"$f":"IF(OR(O76=\"B02\",O76=\"E02\",O76=\"G01\",O76=\"H00\",O76=\"I01\"),2,IF(OR(O76=\"A00\",O76=\"E01\",O76=\"F01\",P76=510,P76=520),1,IF(VLOOKUP(F76,recipient_country!AB:AD,3,FALSE)=\"Part I unallocated by income\",\"\",1)))","v":{"$error":"#N/A"}},{"$f":"CRSDATA!AM76","v":0},{"$f":"CRSDATA!AN76","v":0},{"$f":"CRSDATA!AP76","v":0},{"$f":"CRSDATA!AR76","v":0},{"$f":"CRSDATA!BA76","v":0},null,"",{"$f":"IF(CRSDATA!M76=421,DATEDIF(CRSDATA!B76,CRSDATA!BH76,\"m\"),\"\")","v":""},{"$f":"CRSDATA!AZ76","v":0},{"$f":"CRSDATA!BB76","v":0},{"$f":"CRSDATA!L76","v":0}]
[{"$f":"CRSDATA!A77","v":0},{"$f":"CRSDATA!C77","v":0},{"$f":"CRSDATA!D77","v":0},{"$f":"CRSDATA!F77","v":0},{"$f":"CRSDATA!E77","v":0},{"$f":"IF(CRSDATA!H77=3000,998,CRSDATA!H77)","v":0},{"$f":"CRSDATA!O77","v":0},{"$f":"CRSDATA!U77","v":0},null,{"$f":"IF(CRSDATA!V77=\"\",\"\",CRSDATA!V77)","v":""},{"$f":"key_row(CRSDATA!W77,CRSDATA!X77,CRSDATA!AK77,CRSDATA!AJ77,CRSDATA!P77,CRSDATA!V77)","v":""},{"$f":"CRSDATA!P77","v":0},{"$f":"CRSDATA!J77","v":0},{"$f":"CRSDATA!I77","v":0},{"$f":"IF(LEFT(CRSDATA!N77,2)=\"A0\",\"A00\",IF(LEFT(CRSDATA!N77,3)=\"B02\",\"B02\",IF(LEFT(CRSDATA!N77,3)=\"B03\",\"B03\",IF(CRSDATA!N77=\"B04\",\"C01\",IF(CRSDATA!N77=\"H01\",\"H00\",IF(OR(CRSDATA!N77=\"H02\",CRSDATA!N77=\"H03\",CRSDATA!N77=\"H04\",CRSDATA!N77=\"H05\",CRSDATA!N77=\"H06\"),\"I01\",CRSDATA!N77))))))","v":0},{"$f":"CRSDATA!M77","v":0},{"$f":"IF(CRSDATA!L77=22,\"FA04\",\"\")","v":""},{"$f":"IF(CRSDATA!K77=8,\"FC02\",\"\")","v":""},{"$f":"IF(OR(O77=\"B02\",O77=\"E02\",O77=\"G01\",O77=\"H00\",O77=\"I01\"),2,IF(OR(O77=\"A00\",O77=\"E01\",O77=\"F01\",P77=510,P77=520),1,IF(VLOOKUP(F77,recipient_country!AB:AD,3,FALSE)=\"Part I unallocated by income\",\"\",1)))","v":{"$error":"#N/A"}},{"$f":"CRSDATA!AM77","v":0},{"$f":"CRSDATA!AN77","v":0},{"$f":"CRSDATA!AP77","v":0},{"$f":"CRSDATA!AR77","v":0},{"$f":"CRSDATA!BA77","v":0},null,"",{"$f":"IF(CRSDATA!M77=421,DATEDIF(CRSDATA!B77,CRSDATA!BH77,\"m\"),\"\")","v":""},{"$f":"CRSDATA!AZ77","v":0},{"$f":"CRSDATA!BB77","v":0},{"$f":"CRSDATA!L77","v":0}]
[{"$f":"CRSDATA!A78","v":0},{"$f":"CRSDATA!C78","v":0},{"$f":"CRSDATA!D78","v":0},{"$f":"CRSDATA!F78","v":0},{"$f":"CRSDATA!E78","v":0},{"$f":"IF(CRSDATA!H78=3000,998,CRSDATA!H78)","v":0},{"$f":"CRSDATA!O78","v":0},{"$f":"CRSDATA!U78","v":0},null,{"$f":"IF(CRSDATA!V78=\"\",\"\",CRSDATA!V78)","v":""},{"$f":"key_row(CRSDATA!W78,CRSDATA!X78,CRSDATA!AK78,CRSDATA!AJ78,CRSDATA!P78,CRSDATA!V78)","v":""},{"$f":"CRSDATA!P78","v":0},{"$f":"CRSDATA!J78","v":0},{"$f":"CRSDATA!I78","v":0},{"$f":"IF(LEFT(CRSDATA!N78,2)=\"A0\",\"A00\",IF(LEFT(CRSDATA!N78,3)=\"B02\",\"B02\",IF(LEFT(CRSDATA!N78,3)=\"B03\",\"B03\",IF(CRSDATA!N78=\"B04\",\"C01\",IF(CRSDATA!N78=\"H01\",\"H00\",IF(OR(CRSDATA!N78=\"H02\",CRSDATA!N78=\"H03\",CRSDATA!N78=\"H04\",CRSDATA!N78=\"H05\",CRSDATA!N78=\"H06\"),\"I01\",CRSDATA!N78))))))","v":0},{"$f":"CRSDATA!M78","v":0},{"$f":"IF(CRSDATA!L78=22,\"FA04\",\"\")","v":""},{"$f":"IF(CRSDATA!K78=8,\"FC02\",\"\")","v":""},{"$f":"IF(OR(O78=\"B02\",O78=\"E02\",O78=\"G01\",O78=\"H00\",O78=\"I01\"),2,IF(OR(O78=\"A00\",O78=\"E01\",O78=\"F01\",P78=510,P78=520),1,IF(VLOOKUP(F78,recipient_country!AB:AD,3,FALSE)=\"Part I unallocated by income\",\"\",1)))","v":{"$error":"#N/A"}},{"$f":"CRSDATA!AM78","v":0},{"$f":"CRSDATA!AN78","v":0},{"$f":"CRSDATA!AP78","v":0},{"$f":"CRSDATA!AR78","v":0},{"$f":"CRSDATA!BA78","v":0},null,"",{"$f":"IF(CRSDATA!M78=421,DATEDIF(CRSDATA!B78,CRSDATA!BH78,\"m\"),\"\")","v":""},{"$f":"CRSDATA!AZ78","v":0},{"$f":"CRSDATA!BB78","v":0},{"$f":"CRSDATA!L78","v":0}]
[{"$f":"CRSDATA!A79","v":0},{"$f":"CRSDATA!C79","v":0},{"$f":"CRSDATA!D79","v":0},{"$f":"CRSDATA!F79","v":0},{"$f":"CRSDATA!E79","v":0},{"$f":"IF(CRSDATA!H79=3000,998,CRSDATA!H79)","v":0},{"$f":"CRSDATA!O79","v":0},{"$f":"CRSDATA!U79","v":0},null,{"$f":"IF(CRSDATA!V79=\"\",\"\",CRSDATA!V79)","v":""},{"$f":"key_row(CRSDATA!W79,CRSDATA!X79,CRSDATA!AK79,CRSDATA!AJ79,CRSDATA!P79,CRSDATA!V79)","v":""},{"$f":"CRSDATA!P79","v":0},{"$f":"CRSDATA!J79","v":0},{"$f":"CRSDATA!I79","v":0},{"$f":"IF(LEFT(CRSDATA!N79,2)=\"A0\",\"A00\",IF(LEFT(CRSDATA!N79,3)=\"B02\",\"B02\",IF(LEFT(CRSDATA!N79,3)=\"B03\",\"B03\",IF(CRSDATA!N79=\"B04\",\"C01\",IF(CRSDATA!N79=\"H01\",\"H00\",IF(OR(CRSDATA!N79=\"H02\",CRSDATA!N79=\"H03\",CRSDATA!N79=\"H04\",CRSDATA!N79=\"H05\",CRSDATA!N79=\"H06\"),\"I01\",CRSDATA!N79))))))","v":0},{"$f":"CRSDATA!M79","v":0},{"$f":"IF(CRSDATA!L79=22,\"FA04\",\"\")","v":""},{"$f":"IF(CRSDATA!K79=8,\"FC02\",\"\")","v":""},{"$f":"IF(OR(O79=\"B02\",O79=\"E02\",O79=\"G01\",O79=\"H00\",O79=\"I01\"),2,IF(OR(O79=\"A00\",O79=\"E01\",O79=\"F01\",P79=510,P79=520),1,IF(VLOOKUP(F79,recipient_country!AB:AD,3,FALSE)=\"Part I unallocated by income\",\"\",1)))","v":{"$error":"#N/A"}},{"$f":"CRSDATA!AM79","v":0},{"$f":"CRSDATA!AN79","v":0},{"$f":"CRSDATA!AP79","v":0},{"$f":"CRSDATA!AR79","v":0},{"$f":"CRSDATA!BA79","v":0},null,"",{"$f":"IF(CRSDATA!M79=421,DATEDIF(CRSDATA!B79,CRSDATA!BH79,\"m\"),\"\")","v":""},{"$f":"CRSDATA!AZ79","v":0},{"$f":"CRSDATA!BB79","v":0},{"$f":"CRSDATA!L79","v":0}]
[{"$f":"CRSDATA!A80","v":0},{"$f":"CRSDATA!C80","v":0},{"$f":"CRSDATA!D80","v":0},{"$f":"CRSDATA!F80","v":0},{"$f":"CRSDATA!E80","v":0},{"$f":"IF(CRSDATA!H80=3000,998,CRSDATA!H80)","v":0},{"$f":"CRSDATA!O80","v":0},{"$f":"CRSDATA!U80","v":0},null,{"$f":"IF(CRSDATA!V80=\"\",\"\",CRSDATA!V80)","v":""},{"$f":"key_row(CRSDATA!W80,CRSDATA!X80,CRSDATA!AK80,CRSDATA!AJ80,CRSDATA!P80,CRSDATA!V80)","v":""},{"$f":"CRSDATA!P80","v":0},{"$f":"CRSDATA!J80","v":0},{"$f":"CRSDATA!I80","v":0},{"$f":"IF(LEFT(CRSDATA!N80,2)=\"A0\",\"A00\",IF(LEFT(CRSDATA!N80,3)=\"B02\",\"B02\",IF(LEFT(CRSDATA!N80,3)=\"B03\",\"B03\",IF(CRSDATA!N80=\"B04\",\"C01\",IF(CRSDATA!N80=\"H01\",\"H00\",IF(OR(CRSDATA!N80=\"H02\",CRSDATA!N80=\"H03\",CRSDATA!N80=\"H04\",CRSDATA!N80=\"H05\",CRSDATA!N80=\"H06\"),\"I01\",CRSDATA!N80))))))","v":0},{"$f":"CRSDATA!M80","v":0},{"$f":"IF(CRSDATA!L80=22,\"FA04\",\"\")","v":""},{"$f":"IF(CRSDATA!K80=8,\"FC02\",\"\")","v":""},{"$f":"IF(OR(O80=\"B02\",O80=\"E02\",O80=\"G01\",O80=\"H00\",O80=\"I01\"),2,IF(OR(O80=\"A00\",O80=\"E01\",O80=\"F01\",P80=510,P80=520),1,IF(VLOOKUP(F80,recipient_country!AB:AD,3,FALSE)=\"Part I unallocated by income\",\"\",1)))","v":{"$error":"#N/A"}},{"$f":"CRSDATA!AM80","v":0},{"$f":"CRSDATA!AN80","v":0},{"$f":"CRSDATA!AP80","v":0},{"$f":"CRSDATA!AR80","v":0},{"$f":"CRSDATA!BA80","v":0},null,"",{"$f":"IF(CRSDATA!M80=421,DATEDIF(CRSDATA!B80,CRSDATA!BH80,\"m\"),\"\")","v":""},{"$f":"CRSDATA!AZ80","v":0},{"$f":"CRSDATA!BB80","v":0},{"$f":"CRSDATA!L80","v":0}]
[{"$f":"CRSDATA!A81","v":0},{"$f":"CRSDATA!C81","v":0},{"$f":"CRSDATA!D81","v":0},{"$f":"CRSDATA!F81","v":0},{"$f":"CRSDATA!E81","v":0},{"$f":"IF(CRSDATA!H81=3000,998,CRSDATA!H81)","v":0},{"$f":"CRSDATA!O81","v":0},{"$f":"CRSDATA!U81","v":0},null,{"$f":"IF(CRSDATA!V81=\"\",\"\",CRSDATA!V81)","v":""},{"$f":"key_row(CRSDATA!W81,CRSDATA!X81,CRSDATA!AK81,CRSDATA!AJ81,CRSDATA!P81,CRSDATA!V81)","v":""},{"$f":"CRSDATA!P81","v":0},{"$f":"CRSDATA!J81","v":0},{"$f":"CRSDATA!I81","v":0},{"$f":"IF(LEFT(CRSDATA!N81,2)=\"A0\",\"A00\",IF(LEFT(CRSDATA!N81,3)=\"B02\",\"B02\",IF(LEFT(CRSDATA!N81,3)=\"B03\",\"B03\",IF(CRSDATA!N81=\"B04\",\"C01\",IF(CRSDATA!N81=\"H01\",\"H00\",IF(OR(CRSDATA!N81=\"H02\",CRSDATA!N81=\"H03\",CRSDATA!N81=\"H04\",CRSDATA!N81=\"H05\",CRSDATA!N81=\"H06\"),\"I01\",CRSDATA!N81))))))","v":0},{"$f":"CRSDATA!M81","v":0},{"$f":"IF(CRSDATA!L81=22,\"FA04\",\"\")","v":""},{"$f":"IF(CRSDATA!K81=8,\"FC02\",\"\")","v":""},{"$f":"IF(OR(O81=\"B02\",O81=\"E02\",O81=\"G01\",O81=\"H00\",O81=\"I01\"),2,IF(OR(O81=\"A00\",O81=\"E01\",O81=\"F01\",P81=510,P81=520),1,IF(VLOOKUP(F81,recipient_country!AB:AD,3,FALSE)=\"Part I unallocated by income\",\"\",1)))","v":{"$error":"#N/A"}},{"$f":"CRSDATA!AM81","v":0},{"$f":"CRSDATA!AN81","v":0},{"$f":"CRSDATA!AP81","v":0},{"$f":"CRSDATA!AR81","v":0},{"$f":"CRSDATA!BA81","v":0},null,"",{"$f":"IF(CRSDATA!M81=421,DATEDIF(CRSDATA!B81,CRSDATA!BH81,\"m\"),\"\")","v":""},{"$f":"CRSDATA!AZ81","v":0},{"$f":"CRSDATA!BB81","v":0},{"$f":"CRSDATA!L81","v":0}]
[{"$f":"CRSDATA!A82","v":0},{"$f":"CRSDATA!C82","v":0},{"$f":"CRSDATA!D82","v":0},{"$f":"CRSDATA!F82","v":0},{"$f":"CRSDATA!E82","v":0},{"$f":"IF(CRSDATA!H82=3000,998,CRSDATA!H82)","v":0},{"$f":"CRSDATA!O82","v":0},{"$f":"CRSDATA!U82","v":0},null,{"$f":"IF(CRSDATA!V82=\"\",\"\",CRSDATA!V82)","v":""},{"$f":"key_row(CRSDATA!W82,CRSDATA!X82,CRSDATA!AK82,CRSDATA!AJ82,CRSDATA!P82,CRSDATA!V82)","v":""},{"$f":"CRSDATA!P82","v":0},{"$f":"CRSDATA!J82","v":0},{"$f":"CRSDATA!I82","v":0},{"$f":"IF(LEFT(CRSDATA!N82,2)=\"A0\",\"A00\",IF(LEFT(CRSDATA!N82,3)=\"B02\",\"B02\",IF(LEFT(CRSDATA!N82,3)=\"B03\",\"B03\",IF(CRSDATA!N82=\"B04\",\"C01\",IF(CRSDATA!N82=\"H01\",\"H00\",IF(OR(CRSDATA!N82=\"H02\",CRSDATA!N82=\"H03\",CRSDATA!N82=\"H04\",CRSDATA!N82=\"H05\",CRSDATA!N82=\"H06\"),\"I01\",CRSDATA!N82))))))","v":0},{"$f":"CRSDATA!M82","v":0},{"$f":"IF(CRSDATA!L82=22,\"FA04\",\"\")","v":""},{"$f":"IF(CRSDATA!K82=8,\"FC02\",\"\")","v":""},{"$f":"IF(OR(O82=\"B02\",O82=\"E02\",O82=\"G01\",O82=\"H00\",O82=\"I01\"),2,IF(OR(O82=\"A00\",O82=\"E01\",O82=\"F01\",P82=510,P82=520),1,IF(VLOOKUP(F82,recipient_country!AB:AD,3,FALSE)=\"Part I unallocated by income\",\"\",1)))","v":{"$error":"#N/A"}},{"$f":"CRSDATA!AM82","v":0},{"$f":"CRSDATA!AN82","v":0},{"$f":"CRSDATA!AP82","v":0},{"$f":"CRSDATA!AR82","v":0},{"$f":"CRSDATA!BA82","v":0},null,"",{"$f":"IF(CRSDATA!M82=421,DATEDIF(CRSDATA!B82,CRSDATA!BH82,\"m\"),\"\")","v":""},{"$f":"CRSDATA!AZ82","v":0},{"$f":"CRSDATA!BB82","v":0},{"$f":"CRSDATA!L82","v":0}]
[{"$f":"CRSDATA!A83","v":0},{"$f":"CRSDATA!C83","v":0},{"$f":"CRSDATA!D83","v":0},{"$f":"CRSDATA!F83","v":0},{"$f":"CRSDATA!E83","v":0},{"$f":"IF(CRSDATA!H83=3000,998,CRSDATA!H83)","v":0},{"$f":"CRSDATA!O83","v":0},{"$f":"CRSDATA!U83","v":0},null,{"$f":"IF(CRSDATA!V83=\"\",\"\",CRSDATA!V83)","v":""},{"$f":"key_row(CRSDATA!W83,CRSDATA!X83,CRSDATA!AK83,CRSDATA!AJ83,CRSDATA!P83,CRSDATA!V83)","v":""},{"$f":"CRSDATA!P83","v":0},{"$f":"CRSDATA!J83","v":0},{"$f":"CRSDATA!I83","v":0},{"$f":"IF(LEFT(CRSDATA!N83,2)=\"A0\",\"A00\",IF(LEFT(CRSDATA!N83,3)=\"B02\",\"B02\",IF(LEFT(CRSDATA!N83,3)=\"B03\",\"B03\",IF(CRSDATA!N83=\"B04\",\"C01\",IF(CRSDATA!N83=\"H01\",\"H00\",IF(OR(CRSDATA!N83=\"H02\",CRSDATA!N83=\"H03\",CRSDATA!N83=\"H04\",CRSDATA!N83=\"H05\",CRSDATA!N83=\"H06\"),\"I01\",CRSDATA!N83))))))","v":0},{"$f":"CRSDATA!M83","v":0},{"$f":"IF(CRSDATA!L83=22,\"FA04\",\"\")","v":""},{"$f":"IF(CRSDATA!K83=8,\"FC02\",\"\")","v":""},{"$f":"IF(OR(O83=\"B02\",O83=\"E02\",O83=\"G01\",O83=\"H00\",O83=\"I01\"),2,IF(OR(O83=\"A00\",O83=\"E01\",O83=\"F01\",P83=510,P83=520),1,IF(VLOOKUP(F83,recipient_country!AB:AD,3,FALSE)=\"Part I unallocated by income\",\"\",1)))","v":{"$error":"#N/A"}},{"$f":"CRSDATA!AM83","v":0},{"$f":"CRSDATA!AN83","v":0},{"$f":"CRSDATA!AP83","v":0},{"$f":"CRSDATA!AR83","v":0},{"$f":"CRSDATA!BA83","v":0},null,"",{"$f":"IF(CRSDATA!M83=421,DATEDIF(CRSDATA!B83,CRSDATA!BH83,\"m\"),\"\")","v":""},{"$f":"CRSDATA!AZ83","v":0},{"$f":"CRSDATA!BB83","v":0},{"$f":"CRSDATA!L83","v":0}]
[{"$f":"CRSDATA!A84","v":0},{"$f":"CRSDATA!C84","v":0},{"$f":"CRSDATA!D84","v":0},{"$f":"CRSDATA!F84","v":0},{"$f":"CRSDATA!E84","v":0},{"$f":"IF(CRSDATA!H84=3000,998,CRSDATA!H84)","v":0},{"$f":"CRSDATA!O84","v":0},{"$f":"CRSDATA!U84","v":0},null,{"$f":"IF(CRSDATA!V84=\"\",\"\",CRSDATA!V84)","v":""},{"$f":"key_row(CRSDATA!W84,CRSDATA!X84,CRSDATA!AK84,CRSDATA!AJ84,CRSDATA!P84,CRSDATA!V84)","v":""},{"$f":"CRSDATA!P84","v":0},{"$f":"CRSDATA!J84","v":0},{"$f":"CRSDATA!I84","v":0},{"$f":"IF(LEFT(CRSDATA!N84,2)=\"A0\",\"A00\",IF(LEFT(CRSDATA!N84,3)=\"B02\",\"B02\",IF(LEFT(CRSDATA!N84,3)=\"B03\",\"B03\",IF(CRSDATA!N84=\"B04\",\"C01\",IF(CRSDATA!N84=\"H01\",\"H00\",IF(OR(CRSDATA!N84=\"H02\",CRSDATA!N84=\"H03\",CRSDATA!N84=\"H04\",CRSDATA!N84=\"H05\",CRSDATA!N84=\"H06\"),\"I01\",CRSDATA!N84))))))","v":0},{"$f":"CRSDATA!M84","v":0},{"$f":"IF(CRSDATA!L84=22,\"FA04\",\"\")","v":""},{"$f":"IF(CRSDATA!K84=8,\"FC02\",\"\")","v":""},{"$f":"IF(OR(O84=\"B02\",O84=\"E02\",O84=\"G01\",O84=\"H00\",O84=\"I01\"),2,IF(OR(O84=\"A00\",O84=\"E01\",O84=\"F01\",P84=510,P84=520),1,IF(VLOOKUP(F84,recipient_country!AB:AD,3,FALSE)=\"Part I unallocated by income\",\"\",1)))","v":{"$error":"#N/A"}},{"$f":"CRSDATA!AM84","v":0},{"$f":"CRSDATA!AN84","v":0},{"$f":"CRSDATA!AP84","v":0},{"$f":"CRSDATA!AR84","v":0},{"$f":"CRSDATA!BA84","v":0},null,"",{"$f":"IF(CRSDATA!M84=421,DATEDIF(CRSDATA!B84,CRSDATA!BH84,\"m\"),\"\")","v":""},{"$f":"CRSDATA!AZ84","v":0},{"$f":"CRSDATA!BB84","v":0},{"$f":"CRSDATA!L84","v":0}]
[{"$f":"CRSDATA!A85","v":0},{"$f":"CRSDATA!C85","v":0},{"$f":"CRSDATA!D85","v":0},{"$f":"CRSDATA!F85","v":0},{"$f":"CRSDATA!E85","v":0},{"$f":"IF(CRSDATA!H85=3000,998,CRSDATA!H85)","v":0},{"$f":"CRSDATA!O85","v":0},{"$f":"CRSDATA!U85","v":0},null,{"$f":"IF(CRSDATA!V85=\"\",\"\",CRSDATA!V85)","v":""},{"$f":"key_row(CRSDATA!W85,CRSDATA!X85,CRSDATA!AK85,CRSDATA!AJ85,CRSDATA!P85,CRSDATA!V85)","v":""},{"$f":"CRSDATA!P85","v":0},{"$f":"CRSDATA!J85","v":0},{"$f":"CRSDATA!I85","v":0},{"$f":"IF(LEFT(CRSDATA!N85,2)=\"A0\",\"A00\",IF(LEFT(CRSDATA!N85,3)=\"B02\",\"B02\",IF(LEFT(CRSDATA!N85,3)=\"B03\",\"B03\",IF(CRSDATA!N85=\"B04\",\"C01\",IF(CRSDATA!N85=\"H01\",\"H00\",IF(OR(CRSDATA!N85=\"H02\",CRSDATA!N85=\"H03\",CRSDATA!N85=\"H04\",CRSDATA!N85=\"H05\",CRSDATA!N85=\"H06\"),\"I01\",CRSDATA!N85))))))","v":0},{"$f":"CRSDATA!M85","v":0},{"$f":"IF(CRSDATA!L85=22,\"FA04\",\"\")","v":""},{"$f":"IF(CRSDATA!K85=8,\"FC02\",\"\")","v":""},{"$f":"IF(OR(O85=\"B02\",O85=\"E02\",O85=\"G01\",O85=\"H00\",O85=\"I01\"),2,IF(OR(O85=\"A00\",O85=\"E01\",O85=\"F01\",P85=510,P85=520),1,IF(VLOOKUP(F85,recipient_country!AB:AD,3,FALSE)=\"Part I unallocated by income\",\"\",1)))","v":{"$error":"#N/A"}},{"$f":"CRSDATA!AM85","v":0},{"$f":"CRSDATA!AN85","v":0},{"$f":"CRSDATA!AP85","v":0},{"$f":"CRSDATA!AR85","v":0},{"$f":"CRSDATA!BA85","v":0},null,"",{"$f":"IF(CRSDATA!M85=421,DATEDIF(CRSDATA!B85,CRSDATA!BH85,\"m\"),\"\")","v":""},{"$f":"CRSDATA!AZ85","v":0},{"$f":"CRSDATA!BB85","v":0},{"$f":"CRSDATA!L85","v":0}]
[{"$f":"CRSDATA!A86","v":0},{"$f":"CRSDATA!C86","v":0},{"$f":"CRSDATA!D86","v":0},{"$f":"CRSDATA!F86","v":0},{"$f":"CRSDATA!E86","v":0},{"$f":"IF(CRSDATA!H86=3000,998,CRSDATA!H86)","v":0},{"$f":"CRSDATA!O86","v":0},{"$f":"CRSDATA!U86","v":0},null,{"$f":"IF(CRSDATA!V86=\"\",\"\",CRSDATA!V86)","v":""},{"$f":"key_row(CRSDATA!W86,CRSDATA!X86,CRSDATA!AK86,CRSDATA!AJ86,CRSDATA!P86,CRSDATA!V86)","v":""},{"$f":"CRSDATA!P86","v":0},{"$f":"CRSDATA!J86","v":0},{"$f":"CRSDATA!I86","v":0},{"$f":"IF(LEFT(CRSDATA!N86,2)=\"A0\",\"A00\",IF(LEFT(CRSDATA!N86,3)=\"B02\",\"B02\",IF(LEFT(CRSDATA!N86,3)=\"B03\",\"B03\",IF(CRSDATA!N86=\"B04\",\"C01\",IF(CRSDATA!N86=\"H01\",\"H00\",IF(OR(CRSDATA!N86=\"H02\",CRSDATA!N86=\"H03\",CRSDATA!N86=\"H04\",CRSDATA!N86=\"H05\",CRSDATA!N86=\"H06\"),\"I01\",CRSDATA!N86))))))","v":0},{"$f":"CRSDATA!M86","v":0},{"$f":"IF(CRSDATA!L86=22,\"FA04\",\"\")","v":""},{"$f":"IF(CRSDATA!K86=8,\"FC02\",\"\")","v":""},{"$f":"IF(OR(O86=\"B02\",O86=\"E02\",O86=\"G01\",O86=\"H00\",O86=\"I01\"),2,IF(OR(O86=\"A00\",O86=\"E01\",O86=\"F01\",P86=510,P86=520),1,IF(VLOOKUP(F86,recipient_country!AB:AD,3,FALSE)=\"Part I unallocated by income\",\"\",1)))","v":{"$error":"#N/A"}},{"$f":"CRSDATA!AM86","v":0},{"$f":"CRSDATA!AN86","v":0},{"$f":"CRSDATA!AP86","v":0},{"$f":"CRSDATA!AR86","v":0},{"$f":"CRSDATA!BA86","v":0},null,"",{"$f":"IF(CRSDATA!M86=421,DATEDIF(CRSDATA!B86,CRSDATA!BH86,\"m\"),\"\")","v":""},{"$f":"CRSDATA!AZ86","v":0},{"$f":"CRSDATA!BB86","v":0},{"$f":"CRSDATA!L86","v":0}]
[{"$f":"CRSDATA!A87","v":0},{"$f":"CRSDATA!C87","v":0},{"$f":"CRSDATA!D87","v":0},{"$f":"CRSDATA!F87","v":0},{"$f":"CRSDATA!E87","v":0},{"$f":"IF(CRSDATA!H87=3000,998,CRSDATA!H87)","v":0},{"$f":"CRSDATA!O87","v":0},{"$f":"CRSDATA!U87","v":0},null,{"$f":"IF(CRSDATA!V87=\"\",\"\",CRSDATA!V87)","v":""},{"$f":"key_row(CRSDATA!W87,CRSDATA!X87,CRSDATA!AK87,CRSDATA!AJ87,CRSDATA!P87,CRSDATA!V87)","v":""},{"$f":"CRSDATA!P87","v":0},{"$f":"CRSDATA!J87","v":0},{"$f":"CRSDATA!I87","v":0},{"$f":"IF(LEFT(CRSDATA!N87,2)=\"A0\",\"A00\",IF(LEFT(CRSDATA!N87,3)=\"B02\",\"B02\",IF(LEFT(CRSDATA!N87,3)=\"B03\",\"B03\",IF(CRSDATA!N87=\"B04\",\"C01\",IF(CRSDATA!N87=\"H01\",\"H00\",IF(OR(CRSDATA!N87=\"H02\",CRSDATA!N87=\"H03\",CRSDATA!N87=\"H04\",CRSDATA!N87=\"H05\",CRSDATA!N87=\"H06\"),\"I01\",CRSDATA!N87))))))","v":0},{"$f":"CRSDATA!M87","v":0},{"$f":"IF(CRSDATA!L87=22,\"FA04\",\"\")","v":""},{"$f":"IF(CRSDATA!K87=8,\"FC02\",\"\")","v":""},{"$f":"IF(OR(O87=\"B02\",O87=\"E02\",O87=\"G01\",O87=\"H00\",O87=\"I01\"),2,IF(OR(O87=\"A00\",O87=\"E01\",O87=\"F01\",P87=510,P87=520),1,IF(VLOOKUP(F87,recipient_country!AB:AD,3,FALSE)=\"Part I unallocated by income\",\"\",1)))","v":{"$error":"#N/A"}},{"$f":"CRSDATA!AM87","v":0},{"$f":"CRSDATA!AN87","v":0},{"$f":"CRSDATA!AP87","v":0},{"$f":"CRSDATA!AR87","v":0},{"$f":"CRSDATA!BA87","v":0},null,"",{"$f":"IF(CRSDATA!M87=421,DATEDIF(CRSDATA!B87,CRSDATA!BH87,\"m\"),\"\")","v":""},{"$f":"CRSDATA!AZ87","v":0},{"$f":"CRSDATA!BB87","v":0},{"$f":"CRSDATA!L87","v":0}]
[{"$f":"CRSDATA!A88","v":0},{"$f":"CRSDATA!C88","v":0},{"$f":"CRSDATA!D88","v":0},{"$f":"CRSDATA!F88","v":0},{"$f":"CRSDATA!E88","v":0},{"$f":"IF(CRSDATA!H88=3000,998,CRSDATA!H88)","v":0},{"$f":"CRSDATA!O88","v":0},{"$f":"CRSDATA!U88","v":0},null,{"$f":"IF(CRSDATA!V88=\"\",\"\",CRSDATA!V88)","v":""},{"$f":"key_row(CRSDATA!W88,CRSDATA!X88,CRSDATA!AK88,CRSDATA!AJ88,CRSDATA!P88,CRSDATA!V88)","v":""},{"$f":"CRSDATA!P88","v":0},{"$f":"CRSDATA!J88","v":0},{"$f":"CRSDATA!I88","v":0},{"$f":"IF(LEFT(CRSDATA!N88,2)=\"A0\",\"A00\",IF(LEFT(CRSDATA!N88,3)=\"B02\",\"B02\",IF(LEFT(CRSDATA!N88,3)=\"B03\",\"B03\",IF(CRSDATA!N88=\"B04\",\"C01\",IF(CRSDATA!N88=\"H01\",\"H00\",IF(OR(CRSDATA!N88=\"H02\",CRSDATA!N88=\"H03\",CRSDATA!N88=\"H04\",CRSDATA!N88=\"H05\",CRSDATA!N88=\"H06\"),\"I01\",CRSDATA!N88))))))","v":0},{"$f":"CRSDATA!M88","v":0},{"$f":"IF(CRSDATA!L88=22,\"FA04\",\"\")","v":""},{"$f":"IF(CRSDATA!K88=8,\"FC02\",\"\")","v":""},{"$f":"IF(OR(O88=\"B02\",O88=\"E02\",O88=\"G01\",O88=\"H00\",O88=\"I01\"),2,IF(OR(O88=\"A00\",O88=\"E01\",O88=\"F01\",P88=510,P88=520),1,IF(VLOOKUP(F88,recipient_country!AB:AD,3,FALSE)=\"Part I unallocated by income\",\"\",1)))","v":{"$error":"#N/A"}},{"$f":"CRSDATA!AM88","v":0},{"$f":"CRSDATA!AN88","v":0},{"$f":"CRSDATA!AP88","v":0},{"$f":"CRSDATA!AR88","v":0},{"$f":"CRSDATA!BA88","v":0},null,"",{"$f":"IF(CRSDATA!M88=421,DATEDIF(CRSDATA!B88,CRSDATA!BH88,\"m\"),\"\")","v":""},{"$f":"CRSDATA!AZ88","v":0},{"$f":"CRSDATA!BB88","v":0},{"$f":"CRSDATA!L88","v":0}]
[{"$f":"CRSDATA!A89","v":0},{"$f":"CRSDATA!C89","v":0},{"$f":"CRSDATA!D89","v":0},{"$f":"CRSDATA!F89","v":0},{"$f":"CRSDATA!E89","v":0},{"$f":"IF(CRSDATA!H89=3000,998,CRSDATA!H89)","v":0},{"$f":"CRSDATA!O89","v":0},{"$f":"CRSDATA!U89","v":0},null,{"$f":"IF(CRSDATA!V89=\"\",\"\",CRSDATA!V89)","v":""},{"$f":"key_row(CRSDATA!W89,CRSDATA!X89,CRSDATA!AK89,CRSDATA!AJ89,CRSDATA!P89,CRSDATA!V89)","v":""},{"$f":"CRSDATA!P89","v":0},{"$f":"CRSDATA!J89","v":0},{"$f":"CRSDATA!I89","v":0},{"$f":"IF(LEFT(CRSDATA!N89,2)=\"A0\",\"A00\",IF(LEFT(CRSDATA!N89,3)=\"B02\",\"B02\",IF(LEFT(CRSDATA!N89,3)=\"B03\",\"B03\",IF(CRSDATA!N89=\"B04\",\"C01\",IF(CRSDATA!N89=\"H01\",\"H00\",IF(OR(CRSDATA!N89=\"H02\",CRSDATA!N89=\"H03\",CRSDATA!N89=\"H04\",CRSDATA!N89=\"H05\",CRSDATA!N89=\"H06\"),\"I01\",CRSDATA!N89))))))","v":0},{"$f":"CRSDATA!M89","v":0},{"$f":"IF(CRSDATA!L89=22,\"FA04\",\"\")","v":""},{"$f":"IF(CRSDATA!K89=8,\"FC02\",\"\")","v":""},{"$f":"IF(OR(O89=\"B02\",O89=\"E02\",O89=\"G01\",O89=\"H00\",O89=\"I01\"),2,IF(OR(O89=\"A00\",O89=\"E01\",O89=\"F01\",P89=510,P89=520),1,IF(VLOOKUP(F89,recipient_country!AB:AD,3,FALSE)=\"Part I unallocated by income\",\"\",1)))","v":{"$error":"#N/A"}},{"$f":"CRSDATA!AM89","v":0},{"$f":"CRSDATA!AN89","v":0},{"$f":"CRSDATA!AP89","v":0},{"$f":"CRSDATA!AR89","v":0},{"$f":"CRSDATA!BA89","v":0},null,"",{"$f":"IF(CRSDATA!M89=421,DATEDIF(CRSDATA!B89,CRSDATA!BH89,\"m\"),\"\")","v":""},{"$f":"CRSDATA!AZ89","v":0},{"$f":"CRSDATA!BB89","v":0},{"$f":"CRSDATA!L89","v":0}]
[{"$f":"CRSDATA!A90","v":0},{"$f":"CRSDATA!C90","v":0},{"$f":"CRSDATA!D90","v":0},{"$f":"CRSDATA!F90","v":0},{"$f":"CRSDATA!E90","v":0},{"$f":"IF(CRSDATA!H90=3000,998,CRSDATA!H90)","v":0},{"$f":"CRSDATA!O90","v":0},{"$f":"CRSDATA!U90","v":0},null,{"$f":"IF(CRSDATA!V90=\"\",\"\",CRSDATA!V90)","v":""},{"$f":"key_row(CRSDATA!W90,CRSDATA!X90,CRSDATA!AK90,CRSDATA!AJ90,CRSDATA!P90,CRSDATA!V90)","v":""},{"$f":"CRSDATA!P90","v":0},{"$f":"CRSDATA!J90","v":0},{"$f":"CRSDATA!I90","v":0},{"$f":"IF(LEFT(CRSDATA!N90,2)=\"A0\",\"A00\",IF(LEFT(CRSDATA!N90,3)=\"B02\",\"B02\",IF(LEFT(CRSDATA!N90,3)=\"B03\",\"B03\",IF(CRSDATA!N90=\"B04\",\"C01\",IF(CRSDATA!N90=\"H01\",\"H00\",IF(OR(CRSDATA!N90=\"H02\",CRSDATA!N90=\"H03\",CRSDATA!N90=\"H04\",CRSDATA!N90=\"H05\",CRSDATA!N90=\"H06\"),\"I01\",CRSDATA!N90))))))","v":0},{"$f":"CRSDATA!M90","v":0},{"$f":"IF(CRSDATA!L90=22,\"FA04\",\"\")","v":""},{"$f":"IF(CRSDATA!K90=8,\"FC02\",\"\")","v":""},{"$f":"IF(OR(O90=\"B02\",O90=\"E02\",O90=\"G01\",O90=\"H00\",O90=\"I01\"),2,IF(OR(O90=\"A00\",O90=\"E01\",O90=\"F01\",P90=510,P90=520),1,IF(VLOOKUP(F90,recipient_country!AB:AD,3,FALSE)=\"Part I unallocated by income\",\"\",1)))","v":{"$error":"#N/A"}},{"$f":"CRSDATA!AM90","v":0},{"$f":"CRSDATA!AN90","v":0},{"$f":"CRSDATA!AP90","v":0},{"$f":"CRSDATA!AR90","v":0},{"$f":"CRSDATA!BA90","v":0},null,"",{"$f":"IF(CRSDATA!M90=421,DATEDIF(CRSDATA!B90,CRSDATA!BH90,\"m\"),\"\")","v":""},{"$f":"CRSDATA!AZ90","v":0},{"$f":"CRSDATA!BB90","v":0},{"$f":"CRSDATA!L90","v":0}]
[{"$f":"CRSDATA!A91","v":0},{"$f":"CRSDATA!C91","v":0},{"$f":"CRSDATA!D91","v":0},{"$f":"CRSDATA!F91","v":0},{"$f":"CRSDATA!E91","v":0},{"$f":"IF(CRSDATA!H91=3000,998,CRSDATA!H91)","v":0},{"$f":"CRSDATA!O91","v":0},{"$f":"CRSDATA!U91","v":0},null,{"$f":"IF(CRSDATA!V91=\"\",\"\",CRSDATA!V91)","v":""},{"$f":"key_row(CRSDATA!W91,CRSDATA!X91,CRSDATA!AK91,CRSDATA!AJ91,CRSDATA!P91,CRSDATA!V91)","v":""},{"$f":"CRSDATA!P91","v":0},{"$f":"CRSDATA!J91","v":0},{"$f":"CRSDATA!I91","v":0},{"$f":"IF(LEFT(CRSDATA!N91,2)=\"A0\",\"A00\",IF(LEFT(CRSDATA!N91,3)=\"B02\",\"B02\",IF(LEFT(CRSDATA!N91,3)=\"B03\",\"B03\",IF(CRSDATA!N91=\"B04\",\"C01\",IF(CRSDATA!N91=\"H01\",\"H00\",IF(OR(CRSDATA!N91=\"H02\",CRSDATA!N91=\"H03\",CRSDATA!N91=\"H04\",CRSDATA!N91=\"H05\",CRSDATA!N91=\"H06\"),\"I01\",CRSDATA!N91))))))","v":0},{"$f":"CRSDATA!M91","v":0},{"$f":"IF(CRSDATA!L91=22,\"FA04\",\"\")","v":""},{"$f":"IF(CRSDATA!K91=8,\"FC02\",\"\")","v":""},{"$f":"IF(OR(O91=\"B02\",O91=\"E02\",O91=\"G01\",O91=\"H00\",O91=\"I01\"),2,IF(OR(O91=\"A00\",O91=\"E01\",O91=\"F01\",P91=510,P91=520),1,IF(VLOOKUP(F91,recipient_country!AB:AD,3,FALSE)=\"Part I unallocated by income\",\"\",1)))","v":{"$error":"#N/A"}},{"$f":"CRSDATA!AM91","v":0},{"$f":"CRSDATA!AN91","v":0},{"$f":"CRSDATA!AP91","v":0},{"$f":"CRSDATA!AR91","v":0},{"$f":"CRSDATA!BA91","v":0},null,"",{"$f":"IF(CRSDATA!M91=421,DATEDIF(CRSDATA!B91,CRSDATA!BH91,\"m\"),\"\")","v":""},{"$f":"CRSDATA!AZ91","v":0},{"$f":"CRSDATA!BB91","v":0},{"$f":"CRSDATA!L91","v":0}]
[{"$f":"CRSDATA!A92","v":0},{"$f":"CRSDATA!C92","v":0},{"$f":"CRSDATA!D92","v":0},{"$f":"CRSDATA!F92","v":0},{"$f":"CRSDATA!E92","v":0},{"$f":"IF(CRSDATA!H92=3000,998,CRSDATA!H92)","v":0},{"$f":"CRSDATA!O92","v":0},{"$f":"CRSDATA!U92","v":0},null,{"$f":"IF(CRSDATA!V92=\"\",\"\",CRSDATA!V92)","v":""},{"$f":"key_row(CRSDATA!W92,CRSDATA!X92,CRSDATA!AK92,CRSDATA!AJ92,CRSDATA!P92,CRSDATA!V92)","v":""},{"$f":"CRSDATA!P92","v":0},{"$f":"CRSDATA!J92","v":0},{"$f":"CRSDATA!I92","v":0},{"$f":"IF(LEFT(CRSDATA!N92,2)=\"A0\",\"A00\",IF(LEFT(CRSDATA!N92,3)=\"B02\",\"B02\",IF(LEFT(CRSDATA!N92,3)=\"B03\",\"B03\",IF(CRSDATA!N92=\"B04\",\"C01\",IF(CRSDATA!N92=\"H01\",\"H00\",IF(OR(CRSDATA!N92=\"H02\",CRSDATA!N92=\"H03\",CRSDATA!N92=\"H04\",CRSDATA!N92=\"H05\",CRSDATA!N92=\"H06\"),\"I01\",CRSDATA!N92))))))","v":0},{"$f":"CRSDATA!M92","v":0},{"$f":"IF(CRSDATA!L92=22,\"FA04\",\"\")","v":""},{"$f":"IF(CRSDATA!K92=8,\"FC02\",\"\")","v":""},{"$f":"IF(OR(O92=\"B02\",O92=\"E02\",O92=\"G01\",O92=\"H00\",O92=\"I01\"),2,IF(OR(O92=\"A00\",O92=\"E01\",O92=\"F01\",P92=510,P92=520),1,IF(VLOOKUP(F92,recipient_country!AB:AD,3,FALSE)=\"Part I unallocated by income\",\"\",1)))","v":{"$error":"#N/A"}},{"$f":"CRSDATA!AM92","v":0},{"$f":"CRSDATA!AN92","v":0},{"$f":"CRSDATA!AP92","v":0},{"$f":"CRSDATA!AR92","v":0},{"$f":"CRSDATA!BA92","v":0},null,"",{"$f":"IF(CRSDATA!M92=421,DATEDIF(CRSDATA!B92,CRSDATA!BH92,\"m\"),\"\")","v":""},{"$f":"CRSDATA!AZ92","v":0},{"$f":"CRSDATA!BB92","v":0},{"$f":"CRSDATA!L92","v":0}]
[{"$f":"CRSDATA!A93","v":0},{"$f":"CRSDATA!C93","v":0},{"$f":"CRSDATA!D93","v":0},{"$f":"CRSDATA!F93","v":0},{"$f":"CRSDATA!E93","v":0},{"$f":"IF(CRSDATA!H93=3000,998,CRSDATA!H93)","v":0},{"$f":"CRSDATA!O93","v":0},{"$f":"CRSDATA!U93","v":0},null,{"$f":"IF(CRSDATA!V93=\"\",\"\",CRSDATA!V93)","v":""},{"$f":"key_row(CRSDATA!W93,CRSDATA!X93,CRSDATA!AK93,CRSDATA!AJ93,CRSDATA!P93,CRSDATA!V93)","v":""},{"$f":"CRSDATA!P93","v":0},{"$f":"CRSDATA!J93","v":0},{"$f":"CRSDATA!I93","v":0},{"$f":"IF(LEFT(CRSDATA!N93,2)=\"A0\",\"A00\",IF(LEFT(CRSDATA!N93,3)=\"B02\",\"B02\",IF(LEFT(CRSDATA!N93,3)=\"B03\",\"B03\",IF(CRSDATA!N93=\"B04\",\"C01\",IF(CRSDATA!N93=\"H01\",\"H00\",IF(OR(CRSDATA!N93=\"H02\",CRSDATA!N93=\"H03\",CRSDATA!N93=\"H04\",CRSDATA!N93=\"H05\",CRSDATA!N93=\"H06\"),\"I01\",CRSDATA!N93))))))","v":0},{"$f":"CRSDATA!M93","v":0},{"$f":"IF(CRSDATA!L93=22,\"FA04\",\"\")","v":""},{"$f":"IF(CRSDATA!K93=8,\"FC02\",\"\")","v":""},{"$f":"IF(OR(O93=\"B02\",O93=\"E02\",O93=\"G01\",O93=\"H00\",O93=\"I01\"),2,IF(OR(O93=\"A00\",O93=\"E01\",O93=\"F01\",P93=510,P93=520),1,IF(VLOOKUP(F93,recipient_country!AB:AD,3,FALSE)=\"Part I unallocated by income\",\"\",1)))","v":{"$error":"#N/A"}},{"$f":"CRSDATA!AM93","v":0},{"$f":"CRSDATA!AN93","v":0},{"$f":"CRSDATA!AP93","v":0},{"$f":"CRSDATA!AR93","v":0},{"$f":"CRSDATA!BA93","v":0},null,"",{"$f":"IF(CRSDATA!M93=421,DATEDIF(CRSDATA!B93,CRSDATA!BH93,\"m\"),\"\")","v":""},{"$f":"CRSDATA!AZ93","v":0},{"$f":"CRSDATA!BB93","v":0},{"$f":"CRSDATA!L93","v":0}]
[{"$f":"CRSDATA!A94","v":0},{"$f":"CRSDATA!C94","v":0},{"$f":"CRSDATA!D94","v":0},{"$f":"CRSDATA!F94","v":0},{"$f":"CRSDATA!E94","v":0},{"$f":"IF(CRSDATA!H94=3000,998,CRSDATA!H94)","v":0},{"$f":"CRSDATA!O94","v":0},{"$f":"CRSDATA!U94","v":0},null,{"$f":"IF(CRSDATA!V94=\"\",\"\",CRSDATA!V94)","v":""},{"$f":"key_row(CRSDATA!W94,CRSDATA!X94,CRSDATA!AK94,CRSDATA!AJ94,CRSDATA!P94,CRSDATA!V94)","v":""},{"$f":"CRSDATA!P94","v":0},{"$f":"CRSDATA!J94","v":0},{"$f":"CRSDATA!I94","v":0},{"$f":"IF(LEFT(CRSDATA!N94,2)=\"A0\",\"A00\",IF(LEFT(CRSDATA!N94,3)=\"B02\",\"B02\",IF(LEFT(CRSDATA!N94,3)=\"B03\",\"B03\",IF(CRSDATA!N94=\"B04\",\"C01\",IF(CRSDATA!N94=\"H01\",\"H00\",IF(OR(CRSDATA!N94=\"H02\",CRSDATA!N94=\"H03\",CRSDATA!N94=\"H04\",CRSDATA!N94=\"H05\",CRSDATA!N94=\"H06\"),\"I01\",CRSDATA!N94))))))","v":0},{"$f":"CRSDATA!M94","v":0},{"$f":"IF(CRSDATA!L94=22,\"FA04\",\"\")","v":""},{"$f":"IF(CRSDATA!K94=8,\"FC02\",\"\")","v":""},{"$f":"IF(OR(O94=\"B02\",O94=\"E02\",O94=\"G01\",O94=\"H00\",O94=\"I01\"),2,IF(OR(O94=\"A00\",O94=\"E01\",O94=\"F01\",P94=510,P94=520),1,IF(VLOOKUP(F94,recipient_country!AB:AD,3,FALSE)=\"Part I unallocated by income\",\"\",1)))","v":{"$error":"#N/A"}},{"$f":"CRSDATA!AM94","v":0},{"$f":"CRSDATA!AN94","v":0},{"$f":"CRSDATA!AP94","v":0},{"$f":"CRSDATA!AR94","v":0},{"$f":"CRSDATA!BA94","v":0},null,"",{"$f":"IF(CRSDATA!M94=421,DATEDIF(CRSDATA!B94,CRSDATA!BH94,\"m\"),\"\")","v":""},{"$f":"CRSDATA!AZ94","v":0},{"$f":"CRSDATA!BB94","v":0},{"$f":"CRSDATA!L94","v":0}]
[{"$f":"CRSDATA!A95","v":0},{"$f":"CRSDATA!C95","v":0},{"$f":"CRSDATA!D95","v":0},{"$f":"CRSDATA!F95","v":0},{"$f":"CRSDATA!E95","v":0},{"$f":"IF(CRSDATA!H95=3000,998,CRSDATA!H95)","v":0},{"$f":"CRSDATA!O95","v":0},{"$f":"CRSDATA!U95","v":0},null,{"$f":"IF(CRSDATA!V95=\"\",\"\",CRSDATA!V95)","v":""},{"$f":"key_row(CRSDATA!W95,CRSDATA!X95,CRSDATA!AK95,CRSDATA!AJ95,CRSDATA!P95,CRSDATA!V95)","v":""},{"$f":"CRSDATA!P95","v":0},{"$f":"CRSDATA!J95","v":0},{"$f":"CRSDATA!I95","v":0},{"$f":"IF(LEFT(CRSDATA!N95,2)=\"A0\",\"A00\",IF(LEFT(CRSDATA!N95,3)=\"B02\",\"B02\",IF(LEFT(CRSDATA!N95,3)=\"B03\",\"B03\",IF(CRSDATA!N95=\"B04\",\"C01\",IF(CRSDATA!N95=\"H01\",\"H00\",IF(OR(CRSDATA!N95=\"H02\",CRSDATA!N95=\"H03\",CRSDATA!N95=\"H04\",CRSDATA!N95=\"H05\",CRSDATA!N95=\"H06\"),\"I01\",CRSDATA!N95))))))","v":0},{"$f":"CRSDATA!M95","v":0},{"$f":"IF(CRSDATA!L95=22,\"FA04\",\"\")","v":""},{"$f":"IF(CRSDATA!K95=8,\"FC02\",\"\")","v":""},{"$f":"IF(OR(O95=\"B02\",O95=\"E02\",O95=\"G01\",O95=\"H00\",O95=\"I01\"),2,IF(OR(O95=\"A00\",O95=\"E01\",O95=\"F01\",P95=510,P95=520),1,IF(VLOOKUP(F95,recipient_country!AB:AD,3,FALSE)=\"Part I unallocated by income\",\"\",1)))","v":{"$error":"#N/A"}},{"$f":"CRSDATA!AM95","v":0},{"$f":"CRSDATA!AN95","v":0},{"$f":"CRSDATA!AP95","v":0},{"$f":"CRSDATA!AR95","v":0},{"$f":"CRSDATA!BA95","v":0},null,"",{"$f":"IF(CRSDATA!M95=421,DATEDIF(CRSDATA!B95,CRSDATA!BH95,\"m\"),\"\")","v":""},{"$f":"CRSDATA!AZ95","v":0},{"$f":"CRSDATA!BB95","v":0},{"$f":"CRSDATA!L95","v":0}]
[{"$f":"CRSDATA!A96","v":0},{"$f":"CRSDATA!C96","v":0},{"$f":"CRSDATA!D96","v":0},{"$f":"CRSDATA!F96","v":0},{"$f":"CRSDATA!E96","v":0},{"$f":"IF(CRSDATA!H96=3000,998,CRSDATA!H96)","v":0},{"$f":"CRSDATA!O96","v":0},{"$f":"CRSDATA!U96","v":0},null,{"$f":"IF(CRSDATA!V96=\"\",\"\",CRSDATA!V96)","v":""},{"$f":"key_row(CRSDATA!W96,CRSDATA!X96,CRSDATA!AK96,CRSDATA!AJ96,CRSDATA!P96,CRSDATA!V96)","v":""},{"$f":"CRSDATA!P96","v":0},{"$f":"CRSDATA!J96","v":0},{"$f":"CRSDATA!I96","v":0},{"$f":"IF(LEFT(CRSDATA!N96,2)=\"A0\",\"A00\",IF(LEFT(CRSDATA!N96,3)=\"B02\",\"B02\",IF(LEFT(CRSDATA!N96,3)=\"B03\",\"B03\",IF(CRSDATA!N96=\"B04\",\"C01\",IF(CRSDATA!N96=\"H01\",\"H00\",IF(OR(CRSDATA!N96=\"H02\",CRSDATA!N96=\"H03\",CRSDATA!N96=\"H04\",CRSDATA!N96=\"H05\",CRSDATA!N96=\"H06\"),\"I01\",CRSDATA!N96))))))","v":0},{"$f":"CRSDATA!M96","v":0},{"$f":"IF(CRSDATA!L96=22,\"FA04\",\"\")","v":""},{"$f":"IF(CRSDATA!K96=8,\"FC02\",\"\")","v":""},{"$f":"IF(OR(O96=\"B02\",O96=\"E02\",O96=\"G01\",O96=\"H00\",O96=\"I01\"),2,IF(OR(O96=\"A00\",O96=\"E01\",O96=\"F01\",P96=510,P96=520),1,IF(VLOOKUP(F96,recipient_country!AB:AD,3,FALSE)=\"Part I unallocated by income\",\"\",1)))","v":{"$error":"#N/A"}},{"$f":"CRSDATA!AM96","v":0},{"$f":"CRSDATA!AN96","v":0},{"$f":"CRSDATA!AP96","v":0},{"$f":"CRSDATA!AR96","v":0},{"$f":"CRSDATA!BA96","v":0},null,"",{"$f":"IF(CRSDATA!M96=421,DATEDIF(CRSDATA!B96,CRSDATA!BH96,\"m\"),\"\")","v":""},{"$f":"CRSDATA!AZ96","v":0},{"$f":"CRSDATA!BB96","v":0},{"$f":"CRSDATA!L96","v":0}]
[{"$f":"CRSDATA!A97","v":0},{"$f":"CRSDATA!C97","v":0},{"$f":"CRSDATA!D97","v":0},{"$f":"CRSDATA!F97","v":0},{"$f":"CRSDATA!E97","v":0},{"$f":"IF(CRSDATA!H97=3000,998,CRSDATA!H97)","v":0},{"$f":"CRSDATA!O97","v":0},{"$f":"CRSDATA!U97","v":0},null,{"$f":"IF(CRSDATA!V97=\"\",\"\",CRSDATA!V97)","v":""},{"$f":"key_row(CRSDATA!W97,CRSDATA!X97,CRSDATA!AK97,CRSDATA!AJ97,CRSDATA!P97,CRSDATA!V97)","v":""},{"$f":"CRSDATA!P97","v":0},{"$f":"CRSDATA!J97","v":0},{"$f":"CRSDATA!I97","v":0},{"$f":"IF(LEFT(CRSDATA!N97,2)=\"A0\",\"A00\",IF(LEFT(CRSDATA!N97,3)=\"B02\",\"B02\",IF(LEFT(CRSDATA!N97,3)=\"B03\",\"B03\",IF(CRSDATA!N97=\"B04\",\"C01\",IF(CRSDATA!N97=\"H01\",\"H00\",IF(OR(CRSDATA!N97=\"H02\",CRSDATA!N97=\"H03\",CRSDATA!N97=\"H04\",CRSDATA!N97=\"H05\",CRSDATA!N97=\"H06\"),\"I01\",CRSDATA!N97))))))","v":0},{"$f":"CRSDATA!M97","v":0},{"$f":"IF(CRSDATA!L97=22,\"FA04\",\"\")","v":""},{"$f":"IF(CRSDATA!K97=8,\"FC02\",\"\")","v":""},{"$f":"IF(OR(O97=\"B02\",O97=\"E02\",O97=\"G01\",O97=\"H00\",O97=\"I01\"),2,IF(OR(O97=\"A00\",O97=\"E01\",O97=\"F01\",P97=510,P97=520),1,IF(VLOOKUP(F97,recipient_country!AB:AD,3,FALSE)=\"Part I unallocated by income\",\"\",1)))","v":{"$error":"#N/A"}},{"$f":"CRSDATA!AM97","v":0},{"$f":"CRSDATA!AN97","v":0},{"$f":"CRSDATA!AP97","v":0},{"$f":"CRSDATA!AR97","v":0},{"$f":"CRSDATA!BA97","v":0},null,"",{"$f":"IF(CRSDATA!M97=421,DATEDIF(CRSDATA!B97,CRSDATA!BH97,\"m\"),\"\")","v":""},{"$f":"CRSDATA!AZ97","v":0},{"$f":"CRSDATA!BB97","v":0},{"$f":"CRSDATA!L97","v":0}]
[{"$f":"CRSDATA!A98","v":0},{"$f":"CRSDATA!C98","v":0},{"$f":"CRSDATA!D98","v":0},{"$f":"CRSDATA!F98","v":0},{"$f":"CRSDATA!E98","v":0},{"$f":"IF(CRSDATA!H98=3000,998,CRSDATA!H98)","v":0},{"$f":"CRSDATA!O98","v":0},{"$f":"CRSDATA!U98","v":0},null,{"$f":"IF(CRSDATA!V98=\"\",\"\",CRSDATA!V98)","v":""},{"$f":"key_row(CRSDATA!W98,CRSDATA!X98,CRSDATA!AK98,CRSDATA!AJ98,CRSDATA!P98,CRSDATA!V98)","v":""},{"$f":"CRSDATA!P98","v":0},{"$f":"CRSDATA!J98","v":0},{"$f":"CRSDATA!I98","v":0},{"$f":"IF(LEFT(CRSDATA!N98,2)=\"A0\",\"A00\",IF(LEFT(CRSDATA!N98,3)=\"B02\",\"B02\",IF(LEFT(CRSDATA!N98,3)=\"B03\",\"B03\",IF(CRSDATA!N98=\"B04\",\"C01\",IF(CRSDATA!N98=\"H01\",\"H00\",IF(OR(CRSDATA!N98=\"H02\",CRSDATA!N98=\"H03\",CRSDATA!N98=\"H04\",CRSDATA!N98=\"H05\",CRSDATA!N98=\"H06\"),\"I01\",CRSDATA!N98))))))","v":0},{"$f":"CRSDATA!M98","v":0},{"$f":"IF(CRSDATA!L98=22,\"FA04\",\"\")","v":""},{"$f":"IF(CRSDATA!K98=8,\"FC02\",\"\")","v":""},{"$f":"IF(OR(O98=\"B02\",O98=\"E02\",O98=\"G01\",O98=\"H00\",O98=\"I01\"),2,IF(OR(O98=\"A00\",O98=\"E01\",O98=\"F01\",P98=510,P98=520),1,IF(VLOOKUP(F98,recipient_country!AB:AD,3,FALSE)=\"Part I unallocated by income\",\"\",1)))","v":{"$error":"#N/A"}},{"$f":"CRSDATA!AM98","v":0},{"$f":"CRSDATA!AN98","v":0},{"$f":"CRSDATA!AP98","v":0},{"$f":"CRSDATA!AR98","v":0},{"$f":"CRSDATA!BA98","v":0},null,"",{"$f":"IF(CRSDATA!M98=421,DATEDIF(CRSDATA!B98,CRSDATA!BH98,\"m\"),\"\")","v":""},{"$f":"CRSDATA!AZ98","v":0},{"$f":"CRSDATA!BB98","v":0},{"$f":"CRSDATA!L98","v":0}]
[{"$f":"CRSDATA!A99","v":0},{"$f":"CRSDATA!C99","v":0},{"$f":"CRSDATA!D99","v":0},{"$f":"CRSDATA!F99","v":0},{"$f":"CRSDATA!E99","v":0},{"$f":"IF(CRSDATA!H99=3000,998,CRSDATA!H99)","v":0},{"$f":"CRSDATA!O99","v":0},{"$f":"CRSDATA!U99","v":0},null,{"$f":"IF(CRSDATA!V99=\"\",\"\",CRSDATA!V99)","v":""},{"$f":"key_row(CRSDATA!W99,CRSDATA!X99,CRSDATA!AK99,CRSDATA!AJ99,CRSDATA!P99,CRSDATA!V99)","v":""},{"$f":"CRSDATA!P99","v":0},{"$f":"CRSDATA!J99","v":0},{"$f":"CRSDATA!I99","v":0},{"$f":"IF(LEFT(CRSDATA!N99,2)=\"A0\",\"A00\",IF(LEFT(CRSDATA!N99,3)=\"B02\",\"B02\",IF(LEFT(CRSDATA!N99,3)=\"B03\",\"B03\",IF(CRSDATA!N99=\"B04\",\"C01\",IF(CRSDATA!N99=\"H01\",\"H00\",IF(OR(CRSDATA!N99=\"H02\",CRSDATA!N99=\"H03\",CRSDATA!N99=\"H04\",CRSDATA!N99=\"H05\",CRSDATA!N99=\"H06\"),\"I01\",CRSDATA!N99))))))","v":0},{"$f":"CRSDATA!M99","v":0},{"$f":"IF(CRSDATA!L99=22,\"FA04\",\"\")","v":""},{"$f":"IF(CRSDATA!K99=8,\"FC02\",\"\")","v":""},{"$f":"IF(OR(O99=\"B02\",O99=\"E02\",O99=\"G01\",O99=\"H00\",O99=\"I01\"),2,IF(OR(O99=\"A00\",O99=\"E01\",O99=\"F01\",P99=510,P99=520),1,IF(VLOOKUP(F99,recipient_country!AB:AD,3,FALSE)=\"Part I unallocated by income\",\"\",1)))","v":{"$error":"#N/A"}},{"$f":"CRSDATA!AM99","v":0},{"$f":"CRSDATA!AN99","v":0},{"$f":"CRSDATA!AP99","v":0},{"$f":"CRSDATA!AR99","v":0},{"$f":"CRSDATA!BA99","v":0},null,"",{"$f":"IF(CRSDATA!M99=421,DATEDIF(CRSDATA!B99,CRSDATA!BH99,\"m\"),\"\")","v":""},{"$f":"CRSDATA!AZ99","v":0},{"$f":"CRSDATA!BB99","v":0},{"$f":"CRSDATA!L99","v":0}]
[{"$f":"CRSDATA!A100","v":0},{"$f":"CRSDATA!C100","v":0},{"$f":"CRSDATA!D100","v":0},{"$f":"CRSDATA!F100","v":0},{"$f":"CRSDATA!E100","v":0},{"$f":"IF(CRSDATA!H100=3000,998,CRSDATA!H100)","v":0},{"$f":"CRSDATA!O100","v":0},{"$f":"CRSDATA!U100","v":0},null,{"$f":"IF(CRSDATA!V100=\"\",\"\",CRSDATA!V100)","v":""},{"$f":"key_row(CRSDATA!W100,CRSDATA!X100,CRSDATA!AK100,CRSDATA!AJ100,CRSDATA!P100,CRSDATA!V100)","v":""},{"$f":"CRSDATA!P100","v":0},{"$f":"CRSDATA!J100","v":0},{"$f":"CRSDATA!I100","v":0},{"$f":"IF(LEFT(CRSDATA!N100,2)=\"A0\",\"A00\",IF(LEFT(CRSDATA!N100,3)=\"B02\",\"B02\",IF(LEFT(CRSDATA!N100,3)=\"B03\",\"B03\",IF(CRSDATA!N100=\"B04\",\"C01\",IF(CRSDATA!N100=\"H01\",\"H00\",IF(OR(CRSDATA!N100=\"H02\",CRSDATA!N100=\"H03\",CRSDATA!N100=\"H04\",CRSDATA!N100=\"H05\",CRSDATA!N100=\"H06\"),\"I01\",CRSDATA!N100))))))","v":0},{"$f":"CRSDATA!M100","v":0},{"$f":"IF(CRSDATA!L100=22,\"FA04\",\"\")","v":""},{"$f":"IF(CRSDATA!K100=8,\"FC02\",\"\")","v":""},{"$f":"IF(OR(O100=\"B02\",O100=\"E02\",O100=\"G01\",O100=\"H00\",O100=\"I01\"),2,IF(OR(O100=\"A00\",O100=\"E01\",O100=\"F01\",P100=510,P100=520),1,IF(VLOOKUP(F100,recipient_country!AB:AD,3,FALSE)=\"Part I unallocated by income\",\"\",1)))","v":{"$error":"#N/A"}},{"$f":"CRSDATA!AM100","v":0},{"$f":"CRSDATA!AN100","v":0},{"$f":"CRSDATA!AP100","v":0},{"$f":"CRSDATA!AR100","v":0},{"$f":"CRSDATA!BA100","v":0},null,"",{"$f":"IF(CRSDATA!M100=421,DATEDIF(CRSDATA!B100,CRSDATA!BH100,\"m\"),\"\")","v":""},{"$f":"CRSDATA!AZ100","v":0},{"$f":"CRSDATA!BB100","v":0},{"$f":"CRSDATA!L100","v":0}]
[{"$f":"CRSDATA!A101","v":0},{"$f":"CRSDATA!C101","v":0},{"$f":"CRSDATA!D101","v":0},{"$f":"CRSDATA!F101","v":0},{"$f":"CRSDATA!E101","v":0},{"$f":"IF(CRSDATA!H101=3000,998,CRSDATA!H101)","v":0},{"$f":"CRSDATA!O101","v":0},{"$f":"CRSDATA!U101","v":0},null,{"$f":"IF(CRSDATA!V101=\"\",\"\",CRSDATA!V101)","v":""},{"$f":"key_row(CRSDATA!W101,CRSDATA!X101,CRSDATA!AK101,CRSDATA!AJ101,CRSDATA!P101,CRSDATA!V101)","v":""},{"$f":"CRSDATA!P101","v":0},{"$f":"CRSDATA!J101","v":0},{"$f":"CRSDATA!I101","v":0},{"$f":"IF(LEFT(CRSDATA!N101,2)=\"A0\",\"A00\",IF(LEFT(CRSDATA!N101,3)=\"B02\",\"B02\",IF(LEFT(CRSDATA!N101,3)=\"B03\",\"B03\",IF(CRSDATA!N101=\"B04\",\"C01\",IF(CRSDATA!N101=\"H01\",\"H00\",IF(OR(CRSDATA!N101=\"H02\",CRSDATA!N101=\"H03\",CRSDATA!N101=\"H04\",CRSDATA!N101=\"H05\",CRSDATA!N101=\"H06\"),\"I01\",CRSDATA!N101))))))","v":0},{"$f":"CRSDATA!M101","v":0},{"$f":"IF(CRSDATA!L101=22,\"FA04\",\"\")","v":""},{"$f":"IF(CRSDATA!K101=8,\"FC02\",\"\")","v":""},{"$f":"IF(OR(O101=\"B02\",O101=\"E02\",O101=\"G01\",O101=\"H00\",O101=\"I01\"),2,IF(OR(O101=\"A00\",O101=\"E01\",O101=\"F01\",P101=510,P101=520),1,IF(VLOOKUP(F101,recipient_country!AB:AD,3,FALSE)=\"Part I unallocated by income\",\"\",1)))","v":{"$error":"#N/A"}},{"$f":"CRSDATA!AM101","v":0},{"$f":"CRSDATA!AN101","v":0},{"$f":"CRSDATA!AP101","v":0},{"$f":"CRSDATA!AR101","v":0},{"$f":"CRSDATA!BA101","v":0},null,"",{"$f":"IF(CRSDATA!M101=421,DATEDIF(CRSDATA!B101,CRSDATA!BH101,\"m\"),\"\")","v":""},{"$f":"CRSDATA!AZ101","v":0},{"$f":"CRSDATA!BB101","v":0},{"$f":"CRSDATA!L101","v":0}]
[{"$f":"CRSDATA!A102","v":0},{"$f":"CRSDATA!C102","v":0},{"$f":"CRSDATA!D102","v":0},{"$f":"CRSDATA!F102","v":0},{"$f":"CRSDATA!E102","v":0},{"$f":"IF(CRSDATA!H102=3000,998,CRSDATA!H102)","v":0},{"$f":"CRSDATA!O102","v":0},{"$f":"CRSDATA!U102","v":0},null,{"$f":"IF(CRSDATA!V102=\"\",\"\",CRSDATA!V102)","v":""},{"$f":"key_row(CRSDATA!W102,CRSDATA!X102,CRSDATA!AK102,CRSDATA!AJ102,CRSDATA!P102,CRSDATA!V102)","v":""},{"$f":"CRSDATA!P102","v":0},{"$f":"CRSDATA!J102","v":0},{"$f":"CRSDATA!I102","v":0},{"$f":"IF(LEFT(CRSDATA!N102,2)=\"A0\",\"A00\",IF(LEFT(CRSDATA!N102,3)=\"B02\",\"B02\",IF(LEFT(CRSDATA!N102,3)=\"B03\",\"B03\",IF(CRSDATA!N102=\"B04\",\"C01\",IF(CRSDATA!N102=\"H01\",\"H00\",IF(OR(CRSDATA!N102=\"H02\",CRSDATA!N102=\"H03\",CRSDATA!N102=\"H04\",CRSDATA!N102=\"H05\",CRSDATA!N102=\"H06\"),\"I01\",CRSDATA!N102))))))","v":0},{"$f":"CRSDATA!M102","v":0},{"$f":"IF(CRSDATA!L102=22,\"FA04\",\"\")","v":""},{"$f":"IF(CRSDATA!K102=8,\"FC02\",\"\")","v":""},{"$f":"IF(OR(O102=\"B02\",O102=\"E02\",O102=\"G01\",O102=\"H00\",O102=\"I01\"),2,IF(OR(O102=\"A00\",O102=\"E01\",O102=\"F01\",P102=510,P102=520),1,IF(VLOOKUP(F102,recipient_country!AB:AD,3,FALSE)=\"Part I unallocated by income\",\"\",1)))","v":{"$error":"#N/A"}},{"$f":"CRSDATA!AM102","v":0},{"$f":"CRSDATA!AN102","v":0},{"$f":"CRSDATA!AP102","v":0},{"$f":"CRSDATA!AR102","v":0},{"$f":"CRSDATA!BA102","v":0},null,"",{"$f":"IF(CRSDATA!M102=421,DATEDIF(CRSDATA!B102,CRSDATA!BH102,\"m\"),\"\")","v":""},{"$f":"CRSDATA!AZ102","v":0},{"$f":"CRSDATA!BB102","v":0},{"$f":"CRSDATA!L102","v":0}]
[{"$f":"CRSDATA!A103","v":0},{"$f":"CRSDATA!C103","v":0},{"$f":"CRSDATA!D103","v":0},{"$f":"CRSDATA!F103","v":0},{"$f":"CRSDATA!E103","v":0},{"$f":"IF(CRSDATA!H103=3000,998,CRSDATA!H103)","v":0},{"$f":"CRSDATA!O103","v":0},{"$f":"CRSDATA!U103","v":0},null,{"$f":"IF(CRSDATA!V103=\"\",\"\",CRSDATA!V103)","v":""},{"$f":"key_row(CRSDATA!W103,CRSDATA!X103,CRSDATA!AK103,CRSDATA!AJ103,CRSDATA!P103,CRSDATA!V103)","v":""},{"$f":"CRSDATA!P103","v":0},{"$f":"CRSDATA!J103","v":0},{"$f":"CRSDATA!I103","v":0},{"$f":"IF(LEFT(CRSDATA!N103,2)=\"A0\",\"A00\",IF(LEFT(CRSDATA!N103,3)=\"B02\",\"B02\",IF(LEFT(CRSDATA!N103,3)=\"B03\",\"B03\",IF(CRSDATA!N103=\"B04\",\"C01\",IF(CRSDATA!N103=\"H01\",\"H00\",IF(OR(CRSDATA!N103=\"H02\",CRSDATA!N103=\"H03\",CRSDATA!N103=\"H04\",CRSDATA!N103=\"H05\",CRSDATA!N103=\"H06\"),\"I01\",CRSDATA!N103))))))","v":0},{"$f":"CRSDATA!M103","v":0},{"$f":"IF(CRSDATA!L103=22,\"FA04\",\"\")","v":""},{"$f":"IF(CRSDATA!K103=8,\"FC02\",\"\")","v":""},{"$f":"IF(OR(O103=\"B02\",O103=\"E02\",O103=\"G01\",O103=\"H00\",O103=\"I01\"),2,IF(OR(O103=\"A00\",O103=\"E01\",O103=\"F01\",P103=510,P103=520),1,IF(VLOOKUP(F103,recipient_country!AB:AD,3,FALSE)=\"Part I unallocated by income\",\"\",1)))","v":{"$error":"#N/A"}},{"$f":"CRSDATA!AM103","v":0},{"$f":"CRSDATA!AN103","v":0},{"$f":"CRSDATA!AP103","v":0},{"$f":"CRSDATA!AR103","v":0},{"$f":"CRSDATA!BA103","v":0},null,"",{"$f":"IF(CRSDATA!M103=421,DATEDIF(CRSDATA!B103,CRSDATA!BH103,\"m\"),\"\")","v":""},{"$f":"CRSDATA!AZ103","v":0},{"$f":"CRSDATA!BB103","v":0},{"$f":"CRSDATA!L103","v":0}]
[{"$f":"CRSDATA!A104","v":0},{"$f":"CRSDATA!C104","v":0},{"$f":"CRSDATA!D104","v":0},{"$f":"CRSDATA!F104","v":0},{"$f":"CRSDATA!E104","v":0},{"$f":"IF(CRSDATA!H104=3000,998,CRSDATA!H104)","v":0},{"$f":"CRSDATA!O104","v":0},{"$f":"CRSDATA!U104","v":0},null,{"$f":"IF(CRSDATA!V104=\"\",\"\",CRSDATA!V104)","v":""},{"$f":"key_row(CRSDATA!W104,CRSDATA!X104,CRSDATA!AK104,CRSDATA!AJ104,CRSDATA!P104,CRSDATA!V104)","v":""},{"$f":"CRSDATA!P104","v":0},{"$f":"CRSDATA!J104","v":0},{"$f":"CRSDATA!I104","v":0},{"$f":"IF(LEFT(CRSDATA!N104,2)=\"A0\",\"A00\",IF(LEFT(CRSDATA!N104,3)=\"B02\",\"B02\",IF(LEFT(CRSDATA!N104,3)=\"B03\",\"B03\",IF(CRSDATA!N104=\"B04\",\"C01\",IF(CRSDATA!N104=\"H01\",\"H00\",IF(OR(CRSDATA!N104=\"H02\",CRSDATA!N104=\"H03\",CRSDATA!N104=\"H04\",CRSDATA!N104=\"H05\",CRSDATA!N104=\"H06\"),\"I01\",CRSDATA!N104))))))","v":0},{"$f":"CRSDATA!M104","v":0},{"$f":"IF(CRSDATA!L104=22,\"FA04\",\"\")","v":""},{"$f":"IF(CRSDATA!K104=8,\"FC02\",\"\")","v":""},{"$f":"IF(OR(O104=\"B02\",O104=\"E02\",O104=\"G01\",O104=\"H00\",O104=\"I01\"),2,IF(OR(O104=\"A00\",O104=\"E01\",O104=\"F01\",P104=510,P104=520),1,IF(VLOOKUP(F104,recipient_country!AB:AD,3,FALSE)=\"Part I unallocated by income\",\"\",1)))","v":{"$error":"#N/A"}},{"$f":"CRSDATA!AM104","v":0},{"$f":"CRSDATA!AN104","v":0},{"$f":"CRSDATA!AP104","v":0},{"$f":"CRSDATA!AR104","v":0},{"$f":"CRSDATA!BA104","v":0},null,"",{"$f":"IF(CRSDATA!M104=421,DATEDIF(CRSDATA!B104,CRSDATA!BH104,\"m\"),\"\")","v":""},{"$f":"CRSDATA!AZ104","v":0},{"$f":"CRSDATA!BB104","v":0},{"$f":"CRSDATA!L104","v":0}]
[{"$f":"CRSDATA!A105","v":0},{"$f":"CRSDATA!C105","v":0},{"$f":"CRSDATA!D105","v":0},{"$f":"CRSDATA!F105","v":0},{"$f":"CRSDATA!E105","v":0},{"$f":"IF(CRSDATA!H105=3000,998,CRSDATA!H105)","v":0},{"$f":"CRSDATA!O105","v":0},{"$f":"CRSDATA!U105","v":0},null,{"$f":"IF(CRSDATA!V105=\"\",\"\",CRSDATA!V105)","v":""},{"$f":"key_row(CRSDATA!W105,CRSDATA!X105,CRSDATA!AK105,CRSDATA!AJ105,CRSDATA!P105,CRSDATA!V105)","v":""},{"$f":"CRSDATA!P105","v":0},{"$f":"CRSDATA!J105","v":0},{"$f":"CRSDATA!I105","v":0},{"$f":"IF(LEFT(CRSDATA!N105,2)=\"A0\",\"A00\",IF(LEFT(CRSDATA!N105,3)=\"B02\",\"B02\",IF(LEFT(CRSDATA!N105,3)=\"B03\",\"B03\",IF(CRSDATA!N105=\"B04\",\"C01\",IF(CRSDATA!N105=\"H01\",\"H00\",IF(OR(CRSDATA!N105=\"H02\",CRSDATA!N105=\"H03\",CRSDATA!N105=\"H04\",CRSDATA!N105=\"H05\",CRSDATA!N105=\"H06\"),\"I01\",CRSDATA!N105))))))","v":0},{"$f":"CRSDATA!M105","v":0},{"$f":"IF(CRSDATA!L105=22,\"FA04\",\"\")","v":""},{"$f":"IF(CRSDATA!K105=8,\"FC02\",\"\")","v":""},{"$f":"IF(OR(O105=\"B02\",O105=\"E02\",O105=\"G01\",O105=\"H00\",O105=\"I01\"),2,IF(OR(O105=\"A00\",O105=\"E01\",O105=\"F01\",P105=510,P105=520),1,IF(VLOOKUP(F105,recipient_country!AB:AD,3,FALSE)=\"Part I unallocated by income\",\"\",1)))","v":{"$error":"#N/A"}},{"$f":"CRSDATA!AM105","v":0},{"$f":"CRSDATA!AN105","v":0},{"$f":"CRSDATA!AP105","v":0},{"$f":"CRSDATA!AR105","v":0},{"$f":"CRSDATA!BA105","v":0},null,"",{"$f":"IF(CRSDATA!M105=421,DATEDIF(CRSDATA!B105,CRSDATA!BH105,\"m\"),\"\")","v":""},{"$f":"CRSDATA!AZ105","v":0},{"$f":"CRSDATA!BB105","v":0},{"$f":"CRSDATA!L105","v":0}]
[{"$f":"CRSDATA!A106","v":0},{"$f":"CRSDATA!C106","v":0},{"$f":"CRSDATA!D106","v":0},{"$f":"CRSDATA!F106","v":0},{"$f":"CRSDATA!E106","v":0},{"$f":"IF(CRSDATA!H106=3000,998,CRSDATA!H106)","v":0},{"$f":"CRSDATA!O106","v":0},{"$f":"CRSDATA!U106","v":0},null,{"$f":"IF(CRSDATA!V106=\"\",\"\",CRSDATA!V106)","v":""},{"$f":"key_row(CRSDATA!W106,CRSDATA!X106,CRSDATA!AK106,CRSDATA!AJ106,CRSDATA!P106,CRSDATA!V106)","v":""},{"$f":"CRSDATA!P106","v":0},{"$f":"CRSDATA!J106","v":0},{"$f":"CRSDATA!I106","v":0},{"$f":"IF(LEFT(CRSDATA!N106,2)=\"A0\",\"A00\",IF(LEFT(CRSDATA!N106,3)=\"B02\",\"B02\",IF(LEFT(CRSDATA!N106,3)=\"B03\",\"B03\",IF(CRSDATA!N106=\"B04\",\"C01\",IF(CRSDATA!N106=\"H01\",\"H00\",IF(OR(CRSDATA!N106=\"H02\",CRSDATA!N106=\"H03\",CRSDATA!N106=\"H04\",CRSDATA!N106=\"H05\",CRSDATA!N106=\"H06\"),\"I01\",CRSDATA!N106))))))","v":0},{"$f":"CRSDATA!M106","v":0},{"$f":"IF(CRSDATA!L106=22,\"FA04\",\"\")","v":""},{"$f":"IF(CRSDATA!K106=8,\"FC02\",\"\")","v":""},{"$f":"IF(OR(O106=\"B02\",O106=\"E02\",O106=\"G01\",O106=\"H00\",O106=\"I01\"),2,IF(OR(O106=\"A00\",O106=\"E01\",O106=\"F01\",P106=510,P106=520),1,IF(VLOOKUP(F106,recipient_country!AB:AD,3,FALSE)=\"Part I unallocated by income\",\"\",1)))","v":{"$error":"#N/A"}},{"$f":"CRSDATA!AM106","v":0},{"$f":"CRSDATA!AN106","v":0},{"$f":"CRSDATA!AP106","v":0},{"$f":"CRSDATA!AR106","v":0},{"$f":"CRSDATA!BA106","v":0},null,"",{"$f":"IF(CRSDATA!M106=421,DATEDIF(CRSDATA!B106,CRSDATA!BH106,\"m\"),\"\")","v":""},{"$f":"CRSDATA!AZ106","v":0},{"$f":"CRSDATA!BB106","v":0},{"$f":"CRSDATA!L106","v":0}]
[{"$f":"CRSDATA!A107","v":0},{"$f":"CRSDATA!C107","v":0},{"$f":"CRSDATA!D107","v":0},{"$f":"CRSDATA!F107","v":0},{"$f":"CRSDATA!E107","v":0},{"$f":"IF(CRSDATA!H107=3000,998,CRSDATA!H107)","v":0},{"$f":"CRSDATA!O107","v":0},{"$f":"CRSDATA!U107","v":0},null,{"$f":"IF(CRSDATA!V107=\"\",\"\",CRSDATA!V107)","v":""},{"$f":"key_row(CRSDATA!W107,CRSDATA!X107,CRSDATA!AK107,CRSDATA!AJ107,CRSDATA!P107,CRSDATA!V107)","v":""},{"$f":"CRSDATA!P107","v":0},{"$f":"CRSDATA!J107","v":0},{"$f":"CRSDATA!I107","v":0},{"$f":"IF(LEFT(CRSDATA!N107,2)=\"A0\",\"A00\",IF(LEFT(CRSDATA!N107,3)=\"B02\",\"B02\",IF(LEFT(CRSDATA!N107,3)=\"B03\",\"B03\",IF(CRSDATA!N107=\"B04\",\"C01\",IF(CRSDATA!N107=\"H01\",\"H00\",IF(OR(CRSDATA!N107=\"H02\",CRSDATA!N107=\"H03\",CRSDATA!N107=\"H04\",CRSDATA!N107=\"H05\",CRSDATA!N107=\"H06\"),\"I01\",CRSDATA!N107))))))","v":0},{"$f":"CRSDATA!M107","v":0},{"$f":"IF(CRSDATA!L107=22,\"FA04\",\"\")","v":""},{"$f":"IF(CRSDATA!K107=8,\"FC02\",\"\")","v":""},{"$f":"IF(OR(O107=\"B02\",O107=\"E02\",O107=\"G01\",O107=\"H00\",O107=\"I01\"),2,IF(OR(O107=\"A00\",O107=\"E01\",O107=\"F01\",P107=510,P107=520),1,IF(VLOOKUP(F107,recipient_country!AB:AD,3,FALSE)=\"Part I unallocated by income\",\"\",1)))","v":{"$error":"#N/A"}},{"$f":"CRSDATA!AM107","v":0},{"$f":"CRSDATA!AN107","v":0},{"$f":"CRSDATA!AP107","v":0},{"$f":"CRSDATA!AR107","v":0},{"$f":"CRSDATA!BA107","v":0},null,"",{"$f":"IF(CRSDATA!M107=421,DATEDIF(CRSDATA!B107,CRSDATA!BH107,\"m\"),\"\")","v":""},{"$f":"CRSDATA!AZ107","v":0},{"$f":"CRSDATA!BB107","v":0},{"$f":"CRSDATA!L107","v":0}]
[{"$f":"CRSDATA!A108","v":0},{"$f":"CRSDATA!C108","v":0},{"$f":"CRSDATA!D108","v":0},{"$f":"CRSDATA!F108","v":0},{"$f":"CRSDATA!E108","v":0},{"$f":"IF(CRSDATA!H108=3000,998,CRSDATA!H108)","v":0},{"$f":"CRSDATA!O108","v":0},{"$f":"CRSDATA!U108","v":0},null,{"$f":"IF(CRSDATA!V108=\"\",\"\",CRSDATA!V108)","v":""},{"$f":"key_row(CRSDATA!W108,CRSDATA!X108,CRSDATA!AK108,CRSDATA!AJ108,CRSDATA!P108,CRSDATA!V108)","v":""},{"$f":"CRSDATA!P108","v":0},{"$f":"CRSDATA!J108","v":0},{"$f":"CRSDATA!I108","v":0},{"$f":"IF(LEFT(CRSDATA!N108,2)=\"A0\",\"A00\",IF(LEFT(CRSDATA!N108,3)=\"B02\",\"B02\",IF(LEFT(CRSDATA!N108,3)=\"B03\",\"B03\",IF(CRSDATA!N108=\"B04\",\"C01\",IF(CRSDATA!N108=\"H01\",\"H00\",IF(OR(CRSDATA!N108=\"H02\",CRSDATA!N108=\"H03\",CRSDATA!N108=\"H04\",CRSDATA!N108=\"H05\",CRSDATA!N108=\"H06\"),\"I01\",CRSDATA!N108))))))","v":0},{"$f":"CRSDATA!M108","v":0},{"$f":"IF(CRSDATA!L108=22,\"FA04\",\"\")","v":""},{"$f":"IF(CRSDATA!K108=8,\"FC02\",\"\")","v":""},{"$f":"IF(OR(O108=\"B02\",O108=\"E02\",O108=\"G01\",O108=\"H00\",O108=\"I01\"),2,IF(OR(O108=\"A00\",O108=\"E01\",O108=\"F01\",P108=510,P108=520),1,IF(VLOOKUP(F108,recipient_country!AB:AD,3,FALSE)=\"Part I unallocated by income\",\"\",1)))","v":{"$error":"#N/A"}},{"$f":"CRSDATA!AM108","v":0},{"$f":"CRSDATA!AN108","v":0},{"$f":"CRSDATA!AP108","v":0},{"$f":"CRSDATA!AR108","v":0},{"$f":"CRSDATA!BA108","v":0},null,"",{"$f":"IF(CRSDATA!M108=421,DATEDIF(CRSDATA!B108,CRSDATA!BH108,\"m\"),\"\")","v":""},{"$f":"CRSDATA!AZ108","v":0},{"$f":"CRSDATA!BB108","v":0},{"$f":"CRSDATA!L108","v":0}]
[{"$f":"CRSDATA!A109","v":0},{"$f":"CRSDATA!C109","v":0},{"$f":"CRSDATA!D109","v":0},{"$f":"CRSDATA!F109","v":0},{"$f":"CRSDATA!E109","v":0},{"$f":"IF(CRSDATA!H109=3000,998,CRSDATA!H109)","v":0},{"$f":"CRSDATA!O109","v":0},{"$f":"CRSDATA!U109","v":0},null,{"$f":"IF(CRSDATA!V109=\"\",\"\",CRSDATA!V109)","v":""},{"$f":"key_row(CRSDATA!W109,CRSDATA!X109,CRSDATA!AK109,CRSDATA!AJ109,CRSDATA!P109,CRSDATA!V109)","v":""},{"$f":"CRSDATA!P109","v":0},{"$f":"CRSDATA!J109","v":0},{"$f":"CRSDATA!I109","v":0},{"$f":"IF(LEFT(CRSDATA!N109,2)=\"A0\",\"A00\",IF(LEFT(CRSDATA!N109,3)=\"B02\",\"B02\",IF(LEFT(CRSDATA!N109,3)=\"B03\",\"B03\",IF(CRSDATA!N109=\"B04\",\"C01\",IF(CRSDATA!N109=\"H01\",\"H00\",IF(OR(CRSDATA!N109=\"H02\",CRSDATA!N109=\"H03\",CRSDATA!N109=\"H04\",CRSDATA!N109=\"H05\",CRSDATA!N109=\"H06\"),\"I01\",CRSDATA!N109))))))","v":0},{"$f":"CRSDATA!M109","v":0},{"$f":"IF(CRSDATA!L109=22,\"FA04\",\"\")","v":""},{"$f":"IF(CRSDATA!K109=8,\"FC02\",\"\")","v":""},{"$f":"IF(OR(O109=\"B02\",O109=\"E02\",O109=\"G01\",O109=\"H00\",O109=\"I01\"),2,IF(OR(O109=\"A00\",O109=\"E01\",O109=\"F01\",P109=510,P109=520),1,IF(VLOOKUP(F109,recipient_country!AB:AD,3,FALSE)=\"Part I unallocated by income\",\"\",1)))","v":{"$error":"#N/A"}},{"$f":"CRSDATA!AM109","v":0},{"$f":"CRSDATA!AN109","v":0},{"$f":"CRSDATA!AP109","v":0},{"$f":"CRSDATA!AR109","v":0},{"$f":"CRSDATA!BA109","v":0},null,"",{"$f":"IF(CRSDATA!M109=421,DATEDIF(CRSDATA!B109,CRSDATA!BH109,\"m\"),\"\")","v":""},{"$f":"CRSDATA!AZ109","v":0},{"$f":"CRSDATA!BB109","v":0},{"$f":"CRSDATA!L109","v":0}]
[{"$f":"CRSDATA!A110","v":0},{"$f":"CRSDATA!C110","v":0},{"$f":"CRSDATA!D110","v":0},{"$f":"CRSDATA!F110","v":0},{"$f":"CRSDATA!E110","v":0},{"$f":"IF(CRSDATA!H110=3000,998,CRSDATA!H110)","v":0},{"$f":"CRSDATA!O110","v":0},{"$f":"CRSDATA!U110","v":0},null,{"$f":"IF(CRSDATA!V110=\"\",\"\",CRSDATA!V110)","v":""},{"$f":"key_row(CRSDATA!W110,CRSDATA!X110,CRSDATA!AK110,CRSDATA!AJ110,CRSDATA!P110,CRSDATA!V110)","v":""},{"$f":"CRSDATA!P110","v":0},{"$f":"CRSDATA!J110","v":0},{"$f":"CRSDATA!I110","v":0},{"$f":"IF(LEFT(CRSDATA!N110,2)=\"A0\",\"A00\",IF(LEFT(CRSDATA!N110,3)=\"B02\",\"B02\",IF(LEFT(CRSDATA!N110,3)=\"B03\",\"B03\",IF(CRSDATA!N110=\"B04\",\"C01\",IF(CRSDATA!N110=\"H01\",\"H00\",IF(OR(CRSDATA!N110=\"H02\",CRSDATA!N110=\"H03\",CRSDATA!N110=\"H04\",CRSDATA!N110=\"H05\",CRSDATA!N110=\"H06\"),\"I01\",CRSDATA!N110))))))","v":0},{"$f":"CRSDATA!M110","v":0},{"$f":"IF(CRSDATA!L110=22,\"FA04\",\"\")","v":""},{"$f":"IF(CRSDATA!K110=8,\"FC02\",\"\")","v":""},{"$f":"IF(OR(O110=\"B02\",O110=\"E02\",O110=\"G01\",O110=\"H00\",O110=\"I01\"),2,IF(OR(O110=\"A00\",O110=\"E01\",O110=\"F01\",P110=510,P110=520),1,IF(VLOOKUP(F110,recipient_country!AB:AD,3,FALSE)=\"Part I unallocated by income\",\"\",1)))","v":{"$error":"#N/A"}},{"$f":"CRSDATA!AM110","v":0},{"$f":"CRSDATA!AN110","v":0},{"$f":"CRSDATA!AP110","v":0},{"$f":"CRSDATA!AR110","v":0},{"$f":"CRSDATA!BA110","v":0},null,"",{"$f":"IF(CRSDATA!M110=421,DATEDIF(CRSDATA!B110,CRSDATA!BH110,\"m\"),\"\")","v":""},{"$f":"CRSDATA!AZ110","v":0},{"$f":"CRSDATA!BB110","v":0},{"$f":"CRSDATA!L110","v":0}]
[{"$f":"CRSDATA!A111","v":0},{"$f":"CRSDATA!C111","v":0},{"$f":"CRSDATA!D111","v":0},{"$f":"CRSDATA!F111","v":0},{"$f":"CRSDATA!E111","v":0},{"$f":"IF(CRSDATA!H111=3000,998,CRSDATA!H111)","v":0},{"$f":"CRSDATA!O111","v":0},{"$f":"CRSDATA!U111","v":0},null,{"$f":"IF(CRSDATA!V111=\"\",\"\",CRSDATA!V111)","v":""},{"$f":"key_row(CRSDATA!W111,CRSDATA!X111,CRSDATA!AK111,CRSDATA!AJ111,CRSDATA!P111,CRSDATA!V111)","v":""},{"$f":"CRSDATA!P111","v":0},{"$f":"CRSDATA!J111","v":0},{"$f":"CRSDATA!I111","v":0},{"$f":"IF(LEFT(CRSDATA!N111,2)=\"A0\",\"A00\",IF(LEFT(CRSDATA!N111,3)=\"B02\",\"B02\",IF(LEFT(CRSDATA!N111,3)=\"B03\",\"B03\",IF(CRSDATA!N111=\"B04\",\"C01\",IF(CRSDATA!N111=\"H01\",\"H00\",IF(OR(CRSDATA!N111=\"H02\",CRSDATA!N111=\"H03\",CRSDATA!N111=\"H04\",CRSDATA!N111=\"H05\",CRSDATA!N111=\"H06\"),\"I01\",CRSDATA!N111))))))","v":0},{"$f":"CRSDATA!M111","v":0},{"$f":"IF(CRSDATA!L111=22,\"FA04\",\"\")","v":""},{"$f":"IF(CRSDATA!K111=8,\"FC02\",\"\")","v":""},{"$f":"IF(OR(O111=\"B02\",O111=\"E02\",O111=\"G01\",O111=\"H00\",O111=\"I01\"),2,IF(OR(O111=\"A00\",O111=\"E01\",O111=\"F01\",P111=510,P111=520),1,IF(VLOOKUP(F111,recipient_country!AB:AD,3,FALSE)=\"Part I unallocated by income\",\"\",1)))","v":{"$error":"#N/A"}},{"$f":"CRSDATA!AM111","v":0},{"$f":"CRSDATA!AN111","v":0},{"$f":"CRSDATA!AP111","v":0},{"$f":"CRSDATA!AR111","v":0},{"$f":"CRSDATA!BA111","v":0},null,"",{"$f":"IF(CRSDATA!M111=421,DATEDIF(CRSDATA!B111,CRSDATA!BH111,\"m\"),\"\")","v":""},{"$f":"CRSDATA!AZ111","v":0},{"$f":"CRSDATA!BB111","v":0},{"$f":"CRSDATA!L111","v":0}]
[{"$f":"CRSDATA!A112","v":0},{"$f":"CRSDATA!C112","v":0},{"$f":"CRSDATA!D112","v":0},{"$f":"CRSDATA!F112","v":0},{"$f":"CRSDATA!E112","v":0},{"$f":"IF(CRSDATA!H112=3000,998,CRSDATA!H112)","v":0},{"$f":"CRSDATA!O112","v":0},{"$f":"CRSDATA!U112","v":0},null,{"$f":"IF(CRSDATA!V112=\"\",\"\",CRSDATA!V112)","v":""},{"$f":"key_row(CRSDATA!W112,CRSDATA!X112,CRSDATA!AK112,CRSDATA!AJ112,CRSDATA!P112,CRSDATA!V112)","v":""},{"$f":"CRSDATA!P112","v":0},{"$f":"CRSDATA!J112","v":0},{"$f":"CRSDATA!I112","v":0},{"$f":"IF(LEFT(CRSDATA!N112,2)=\"A0\",\"A00\",IF(LEFT(CRSDATA!N112,3)=\"B02\",\"B02\",IF(LEFT(CRSDATA!N112,3)=\"B03\",\"B03\",IF(CRSDATA!N112=\"B04\",\"C01\",IF(CRSDATA!N112=\"H01\",\"H00\",IF(OR(CRSDATA!N112=\"H02\",CRSDATA!N112=\"H03\",CRSDATA!N112=\"H04\",CRSDATA!N112=\"H05\",CRSDATA!N112=\"H06\"),\"I01\",CRSDATA!N112))))))","v":0},{"$f":"CRSDATA!M112","v":0},{"$f":"IF(CRSDATA!L112=22,\"FA04\",\"\")","v":""},{"$f":"IF(CRSDATA!K112=8,\"FC02\",\"\")","v":""},{"$f":"IF(OR(O112=\"B02\",O112=\"E02\",O112=\"G01\",O112=\"H00\",O112=\"I01\"),2,IF(OR(O112=\"A00\",O112=\"E01\",O112=\"F01\",P112=510,P112=520),1,IF(VLOOKUP(F112,recipient_country!AB:AD,3,FALSE)=\"Part I unallocated by income\",\"\",1)))","v":{"$error":"#N/A"}},{"$f":"CRSDATA!AM112","v":0},{"$f":"CRSDATA!AN112","v":0},{"$f":"CRSDATA!AP112","v":0},{"$f":"CRSDATA!AR112","v":0},{"$f":"CRSDATA!BA112","v":0},null,"",{"$f":"IF(CRSDATA!M112=421,DATEDIF(CRSDATA!B112,CRSDATA!BH112,\"m\"),\"\")","v":""},{"$f":"CRSDATA!AZ112","v":0},{"$f":"CRSDATA!BB112","v":0},{"$f":"CRSDATA!L112","v":0}]
[{"$f":"CRSDATA!A113","v":0},{"$f":"CRSDATA!C113","v":0},{"$f":"CRSDATA!D113","v":0},{"$f":"CRSDATA!F113","v":0},{"$f":"CRSDATA!E113","v":0},{"$f":"IF(CRSDATA!H113=3000,998,CRSDATA!H113)","v":0},{"$f":"CRSDATA!O113","v":0},{"$f":"CRSDATA!U113","v":0},null,{"$f":"IF(CRSDATA!V113=\"\",\"\",CRSDATA!V113)","v":""},{"$f":"key_row(CRSDATA!W113,CRSDATA!X113,CRSDATA!AK113,CRSDATA!AJ113,CRSDATA!P113,CRSDATA!V113)","v":""},{"$f":"CRSDATA!P113","v":0},{"$f":"CRSDATA!J113","v":0},{"$f":"CRSDATA!I113","v":0},{"$f":"IF(LEFT(CRSDATA!N113,2)=\"A0\",\"A00\",IF(LEFT(CRSDATA!N113,3)=\"B02\",\"B02\",IF(LEFT(CRSDATA!N113,3)=\"B03\",\"B03\",IF(CRSDATA!N113=\"B04\",\"C01\",IF(CRSDATA!N113=\"H01\",\"H00\",IF(OR(CRSDATA!N113=\"H02\",CRSDATA!N113=\"H03\",CRSDATA!N113=\"H04\",CRSDATA!N113=\"H05\",CRSDATA!N113=\"H06\"),\"I01\",CRSDATA!N113))))))","v":0},{"$f":"CRSDATA!M113","v":0},{"$f":"IF(CRSDATA!L113=22,\"FA04\",\"\")","v":""},{"$f":"IF(CRSDATA!K113=8,\"FC02\",\"\")","v":""},{"$f":"IF(OR(O113=\"B02\",O113=\"E02\",O113=\"G01\",O113=\"H00\",O113=\"I01\"),2,IF(OR(O113=\"A00\",O113=\"E01\",O113=\"F01\",P113=510,P113=520),1,IF(VLOOKUP(F113,recipient_country!AB:AD,3,FALSE)=\"Part I unallocated by income\",\"\",1)))","v":{"$error":"#N/A"}},{"$f":"CRSDATA!AM113","v":0},{"$f":"CRSDATA!AN113","v":0},{"$f":"CRSDATA!AP113","v":0},{"$f":"CRSDATA!AR113","v":0},{"$f":"CRSDATA!BA113","v":0},null,"",{"$f":"IF(CRSDATA!M113=421,DATEDIF(CRSDATA!B113,CRSDATA!BH113,\"m\"),\"\")","v":""},{"$f":"CRSDATA!AZ113","v":0},{"$f":"CRSDATA!BB113","v":0},{"$f":"CRSDATA!L113","v":0}]
[{"$f":"CRSDATA!A114","v":0},{"$f":"CRSDATA!C114","v":0},{"$f":"CRSDATA!D114","v":0},{"$f":"CRSDATA!F114","v":0},{"$f":"CRSDATA!E114","v":0},{"$f":"IF(CRSDATA!H114=3000,998,CRSDATA!H114)","v":0},{"$f":"CRSDATA!O114","v":0},{"$f":"CRSDATA!U114","v":0},null,{"$f":"IF(CRSDATA!V114=\"\",\"\",CRSDATA!V114)","v":""},{"$f":"key_row(CRSDATA!W114,CRSDATA!X114,CRSDATA!AK114,CRSDATA!AJ114,CRSDATA!P114,CRSDATA!V114)","v":""},{"$f":"CRSDATA!P114","v":0},{"$f":"CRSDATA!J114","v":0},{"$f":"CRSDATA!I114","v":0},{"$f":"IF(LEFT(CRSDATA!N114,2)=\"A0\",\"A00\",IF(LEFT(CRSDATA!N114,3)=\"B02\",\"B02\",IF(LEFT(CRSDATA!N114,3)=\"B03\",\"B03\",IF(CRSDATA!N114=\"B04\",\"C01\",IF(CRSDATA!N114=\"H01\",\"H00\",IF(OR(CRSDATA!N114=\"H02\",CRSDATA!N114=\"H03\",CRSDATA!N114=\"H04\",CRSDATA!N114=\"H05\",CRSDATA!N114=\"H06\"),\"I01\",CRSDATA!N114))))))","v":0},{"$f":"CRSDATA!M114","v":0},{"$f":"IF(CRSDATA!L114=22,\"FA04\",\"\")","v":""},{"$f":"IF(CRSDATA!K114=8,\"FC02\",\"\")","v":""},{"$f":"IF(OR(O114=\"B02\",O114=\"E02\",O114=\"G01\",O114=\"H00\",O114=\"I01\"),2,IF(OR(O114=\"A00\",O114=\"E01\",O114=\"F01\",P114=510,P114=520),1,IF(VLOOKUP(F114,recipient_country!AB:AD,3,FALSE)=\"Part I unallocated by income\",\"\",1)))","v":{"$error":"#N/A"}},{"$f":"CRSDATA!AM114","v":0},{"$f":"CRSDATA!AN114","v":0},{"$f":"CRSDATA!AP114","v":0},{"$f":"CRSDATA!AR114","v":0},{"$f":"CRSDATA!BA114","v":0},null,"",{"$f":"IF(CRSDATA!M114=421,DATEDIF(CRSDATA!B114,CRSDATA!BH114,\"m\"),\"\")","v":""},{"$f":"CRSDATA!AZ114","v":0},{"$f":"CRSDATA!BB114","v":0},{"$f":"CRSDATA!L114","v":0}]
[{"$f":"CRSDATA!A115","v":0},{"$f":"CRSDATA!C115","v":0},{"$f":"CRSDATA!D115","v":0},{"$f":"CRSDATA!F115","v":0},{"$f":"CRSDATA!E115","v":0},{"$f":"IF(CRSDATA!H115=3000,998,CRSDATA!H115)","v":0},{"$f":"CRSDATA!O115","v":0},{"$f":"CRSDATA!U115","v":0},null,{"$f":"IF(CRSDATA!V115=\"\",\"\",CRSDATA!V115)","v":""},{"$f":"key_row(CRSDATA!W115,CRSDATA!X115,CRSDATA!AK115,CRSDATA!AJ115,CRSDATA!P115,CRSDATA!V115)","v":""},{"$f":"CRSDATA!P115","v":0},{"$f":"CRSDATA!J115","v":0},{"$f":"CRSDATA!I115","v":0},{"$f":"IF(LEFT(CRSDATA!N115,2)=\"A0\",\"A00\",IF(LEFT(CRSDATA!N115,3)=\"B02\",\"B02\",IF(LEFT(CRSDATA!N115,3)=\"B03\",\"B03\",IF(CRSDATA!N115=\"B04\",\"C01\",IF(CRSDATA!N115=\"H01\",\"H00\",IF(OR(CRSDATA!N115=\"H02\",CRSDATA!N115=\"H03\",CRSDATA!N115=\"H04\",CRSDATA!N115=\"H05\",CRSDATA!N115=\"H06\"),\"I01\",CRSDATA!N115))))))","v":0},{"$f":"CRSDATA!M115","v":0},{"$f":"IF(CRSDATA!L115=22,\"FA04\",\"\")","v":""},{"$f":"IF(CRSDATA!K115=8,\"FC02\",\"\")","v":""},{"$f":"IF(OR(O115=\"B02\",O115=\"E02\",O115=\"G01\",O115=\"H00\",O115=\"I01\"),2,IF(OR(O115=\"A00\",O115=\"E01\",O115=\"F01\",P115=510,P115=520),1,IF(VLOOKUP(F115,recipient_country!AB:AD,3,FALSE)=\"Part I unallocated by income\",\"\",1)))","v":{"$error":"#N/A"}},{"$f":"CRSDATA!AM115","v":0},{"$f":"CRSDATA!AN115","v":0},{"$f":"CRSDATA!AP115","v":0},{"$f":"CRSDATA!AR115","v":0},{"$f":"CRSDATA!BA115","v":0},null,"",{"$f":"IF(CRSDATA!M115=421,DATEDIF(CRSDATA!B115,CRSDATA!BH115,\"m\"),\"\")","v":""},{"$f":"CRSDATA!AZ115","v":0},{"$f":"CRSDATA!BB115","v":0},{"$f":"CRSDATA!L115","v":0}]
[{"$f":"CRSDATA!A116","v":0},{"$f":"CRSDATA!C116","v":0},{"$f":"CRSDATA!D116","v":0},{"$f":"CRSDATA!F116","v":0},{"$f":"CRSDATA!E116","v":0},{"$f":"IF(CRSDATA!H116=3000,998,CRSDATA!H116)","v":0},{"$f":"CRSDATA!O116","v":0},{"$f":"CRSDATA!U116","v":0},null,{"$f":"IF(CRSDATA!V116=\"\",\"\",CRSDATA!V116)","v":""},{"$f":"key_row(CRSDATA!W116,CRSDATA!X116,CRSDATA!AK116,CRSDATA!AJ116,CRSDATA!P116,CRSDATA!V116)","v":""},{"$f":"CRSDATA!P116","v":0},{"$f":"CRSDATA!J116","v":0},{"$f":"CRSDATA!I116","v":0},{"$f":"IF(LEFT(CRSDATA!N116,2)=\"A0\",\"A00\",IF(LEFT(CRSDATA!N116,3)=\"B02\",\"B02\",IF(LEFT(CRSDATA!N116,3)=\"B03\",\"B03\",IF(CRSDATA!N116=\"B04\",\"C01\",IF(CRSDATA!N116=\"H01\",\"H00\",IF(OR(CRSDATA!N116=\"H02\",CRSDATA!N116=\"H03\",CRSDATA!N116=\"H04\",CRSDATA!N116=\"H05\",CRSDATA!N116=\"H06\"),\"I01\",CRSDATA!N116))))))","v":0},{"$f":"CRSDATA!M116","v":0},{"$f":"IF(CRSDATA!L116=22,\"FA04\",\"\")","v":""},{"$f":"IF(CRSDATA!K116=8,\"FC02\",\"\")","v":""},{"$f":"IF(OR(O116=\"B02\",O116=\"E02\",O116=\"G01\",O116=\"H00\",O116=\"I01\"),2,IF(OR(O116=\"A00\",O116=\"E01\",O116=\"F01\",P116=510,P116=520),1,IF(VLOOKUP(F116,recipient_country!AB:AD,3,FALSE)=\"Part I unallocated by income\",\"\",1)))","v":{"$error":"#N/A"}},{"$f":"CRSDATA!AM116","v":0},{"$f":"CRSDATA!AN116","v":0},{"$f":"CRSDATA!AP116","v":0},{"$f":"CRSDATA!AR116","v":0},{"$f":"CRSDATA!BA116","v":0},null,"",{"$f":"IF(CRSDATA!M116=421,DATEDIF(CRSDATA!B116,CRSDATA!BH116,\"m\"),\"\")","v":""},{"$f":"CRSDATA!AZ116","v":0},{"$f":"CRSDATA!BB116","v":0},{"$f":"CRSDATA!L116","v":0}]
[{"$f":"CRSDATA!A117","v":0},{"$f":"CRSDATA!C117","v":0},{"$f":"CRSDATA!D117","v":0},{"$f":"CRSDATA!F117","v":0},{"$f":"CRSDATA!E117","v":0},{"$f":"IF(CRSDATA!H117=3000,998,CRSDATA!H117)","v":0},{"$f":"CRSDATA!O117","v":0},{"$f":"CRSDATA!U117","v":0},null,{"$f":"IF(CRSDATA!V117=\"\",\"\",CRSDATA!V117)","v":""},{"$f":"key_row(CRSDATA!W117,CRSDATA!X117,CRSDATA!AK117,CRSDATA!AJ117,CRSDATA!P117,CRSDATA!V117)","v":""},{"$f":"CRSDATA!P117","v":0},{"$f":"CRSDATA!J117","v":0},{"$f":"CRSDATA!I117","v":0},{"$f":"IF(LEFT(CRSDATA!N117,2)=\"A0\",\"A00\",IF(LEFT(CRSDATA!N117,3)=\"B02\",\"B02\",IF(LEFT(CRSDATA!N117,3)=\"B03\",\"B03\",IF(CRSDATA!N117=\"B04\",\"C01\",IF(CRSDATA!N117=\"H01\",\"H00\",IF(OR(CRSDATA!N117=\"H02\",CRSDATA!N117=\"H03\",CRSDATA!N117=\"H04\",CRSDATA!N117=\"H05\",CRSDATA!N117=\"H06\"),\"I01\",CRSDATA!N117))))))","v":0},{"$f":"CRSDATA!M117","v":0},{"$f":"IF(CRSDATA!L117=22,\"FA04\",\"\")","v":""},{"$f":"IF(CRSDATA!K117=8,\"FC02\",\"\")","v":""},{"$f":"IF(OR(O117=\"B02\",O117=\"E02\",O117=\"G01\",O117=\"H00\",O117=\"I01\"),2,IF(OR(O117=\"A00\",O117=\"E01\",O117=\"F01\",P117=510,P117=520),1,IF(VLOOKUP(F117,recipient_country!AB:AD,3,FALSE)=\"Part I unallocated by income\",\"\",1)))","v":{"$error":"#N/A"}},{"$f":"CRSDATA!AM117","v":0},{"$f":"CRSDATA!AN117","v":0},{"$f":"CRSDATA!AP117","v":0},{"$f":"CRSDATA!AR117","v":0},{"$f":"CRSDATA!BA117","v":0},null,"",{"$f":"IF(CRSDATA!M117=421,DATEDIF(CRSDATA!B117,CRSDATA!BH117,\"m\"),\"\")","v":""},{"$f":"CRSDATA!AZ117","v":0},{"$f":"CRSDATA!BB117","v":0},{"$f":"CRSDATA!L117","v":0}]
[{"$f":"CRSDATA!A118","v":0},{"$f":"CRSDATA!C118","v":0},{"$f":"CRSDATA!D118","v":0},{"$f":"CRSDATA!F118","v":0},{"$f":"CRSDATA!E118","v":0},{"$f":"IF(CRSDATA!H118=3000,998,CRSDATA!H118)","v":0},{"$f":"CRSDATA!O118","v":0},{"$f":"CRSDATA!U118","v":0},null,{"$f":"IF(CRSDATA!V118=\"\",\"\",CRSDATA!V118)","v":""},{"$f":"key_row(CRSDATA!W118,CRSDATA!X118,CRSDATA!AK118,CRSDATA!AJ118,CRSDATA!P118,CRSDATA!V118)","v":""},{"$f":"CRSDATA!P118","v":0},{"$f":"CRSDATA!J118","v":0},{"$f":"CRSDATA!I118","v":0},{"$f":"IF(LEFT(CRSDATA!N118,2)=\"A0\",\"A00\",IF(LEFT(CRSDATA!N118,3)=\"B02\",\"B02\",IF(LEFT(CRSDATA!N118,3)=\"B03\",\"B03\",IF(CRSDATA!N118=\"B04\",\"C01\",IF(CRSDATA!N118=\"H01\",\"H00\",IF(OR(CRSDATA!N118=\"H02\",CRSDATA!N118=\"H03\",CRSDATA!N118=\"H04\",CRSDATA!N118=\"H05\",CRSDATA!N118=\"H06\"),\"I01\",CRSDATA!N118))))))","v":0},{"$f":"CRSDATA!M118","v":0},{"$f":"IF(CRSDATA!L118=22,\"FA04\",\"\")","v":""},{"$f":"IF(CRSDATA!K118=8,\"FC02\",\"\")","v":""},{"$f":"IF(OR(O118=\"B02\",O118=\"E02\",O118=\"G01\",O118=\"H00\",O118=\"I01\"),2,IF(OR(O118=\"A00\",O118=\"E01\",O118=\"F01\",P118=510,P118=520),1,IF(VLOOKUP(F118,recipient_country!AB:AD,3,FALSE)=\"Part I unallocated by income\",\"\",1)))","v":{"$error":"#N/A"}},{"$f":"CRSDATA!AM118","v":0},{"$f":"CRSDATA!AN118","v":0},{"$f":"CRSDATA!AP118","v":0},{"$f":"CRSDATA!AR118","v":0},{"$f":"CRSDATA!BA118","v":0},null,"",{"$f":"IF(CRSDATA!M118=421,DATEDIF(CRSDATA!B118,CRSDATA!BH118,\"m\"),\"\")","v":""},{"$f":"CRSDATA!AZ118","v":0},{"$f":"CRSDATA!BB118","v":0},{"$f":"CRSDATA!L118","v":0}]
[{"$f":"CRSDATA!A119","v":0},{"$f":"CRSDATA!C119","v":0},{"$f":"CRSDATA!D119","v":0},{"$f":"CRSDATA!F119","v":0},{"$f":"CRSDATA!E119","v":0},{"$f":"IF(CRSDATA!H119=3000,998,CRSDATA!H119)","v":0},{"$f":"CRSDATA!O119","v":0},{"$f":"CRSDATA!U119","v":0},null,{"$f":"IF(CRSDATA!V119=\"\",\"\",CRSDATA!V119)","v":""},{"$f":"key_row(CRSDATA!W119,CRSDATA!X119,CRSDATA!AK119,CRSDATA!AJ119,CRSDATA!P119,CRSDATA!V119)","v":""},{"$f":"CRSDATA!P119","v":0},{"$f":"CRSDATA!J119","v":0},{"$f":"CRSDATA!I119","v":0},{"$f":"IF(LEFT(CRSDATA!N119,2)=\"A0\",\"A00\",IF(LEFT(CRSDATA!N119,3)=\"B02\",\"B02\",IF(LEFT(CRSDATA!N119,3)=\"B03\",\"B03\",IF(CRSDATA!N119=\"B04\",\"C01\",IF(CRSDATA!N119=\"H01\",\"H00\",IF(OR(CRSDATA!N119=\"H02\",CRSDATA!N119=\"H03\",CRSDATA!N119=\"H04\",CRSDATA!N119=\"H05\",CRSDATA!N119=\"H06\"),\"I01\",CRSDATA!N119))))))","v":0},{"$f":"CRSDATA!M119","v":0},{"$f":"IF(CRSDATA!L119=22,\"FA04\",\"\")","v":""},{"$f":"IF(CRSDATA!K119=8,\"FC02\",\"\")","v":""},{"$f":"IF(OR(O119=\"B02\",O119=\"E02\",O119=\"G01\",O119=\"H00\",O119=\"I01\"),2,IF(OR(O119=\"A00\",O119=\"E01\",O119=\"F01\",P119=510,P119=520),1,IF(VLOOKUP(F119,recipient_country!AB:AD,3,FALSE)=\"Part I unallocated by income\",\"\",1)))","v":{"$error":"#N/A"}},{"$f":"CRSDATA!AM119","v":0},{"$f":"CRSDATA!AN119","v":0},{"$f":"CRSDATA!AP119","v":0},{"$f":"CRSDATA!AR119","v":0},{"$f":"CRSDATA!BA119","v":0},null,"",{"$f":"IF(CRSDATA!M119=421,DATEDIF(CRSDATA!B119,CRSDATA!BH119,\"m\"),\"\")","v":""},{"$f":"CRSDATA!AZ119","v":0},{"$f":"CRSDATA!BB119","v":0},{"$f":"CRSDATA!L119","v":0}]
[{"$f":"CRSDATA!A120","v":0},{"$f":"CRSDATA!C120","v":0},{"$f":"CRSDATA!D120","v":0},{"$f":"CRSDATA!F120","v":0},{"$f":"CRSDATA!E120","v":0},{"$f":"IF(CRSDATA!H120=3000,998,CRSDATA!H120)","v":0},{"$f":"CRSDATA!O120","v":0},{"$f":"CRSDATA!U120","v":0},null,{"$f":"IF(CRSDATA!V120=\"\",\"\",CRSDATA!V120)","v":""},{"$f":"key_row(CRSDATA!W120,CRSDATA!X120,CRSDATA!AK120,CRSDATA!AJ120,CRSDATA!P120,CRSDATA!V120)","v":""},{"$f":"CRSDATA!P120","v":0},{"$f":"CRSDATA!J120","v":0},{"$f":"CRSDATA!I120","v":0},{"$f":"IF(LEFT(CRSDATA!N120,2)=\"A0\",\"A00\",IF(LEFT(CRSDATA!N120,3)=\"B02\",\"B02\",IF(LEFT(CRSDATA!N120,3)=\"B03\",\"B03\",IF(CRSDATA!N120=\"B04\",\"C01\",IF(CRSDATA!N120=\"H01\",\"H00\",IF(OR(CRSDATA!N120=\"H02\",CRSDATA!N120=\"H03\",CRSDATA!N120=\"H04\",CRSDATA!N120=\"H05\",CRSDATA!N120=\"H06\"),\"I01\",CRSDATA!N120))))))","v":0},{"$f":"CRSDATA!M120","v":0},{"$f":"IF(CRSDATA!L120=22,\"FA04\",\"\")","v":""},{"$f":"IF(CRSDATA!K120=8,\"FC02\",\"\")","v":""},{"$f":"IF(OR(O120=\"B02\",O120=\"E02\",O120=\"G01\",O120=\"H00\",O120=\"I01\"),2,IF(OR(O120=\"A00\",O120=\"E01\",O120=\"F01\",P120=510,P120=520),1,IF(VLOOKUP(F120,recipient_country!AB:AD,3,FALSE)=\"Part I unallocated by income\",\"\",1)))","v":{"$error":"#N/A"}},{"$f":"CRSDATA!AM120","v":0},{"$f":"CRSDATA!AN120","v":0},{"$f":"CRSDATA!AP120","v":0},{"$f":"CRSDATA!AR120","v":0},{"$f":"CRSDATA!BA120","v":0},null,"",{"$f":"IF(CRSDATA!M120=421,DATEDIF(CRSDATA!B120,CRSDATA!BH120,\"m\"),\"\")","v":""},{"$f":"CRSDATA!AZ120","v":0},{"$f":"CRSDATA!BB120","v":0},{"$f":"CRSDATA!L120","v":0}]
[{"$f":"CRSDATA!A121","v":0},{"$f":"CRSDATA!C121","v":0},{"$f":"CRSDATA!D121","v":0},{"$f":"CRSDATA!F121","v":0},{"$f":"CRSDATA!E121","v":0},{"$f":"IF(CRSDATA!H121=3000,998,CRSDATA!H121)","v":0},{"$f":"CRSDATA!O121","v":0},{"$f":"CRSDATA!U121","v":0},null,{"$f":"IF(CRSDATA!V121=\"\",\"\",CRSDATA!V121)","v":""},{"$f":"key_row(CRSDATA!W121,CRSDATA!X121,CRSDATA!AK121,CRSDATA!AJ121,CRSDATA!P121,CRSDATA!V121)","v":""},{"$f":"CRSDATA!P121","v":0},{"$f":"CRSDATA!J121","v":0},{"$f":"CRSDATA!I121","v":0},{"$f":"IF(LEFT(CRSDATA!N121,2)=\"A0\",\"A00\",IF(LEFT(CRSDATA!N121,3)=\"B02\",\"B02\",IF(LEFT(CRSDATA!N121,3)=\"B03\",\"B03\",IF(CRSDATA!N121=\"B04\",\"C01\",IF(CRSDATA!N121=\"H01\",\"H00\",IF(OR(CRSDATA!N121=\"H02\",CRSDATA!N121=\"H03\",CRSDATA!N121=\"H04\",CRSDATA!N121=\"H05\",CRSDATA!N121=\"H06\"),\"I01\",CRSDATA!N121))))))","v":0},{"$f":"CRSDATA!M121","v":0},{"$f":"IF(CRSDATA!L121=22,\"FA04\",\"\")","v":""},{"$f":"IF(CRSDATA!K121=8,\"FC02\",\"\")","v":""},{"$f":"IF(OR(O121=\"B02\",O121=\"E02\",O121=\"G01\",O121=\"H00\",O121=\"I01\"),2,IF(OR(O121=\"A00\",O121=\"E01\",O121=\"F01\",P121=510,P121=520),1,IF(VLOOKUP(F121,recipient_country!AB:AD,3,FALSE)=\"Part I unallocated by income\",\"\",1)))","v":{"$error":"#N/A"}},{"$f":"CRSDATA!AM121","v":0},{"$f":"CRSDATA!AN121","v":0},{"$f":"CRSDATA!AP121","v":0},{"$f":"CRSDATA!AR121","v":0},{"$f":"CRSDATA!BA121","v":0},null,"",{"$f":"IF(CRSDATA!M121=421,DATEDIF(CRSDATA!B121,CRSDATA!BH121,\"m\"),\"\")","v":""},{"$f":"CRSDATA!AZ121","v":0},{"$f":"CRSDATA!BB121","v":0},{"$f":"CRSDATA!L121","v":0}]
[{"$f":"CRSDATA!A122","v":0},{"$f":"CRSDATA!C122","v":0},{"$f":"CRSDATA!D122","v":0},{"$f":"CRSDATA!F122","v":0},{"$f":"CRSDATA!E122","v":0},{"$f":"IF(CRSDATA!H122=3000,998,CRSDATA!H122)","v":0},{"$f":"CRSDATA!O122","v":0},{"$f":"CRSDATA!U122","v":0},null,{"$f":"IF(CRSDATA!V122=\"\",\"\",CRSDATA!V122)","v":""},{"$f":"key_row(CRSDATA!W122,CRSDATA!X122,CRSDATA!AK122,CRSDATA!AJ122,CRSDATA!P122,CRSDATA!V122)","v":""},{"$f":"CRSDATA!P122","v":0},{"$f":"CRSDATA!J122","v":0},{"$f":"CRSDATA!I122","v":0},{"$f":"IF(LEFT(CRSDATA!N122,2)=\"A0\",\"A00\",IF(LEFT(CRSDATA!N122,3)=\"B02\",\"B02\",IF(LEFT(CRSDATA!N122,3)=\"B03\",\"B03\",IF(CRSDATA!N122=\"B04\",\"C01\",IF(CRSDATA!N122=\"H01\",\"H00\",IF(OR(CRSDATA!N122=\"H02\",CRSDATA!N122=\"H03\",CRSDATA!N122=\"H04\",CRSDATA!N122=\"H05\",CRSDATA!N122=\"H06\"),\"I01\",CRSDATA!N122))))))","v":0},{"$f":"CRSDATA!M122","v":0},{"$f":"IF(CRSDATA!L122=22,\"FA04\",\"\")","v":""},{"$f":"IF(CRSDATA!K122=8,\"FC02\",\"\")","v":""},{"$f":"IF(OR(O122=\"B02\",O122=\"E02\",O122=\"G01\",O122=\"H00\",O122=\"I01\"),2,IF(OR(O122=\"A00\",O122=\"E01\",O122=\"F01\",P122=510,P122=520),1,IF(VLOOKUP(F122,recipient_country!AB:AD,3,FALSE)=\"Part I unallocated by income\",\"\",1)))","v":{"$error":"#N/A"}},{"$f":"CRSDATA!AM122","v":0},{"$f":"CRSDATA!AN122","v":0},{"$f":"CRSDATA!AP122","v":0},{"$f":"CRSDATA!AR122","v":0},{"$f":"CRSDATA!BA122","v":0},null,"",{"$f":"IF(CRSDATA!M122=421,DATEDIF(CRSDATA!B122,CRSDATA!BH122,\"m\"),\"\")","v":""},{"$f":"CRSDATA!AZ122","v":0},{"$f":"CRSDATA!BB122","v":0},{"$f":"CRSDATA!L122","v":0}]
[{"$f":"CRSDATA!A123","v":0},{"$f":"CRSDATA!C123","v":0},{"$f":"CRSDATA!D123","v":0},{"$f":"CRSDATA!F123","v":0},{"$f":"CRSDATA!E123","v":0},{"$f":"IF(CRSDATA!H123=3000,998,CRSDATA!H123)","v":0},{"$f":"CRSDATA!O123","v":0},{"$f":"CRSDATA!U123","v":0},null,{"$f":"IF(CRSDATA!V123=\"\",\"\",CRSDATA!V123)","v":""},{"$f":"key_row(CRSDATA!W123,CRSDATA!X123,CRSDATA!AK123,CRSDATA!AJ123,CRSDATA!P123,CRSDATA!V123)","v":""},{"$f":"CRSDATA!P123","v":0},{"$f":"CRSDATA!J123","v":0},{"$f":"CRSDATA!I123","v":0},{"$f":"IF(LEFT(CRSDATA!N123,2)=\"A0\",\"A00\",IF(LEFT(CRSDATA!N123,3)=\"B02\",\"B02\",IF(LEFT(CRSDATA!N123,3)=\"B03\",\"B03\",IF(CRSDATA!N123=\"B04\",\"C01\",IF(CRSDATA!N123=\"H01\",\"H00\",IF(OR(CRSDATA!N123=\"H02\",CRSDATA!N123=\"H03\",CRSDATA!N123=\"H04\",CRSDATA!N123=\"H05\",CRSDATA!N123=\"H06\"),\"I01\",CRSDATA!N123))))))","v":0},{"$f":"CRSDATA!M123","v":0},{"$f":"IF(CRSDATA!L123=22,\"FA04\",\"\")","v":""},{"$f":"IF(CRSDATA!K123=8,\"FC02\",\"\")","v":""},{"$f":"IF(OR(O123=\"B02\",O123=\"E02\",O123=\"G01\",O123=\"H00\",O123=\"I01\"),2,IF(OR(O123=\"A00\",O123=\"E01\",O123=\"F01\",P123=510,P123=520),1,IF(VLOOKUP(F123,recipient_country!AB:AD,3,FALSE)=\"Part I unallocated by income\",\"\",1)))","v":{"$error":"#N/A"}},{"$f":"CRSDATA!AM123","v":0},{"$f":"CRSDATA!AN123","v":0},{"$f":"CRSDATA!AP123","v":0},{"$f":"CRSDATA!AR123","v":0},{"$f":"CRSDATA!BA123","v":0},null,"",{"$f":"IF(CRSDATA!M123=421,DATEDIF(CRSDATA!B123,CRSDATA!BH123,\"m\"),\"\")","v":""},{"$f":"CRSDATA!AZ123","v":0},{"$f":"CRSDATA!BB123","v":0},{"$f":"CRSDATA!L123","v":0}]
[{"$f":"CRSDATA!A124","v":0},{"$f":"CRSDATA!C124","v":0},{"$f":"CRSDATA!D124","v":0},{"$f":"CRSDATA!F124","v":0},{"$f":"CRSDATA!E124","v":0},{"$f":"IF(CRSDATA!H124=3000,998,CRSDATA!H124)","v":0},{"$f":"CRSDATA!O124","v":0},{"$f":"CRSDATA!U124","v":0},null,{"$f":"IF(CRSDATA!V124=\"\",\"\",CRSDATA!V124)","v":""},{"$f":"key_row(CRSDATA!W124,CRSDATA!X124,CRSDATA!AK124,CRSDATA!AJ124,CRSDATA!P124,CRSDATA!V124)","v":""},{"$f":"CRSDATA!P124","v":0},{"$f":"CRSDATA!J124","v":0},{"$f":"CRSDATA!I124","v":0},{"$f":"IF(LEFT(CRSDATA!N124,2)=\"A0\",\"A00\",IF(LEFT(CRSDATA!N124,3)=\"B02\",\"B02\",IF(LEFT(CRSDATA!N124,3)=\"B03\",\"B03\",IF(CRSDATA!N124=\"B04\",\"C01\",IF(CRSDATA!N124=\"H01\",\"H00\",IF(OR(CRSDATA!N124=\"H02\",CRSDATA!N124=\"H03\",CRSDATA!N124=\"H04\",CRSDATA!N124=\"H05\",CRSDATA!N124=\"H06\"),\"I01\",CRSDATA!N124))))))","v":0},{"$f":"CRSDATA!M124","v":0},{"$f":"IF(CRSDATA!L124=22,\"FA04\",\"\")","v":""},{"$f":"IF(CRSDATA!K124=8,\"FC02\",\"\")","v":""},{"$f":"IF(OR(O124=\"B02\",O124=\"E02\",O124=\"G01\",O124=\"H00\",O124=\"I01\"),2,IF(OR(O124=\"A00\",O124=\"E01\",O124=\"F01\",P124=510,P124=520),1,IF(VLOOKUP(F124,recipient_country!AB:AD,3,FALSE)=\"Part I unallocated by income\",\"\",1)))","v":{"$error":"#N/A"}},{"$f":"CRSDATA!AM124","v":0},{"$f":"CRSDATA!AN124","v":0},{"$f":"CRSDATA!AP124","v":0},{"$f":"CRSDATA!AR124","v":0},{"$f":"CRSDATA!BA124","v":0},null,"",{"$f":"IF(CRSDATA!M124=421,DATEDIF(CRSDATA!B124,CRSDATA!BH124,\"m\"),\"\")","v":""},{"$f":"CRSDATA!AZ124","v":0},{"$f":"CRSDATA!BB124","v":0},{"$f":"CRSDATA!L124","v":0}]
[{"$f":"CRSDATA!A125","v":0},{"$f":"CRSDATA!C125","v":0},{"$f":"CRSDATA!D125","v":0},{"$f":"CRSDATA!F125","v":0},{"$f":"CRSDATA!E125","v":0},{"$f":"IF(CRSDATA!H125=3000,998,CRSDATA!H125)","v":0},{"$f":"CRSDATA!O125","v":0},{"$f":"CRSDATA!U125","v":0},null,{"$f":"IF(CRSDATA!V125=\"\",\"\",CRSDATA!V125)","v":""},{"$f":"key_row(CRSDATA!W125,CRSDATA!X125,CRSDATA!AK125,CRSDATA!AJ125,CRSDATA!P125,CRSDATA!V125)","v":""},{"$f":"CRSDATA!P125","v":0},{"$f":"CRSDATA!J125","v":0},{"$f":"CRSDATA!I125","v":0},{"$f":"IF(LEFT(CRSDATA!N125,2)=\"A0\",\"A00\",IF(LEFT(CRSDATA!N125,3)=\"B02\",\"B02\",IF(LEFT(CRSDATA!N125,3)=\"B03\",\"B03\",IF(CRSDATA!N125=\"B04\",\"C01\",IF(CRSDATA!N125=\"H01\",\"H00\",IF(OR(CRSDATA!N125=\"H02\",CRSDATA!N125=\"H03\",CRSDATA!N125=\"H04\",CRSDATA!N125=\"H05\",CRSDATA!N125=\"H06\"),\"I01\",CRSDATA!N125))))))","v":0},{"$f":"CRSDATA!M125","v":0},{"$f":"IF(CRSDATA!L125=22,\"FA04\",\"\")","v":""},{"$f":"IF(CRSDATA!K125=8,\"FC02\",\"\")","v":""},{"$f":"IF(OR(O125=\"B02\",O125=\"E02\",O125=\"G01\",O125=\"H00\",O125=\"I01\"),2,IF(OR(O125=\"A00\",O125=\"E01\",O125=\"F01\",P125=510,P125=520),1,IF(VLOOKUP(F125,recipient_country!AB:AD,3,FALSE)=\"Part I unallocated by income\",\"\",1)))","v":{"$error":"#N/A"}},{"$f":"CRSDATA!AM125","v":0},{"$f":"CRSDATA!AN125","v":0},{"$f":"CRSDATA!AP125","v":0},{"$f":"CRSDATA!AR125","v":0},{"$f":"CRSDATA!BA125","v":0},null,"",{"$f":"IF(CRSDATA!M125=421,DATEDIF(CRSDATA!B125,CRSDATA!BH125,\"m\"),\"\")","v":""},{"$f":"CRSDATA!AZ125","v":0},{"$f":"CRSDATA!BB125","v":0},{"$f":"CRSDATA!L125","v":0}]
[{"$f":"CRSDATA!A126","v":0},{"$f":"CRSDATA!C126","v":0},{"$f":"CRSDATA!D126","v":0},{"$f":"CRSDATA!F126","v":0},{"$f":"CRSDATA!E126","v":0},{"$f":"IF(CRSDATA!H126=3000,998,CRSDATA!H126)","v":0},{"$f":"CRSDATA!O126","v":0},{"$f":"CRSDATA!U126","v":0},null,{"$f":"IF(CRSDATA!V126=\"\",\"\",CRSDATA!V126)","v":""},{"$f":"key_row(CRSDATA!W126,CRSDATA!X126,CRSDATA!AK126,CRSDATA!AJ126,CRSDATA!P126,CRSDATA!V126)","v":""},{"$f":"CRSDATA!P126","v":0},{"$f":"CRSDATA!J126","v":0},{"$f":"CRSDATA!I126","v":0},{"$f":"IF(LEFT(CRSDATA!N126,2)=\"A0\",\"A00\",IF(LEFT(CRSDATA!N126,3)=\"B02\",\"B02\",IF(LEFT(CRSDATA!N126,3)=\"B03\",\"B03\",IF(CRSDATA!N126=\"B04\",\"C01\",IF(CRSDATA!N126=\"H01\",\"H00\",IF(OR(CRSDATA!N126=\"H02\",CRSDATA!N126=\"H03\",CRSDATA!N126=\"H04\",CRSDATA!N126=\"H05\",CRSDATA!N126=\"H06\"),\"I01\",CRSDATA!N126))))))","v":0},{"$f":"CRSDATA!M126","v":0},{"$f":"IF(CRSDATA!L126=22,\"FA04\",\"\")","v":""},{"$f":"IF(CRSDATA!K126=8,\"FC02\",\"\")","v":""},{"$f":"IF(OR(O126=\"B02\",O126=\"E02\",O126=\"G01\",O126=\"H00\",O126=\"I01\"),2,IF(OR(O126=\"A00\",O126=\"E01\",O126=\"F01\",P126=510,P126=520),1,IF(VLOOKUP(F126,recipient_country!AB:AD,3,FALSE)=\"Part I unallocated by income\",\"\",1)))","v":{"$error":"#N/A"}},{"$f":"CRSDATA!AM126","v":0},{"$f":"CRSDATA!AN126","v":0},{"$f":"CRSDATA!AP126","v":0},{"$f":"CRSDATA!AR126","v":0},{"$f":"CRSDATA!BA126","v":0},null,"",{"$f":"IF(CRSDATA!M126=421,DATEDIF(CRSDATA!B126,CRSDATA!BH126,\"m\"),\"\")","v":""},{"$f":"CRSDATA!AZ126","v":0},{"$f":"CRSDATA!BB126","v":0},{"$f":"CRSDATA!L126","v":0}]
[{"$f":"CRSDATA!A127","v":0},{"$f":"CRSDATA!C127","v":0},{"$f":"CRSDATA!D127","v":0},{"$f":"CRSDATA!F127","v":0},{"$f":"CRSDATA!E127","v":0},{"$f":"IF(CRSDATA!H127=3000,998,CRSDATA!H127)","v":0},{"$f":"CRSDATA!O127","v":0},{"$f":"CRSDATA!U127","v":0},null,{"$f":"IF(CRSDATA!V127=\"\",\"\",CRSDATA!V127)","v":""},{"$f":"key_row(CRSDATA!W127,CRSDATA!X127,CRSDATA!AK127,CRSDATA!AJ127,CRSDATA!P127,CRSDATA!V127)","v":""},{"$f":"CRSDATA!P127","v":0},{"$f":"CRSDATA!J127","v":0},{"$f":"CRSDATA!I127","v":0},{"$f":"IF(LEFT(CRSDATA!N127,2)=\"A0\",\"A00\",IF(LEFT(CRSDATA!N127,3)=\"B02\",\"B02\",IF(LEFT(CRSDATA!N127,3)=\"B03\",\"B03\",IF(CRSDATA!N127=\"B04\",\"C01\",IF(CRSDATA!N127=\"H01\",\"H00\",IF(OR(CRSDATA!N127=\"H02\",CRSDATA!N127=\"H03\",CRSDATA!N127=\"H04\",CRSDATA!N127=\"H05\",CRSDATA!N127=\"H06\"),\"I01\",CRSDATA!N127))))))","v":0},{"$f":"CRSDATA!M127","v":0},{"$f":"IF(CRSDATA!L127=22,\"FA04\",\"\")","v":""},{"$f":"IF(CRSDATA!K127=8,\"FC02\",\"\")","v":""},{"$f":"IF(OR(O127=\"B02\",O127=\"E02\",O127=\"G01\",O127=\"H00\",O127=\"I01\"),2,IF(OR(O127=\"A00\",O127=\"E01\",O127=\"F01\",P127=510,P127=520),1,IF(VLOOKUP(F127,recipient_country!AB:AD,3,FALSE)=\"Part I unallocated by income\",\"\",1)))","v":{"$error":"#N/A"}},{"$f":"CRSDATA!AM127","v":0},{"$f":"CRSDATA!AN127","v":0},{"$f":"CRSDATA!AP127","v":0},{"$f":"CRSDATA!AR127","v":0},{"$f":"CRSDATA!BA127","v":0},null,"",{"$f":"IF(CRSDATA!M127=421,DATEDIF(CRSDATA!B127,CRSDATA!BH127,\"m\"),\"\")","v":""},{"$f":"CRSDATA!AZ127","v":0},{"$f":"CRSDATA!BB127","v":0},{"$f":"CRSDATA!L127","v":0}]
[{"$f":"CRSDATA!A128","v":0},{"$f":"CRSDATA!C128","v":0},{"$f":"CRSDATA!D128","v":0},{"$f":"CRSDATA!F128","v":0},{"$f":"CRSDATA!E128","v":0},{"$f":"IF(CRSDATA!H128=3000,998,CRSDATA!H128)","v":0},{"$f":"CRSDATA!O128","v":0},{"$f":"CRSDATA!U128","v":0},null,{"$f":"IF(CRSDATA!V128=\"\",\"\",CRSDATA!V128)","v":""},{"$f":"key_row(CRSDATA!W128,CRSDATA!X128,CRSDATA!AK128,CRSDATA!AJ128,CRSDATA!P128,CRSDATA!V128)","v":""},{"$f":"CRSDATA!P128","v":0},{"$f":"CRSDATA!J128","v":0},{"$f":"CRSDATA!I128","v":0},{"$f":"IF(LEFT(CRSDATA!N128,2)=\"A0\",\"A00\",IF(LEFT(CRSDATA!N128,3)=\"B02\",\"B02\",IF(LEFT(CRSDATA!N128,3)=\"B03\",\"B03\",IF(CRSDATA!N128=\"B04\",\"C01\",IF(CRSDATA!N128=\"H01\",\"H00\",IF(OR(CRSDATA!N128=\"H02\",CRSDATA!N128=\"H03\",CRSDATA!N128=\"H04\",CRSDATA!N128=\"H05\",CRSDATA!N128=\"H06\"),\"I01\",CRSDATA!N128))))))","v":0},{"$f":"CRSDATA!M128","v":0},{"$f":"IF(CRSDATA!L128=22,\"FA04\",\"\")","v":""},{"$f":"IF(CRSDATA!K128=8,\"FC02\",\"\")","v":""},{"$f":"IF(OR(O128=\"B02\",O128=\"E02\",O128=\"G01\",O128=\"H00\",O128=\"I01\"),2,IF(OR(O128=\"A00\",O128=\"E01\",O128=\"F01\",P128=510,P128=520),1,IF(VLOOKUP(F128,recipient_country!AB:AD,3,FALSE)=\"Part I unallocated by income\",\"\",1)))","v":{"$error":"#N/A"}},{"$f":"CRSDATA!AM128","v":0},{"$f":"CRSDATA!AN128","v":0},{"$f":"CRSDATA!AP128","v":0},{"$f":"CRSDATA!AR128","v":0},{"$f":"CRSDATA!BA128","v":0},null,"",{"$f":"IF(CRSDATA!M128=421,DATEDIF(CRSDATA!B128,CRSDATA!BH128,\"m\"),\"\")","v":""},{"$f":"CRSDATA!AZ128","v":0},{"$f":"CRSDATA!BB128","v":0},{"$f":"CRSDATA!L128","v":0}]
[{"$f":"CRSDATA!A129","v":0},{"$f":"CRSDATA!C129","v":0},{"$f":"CRSDATA!D129","v":0},{"$f":"CRSDATA!F129","v":0},{"$f":"CRSDATA!E129","v":0},{"$f":"IF(CRSDATA!H129=3000,998,CRSDATA!H129)","v":0},{"$f":"CRSDATA!O129","v":0},{"$f":"CRSDATA!U129","v":0},null,{"$f":"IF(CRSDATA!V129=\"\",\"\",CRSDATA!V129)","v":""},{"$f":"key_row(CRSDATA!W129,CRSDATA!X129,CRSDATA!AK129,CRSDATA!AJ129,CRSDATA!P129,CRSDATA!V129)","v":""},{"$f":"CRSDATA!P129","v":0},{"$f":"CRSDATA!J129","v":0},{"$f":"CRSDATA!I129","v":0},{"$f":"IF(LEFT(CRSDATA!N129,2)=\"A0\",\"A00\",IF(LEFT(CRSDATA!N129,3)=\"B02\",\"B02\",IF(LEFT(CRSDATA!N129,3)=\"B03\",\"B03\",IF(CRSDATA!N129=\"B04\",\"C01\",IF(CRSDATA!N129=\"H01\",\"H00\",IF(OR(CRSDATA!N129=\"H02\",CRSDATA!N129=\"H03\",CRSDATA!N129=\"H04\",CRSDATA!N129=\"H05\",CRSDATA!N129=\"H06\"),\"I01\",CRSDATA!N129))))))","v":0},{"$f":"CRSDATA!M129","v":0},{"$f":"IF(CRSDATA!L129=22,\"FA04\",\"\")","v":""},{"$f":"IF(CRSDATA!K129=8,\"FC02\",\"\")","v":""},{"$f":"IF(OR(O129=\"B02\",O129=\"E02\",O129=\"G01\",O129=\"H00\",O129=\"I01\"),2,IF(OR(O129=\"A00\",O129=\"E01\",O129=\"F01\",P129=510,P129=520),1,IF(VLOOKUP(F129,recipient_country!AB:AD,3,FALSE)=\"Part I unallocated by income\",\"\",1)))","v":{"$error":"#N/A"}},{"$f":"CRSDATA!AM129","v":0},{"$f":"CRSDATA!AN129","v":0},{"$f":"CRSDATA!AP129","v":0},{"$f":"CRSDATA!AR129","v":0},{"$f":"CRSDATA!BA129","v":0},null,"",{"$f":"IF(CRSDATA!M129=421,DATEDIF(CRSDATA!B129,CRSDATA!BH129,\"m\"),\"\")","v":""},{"$f":"CRSDATA!AZ129","v":0},{"$f":"CRSDATA!BB129","v":0},{"$f":"CRSDATA!L129","v":0}]
[{"$f":"CRSDATA!A130","v":0},{"$f":"CRSDATA!C130","v":0},{"$f":"CRSDATA!D130","v":0},{"$f":"CRSDATA!F130","v":0},{"$f":"CRSDATA!E130","v":0},{"$f":"IF(CRSDATA!H130=3000,998,CRSDATA!H130)","v":0},{"$f":"CRSDATA!O130","v":0},{"$f":"CRSDATA!U130","v":0},null,{"$f":"IF(CRSDATA!V130=\"\",\"\",CRSDATA!V130)","v":""},{"$f":"key_row(CRSDATA!W130,CRSDATA!X130,CRSDATA!AK130,CRSDATA!AJ130,CRSDATA!P130,CRSDATA!V130)","v":""},{"$f":"CRSDATA!P130","v":0},{"$f":"CRSDATA!J130","v":0},{"$f":"CRSDATA!I130","v":0},{"$f":"IF(LEFT(CRSDATA!N130,2)=\"A0\",\"A00\",IF(LEFT(CRSDATA!N130,3)=\"B02\",\"B02\",IF(LEFT(CRSDATA!N130,3)=\"B03\",\"B03\",IF(CRSDATA!N130=\"B04\",\"C01\",IF(CRSDATA!N130=\"H01\",\"H00\",IF(OR(CRSDATA!N130=\"H02\",CRSDATA!N130=\"H03\",CRSDATA!N130=\"H04\",CRSDATA!N130=\"H05\",CRSDATA!N130=\"H06\"),\"I01\",CRSDATA!N130))))))","v":0},{"$f":"CRSDATA!M130","v":0},{"$f":"IF(CRSDATA!L130=22,\"FA04\",\"\")","v":""},{"$f":"IF(CRSDATA!K130=8,\"FC02\",\"\")","v":""},{"$f":"IF(OR(O130=\"B02\",O130=\"E02\",O130=\"G01\",O130=\"H00\",O130=\"I01\"),2,IF(OR(O130=\"A00\",O130=\"E01\",O130=\"F01\",P130=510,P130=520),1,IF(VLOOKUP(F130,recipient_country!AB:AD,3,FALSE)=\"Part I unallocated by income\",\"\",1)))","v":{"$error":"#N/A"}},{"$f":"CRSDATA!AM130","v":0},{"$f":"CRSDATA!AN130","v":0},{"$f":"CRSDATA!AP130","v":0},{"$f":"CRSDATA!AR130","v":0},{"$f":"CRSDATA!BA130","v":0},null,"",{"$f":"IF(CRSDATA!M130=421,DATEDIF(CRSDATA!B130,CRSDATA!BH130,\"m\"),\"\")","v":""},{"$f":"CRSDATA!AZ130","v":0},{"$f":"CRSDATA!BB130","v":0},{"$f":"CRSDATA!L130","v":0}]
[{"$f":"CRSDATA!A131","v":0},{"$f":"CRSDATA!C131","v":0},{"$f":"CRSDATA!D131","v":0},{"$f":"CRSDATA!F131","v":0},{"$f":"CRSDATA!E131","v":0},{"$f":"IF(CRSDATA!H131=3000,998,CRSDATA!H131)","v":0},{"$f":"CRSDATA!O131","v":0},{"$f":"CRSDATA!U131","v":0},null,{"$f":"IF(CRSDATA!V131=\"\",\"\",CRSDATA!V131)","v":""},{"$f":"key_row(CRSDATA!W131,CRSDATA!X131,CRSDATA!AK131,CRSDATA!AJ131,CRSDATA!P131,CRSDATA!V131)","v":""},{"$f":"CRSDATA!P131","v":0},{"$f":"CRSDATA!J131","v":0},{"$f":"CRSDATA!I131","v":0},{"$f":"IF(LEFT(CRSDATA!N131,2)=\"A0\",\"A00\",IF(LEFT(CRSDATA!N131,3)=\"B02\",\"B02\",IF(LEFT(CRSDATA!N131,3)=\"B03\",\"B03\",IF(CRSDATA!N131=\"B04\",\"C01\",IF(CRSDATA!N131=\"H01\",\"H00\",IF(OR(CRSDATA!N131=\"H02\",CRSDATA!N131=\"H03\",CRSDATA!N131=\"H04\",CRSDATA!N131=\"H05\",CRSDATA!N131=\"H06\"),\"I01\",CRSDATA!N131))))))","v":0},{"$f":"CRSDATA!M131","v":0},{"$f":"IF(CRSDATA!L131=22,\"FA04\",\"\")","v":""},{"$f":"IF(CRSDATA!K131=8,\"FC02\",\"\")","v":""},{"$f":"IF(OR(O131=\"B02\",O131=\"E02\",O131=\"G01\",O131=\"H00\",O131=\"I01\"),2,IF(OR(O131=\"A00\",O131=\"E01\",O131=\"F01\",P131=510,P131=520),1,IF(VLOOKUP(F131,recipient_country!AB:AD,3,FALSE)=\"Part I unallocated by income\",\"\",1)))","v":{"$error":"#N/A"}},{"$f":"CRSDATA!AM131","v":0},{"$f":"CRSDATA!AN131","v":0},{"$f":"CRSDATA!AP131","v":0},{"$f":"CRSDATA!AR131","v":0},{"$f":"CRSDATA!BA131","v":0},null,"",{"$f":"IF(CRSDATA!M131=421,DATEDIF(CRSDATA!B131,CRSDATA!BH131,\"m\"),\"\")","v":""},{"$f":"CRSDATA!AZ131","v":0},{"$f":"CRSDATA!BB131","v":0},{"$f":"CRSDATA!L131","v":0}]
[{"$f":"CRSDATA!A132","v":0},{"$f":"CRSDATA!C132","v":0},{"$f":"CRSDATA!D132","v":0},{"$f":"CRSDATA!F132","v":0},{"$f":"CRSDATA!E132","v":0},{"$f":"IF(CRSDATA!H132=3000,998,CRSDATA!H132)","v":0},{"$f":"CRSDATA!O132","v":0},{"$f":"CRSDATA!U132","v":0},null,{"$f":"IF(CRSDATA!V132=\"\",\"\",CRSDATA!V132)","v":""},{"$f":"key_row(CRSDATA!W132,CRSDATA!X132,CRSDATA!AK132,CRSDATA!AJ132,CRSDATA!P132,CRSDATA!V132)","v":""},{"$f":"CRSDATA!P132","v":0},{"$f":"CRSDATA!J132","v":0},{"$f":"CRSDATA!I132","v":0},{"$f":"IF(LEFT(CRSDATA!N132,2)=\"A0\",\"A00\",IF(LEFT(CRSDATA!N132,3)=\"B02\",\"B02\",IF(LEFT(CRSDATA!N132,3)=\"B03\",\"B03\",IF(CRSDATA!N132=\"B04\",\"C01\",IF(CRSDATA!N132=\"H01\",\"H00\",IF(OR(CRSDATA!N132=\"H02\",CRSDATA!N132=\"H03\",CRSDATA!N132=\"H04\",CRSDATA!N132=\"H05\",CRSDATA!N132=\"H06\"),\"I01\",CRSDATA!N132))))))","v":0},{"$f":"CRSDATA!M132","v":0},{"$f":"IF(CRSDATA!L132=22,\"FA04\",\"\")","v":""},{"$f":"IF(CRSDATA!K132=8,\"FC02\",\"\")","v":""},{"$f":"IF(OR(O132=\"B02\",O132=\"E02\",O132=\"G01\",O132=\"H00\",O132=\"I01\"),2,IF(OR(O132=\"A00\",O132=\"E01\",O132=\"F01\",P132=510,P132=520),1,IF(VLOOKUP(F132,recipient_country!AB:AD,3,FALSE)=\"Part I unallocated by income\",\"\",1)))","v":{"$error":"#N/A"}},{"$f":"CRSDATA!AM132","v":0},{"$f":"CRSDATA!AN132","v":0},{"$f":"CRSDATA!AP132","v":0},{"$f":"CRSDATA!AR132","v":0},{"$f":"CRSDATA!BA132","v":0},null,{"$f":"IF(Q132=\"FA04\",0,\"\")","v":""},{"$f":"IF(CRSDATA!M132=421,DATEDIF(CRSDATA!B132,CRSDATA!BH132,\"m\"),\"\")","v":""},{"$f":"CRSDATA!AZ132","v":0},{"$f":"CRSDATA!BB132","v":0},{"$f":"CRSDATA!L132","v":0}]
[{"$f":"CRSDATA!A133","v":0},{"$f":"CRSDATA!C133","v":0},{"$f":"CRSDATA!D133","v":0},{"$f":"CRSDATA!F133","v":0},{"$f":"CRSDATA!E133","v":0},{"$f":"IF(CRSDATA!H133=3000,998,CRSDATA!H133)","v":0},{"$f":"CRSDATA!O133","v":0},{"$f":"CRSDATA!U133","v":0},null,{"$f":"IF(CRSDATA!V133=\"\",\"\",CRSDATA!V133)","v":""},{"$f":"key_row(CRSDATA!W133,CRSDATA!X133,CRSDATA!AK133,CRSDATA!AJ133,CRSDATA!P133,CRSDATA!V133)","v":""},{"$f":"CRSDATA!P133","v":0},{"$f":"CRSDATA!J133","v":0},{"$f":"CRSDATA!I133","v":0},{"$f":"IF(LEFT(CRSDATA!N133,2)=\"A0\",\"A00\",IF(LEFT(CRSDATA!N133,3)=\"B02\",\"B02\",IF(LEFT(CRSDATA!N133,3)=\"B03\",\"B03\",IF(CRSDATA!N133=\"B04\",\"C01\",IF(CRSDATA!N133=\"H01\",\"H00\",IF(OR(CRSDATA!N133=\"H02\",CRSDATA!N133=\"H03\",CRSDATA!N133=\"H04\",CRSDATA!N133=\"H05\",CRSDATA!N133=\"H06\"),\"I01\",CRSDATA!N133))))))","v":0},{"$f":"CRSDATA!M133","v":0},{"$f":"IF(CRSDATA!L133=22,\"FA04\",\"\")","v":""},{"$f":"IF(CRSDATA!K133=8,\"FC02\",\"\")","v":""},{"$f":"IF(OR(O133=\"B02\",O133=\"E02\",O133=\"G01\",O133=\"H00\",O133=\"I01\"),2,IF(OR(O133=\"A00\",O133=\"E01\",O133=\"F01\",P133=510,P133=520),1,IF(VLOOKUP(F133,recipient_country!AB:AD,3,FALSE)=\"Part I unallocated by income\",\"\",1)))","v":{"$error":"#N/A"}},{"$f":"CRSDATA!AM133","v":0},{"$f":"CRSDATA!AN133","v":0},{"$f":"CRSDATA!AP133","v":0},{"$f":"CRSDATA!AR133","v":0},{"$f":"CRSDATA!BA133","v":0},null,"",{"$f":"IF(CRSDATA!M133=421,DATEDIF(CRSDATA!B133,CRSDATA!BH133,\"m\"),\"\")","v":""},{"$f":"CRSDATA!AZ133","v":0},{"$f":"CRSDATA!BB133","v":0},{"$f":"CRSDATA!L133","v":0}]
[{"$f":"CRSDATA!A134","v":0},{"$f":"CRSDATA!C134","v":0},{"$f":"CRSDATA!D134","v":0},{"$f":"CRSDATA!F134","v":0},{"$f":"CRSDATA!E134","v":0},{"$f":"IF(CRSDATA!H134=3000,998,CRSDATA!H134)","v":0},{"$f":"CRSDATA!O134","v":0},{"$f":"CRSDATA!U134","v":0},null,{"$f":"IF(CRSDATA!V134=\"\",\"\",CRSDATA!V134)","v":""},{"$f":"key_row(CRSDATA!W134,CRSDATA!X134,CRSDATA!AK134,CRSDATA!AJ134,CRSDATA!P134,CRSDATA!V134)","v":""},{"$f":"CRSDATA!P134","v":0},{"$f":"CRSDATA!J134","v":0},{"$f":"CRSDATA!I134","v":0},{"$f":"IF(LEFT(CRSDATA!N134,2)=\"A0\",\"A00\",IF(LEFT(CRSDATA!N134,3)=\"B02\",\"B02\",IF(LEFT(CRSDATA!N134,3)=\"B03\",\"B03\",IF(CRSDATA!N134=\"B04\",\"C01\",IF(CRSDATA!N134=\"H01\",\"H00\",IF(OR(CRSDATA!N134=\"H02\",CRSDATA!N134=\"H03\",CRSDATA!N134=\"H04\",CRSDATA!N134=\"H05\",CRSDATA!N134=\"H06\"),\"I01\",CRSDATA!N134))))))","v":0},{"$f":"CRSDATA!M134","v":0},{"$f":"IF(CRSDATA!L134=22,\"FA04\",\"\")","v":""},{"$f":"IF(CRSDATA!K134=8,\"FC02\",\"\")","v":""},{"$f":"IF(OR(O134=\"B02\",O134=\"E02\",O134=\"G01\",O134=\"H00\",O134=\"I01\"),2,IF(OR(O134=\"A00\",O134=\"E01\",O134=\"F01\",P134=510,P134=520),1,IF(VLOOKUP(F134,recipient_country!AB:AD,3,FALSE)=\"Part I unallocated by income\",\"\",1)))","v":{"$error":"#N/A"}},{"$f":"CRSDATA!AM134","v":0},{"$f":"CRSDATA!AN134","v":0},{"$f":"CRSDATA!AP134","v":0},{"$f":"CRSDATA!AR134","v":0},{"$f":"CRSDATA!BA134","v":0},null,"",{"$f":"IF(CRSDATA!M134=421,DATEDIF(CRSDATA!B134,CRSDATA!BH134,\"m\"),\"\")","v":""},{"$f":"CRSDATA!AZ134","v":0},{"$f":"CRSDATA!BB134","v":0},{"$f":"CRSDATA!L134","v":0}]
[{"$f":"CRSDATA!A135","v":0},{"$f":"CRSDATA!C135","v":0},{"$f":"CRSDATA!D135","v":0},{"$f":"CRSDATA!F135","v":0},{"$f":"CRSDATA!E135","v":0},{"$f":"IF(CRSDATA!H135=3000,998,CRSDATA!H135)","v":0},{"$f":"CRSDATA!O135","v":0},{"$f":"CRSDATA!U135","v":0},null,{"$f":"IF(CRSDATA!V135=\"\",\"\",CRSDATA!V135)","v":""},{"$f":"key_row(CRSDATA!W135,CRSDATA!X135,CRSDATA!AK135,CRSDATA!AJ135,CRSDATA!P135,CRSDATA!V135)","v":""},{"$f":"CRSDATA!P135","v":0},{"$f":"CRSDATA!J135","v":0},{"$f":"CRSDATA!I135","v":0},{"$f":"IF(LEFT(CRSDATA!N135,2)=\"A0\",\"A00\",IF(LEFT(CRSDATA!N135,3)=\"B02\",\"B02\",IF(LEFT(CRSDATA!N135,3)=\"B03\",\"B03\",IF(CRSDATA!N135=\"B04\",\"C01\",IF(CRSDATA!N135=\"H01\",\"H00\",IF(OR(CRSDATA!N135=\"H02\",CRSDATA!N135=\"H03\",CRSDATA!N135=\"H04\",CRSDATA!N135=\"H05\",CRSDATA!N135=\"H06\"),\"I01\",CRSDATA!N135))))))","v":0},{"$f":"CRSDATA!M135","v":0},{"$f":"IF(CRSDATA!L135=22,\"FA04\",\"\")","v":""},{"$f":"IF(CRSDATA!K135=8,\"FC02\",\"\")","v":""},{"$f":"IF(OR(O135=\"B02\",O135=\"E02\",O135=\"G01\",O135=\"H00\",O135=\"I01\"),2,IF(OR(O135=\"A00\",O135=\"E01\",O135=\"F01\",P135=510,P135=520),1,IF(VLOOKUP(F135,recipient_country!AB:AD,3,FALSE)=\"Part I unallocated by income\",\"\",1)))","v":{"$error":"#N/A"}},{"$f":"CRSDATA!AM135","v":0},{"$f":"CRSDATA!AN135","v":0},{"$f":"CRSDATA!AP135","v":0},{"$f":"CRSDATA!AR135","v":0},{"$f":"CRSDATA!BA135","v":0},null,"",{"$f":"IF(CRSDATA!M135=421,DATEDIF(CRSDATA!B135,CRSDATA!BH135,\"m\"),\"\")","v":""},{"$f":"CRSDATA!AZ135","v":0},{"$f":"CRSDATA!BB135","v":0},{"$f":"CRSDATA!L135","v":0}]
[{"$f":"CRSDATA!A136","v":0},{"$f":"CRSDATA!C136","v":0},{"$f":"CRSDATA!D136","v":0},{"$f":"CRSDATA!F136","v":0},{"$f":"CRSDATA!E136","v":0},{"$f":"IF(CRSDATA!H136=3000,998,CRSDATA!H136)","v":0},{"$f":"CRSDATA!O136","v":0},{"$f":"CRSDATA!U136","v":0},null,{"$f":"IF(CRSDATA!V136=\"\",\"\",CRSDATA!V136)","v":""},{"$f":"key_row(CRSDATA!W136,CRSDATA!X136,CRSDATA!AK136,CRSDATA!AJ136,CRSDATA!P136,CRSDATA!V136)","v":""},{"$f":"CRSDATA!P136","v":0},{"$f":"CRSDATA!J136","v":0},{"$f":"CRSDATA!I136","v":0},{"$f":"IF(LEFT(CRSDATA!N136,2)=\"A0\",\"A00\",IF(LEFT(CRSDATA!N136,3)=\"B02\",\"B02\",IF(LEFT(CRSDATA!N136,3)=\"B03\",\"B03\",IF(CRSDATA!N136=\"B04\",\"C01\",IF(CRSDATA!N136=\"H01\",\"H00\",IF(OR(CRSDATA!N136=\"H02\",CRSDATA!N136=\"H03\",CRSDATA!N136=\"H04\",CRSDATA!N136=\"H05\",CRSDATA!N136=\"H06\"),\"I01\",CRSDATA!N136))))))","v":0},{"$f":"CRSDATA!M136","v":0},{"$f":"IF(CRSDATA!L136=22,\"FA04\",\"\")","v":""},{"$f":"IF(CRSDATA!K136=8,\"FC02\",\"\")","v":""},{"$f":"IF(OR(O136=\"B02\",O136=\"E02\",O136=\"G01\",O136=\"H00\",O136=\"I01\"),2,IF(OR(O136=\"A00\",O136=\"E01\",O136=\"F01\",P136=510,P136=520),1,IF(VLOOKUP(F136,recipient_country!AB:AD,3,FALSE)=\"Part I unallocated by income\",\"\",1)))","v":{"$error":"#N/A"}},{"$f":"CRSDATA!AM136","v":0},{"$f":"CRSDATA!AN136","v":0},{"$f":"CRSDATA!AP136","v":0},{"$f":"CRSDATA!AR136","v":0},{"$f":"CRSDATA!BA136","v":0},null,"",{"$f":"IF(CRSDATA!M136=421,DATEDIF(CRSDATA!B136,CRSDATA!BH136,\"m\"),\"\")","v":""},{"$f":"CRSDATA!AZ136","v":0},{"$f":"CRSDATA!BB136","v":0},{"$f":"CRSDATA!L136","v":0}]
[{"$f":"CRSDATA!A137","v":0},{"$f":"CRSDATA!C137","v":0},{"$f":"CRSDATA!D137","v":0},{"$f":"CRSDATA!F137","v":0},{"$f":"CRSDATA!E137","v":0},{"$f":"IF(CRSDATA!H137=3000,998,CRSDATA!H137)","v":0},{"$f":"CRSDATA!O137","v":0},{"$f":"CRSDATA!U137","v":0},null,{"$f":"IF(CRSDATA!V137=\"\",\"\",CRSDATA!V137)","v":""},{"$f":"key_row(CRSDATA!W137,CRSDATA!X137,CRSDATA!AK137,CRSDATA!AJ137,CRSDATA!P137,CRSDATA!V137)","v":""},{"$f":"CRSDATA!P137","v":0},{"$f":"CRSDATA!J137","v":0},{"$f":"CRSDATA!I137","v":0},{"$f":"IF(LEFT(CRSDATA!N137,2)=\"A0\",\"A00\",IF(LEFT(CRSDATA!N137,3)=\"B02\",\"B02\",IF(LEFT(CRSDATA!N137,3)=\"B03\",\"B03\",IF(CRSDATA!N137=\"B04\",\"C01\",IF(CRSDATA!N137=\"H01\",\"H00\",IF(OR(CRSDATA!N137=\"H02\",CRSDATA!N137=\"H03\",CRSDATA!N137=\"H04\",CRSDATA!N137=\"H05\",CRSDATA!N137=\"H06\"),\"I01\",CRSDATA!N137))))))","v":0},{"$f":"CRSDATA!M137","v":0},{"$f":"IF(CRSDATA!L137=22,\"FA04\",\"\")","v":""},{"$f":"IF(CRSDATA!K137=8,\"FC02\",\"\")","v":""},{"$f":"IF(OR(O137=\"B02\",O137=\"E02\",O137=\"G01\",O137=\"H00\",O137=\"I01\"),2,IF(OR(O137=\"A00\",O137=\"E01\",O137=\"F01\",P137=510,P137=520),1,IF(VLOOKUP(F137,recipient_country!AB:AD,3,FALSE)=\"Part I unallocated by income\",\"\",1)))","v":{"$error":"#N/A"}},{"$f":"CRSDATA!AM137","v":0},{"$f":"CRSDATA!AN137","v":0},{"$f":"CRSDATA!AP137","v":0},{"$f":"CRSDATA!AR137","v":0},{"$f":"CRSDATA!BA137","v":0},null,"",{"$f":"IF(CRSDATA!M137=421,DATEDIF(CRSDATA!B137,CRSDATA!BH137,\"m\"),\"\")","v":""},{"$f":"CRSDATA!AZ137","v":0},{"$f":"CRSDATA!BB137","v":0},{"$f":"CRSDATA!L137","v":0}]
[{"$f":"CRSDATA!A138","v":0},{"$f":"CRSDATA!C138","v":0},{"$f":"CRSDATA!D138","v":0},{"$f":"CRSDATA!F138","v":0},{"$f":"CRSDATA!E138","v":0},{"$f":"IF(CRSDATA!H138=3000,998,CRSDATA!H138)","v":0},{"$f":"CRSDATA!O138","v":0},{"$f":"CRSDATA!U138","v":0},null,{"$f":"IF(CRSDATA!V138=\"\",\"\",CRSDATA!V138)","v":""},{"$f":"key_row(CRSDATA!W138,CRSDATA!X138,CRSDATA!AK138,CRSDATA!AJ138,CRSDATA!P138,CRSDATA!V138)","v":""},{"$f":"CRSDATA!P138","v":0},{"$f":"CRSDATA!J138","v":0},{"$f":"CRSDATA!I138","v":0},{"$f":"IF(LEFT(CRSDATA!N138,2)=\"A0\",\"A00\",IF(LEFT(CRSDATA!N138,3)=\"B02\",\"B02\",IF(LEFT(CRSDATA!N138,3)=\"B03\",\"B03\",IF(CRSDATA!N138=\"B04\",\"C01\",IF(CRSDATA!N138=\"H01\",\"H00\",IF(OR(CRSDATA!N138=\"H02\",CRSDATA!N138=\"H03\",CRSDATA!N138=\"H04\",CRSDATA!N138=\"H05\",CRSDATA!N138=\"H06\"),\"I01\",CRSDATA!N138))))))","v":0},{"$f":"CRSDATA!M138","v":0},{"$f":"IF(CRSDATA!L138=22,\"FA04\",\"\")","v":""},{"$f":"IF(CRSDATA!K138=8,\"FC02\",\"\")","v":""},{"$f":"IF(OR(O138=\"B02\",O138=\"E02\",O138=\"G01\",O138=\"H00\",O138=\"I01\"),2,IF(OR(O138=\"A00\",O138=\"E01\",O138=\"F01\",P138=510,P138=520),1,IF(VLOOKUP(F138,recipient_country!AB:AD,3,FALSE)=\"Part I unallocated by income\",\"\",1)))","v":{"$error":"#N/A"}},{"$f":"CRSDATA!AM138","v":0},{"$f":"CRSDATA!AN138","v":0},{"$f":"CRSDATA!AP138","v":0},{"$f":"CRSDATA!AR138","v":0},{"$f":"CRSDATA!BA138","v":0},null,"",{"$f":"IF(CRSDATA!M138=421,DATEDIF(CRSDATA!B138,CRSDATA!BH138,\"m\"),\"\")","v":""},{"$f":"CRSDATA!AZ138","v":0},{"$f":"CRSDATA!BB138","v":0},{"$f":"CRSDATA!L138","v":0}]
[{"$f":"CRSDATA!A139","v":0},{"$f":"CRSDATA!C139","v":0},{"$f":"CRSDATA!D139","v":0},{"$f":"CRSDATA!F139","v":0},{"$f":"CRSDATA!E139","v":0},{"$f":"IF(CRSDATA!H139=3000,998,CRSDATA!H139)","v":0},{"$f":"CRSDATA!O139","v":0},{"$f":"CRSDATA!U139","v":0},null,{"$f":"IF(CRSDATA!V139=\"\",\"\",CRSDATA!V139)","v":""},{"$f":"key_row(CRSDATA!W139,CRSDATA!X139,CRSDATA!AK139,CRSDATA!AJ139,CRSDATA!P139,CRSDATA!V139)","v":""},{"$f":"CRSDATA!P139","v":0},{"$f":"CRSDATA!J139","v":0},{"$f":"CRSDATA!I139","v":0},{"$f":"IF(LEFT(CRSDATA!N139,2)=\"A0\",\"A00\",IF(LEFT(CRSDATA!N139,3)=\"B02\",\"B02\",IF(LEFT(CRSDATA!N139,3)=\"B03\",\"B03\",IF(CRSDATA!N139=\"B04\",\"C01\",IF(CRSDATA!N139=\"H01\",\"H00\",IF(OR(CRSDATA!N139=\"H02\",CRSDATA!N139=\"H03\",CRSDATA!N139=\"H04\",CRSDATA!N139=\"H05\",CRSDATA!N139=\"H06\"),\"I01\",CRSDATA!N139))))))","v":0},{"$f":"CRSDATA!M139","v":0},{"$f":"IF(CRSDATA!L139=22,\"FA04\",\"\")","v":""},{"$f":"IF(CRSDATA!K139=8,\"FC02\",\"\")","v":""},{"$f":"IF(OR(O139=\"B02\",O139=\"E02\",O139=\"G01\",O139=\"H00\",O139=\"I01\"),2,IF(OR(O139=\"A00\",O139=\"E01\",O139=\"F01\",P139=510,P139=520),1,IF(VLOOKUP(F139,recipient_country!AB:AD,3,FALSE)=\"Part I unallocated by income\",\"\",1)))","v":{"$error":"#N/A"}},{"$f":"CRSDATA!AM139","v":0},{"$f":"CRSDATA!AN139","v":0},{"$f":"CRSDATA!AP139","v":0},{"$f":"CRSDATA!AR139","v":0},{"$f":"CRSDATA!BA139","v":0},null,"",{"$f":"IF(CRSDATA!M139=421,DATEDIF(CRSDATA!B139,CRSDATA!BH139,\"m\"),\"\")","v":""},{"$f":"CRSDATA!AZ139","v":0},{"$f":"CRSDATA!BB139","v":0},{"$f":"CRSDATA!L139","v":0}]
[{"$f":"CRSDATA!A140","v":0},{"$f":"CRSDATA!C140","v":0},{"$f":"CRSDATA!D140","v":0},{"$f":"CRSDATA!F140","v":0},{"$f":"CRSDATA!E140","v":0},{"$f":"IF(CRSDATA!H140=3000,998,CRSDATA!H140)","v":0},{"$f":"CRSDATA!O140","v":0},{"$f":"CRSDATA!U140","v":0},null,{"$f":"IF(CRSDATA!V140=\"\",\"\",CRSDATA!V140)","v":""},{"$f":"key_row(CRSDATA!W140,CRSDATA!X140,CRSDATA!AK140,CRSDATA!AJ140,CRSDATA!P140,CRSDATA!V140)","v":""},{"$f":"CRSDATA!P140","v":0},{"$f":"CRSDATA!J140","v":0},{"$f":"CRSDATA!I140","v":0},{"$f":"IF(LEFT(CRSDATA!N140,2)=\"A0\",\"A00\",IF(LEFT(CRSDATA!N140,3)=\"B02\",\"B02\",IF(LEFT(CRSDATA!N140,3)=\"B03\",\"B03\",IF(CRSDATA!N140=\"B04\",\"C01\",IF(CRSDATA!N140=\"H01\",\"H00\",IF(OR(CRSDATA!N140=\"H02\",CRSDATA!N140=\"H03\",CRSDATA!N140=\"H04\",CRSDATA!N140=\"H05\",CRSDATA!N140=\"H06\"),\"I01\",CRSDATA!N140))))))","v":0},{"$f":"CRSDATA!M140","v":0},{"$f":"IF(CRSDATA!L140=22,\"FA04\",\"\")","v":""},{"$f":"IF(CRSDATA!K140=8,\"FC02\",\"\")","v":""},{"$f":"IF(OR(O140=\"B02\",O140=\"E02\",O140=\"G01\",O140=\"H00\",O140=\"I01\"),2,IF(OR(O140=\"A00\",O140=\"E01\",O140=\"F01\",P140=510,P140=520),1,IF(VLOOKUP(F140,recipient_country!AB:AD,3,FALSE)=\"Part I unallocated by income\",\"\",1)))","v":{"$error":"#N/A"}},{"$f":"CRSDATA!AM140","v":0},{"$f":"CRSDATA!AN140","v":0},{"$f":"CRSDATA!AP140","v":0},{"$f":"CRSDATA!AR140","v":0},{"$f":"CRSDATA!BA140","v":0},null,"",{"$f":"IF(CRSDATA!M140=421,DATEDIF(CRSDATA!B140,CRSDATA!BH140,\"m\"),\"\")","v":""},{"$f":"CRSDATA!AZ140","v":0},{"$f":"CRSDATA!BB140","v":0},{"$f":"CRSDATA!L140","v":0}]
[{"$f":"CRSDATA!A141","v":0},{"$f":"CRSDATA!C141","v":0},{"$f":"CRSDATA!D141","v":0},{"$f":"CRSDATA!F141","v":0},{"$f":"CRSDATA!E141","v":0},{"$f":"IF(CRSDATA!H141=3000,998,CRSDATA!H141)","v":0},{"$f":"CRSDATA!O141","v":0},{"$f":"CRSDATA!U141","v":0},null,{"$f":"IF(CRSDATA!V141=\"\",\"\",CRSDATA!V141)","v":""},{"$f":"key_row(CRSDATA!W141,CRSDATA!X141,CRSDATA!AK141,CRSDATA!AJ141,CRSDATA!P141,CRSDATA!V141)","v":""},{"$f":"CRSDATA!P141","v":0},{"$f":"CRSDATA!J141","v":0},{"$f":"CRSDATA!I141","v":0},{"$f":"IF(LEFT(CRSDATA!N141,2)=\"A0\",\"A00\",IF(LEFT(CRSDATA!N141,3)=\"B02\",\"B02\",IF(LEFT(CRSDATA!N141,3)=\"B03\",\"B03\",IF(CRSDATA!N141=\"B04\",\"C01\",IF(CRSDATA!N141=\"H01\",\"H00\",IF(OR(CRSDATA!N141=\"H02\",CRSDATA!N141=\"H03\",CRSDATA!N141=\"H04\",CRSDATA!N141=\"H05\",CRSDATA!N141=\"H06\"),\"I01\",CRSDATA!N141))))))","v":0},{"$f":"CRSDATA!M141","v":0},{"$f":"IF(CRSDATA!L141=22,\"FA04\",\"\")","v":""},{"$f":"IF(CRSDATA!K141=8,\"FC02\",\"\")","v":""},{"$f":"IF(OR(O141=\"B02\",O141=\"E02\",O141=\"G01\",O141=\"H00\",O141=\"I01\"),2,IF(OR(O141=\"A00\",O141=\"E01\",O141=\"F01\",P141=510,P141=520),1,IF(VLOOKUP(F141,recipient_country!AB:AD,3,FALSE)=\"Part I unallocated by income\",\"\",1)))","v":{"$error":"#N/A"}},{"$f":"CRSDATA!AM141","v":0},{"$f":"CRSDATA!AN141","v":0},{"$f":"CRSDATA!AP141","v":0},{"$f":"CRSDATA!AR141","v":0},{"$f":"CRSDATA!BA141","v":0},null,"",{"$f":"IF(CRSDATA!M141=421,DATEDIF(CRSDATA!B141,CRSDATA!BH141,\"m\"),\"\")","v":""},{"$f":"CRSDATA!AZ141","v":0},{"$f":"CRSDATA!BB141","v":0},{"$f":"CRSDATA!L141","v":0}]
[{"$f":"CRSDATA!A142","v":0},{"$f":"CRSDATA!C142","v":0},{"$f":"CRSDATA!D142","v":0},{"$f":"CRSDATA!F142","v":0},{"$f":"CRSDATA!E142","v":0},{"$f":"IF(CRSDATA!H142=3000,998,CRSDATA!H142)","v":0},{"$f":"CRSDATA!O142","v":0},{"$f":"CRSDATA!U142","v":0},null,{"$f":"IF(CRSDATA!V142=\"\",\"\",CRSDATA!V142)","v":""},{"$f":"key_row(CRSDATA!W142,CRSDATA!X142,CRSDATA!AK142,CRSDATA!AJ142,CRSDATA!P142,CRSDATA!V142)","v":""},{"$f":"CRSDATA!P142","v":0},{"$f":"CRSDATA!J142","v":0},{"$f":"CRSDATA!I142","v":0},{"$f":"IF(LEFT(CRSDATA!N142,2)=\"A0\",\"A00\",IF(LEFT(CRSDATA!N142,3)=\"B02\",\"B02\",IF(LEFT(CRSDATA!N142,3)=\"B03\",\"B03\",IF(CRSDATA!N142=\"B04\",\"C01\",IF(CRSDATA!N142=\"H01\",\"H00\",IF(OR(CRSDATA!N142=\"H02\",CRSDATA!N142=\"H03\",CRSDATA!N142=\"H04\",CRSDATA!N142=\"H05\",CRSDATA!N142=\"H06\"),\"I01\",CRSDATA!N142))))))","v":0},{"$f":"CRSDATA!M142","v":0},{"$f":"IF(CRSDATA!L142=22,\"FA04\",\"\")","v":""},{"$f":"IF(CRSDATA!K142=8,\"FC02\",\"\")","v":""},{"$f":"IF(OR(O142=\"B02\",O142=\"E02\",O142=\"G01\",O142=\"H00\",O142=\"I01\"),2,IF(OR(O142=\"A00\",O142=\"E01\",O142=\"F01\",P142=510,P142=520),1,IF(VLOOKUP(F142,recipient_country!AB:AD,3,FALSE)=\"Part I unallocated by income\",\"\",1)))","v":{"$error":"#N/A"}},{"$f":"CRSDATA!AM142","v":0},{"$f":"CRSDATA!AN142","v":0},{"$f":"CRSDATA!AP142","v":0},{"$f":"CRSDATA!AR142","v":0},{"$f":"CRSDATA!BA142","v":0},null,"",{"$f":"IF(CRSDATA!M142=421,DATEDIF(CRSDATA!B142,CRSDATA!BH142,\"m\"),\"\")","v":""},{"$f":"CRSDATA!AZ142","v":0},{"$f":"CRSDATA!BB142","v":0},{"$f":"CRSDATA!L142","v":0}]
[{"$f":"CRSDATA!A143","v":0},{"$f":"CRSDATA!C143","v":0},{"$f":"CRSDATA!D143","v":0},{"$f":"CRSDATA!F143","v":0},{"$f":"CRSDATA!E143","v":0},{"$f":"IF(CRSDATA!H143=3000,998,CRSDATA!H143)","v":0},{"$f":"CRSDATA!O143","v":0},{"$f":"CRSDATA!U143","v":0},null,{"$f":"IF(CRSDATA!V143=\"\",\"\",CRSDATA!V143)","v":""},{"$f":"key_row(CRSDATA!W143,CRSDATA!X143,CRSDATA!AK143,CRSDATA!AJ143,CRSDATA!P143,CRSDATA!V143)","v":""},{"$f":"CRSDATA!P143","v":0},{"$f":"CRSDATA!J143","v":0},{"$f":"CRSDATA!I143","v":0},{"$f":"IF(LEFT(CRSDATA!N143,2)=\"A0\",\"A00\",IF(LEFT(CRSDATA!N143,3)=\"B02\",\"B02\",IF(LEFT(CRSDATA!N143,3)=\"B03\",\"B03\",IF(CRSDATA!N143=\"B04\",\"C01\",IF(CRSDATA!N143=\"H01\",\"H00\",IF(OR(CRSDATA!N143=\"H02\",CRSDATA!N143=\"H03\",CRSDATA!N143=\"H04\",CRSDATA!N143=\"H05\",CRSDATA!N143=\"H06\"),\"I01\",CRSDATA!N143))))))","v":0},{"$f":"CRSDATA!M143","v":0},{"$f":"IF(CRSDATA!L143=22,\"FA04\",\"\")","v":""},{"$f":"IF(CRSDATA!K143=8,\"FC02\",\"\")","v":""},{"$f":"IF(OR(O143=\"B02\",O143=\"E02\",O143=\"G01\",O143=\"H00\",O143=\"I01\"),2,IF(OR(O143=\"A00\",O143=\"E01\",O143=\"F01\",P143=510,P143=520),1,IF(VLOOKUP(F143,recipient_country!AB:AD,3,FALSE)=\"Part I unallocated by income\",\"\",1)))","v":{"$error":"#N/A"}},{"$f":"CRSDATA!AM143","v":0},{"$f":"CRSDATA!AN143","v":0},{"$f":"CRSDATA!AP143","v":0},{"$f":"CRSDATA!AR143","v":0},{"$f":"CRSDATA!BA143","v":0},null,"",{"$f":"IF(CRSDATA!M143=421,DATEDIF(CRSDATA!B143,CRSDATA!BH143,\"m\"),\"\")","v":""},{"$f":"CRSDATA!AZ143","v":0},{"$f":"CRSDATA!BB143","v":0},{"$f":"CRSDATA!L143","v":0}]
[{"$f":"CRSDATA!A144","v":0},{"$f":"CRSDATA!C144","v":0},{"$f":"CRSDATA!D144","v":0},{"$f":"CRSDATA!F144","v":0},{"$f":"CRSDATA!E144","v":0},{"$f":"IF(CRSDATA!H144=3000,998,CRSDATA!H144)","v":0},{"$f":"CRSDATA!O144","v":0},{"$f":"CRSDATA!U144","v":0},null,{"$f":"IF(CRSDATA!V144=\"\",\"\",CRSDATA!V144)","v":""},{"$f":"key_row(CRSDATA!W144,CRSDATA!X144,CRSDATA!AK144,CRSDATA!AJ144,CRSDATA!P144,CRSDATA!V144)","v":""},{"$f":"CRSDATA!P144","v":0},{"$f":"CRSDATA!J144","v":0},{"$f":"CRSDATA!I144","v":0},{"$f":"IF(LEFT(CRSDATA!N144,2)=\"A0\",\"A00\",IF(LEFT(CRSDATA!N144,3)=\"B02\",\"B02\",IF(LEFT(CRSDATA!N144,3)=\"B03\",\"B03\",IF(CRSDATA!N144=\"B04\",\"C01\",IF(CRSDATA!N144=\"H01\",\"H00\",IF(OR(CRSDATA!N144=\"H02\",CRSDATA!N144=\"H03\",CRSDATA!N144=\"H04\",CRSDATA!N144=\"H05\",CRSDATA!N144=\"H06\"),\"I01\",CRSDATA!N144))))))","v":0},{"$f":"CRSDATA!M144","v":0},{"$f":"IF(CRSDATA!L144=22,\"FA04\",\"\")","v":""},{"$f":"IF(CRSDATA!K144=8,\"FC02\",\"\")","v":""},{"$f":"IF(OR(O144=\"B02\",O144=\"E02\",O144=\"G01\",O144=\"H00\",O144=\"I01\"),2,IF(OR(O144=\"A00\",O144=\"E01\",O144=\"F01\",P144=510,P144=520),1,IF(VLOOKUP(F144,recipient_country!AB:AD,3,FALSE)=\"Part I unallocated by income\",\"\",1)))","v":{"$error":"#N/A"}},{"$f":"CRSDATA!AM144","v":0},{"$f":"CRSDATA!AN144","v":0},{"$f":"CRSDATA!AP144","v":0},{"$f":"CRSDATA!AR144","v":0},{"$f":"CRSDATA!BA144","v":0},null,"",{"$f":"IF(CRSDATA!M144=421,DATEDIF(CRSDATA!B144,CRSDATA!BH144,\"m\"),\"\")","v":""},{"$f":"CRSDATA!AZ144","v":0},{"$f":"CRSDATA!BB144","v":0},{"$f":"CRSDATA!L144","v":0}]
[{"$f":"CRSDATA!A145","v":0},{"$f":"CRSDATA!C145","v":0},{"$f":"CRSDATA!D145","v":0},{"$f":"CRSDATA!F145","v":0},{"$f":"CRSDATA!E145","v":0},{"$f":"IF(CRSDATA!H145=3000,998,CRSDATA!H145)","v":0},{"$f":"CRSDATA!O145","v":0},{"$f":"CRSDATA!U145","v":0},null,{"$f":"IF(CRSDATA!V145=\"\",\"\",CRSDATA!V145)","v":""},{"$f":"key_row(CRSDATA!W145,CRSDATA!X145,CRSDATA!AK145,CRSDATA!AJ145,CRSDATA!P145,CRSDATA!V145)","v":""},{"$f":"CRSDATA!P145","v":0},{"$f":"CRSDATA!J145","v":0},{"$f":"CRSDATA!I145","v":0},{"$f":"IF(LEFT(CRSDATA!N145,2)=\"A0\",\"A00\",IF(LEFT(CRSDATA!N145,3)=\"B02\",\"B02\",IF(LEFT(CRSDATA!N145,3)=\"B03\",\"B03\",IF(CRSDATA!N145=\"B04\",\"C01\",IF(CRSDATA!N145=\"H01\",\"H00\",IF(OR(CRSDATA!N145=\"H02\",CRSDATA!N145=\"H03\",CRSDATA!N145=\"H04\",CRSDATA!N145=\"H05\",CRSDATA!N145=\"H06\"),\"I01\",CRSDATA!N145))))))","v":0},{"$f":"CRSDATA!M145","v":0},{"$f":"IF(CRSDATA!L145=22,\"FA04\",\"\")","v":""},{"$f":"IF(CRSDATA!K145=8,\"FC02\",\"\")","v":""},{"$f":"IF(OR(O145=\"B02\",O145=\"E02\",O145=\"G01\",O145=\"H00\",O145=\"I01\"),2,IF(OR(O145=\"A00\",O145=\"E01\",O145=\"F01\",P145=510,P145=520),1,IF(VLOOKUP(F145,recipient_country!AB:AD,3,FALSE)=\"Part I unallocated by income\",\"\",1)))","v":{"$error":"#N/A"}},{"$f":"CRSDATA!AM145","v":0},{"$f":"CRSDATA!AN145","v":0},{"$f":"CRSDATA!AP145","v":0},{"$f":"CRSDATA!AR145","v":0},{"$f":"CRSDATA!BA145","v":0},null,"",{"$f":"IF(CRSDATA!M145=421,DATEDIF(CRSDATA!B145,CRSDATA!BH145,\"m\"),\"\")","v":""},{"$f":"CRSDATA!AZ145","v":0},{"$f":"CRSDATA!BB145","v":0},{"$f":"CRSDATA!L145","v":0}]
[{"$f":"CRSDATA!A146","v":0},{"$f":"CRSDATA!C146","v":0},{"$f":"CRSDATA!D146","v":0},{"$f":"CRSDATA!F146","v":0},{"$f":"CRSDATA!E146","v":0},{"$f":"IF(CRSDATA!H146=3000,998,CRSDATA!H146)","v":0},{"$f":"CRSDATA!O146","v":0},{"$f":"CRSDATA!U146","v":0},null,{"$f":"IF(CRSDATA!V146=\"\",\"\",CRSDATA!V146)","v":""},{"$f":"key_row(CRSDATA!W146,CRSDATA!X146,CRSDATA!AK146,CRSDATA!AJ146,CRSDATA!P146,CRSDATA!V146)","v":""},{"$f":"CRSDATA!P146","v":0},{"$f":"CRSDATA!J146","v":0},{"$f":"CRSDATA!I146","v":0},{"$f":"IF(LEFT(CRSDATA!N146,2)=\"A0\",\"A00\",IF(LEFT(CRSDATA!N146,3)=\"B02\",\"B02\",IF(LEFT(CRSDATA!N146,3)=\"B03\",\"B03\",IF(CRSDATA!N146=\"B04\",\"C01\",IF(CRSDATA!N146=\"H01\",\"H00\",IF(OR(CRSDATA!N146=\"H02\",CRSDATA!N146=\"H03\",CRSDATA!N146=\"H04\",CRSDATA!N146=\"H05\",CRSDATA!N146=\"H06\"),\"I01\",CRSDATA!N146))))))","v":0},{"$f":"CRSDATA!M146","v":0},{"$f":"IF(CRSDATA!L146=22,\"FA04\",\"\")","v":""},{"$f":"IF(CRSDATA!K146=8,\"FC02\",\"\")","v":""},{"$f":"IF(OR(O146=\"B02\",O146=\"E02\",O146=\"G01\",O146=\"H00\",O146=\"I01\"),2,IF(OR(O146=\"A00\",O146=\"E01\",O146=\"F01\",P146=510,P146=520),1,IF(VLOOKUP(F146,recipient_country!AB:AD,3,FALSE)=\"Part I unallocated by income\",\"\",1)))","v":{"$error":"#N/A"}},{"$f":"CRSDATA!AM146","v":0},{"$f":"CRSDATA!AN146","v":0},{"$f":"CRSDATA!AP146","v":0},{"$f":"CRSDATA!AR146","v":0},{"$f":"CRSDATA!BA146","v":0},null,"",{"$f":"IF(CRSDATA!M146=421,DATEDIF(CRSDATA!B146,CRSDATA!BH146,\"m\"),\"\")","v":""},{"$f":"CRSDATA!AZ146","v":0},{"$f":"CRSDATA!BB146","v":0},{"$f":"CRSDATA!L146","v":0}]
[{"$f":"CRSDATA!A147","v":0},{"$f":"CRSDATA!C147","v":0},{"$f":"CRSDATA!D147","v":0},{"$f":"CRSDATA!F147","v":0},{"$f":"CRSDATA!E147","v":0},{"$f":"IF(CRSDATA!H147=3000,998,CRSDATA!H147)","v":0},{"$f":"CRSDATA!O147","v":0},{"$f":"CRSDATA!U147","v":0},null,{"$f":"IF(CRSDATA!V147=\"\",\"\",CRSDATA!V147)","v":""},{"$f":"key_row(CRSDATA!W147,CRSDATA!X147,CRSDATA!AK147,CRSDATA!AJ147,CRSDATA!P147,CRSDATA!V147)","v":""},{"$f":"CRSDATA!P147","v":0},{"$f":"CRSDATA!J147","v":0},{"$f":"CRSDATA!I147","v":0},{"$f":"IF(LEFT(CRSDATA!N147,2)=\"A0\",\"A00\",IF(LEFT(CRSDATA!N147,3)=\"B02\",\"B02\",IF(LEFT(CRSDATA!N147,3)=\"B03\",\"B03\",IF(CRSDATA!N147=\"B04\",\"C01\",IF(CRSDATA!N147=\"H01\",\"H00\",IF(OR(CRSDATA!N147=\"H02\",CRSDATA!N147=\"H03\",CRSDATA!N147=\"H04\",CRSDATA!N147=\"H05\",CRSDATA!N147=\"H06\"),\"I01\",CRSDATA!N147))))))","v":0},{"$f":"CRSDATA!M147","v":0},{"$f":"IF(CRSDATA!L147=22,\"FA04\",\"\")","v":""},{"$f":"IF(CRSDATA!K147=8,\"FC02\",\"\")","v":""},{"$f":"IF(OR(O147=\"B02\",O147=\"E02\",O147=\"G01\",O147=\"H00\",O147=\"I01\"),2,IF(OR(O147=\"A00\",O147=\"E01\",O147=\"F01\",P147=510,P147=520),1,IF(VLOOKUP(F147,recipient_country!AB:AD,3,FALSE)=\"Part I unallocated by income\",\"\",1)))","v":{"$error":"#N/A"}},{"$f":"CRSDATA!AM147","v":0},{"$f":"CRSDATA!AN147","v":0},{"$f":"CRSDATA!AP147","v":0},{"$f":"CRSDATA!AR147","v":0},{"$f":"CRSDATA!BA147","v":0},null,"",{"$f":"IF(CRSDATA!M147=421,DATEDIF(CRSDATA!B147,CRSDATA!BH147,\"m\"),\"\")","v":""},{"$f":"CRSDATA!AZ147","v":0},{"$f":"CRSDATA!BB147","v":0},{"$f":"CRSDATA!L147","v":0}]
[{"$f":"CRSDATA!A148","v":0},{"$f":"CRSDATA!C148","v":0},{"$f":"CRSDATA!D148","v":0},{"$f":"CRSDATA!F148","v":0},{"$f":"CRSDATA!E148","v":0},{"$f":"IF(CRSDATA!H148=3000,998,CRSDATA!H148)","v":0},{"$f":"CRSDATA!O148","v":0},{"$f":"CRSDATA!U148","v":0},null,{"$f":"IF(CRSDATA!V148=\"\",\"\",CRSDATA!V148)","v":""},{"$f":"key_row(CRSDATA!W148,CRSDATA!X148,CRSDATA!AK148,CRSDATA!AJ148,CRSDATA!P148,CRSDATA!V148)","v":""},{"$f":"CRSDATA!P148","v":0},{"$f":"CRSDATA!J148","v":0},{"$f":"CRSDATA!I148","v":0},{"$f":"IF(LEFT(CRSDATA!N148,2)=\"A0\",\"A00\",IF(LEFT(CRSDATA!N148,3)=\"B02\",\"B02\",IF(LEFT(CRSDATA!N148,3)=\"B03\",\"B03\",IF(CRSDATA!N148=\"B04\",\"C01\",IF(CRSDATA!N148=\"H01\",\"H00\",IF(OR(CRSDATA!N148=\"H02\",CRSDATA!N148=\"H03\",CRSDATA!N148=\"H04\",CRSDATA!N148=\"H05\",CRSDATA!N148=\"H06\"),\"I01\",CRSDATA!N148))))))","v":0},{"$f":"CRSDATA!M148","v":0},{"$f":"IF(CRSDATA!L148=22,\"FA04\",\"\")","v":""},{"$f":"IF(CRSDATA!K148=8,\"FC02\",\"\")","v":""},{"$f":"IF(OR(O148=\"B02\",O148=\"E02\",O148=\"G01\",O148=\"H00\",O148=\"I01\"),2,IF(OR(O148=\"A00\",O148=\"E01\",O148=\"F01\",P148=510,P148=520),1,IF(VLOOKUP(F148,recipient_country!AB:AD,3,FALSE)=\"Part I unallocated by income\",\"\",1)))","v":{"$error":"#N/A"}},{"$f":"CRSDATA!AM148","v":0},{"$f":"CRSDATA!AN148","v":0},{"$f":"CRSDATA!AP148","v":0},{"$f":"CRSDATA!AR148","v":0},{"$f":"CRSDATA!BA148","v":0},null,"",{"$f":"IF(CRSDATA!M148=421,DATEDIF(CRSDATA!B148,CRSDATA!BH148,\"m\"),\"\")","v":""},{"$f":"CRSDATA!AZ148","v":0},{"$f":"CRSDATA!BB148","v":0},{"$f":"CRSDATA!L148","v":0}]
[{"$f":"CRSDATA!A149","v":0},{"$f":"CRSDATA!C149","v":0},{"$f":"CRSDATA!D149","v":0},{"$f":"CRSDATA!F149","v":0},{"$f":"CRSDATA!E149","v":0},{"$f":"IF(CRSDATA!H149=3000,998,CRSDATA!H149)","v":0},{"$f":"CRSDATA!O149","v":0},{"$f":"CRSDATA!U149","v":0},null,{"$f":"IF(CRSDATA!V149=\"\",\"\",CRSDATA!V149)","v":""},{"$f":"key_row(CRSDATA!W149,CRSDATA!X149,CRSDATA!AK149,CRSDATA!AJ149,CRSDATA!P149,CRSDATA!V149)","v":""},{"$f":"CRSDATA!P149","v":0},{"$f":"CRSDATA!J149","v":0},{"$f":"CRSDATA!I149","v":0},{"$f":"IF(LEFT(CRSDATA!N149,2)=\"A0\",\"A00\",IF(LEFT(CRSDATA!N149,3)=\"B02\",\"B02\",IF(LEFT(CRSDATA!N149,3)=\"B03\",\"B03\",IF(CRSDATA!N149=\"B04\",\"C01\",IF(CRSDATA!N149=\"H01\",\"H00\",IF(OR(CRSDATA!N149=\"H02\",CRSDATA!N149=\"H03\",CRSDATA!N149=\"H04\",CRSDATA!N149=\"H05\",CRSDATA!N149=\"H06\"),\"I01\",CRSDATA!N149))))))","v":0},{"$f":"CRSDATA!M149","v":0},{"$f":"IF(CRSDATA!L149=22,\"FA04\",\"\")","v":""},{"$f":"IF(CRSDATA!K149=8,\"FC02\",\"\")","v":""},{"$f":"IF(OR(O149=\"B02\",O149=\"E02\",O149=\"G01\",O149=\"H00\",O149=\"I01\"),2,IF(OR(O149=\"A00\",O149=\"E01\",O149=\"F01\",P149=510,P149=520),1,IF(VLOOKUP(F149,recipient_country!AB:AD,3,FALSE)=\"Part I unallocated by income\",\"\",1)))","v":{"$error":"#N/A"}},{"$f":"CRSDATA!AM149","v":0},{"$f":"CRSDATA!AN149","v":0},{"$f":"CRSDATA!AP149","v":0},{"$f":"CRSDATA!AR149","v":0},{"$f":"CRSDATA!BA149","v":0},null,"",{"$f":"IF(CRSDATA!M149=421,DATEDIF(CRSDATA!B149,CRSDATA!BH149,\"m\"),\"\")","v":""},{"$f":"CRSDATA!AZ149","v":0},{"$f":"CRSDATA!BB149","v":0},{"$f":"CRSDATA!L149","v":0}]
[{"$f":"CRSDATA!A150","v":0},{"$f":"CRSDATA!C150","v":0},{"$f":"CRSDATA!D150","v":0},{"$f":"CRSDATA!F150","v":0},{"$f":"CRSDATA!E150","v":0},{"$f":"IF(CRSDATA!H150=3000,998,CRSDATA!H150)","v":0},{"$f":"CRSDATA!O150","v":0},{"$f":"CRSDATA!U150","v":0},null,{"$f":"IF(CRSDATA!V150=\"\",\"\",CRSDATA!V150)","v":""},{"$f":"key_row(CRSDATA!W150,CRSDATA!X150,CRSDATA!AK150,CRSDATA!AJ150,CRSDATA!P150,CRSDATA!V150)","v":""},{"$f":"CRSDATA!P150","v":0},{"$f":"CRSDATA!J150","v":0},{"$f":"CRSDATA!I150","v":0},{"$f":"IF(LEFT(CRSDATA!N150,2)=\"A0\",\"A00\",IF(LEFT(CRSDATA!N150,3)=\"B02\",\"B02\",IF(LEFT(CRSDATA!N150,3)=\"B03\",\"B03\",IF(CRSDATA!N150=\"B04\",\"C01\",IF(CRSDATA!N150=\"H01\",\"H00\",IF(OR(CRSDATA!N150=\"H02\",CRSDATA!N150=\"H03\",CRSDATA!N150=\"H04\",CRSDATA!N150=\"H05\",CRSDATA!N150=\"H06\"),\"I01\",CRSDATA!N150))))))","v":0},{"$f":"CRSDATA!M150","v":0},{"$f":"IF(CRSDATA!L150=22,\"FA04\",\"\")","v":""},{"$f":"IF(CRSDATA!K150=8,\"FC02\",\"\")","v":""},{"$f":"IF(OR(O150=\"B02\",O150=\"E02\",O150=\"G01\",O150=\"H00\",O150=\"I01\"),2,IF(OR(O150=\"A00\",O150=\"E01\",O150=\"F01\",P150=510,P150=520),1,IF(VLOOKUP(F150,recipient_country!AB:AD,3,FALSE)=\"Part I unallocated by income\",\"\",1)))","v":{"$error":"#N/A"}},{"$f":"CRSDATA!AM150","v":0},{"$f":"CRSDATA!AN150","v":0},{"$f":"CRSDATA!AP150","v":0},{"$f":"CRSDATA!AR150","v":0},{"$f":"CRSDATA!BA150","v":0},null,"",{"$f":"IF(CRSDATA!M150=421,DATEDIF(CRSDATA!B150,CRSDATA!BH150,\"m\"),\"\")","v":""},{"$f":"CRSDATA!AZ150","v":0},{"$f":"CRSDATA!BB150","v":0},{"$f":"CRSDATA!L150","v":0}]
[{"$f":"CRSDATA!A151","v":0},{"$f":"CRSDATA!C151","v":0},{"$f":"CRSDATA!D151","v":0},{"$f":"CRSDATA!F151","v":0},{"$f":"CRSDATA!E151","v":0},{"$f":"IF(CRSDATA!H151=3000,998,CRSDATA!H151)","v":0},{"$f":"CRSDATA!O151","v":0},{"$f":"CRSDATA!U151","v":0},null,{"$f":"IF(CRSDATA!V151=\"\",\"\",CRSDATA!V151)","v":""},{"$f":"key_row(CRSDATA!W151,CRSDATA!X151,CRSDATA!AK151,CRSDATA!AJ151,CRSDATA!P151,CRSDATA!V151)","v":""},{"$f":"CRSDATA!P151","v":0},{"$f":"CRSDATA!J151","v":0},{"$f":"CRSDATA!I151","v":0},{"$f":"IF(LEFT(CRSDATA!N151,2)=\"A0\",\"A00\",IF(LEFT(CRSDATA!N151,3)=\"B02\",\"B02\",IF(LEFT(CRSDATA!N151,3)=\"B03\",\"B03\",IF(CRSDATA!N151=\"B04\",\"C01\",IF(CRSDATA!N151=\"H01\",\"H00\",IF(OR(CRSDATA!N151=\"H02\",CRSDATA!N151=\"H03\",CRSDATA!N151=\"H04\",CRSDATA!N151=\"H05\",CRSDATA!N151=\"H06\"),\"I01\",CRSDATA!N151))))))","v":0},{"$f":"CRSDATA!M151","v":0},{"$f":"IF(CRSDATA!L151=22,\"FA04\",\"\")","v":""},{"$f":"IF(CRSDATA!K151=8,\"FC02\",\"\")","v":""},{"$f":"IF(OR(O151=\"B02\",O151=\"E02\",O151=\"G01\",O151=\"H00\",O151=\"I01\"),2,IF(OR(O151=\"A00\",O151=\"E01\",O151=\"F01\",P151=510,P151=520),1,IF(VLOOKUP(F151,recipient_country!AB:AD,3,FALSE)=\"Part I unallocated by income\",\"\",1)))","v":{"$error":"#N/A"}},{"$f":"CRSDATA!AM151","v":0},{"$f":"CRSDATA!AN151","v":0},{"$f":"CRSDATA!AP151","v":0},{"$f":"CRSDATA!AR151","v":0},{"$f":"CRSDATA!BA151","v":0},null,"",{"$f":"IF(CRSDATA!M151=421,DATEDIF(CRSDATA!B151,CRSDATA!BH151,\"m\"),\"\")","v":""},{"$f":"CRSDATA!AZ151","v":0},{"$f":"CRSDATA!BB151","v":0},{"$f":"CRSDATA!L151","v":0}]
[{"$f":"CRSDATA!A152","v":0},{"$f":"CRSDATA!C152","v":0},{"$f":"CRSDATA!D152","v":0},{"$f":"CRSDATA!F152","v":0},{"$f":"CRSDATA!E152","v":0},{"$f":"IF(CRSDATA!H152=3000,998,CRSDATA!H152)","v":0},{"$f":"CRSDATA!O152","v":0},{"$f":"CRSDATA!U152","v":0},null,{"$f":"IF(CRSDATA!V152=\"\",\"\",CRSDATA!V152)","v":""},{"$f":"key_row(CRSDATA!W152,CRSDATA!X152,CRSDATA!AK152,CRSDATA!AJ152,CRSDATA!P152,CRSDATA!V152)","v":""},{"$f":"CRSDATA!P152","v":0},{"$f":"CRSDATA!J152","v":0},{"$f":"CRSDATA!I152","v":0},{"$f":"IF(LEFT(CRSDATA!N152,2)=\"A0\",\"A00\",IF(LEFT(CRSDATA!N152,3)=\"B02\",\"B02\",IF(LEFT(CRSDATA!N152,3)=\"B03\",\"B03\",IF(CRSDATA!N152=\"B04\",\"C01\",IF(CRSDATA!N152=\"H01\",\"H00\",IF(OR(CRSDATA!N152=\"H02\",CRSDATA!N152=\"H03\",CRSDATA!N152=\"H04\",CRSDATA!N152=\"H05\",CRSDATA!N152=\"H06\"),\"I01\",CRSDATA!N152))))))","v":0},{"$f":"CRSDATA!M152","v":0},{"$f":"IF(CRSDATA!L152=22,\"FA04\",\"\")","v":""},{"$f":"IF(CRSDATA!K152=8,\"FC02\",\"\")","v":""},{"$f":"IF(OR(O152=\"B02\",O152=\"E02\",O152=\"G01\",O152=\"H00\",O152=\"I01\"),2,IF(OR(O152=\"A00\",O152=\"E01\",O152=\"F01\",P152=510,P152=520),1,IF(VLOOKUP(F152,recipient_country!AB:AD,3,FALSE)=\"Part I unallocated by income\",\"\",1)))","v":{"$error":"#N/A"}},{"$f":"CRSDATA!AM152","v":0},{"$f":"CRSDATA!AN152","v":0},{"$f":"CRSDATA!AP152","v":0},{"$f":"CRSDATA!AR152","v":0},{"$f":"CRSDATA!BA152","v":0},null,"",{"$f":"IF(CRSDATA!M152=421,DATEDIF(CRSDATA!B152,CRSDATA!BH152,\"m\"),\"\")","v":""},{"$f":"CRSDATA!AZ152","v":0},{"$f":"CRSDATA!BB152","v":0},{"$f":"CRSDATA!L152","v":0}]
[{"$f":"CRSDATA!A153","v":0},{"$f":"CRSDATA!C153","v":0},{"$f":"CRSDATA!D153","v":0},{"$f":"CRSDATA!F153","v":0},{"$f":"CRSDATA!E153","v":0},{"$f":"IF(CRSDATA!H153=3000,998,CRSDATA!H153)","v":0},{"$f":"CRSDATA!O153","v":0},{"$f":"CRSDATA!U153","v":0},null,{"$f":"IF(CRSDATA!V153=\"\",\"\",CRSDATA!V153)","v":""},{"$f":"key_row(CRSDATA!W153,CRSDATA!X153,CRSDATA!AK153,CRSDATA!AJ153,CRSDATA!P153,CRSDATA!V153)","v":""},{"$f":"CRSDATA!P153","v":0},{"$f":"CRSDATA!J153","v":0},{"$f":"CRSDATA!I153","v":0},{"$f":"IF(LEFT(CRSDATA!N153,2)=\"A0\",\"A00\",IF(LEFT(CRSDATA!N153,3)=\"B02\",\"B02\",IF(LEFT(CRSDATA!N153,3)=\"B03\",\"B03\",IF(CRSDATA!N153=\"B04\",\"C01\",IF(CRSDATA!N153=\"H01\",\"H00\",IF(OR(CRSDATA!N153=\"H02\",CRSDATA!N153=\"H03\",CRSDATA!N153=\"H04\",CRSDATA!N153=\"H05\",CRSDATA!N153=\"H06\"),\"I01\",CRSDATA!N153))))))","v":0},{"$f":"CRSDATA!M153","v":0},{"$f":"IF(CRSDATA!L153=22,\"FA04\",\"\")","v":""},{"$f":"IF(CRSDATA!K153=8,\"FC02\",\"\")","v":""},{"$f":"IF(OR(O153=\"B02\",O153=\"E02\",O153=\"G01\",O153=\"H00\",O153=\"I01\"),2,IF(OR(O153=\"A00\",O153=\"E01\",O153=\"F01\",P153=510,P153=520),1,IF(VLOOKUP(F153,recipient_country!AB:AD,3,FALSE)=\"Part I unallocated by income\",\"\",1)))","v":{"$error":"#N/A"}},{"$f":"CRSDATA!AM153","v":0},{"$f":"CRSDATA!AN153","v":0},{"$f":"CRSDATA!AP153","v":0},{"$f":"CRSDATA!AR153","v":0},{"$f":"CRSDATA!BA153","v":0},null,"",{"$f":"IF(CRSDATA!M153=421,DATEDIF(CRSDATA!B153,CRSDATA!BH153,\"m\"),\"\")","v":""},{"$f":"CRSDATA!AZ153","v":0},{"$f":"CRSDATA!BB153","v":0},{"$f":"CRSDATA!L153","v":0}]
[{"$f":"CRSDATA!A154","v":0},{"$f":"CRSDATA!C154","v":0},{"$f":"CRSDATA!D154","v":0},{"$f":"CRSDATA!F154","v":0},{"$f":"CRSDATA!E154","v":0},{"$f":"IF(CRSDATA!H154=3000,998,CRSDATA!H154)","v":0},{"$f":"CRSDATA!O154","v":0},{"$f":"CRSDATA!U154","v":0},null,{"$f":"IF(CRSDATA!V154=\"\",\"\",CRSDATA!V154)","v":""},{"$f":"key_row(CRSDATA!W154,CRSDATA!X154,CRSDATA!AK154,CRSDATA!AJ154,CRSDATA!P154,CRSDATA!V154)","v":""},{"$f":"CRSDATA!P154","v":0},{"$f":"CRSDATA!J154","v":0},{"$f":"CRSDATA!I154","v":0},{"$f":"IF(LEFT(CRSDATA!N154,2)=\"A0\",\"A00\",IF(LEFT(CRSDATA!N154,3)=\"B02\",\"B02\",IF(LEFT(CRSDATA!N154,3)=\"B03\",\"B03\",IF(CRSDATA!N154=\"B04\",\"C01\",IF(CRSDATA!N154=\"H01\",\"H00\",IF(OR(CRSDATA!N154=\"H02\",CRSDATA!N154=\"H03\",CRSDATA!N154=\"H04\",CRSDATA!N154=\"H05\",CRSDATA!N154=\"H06\"),\"I01\",CRSDATA!N154))))))","v":0},{"$f":"CRSDATA!M154","v":0},{"$f":"IF(CRSDATA!L154=22,\"FA04\",\"\")","v":""},{"$f":"IF(CRSDATA!K154=8,\"FC02\",\"\")","v":""},{"$f":"IF(OR(O154=\"B02\",O154=\"E02\",O154=\"G01\",O154=\"H00\",O154=\"I01\"),2,IF(OR(O154=\"A00\",O154=\"E01\",O154=\"F01\",P154=510,P154=520),1,IF(VLOOKUP(F154,recipient_country!AB:AD,3,FALSE)=\"Part I unallocated by income\",\"\",1)))","v":{"$error":"#N/A"}},{"$f":"CRSDATA!AM154","v":0},{"$f":"CRSDATA!AN154","v":0},{"$f":"CRSDATA!AP154","v":0},{"$f":"CRSDATA!AR154","v":0},{"$f":"CRSDATA!BA154","v":0},null,"",{"$f":"IF(CRSDATA!M154=421,DATEDIF(CRSDATA!B154,CRSDATA!BH154,\"m\"),\"\")","v":""},{"$f":"CRSDATA!AZ154","v":0},{"$f":"CRSDATA!BB154","v":0},{"$f":"CRSDATA!L154","v":0}]
[{"$f":"CRSDATA!A155","v":0},{"$f":"CRSDATA!C155","v":0},{"$f":"CRSDATA!D155","v":0},{"$f":"CRSDATA!F155","v":0},{"$f":"CRSDATA!E155","v":0},{"$f":"IF(CRSDATA!H155=3000,998,CRSDATA!H155)","v":0},{"$f":"CRSDATA!O155","v":0},{"$f":"CRSDATA!U155","v":0},null,{"$f":"IF(CRSDATA!V155=\"\",\"\",CRSDATA!V155)","v":""},{"$f":"key_row(CRSDATA!W155,CRSDATA!X155,CRSDATA!AK155,CRSDATA!AJ155,CRSDATA!P155,CRSDATA!V155)","v":""},{"$f":"CRSDATA!P155","v":0},{"$f":"CRSDATA!J155","v":0},{"$f":"CRSDATA!I155","v":0},{"$f":"IF(LEFT(CRSDATA!N155,2)=\"A0\",\"A00\",IF(LEFT(CRSDATA!N155,3)=\"B02\",\"B02\",IF(LEFT(CRSDATA!N155,3)=\"B03\",\"B03\",IF(CRSDATA!N155=\"B04\",\"C01\",IF(CRSDATA!N155=\"H01\",\"H00\",IF(OR(CRSDATA!N155=\"H02\",CRSDATA!N155=\"H03\",CRSDATA!N155=\"H04\",CRSDATA!N155=\"H05\",CRSDATA!N155=\"H06\"),\"I01\",CRSDATA!N155))))))","v":0},{"$f":"CRSDATA!M155","v":0},{"$f":"IF(CRSDATA!L155=22,\"FA04\",\"\")","v":""},{"$f":"IF(CRSDATA!K155=8,\"FC02\",\"\")","v":""},{"$f":"IF(OR(O155=\"B02\",O155=\"E02\",O155=\"G01\",O155=\"H00\",O155=\"I01\"),2,IF(OR(O155=\"A00\",O155=\"E01\",O155=\"F01\",P155=510,P155=520),1,IF(VLOOKUP(F155,recipient_country!AB:AD,3,FALSE)=\"Part I unallocated by income\",\"\",1)))","v":{"$error":"#N/A"}},{"$f":"CRSDATA!AM155","v":0},{"$f":"CRSDATA!AN155","v":0},{"$f":"CRSDATA!AP155","v":0},{"$f":"CRSDATA!AR155","v":0},{"$f":"CRSDATA!BA155","v":0},null,"",{"$f":"IF(CRSDATA!M155=421,DATEDIF(CRSDATA!B155,CRSDATA!BH155,\"m\"),\"\")","v":""},{"$f":"CRSDATA!AZ155","v":0},{"$f":"CRSDATA!BB155","v":0},{"$f":"CRSDATA!L155","v":0}]
[{"$f":"CRSDATA!A156","v":0},{"$f":"CRSDATA!C156","v":0},{"$f":"CRSDATA!D156","v":0},{"$f":"CRSDATA!F156","v":0},{"$f":"CRSDATA!E156","v":0},{"$f":"IF(CRSDATA!H156=3000,998,CRSDATA!H156)","v":0},{"$f":"CRSDATA!O156","v":0},{"$f":"CRSDATA!U156","v":0},null,{"$f":"IF(CRSDATA!V156=\"\",\"\",CRSDATA!V156)","v":""},{"$f":"key_row(CRSDATA!W156,CRSDATA!X156,CRSDATA!AK156,CRSDATA!AJ156,CRSDATA!P156,CRSDATA!V156)","v":""},{"$f":"CRSDATA!P156","v":0},{"$f":"CRSDATA!J156","v":0},{"$f":"CRSDATA!I156","v":0},{"$f":"IF(LEFT(CRSDATA!N156,2)=\"A0\",\"A00\",IF(LEFT(CRSDATA!N156,3)=\"B02\",\"B02\",IF(LEFT(CRSDATA!N156,3)=\"B03\",\"B03\",IF(CRSDATA!N156=\"B04\",\"C01\",IF(CRSDATA!N156=\"H01\",\"H00\",IF(OR(CRSDATA!N156=\"H02\",CRSDATA!N156=\"H03\",CRSDATA!N156=\"H04\",CRSDATA!N156=\"H05\",CRSDATA!N156=\"H06\"),\"I01\",CRSDATA!N156))))))","v":0},{"$f":"CRSDATA!M156","v":0},{"$f":"IF(CRSDATA!L156=22,\"FA04\",\"\")","v":""},{"$f":"IF(CRSDATA!K156=8,\"FC02\",\"\")","v":""},{"$f":"IF(OR(O156=\"B02\",O156=\"E02\",O156=\"G01\",O156=\"H00\",O156=\"I01\"),2,IF(OR(O156=\"A00\",O156=\"E01\",O156=\"F01\",P156=510,P156=520),1,IF(VLOOKUP(F156,recipient_country!AB:AD,3,FALSE)=\"Part I unallocated by income\",\"\",1)))","v":{"$error":"#N/A"}},{"$f":"CRSDATA!AM156","v":0},{"$f":"CRSDATA!AN156","v":0},{"$f":"CRSDATA!AP156","v":0},{"$f":"CRSDATA!AR156","v":0},{"$f":"CRSDATA!BA156","v":0},null,"",{"$f":"IF(CRSDATA!M156=421,DATEDIF(CRSDATA!B156,CRSDATA!BH156,\"m\"),\"\")","v":""},{"$f":"CRSDATA!AZ156","v":0},{"$f":"CRSDATA!BB156","v":0},{"$f":"CRSDATA!L156","v":0}]
[{"$f":"CRSDATA!A157","v":0},{"$f":"CRSDATA!C157","v":0},{"$f":"CRSDATA!D157","v":0},{"$f":"CRSDATA!F157","v":0},{"$f":"CRSDATA!E157","v":0},{"$f":"IF(CRSDATA!H157=3000,998,CRSDATA!H157)","v":0},{"$f":"CRSDATA!O157","v":0},{"$f":"CRSDATA!U157","v":0},null,{"$f":"IF(CRSDATA!V157=\"\",\"\",CRSDATA!V157)","v":""},{"$f":"key_row(CRSDATA!W157,CRSDATA!X157,CRSDATA!AK157,CRSDATA!AJ157,CRSDATA!P157,CRSDATA!V157)","v":""},{"$f":"CRSDATA!P157","v":0},{"$f":"CRSDATA!J157","v":0},{"$f":"CRSDATA!I157","v":0},{"$f":"IF(LEFT(CRSDATA!N157,2)=\"A0\",\"A00\",IF(LEFT(CRSDATA!N157,3)=\"B02\",\"B02\",IF(LEFT(CRSDATA!N157,3)=\"B03\",\"B03\",IF(CRSDATA!N157=\"B04\",\"C01\",IF(CRSDATA!N157=\"H01\",\"H00\",IF(OR(CRSDATA!N157=\"H02\",CRSDATA!N157=\"H03\",CRSDATA!N157=\"H04\",CRSDATA!N157=\"H05\",CRSDATA!N157=\"H06\"),\"I01\",CRSDATA!N157))))))","v":0},{"$f":"CRSDATA!M157","v":0},{"$f":"IF(CRSDATA!L157=22,\"FA04\",\"\")","v":""},{"$f":"IF(CRSDATA!K157=8,\"FC02\",\"\")","v":""},{"$f":"IF(OR(O157=\"B02\",O157=\"E02\",O157=\"G01\",O157=\"H00\",O157=\"I01\"),2,IF(OR(O157=\"A00\",O157=\"E01\",O157=\"F01\",P157=510,P157=520),1,IF(VLOOKUP(F157,recipient_country!AB:AD,3,FALSE)=\"Part I unallocated by income\",\"\",1)))","v":{"$error":"#N/A"}},{"$f":"CRSDATA!AM157","v":0},{"$f":"CRSDATA!AN157","v":0},{"$f":"CRSDATA!AP157","v":0},{"$f":"CRSDATA!AR157","v":0},{"$f":"CRSDATA!BA157","v":0},null,"",{"$f":"IF(CRSDATA!M157=421,DATEDIF(CRSDATA!B157,CRSDATA!BH157,\"m\"),\"\")","v":""},{"$f":"CRSDATA!AZ157","v":0},{"$f":"CRSDATA!BB157","v":0},{"$f":"CRSDATA!L157","v":0}]
[{"$f":"CRSDATA!A158","v":0},{"$f":"CRSDATA!C158","v":0},{"$f":"CRSDATA!D158","v":0},{"$f":"CRSDATA!F158","v":0},{"$f":"CRSDATA!E158","v":0},{"$f":"IF(CRSDATA!H158=3000,998,CRSDATA!H158)","v":0},{"$f":"CRSDATA!O158","v":0},{"$f":"CRSDATA!U158","v":0},null,{"$f":"IF(CRSDATA!V158=\"\",\"\",CRSDATA!V158)","v":""},{"$f":"key_row(CRSDATA!W158,CRSDATA!X158,CRSDATA!AK158,CRSDATA!AJ158,CRSDATA!P158,CRSDATA!V158)","v":""},{"$f":"CRSDATA!P158","v":0},{"$f":"CRSDATA!J158","v":0},{"$f":"CRSDATA!I158","v":0},{"$f":"IF(LEFT(CRSDATA!N158,2)=\"A0\",\"A00\",IF(LEFT(CRSDATA!N158,3)=\"B02\",\"B02\",IF(LEFT(CRSDATA!N158,3)=\"B03\",\"B03\",IF(CRSDATA!N158=\"B04\",\"C01\",IF(CRSDATA!N158=\"H01\",\"H00\",IF(OR(CRSDATA!N158=\"H02\",CRSDATA!N158=\"H03\",CRSDATA!N158=\"H04\",CRSDATA!N158=\"H05\",CRSDATA!N158=\"H06\"),\"I01\",CRSDATA!N158))))))","v":0},{"$f":"CRSDATA!M158","v":0},{"$f":"IF(CRSDATA!L158=22,\"FA04\",\"\")","v":""},{"$f":"IF(CRSDATA!K158=8,\"FC02\",\"\")","v":""},{"$f":"IF(OR(O158=\"B02\",O158=\"E02\",O158=\"G01\",O158=\"H00\",O158=\"I01\"),2,IF(OR(O158=\"A00\",O158=\"E01\",O158=\"F01\",P158=510,P158=520),1,IF(VLOOKUP(F158,recipient_country!AB:AD,3,FALSE)=\"Part I unallocated by income\",\"\",1)))","v":{"$error":"#N/A"}},{"$f":"CRSDATA!AM158","v":0},{"$f":"CRSDATA!AN158","v":0},{"$f":"CRSDATA!AP158","v":0},{"$f":"CRSDATA!AR158","v":0},{"$f":"CRSDATA!BA158","v":0},null,"",{"$f":"IF(CRSDATA!M158=421,DATEDIF(CRSDATA!B158,CRSDATA!BH158,\"m\"),\"\")","v":""},{"$f":"CRSDATA!AZ158","v":0},{"$f":"CRSDATA!BB158","v":0},{"$f":"CRSDATA!L158","v":0}]
[{"$f":"CRSDATA!A159","v":0},{"$f":"CRSDATA!C159","v":0},{"$f":"CRSDATA!D159","v":0},{"$f":"CRSDATA!F159","v":0},{"$f":"CRSDATA!E159","v":0},{"$f":"IF(CRSDATA!H159=3000,998,CRSDATA!H159)","v":0},{"$f":"CRSDATA!O159","v":0},{"$f":"CRSDATA!U159","v":0},null,{"$f":"IF(CRSDATA!V159=\"\",\"\",CRSDATA!V159)","v":""},{"$f":"key_row(CRSDATA!W159,CRSDATA!X159,CRSDATA!AK159,CRSDATA!AJ159,CRSDATA!P159,CRSDATA!V159)","v":""},{"$f":"CRSDATA!P159","v":0},{"$f":"CRSDATA!J159","v":0},{"$f":"CRSDATA!I159","v":0},{"$f":"IF(LEFT(CRSDATA!N159,2)=\"A0\",\"A00\",IF(LEFT(CRSDATA!N159,3)=\"B02\",\"B02\",IF(LEFT(CRSDATA!N159,3)=\"B03\",\"B03\",IF(CRSDATA!N159=\"B04\",\"C01\",IF(CRSDATA!N159=\"H01\",\"H00\",IF(OR(CRSDATA!N159=\"H02\",CRSDATA!N159=\"H03\",CRSDATA!N159=\"H04\",CRSDATA!N159=\"H05\",CRSDATA!N159=\"H06\"),\"I01\",CRSDATA!N159))))))","v":0},{"$f":"CRSDATA!M159","v":0},{"$f":"IF(CRSDATA!L159=22,\"FA04\",\"\")","v":""},{"$f":"IF(CRSDATA!K159=8,\"FC02\",\"\")","v":""},{"$f":"IF(OR(O159=\"B02\",O159=\"E02\",O159=\"G01\",O159=\"H00\",O159=\"I01\"),2,IF(OR(O159=\"A00\",O159=\"E01\",O159=\"F01\",P159=510,P159=520),1,IF(VLOOKUP(F159,recipient_country!AB:AD,3,FALSE)=\"Part I unallocated by income\",\"\",1)))","v":{"$error":"#N/A"}},{"$f":"CRSDATA!AM159","v":0},{"$f":"CRSDATA!AN159","v":0},{"$f":"CRSDATA!AP159","v":0},{"$f":"CRSDATA!AR159","v":0},{"$f":"CRSDATA!BA159","v":0},null,"",{"$f":"IF(CRSDATA!M159=421,DATEDIF(CRSDATA!B159,CRSDATA!BH159,\"m\"),\"\")","v":""},{"$f":"CRSDATA!AZ159","v":0},{"$f":"CRSDATA!BB159","v":0},{"$f":"CRSDATA!L159","v":0}]
[{"$f":"CRSDATA!A160","v":0},{"$f":"CRSDATA!C160","v":0},{"$f":"CRSDATA!D160","v":0},{"$f":"CRSDATA!F160","v":0},{"$f":"CRSDATA!E160","v":0},{"$f":"IF(CRSDATA!H160=3000,998,CRSDATA!H160)","v":0},{"$f":"CRSDATA!O160","v":0},{"$f":"CRSDATA!U160","v":0},null,{"$f":"IF(CRSDATA!V160=\"\",\"\",CRSDATA!V160)","v":""},{"$f":"key_row(CRSDATA!W160,CRSDATA!X160,CRSDATA!AK160,CRSDATA!AJ160,CRSDATA!P160,CRSDATA!V160)","v":""},{"$f":"CRSDATA!P160","v":0},{"$f":"CRSDATA!J160","v":0},{"$f":"CRSDATA!I160","v":0},{"$f":"IF(LEFT(CRSDATA!N160,2)=\"A0\",\"A00\",IF(LEFT(CRSDATA!N160,3)=\"B02\",\"B02\",IF(LEFT(CRSDATA!N160,3)=\"B03\",\"B03\",IF(CRSDATA!N160=\"B04\",\"C01\",IF(CRSDATA!N160=\"H01\",\"H00\",IF(OR(CRSDATA!N160=\"H02\",CRSDATA!N160=\"H03\",CRSDATA!N160=\"H04\",CRSDATA!N160=\"H05\",CRSDATA!N160=\"H06\"),\"I01\",CRSDATA!N160))))))","v":0},{"$f":"CRSDATA!M160","v":0},{"$f":"IF(CRSDATA!L160=22,\"FA04\",\"\")","v":""},{"$f":"IF(CRSDATA!K160=8,\"FC02\",\"\")","v":""},{"$f":"IF(OR(O160=\"B02\",O160=\"E02\",O160=\"G01\",O160=\"H00\",O160=\"I01\"),2,IF(OR(O160=\"A00\",O160=\"E01\",O160=\"F01\",P160=510,P160=520),1,IF(VLOOKUP(F160,recipient_country!AB:AD,3,FALSE)=\"Part I unallocated by income\",\"\",1)))","v":{"$error":"#N/A"}},{"$f":"CRSDATA!AM160","v":0},{"$f":"CRSDATA!AN160","v":0},{"$f":"CRSDATA!AP160","v":0},{"$f":"CRSDATA!AR160","v":0},{"$f":"CRSDATA!BA160","v":0},null,"",{"$f":"IF(CRSDATA!M160=421,DATEDIF(CRSDATA!B160,CRSDATA!BH160,\"m\"),\"\")","v":""},{"$f":"CRSDATA!AZ160","v":0},{"$f":"CRSDATA!BB160","v":0},{"$f":"CRSDATA!L160","v":0}]
[{"$f":"CRSDATA!A161","v":0},{"$f":"CRSDATA!C161","v":0},{"$f":"CRSDATA!D161","v":0},{"$f":"CRSDATA!F161","v":0},{"$f":"CRSDATA!E161","v":0},{"$f":"IF(CRSDATA!H161=3000,998,CRSDATA!H161)","v":0},{"$f":"CRSDATA!O161","v":0},{"$f":"CRSDATA!U161","v":0},null,{"$f":"IF(CRSDATA!V161=\"\",\"\",CRSDATA!V161)","v":""},{"$f":"key_row(CRSDATA!W161,CRSDATA!X161,CRSDATA!AK161,CRSDATA!AJ161,CRSDATA!P161,CRSDATA!V161)","v":""},{"$f":"CRSDATA!P161","v":0},{"$f":"CRSDATA!J161","v":0},{"$f":"CRSDATA!I161","v":0},{"$f":"IF(LEFT(CRSDATA!N161,2)=\"A0\",\"A00\",IF(LEFT(CRSDATA!N161,3)=\"B02\",\"B02\",IF(LEFT(CRSDATA!N161,3)=\"B03\",\"B03\",IF(CRSDATA!N161=\"B04\",\"C01\",IF(CRSDATA!N161=\"H01\",\"H00\",IF(OR(CRSDATA!N161=\"H02\",CRSDATA!N161=\"H03\",CRSDATA!N161=\"H04\",CRSDATA!N161=\"H05\",CRSDATA!N161=\"H06\"),\"I01\",CRSDATA!N161))))))","v":0},{"$f":"CRSDATA!M161","v":0},{"$f":"IF(CRSDATA!L161=22,\"FA04\",\"\")","v":""},{"$f":"IF(CRSDATA!K161=8,\"FC02\",\"\")","v":""},{"$f":"IF(OR(O161=\"B02\",O161=\"E02\",O161=\"G01\",O161=\"H00\",O161=\"I01\"),2,IF(OR(O161=\"A00\",O161=\"E01\",O161=\"F01\",P161=510,P161=520),1,IF(VLOOKUP(F161,recipient_country!AB:AD,3,FALSE)=\"Part I unallocated by income\",\"\",1)))","v":{"$error":"#N/A"}},{"$f":"CRSDATA!AM161","v":0},{"$f":"CRSDATA!AN161","v":0},{"$f":"CRSDATA!AP161","v":0},{"$f":"CRSDATA!AR161","v":0},{"$f":"CRSDATA!BA161","v":0},null,"",{"$f":"IF(CRSDATA!M161=421,DATEDIF(CRSDATA!B161,CRSDATA!BH161,\"m\"),\"\")","v":""},{"$f":"CRSDATA!AZ161","v":0},{"$f":"CRSDATA!BB161","v":0},{"$f":"CRSDATA!L161","v":0}]
[{"$f":"CRSDATA!A162","v":0},{"$f":"CRSDATA!C162","v":0},{"$f":"CRSDATA!D162","v":0},{"$f":"CRSDATA!F162","v":0},{"$f":"CRSDATA!E162","v":0},{"$f":"IF(CRSDATA!H162=3000,998,CRSDATA!H162)","v":0},{"$f":"CRSDATA!O162","v":0},{"$f":"CRSDATA!U162","v":0},null,{"$f":"IF(CRSDATA!V162=\"\",\"\",CRSDATA!V162)","v":""},{"$f":"key_row(CRSDATA!W162,CRSDATA!X162,CRSDATA!AK162,CRSDATA!AJ162,CRSDATA!P162,CRSDATA!V162)","v":""},{"$f":"CRSDATA!P162","v":0},{"$f":"CRSDATA!J162","v":0},{"$f":"CRSDATA!I162","v":0},{"$f":"IF(LEFT(CRSDATA!N162,2)=\"A0\",\"A00\",IF(LEFT(CRSDATA!N162,3)=\"B02\",\"B02\",IF(LEFT(CRSDATA!N162,3)=\"B03\",\"B03\",IF(CRSDATA!N162=\"B04\",\"C01\",IF(CRSDATA!N162=\"H01\",\"H00\",IF(OR(CRSDATA!N162=\"H02\",CRSDATA!N162=\"H03\",CRSDATA!N162=\"H04\",CRSDATA!N162=\"H05\",CRSDATA!N162=\"H06\"),\"I01\",CRSDATA!N162))))))","v":0},{"$f":"CRSDATA!M162","v":0},{"$f":"IF(CRSDATA!L162=22,\"FA04\",\"\")","v":""},{"$f":"IF(CRSDATA!K162=8,\"FC02\",\"\")","v":""},{"$f":"IF(OR(O162=\"B02\",O162=\"E02\",O162=\"G01\",O162=\"H00\",O162=\"I01\"),2,IF(OR(O162=\"A00\",O162=\"E01\",O162=\"F01\",P162=510,P162=520),1,IF(VLOOKUP(F162,recipient_country!AB:AD,3,FALSE)=\"Part I unallocated by income\",\"\",1)))","v":{"$error":"#N/A"}},{"$f":"CRSDATA!AM162","v":0},{"$f":"CRSDATA!AN162","v":0},{"$f":"CRSDATA!AP162","v":0},{"$f":"CRSDATA!AR162","v":0},{"$f":"CRSDATA!BA162","v":0},null,"",{"$f":"IF(CRSDATA!M162=421,DATEDIF(CRSDATA!B162,CRSDATA!BH162,\"m\"),\"\")","v":""},{"$f":"CRSDATA!AZ162","v":0},{"$f":"CRSDATA!BB162","v":0},{"$f":"CRSDATA!L162","v":0}]
[{"$f":"CRSDATA!A163","v":0},{"$f":"CRSDATA!C163","v":0},{"$f":"CRSDATA!D163","v":0},{"$f":"CRSDATA!F163","v":0},{"$f":"CRSDATA!E163","v":0},{"$f":"IF(CRSDATA!H163=3000,998,CRSDATA!H163)","v":0},{"$f":"CRSDATA!O163","v":0},{"$f":"CRSDATA!U163","v":0},null,{"$f":"IF(CRSDATA!V163=\"\",\"\",CRSDATA!V163)","v":""},{"$f":"key_row(CRSDATA!W163,CRSDATA!X163,CRSDATA!AK163,CRSDATA!AJ163,CRSDATA!P163,CRSDATA!V163)","v":""},{"$f":"CRSDATA!P163","v":0},{"$f":"CRSDATA!J163","v":0},{"$f":"CRSDATA!I163","v":0},{"$f":"IF(LEFT(CRSDATA!N163,2)=\"A0\",\"A00\",IF(LEFT(CRSDATA!N163,3)=\"B02\",\"B02\",IF(LEFT(CRSDATA!N163,3)=\"B03\",\"B03\",IF(CRSDATA!N163=\"B04\",\"C01\",IF(CRSDATA!N163=\"H01\",\"H00\",IF(OR(CRSDATA!N163=\"H02\",CRSDATA!N163=\"H03\",CRSDATA!N163=\"H04\",CRSDATA!N163=\"H05\",CRSDATA!N163=\"H06\"),\"I01\",CRSDATA!N163))))))","v":0},{"$f":"CRSDATA!M163","v":0},{"$f":"IF(CRSDATA!L163=22,\"FA04\",\"\")","v":""},{"$f":"IF(CRSDATA!K163=8,\"FC02\",\"\")","v":""},{"$f":"IF(OR(O163=\"B02\",O163=\"E02\",O163=\"G01\",O163=\"H00\",O163=\"I01\"),2,IF(OR(O163=\"A00\",O163=\"E01\",O163=\"F01\",P163=510,P163=520),1,IF(VLOOKUP(F163,recipient_country!AB:AD,3,FALSE)=\"Part I unallocated by income\",\"\",1)))","v":{"$error":"#N/A"}},{"$f":"CRSDATA!AM163","v":0},{"$f":"CRSDATA!AN163","v":0},{"$f":"CRSDATA!AP163","v":0},{"$f":"CRSDATA!AR163","v":0},{"$f":"CRSDATA!BA163","v":0},null,"",{"$f":"IF(CRSDATA!M163=421,DATEDIF(CRSDATA!B163,CRSDATA!BH163,\"m\"),\"\")","v":""},{"$f":"CRSDATA!AZ163","v":0},{"$f":"CRSDATA!BB163","v":0},{"$f":"CRSDATA!L163","v":0}]
[{"$f":"CRSDATA!A164","v":0},{"$f":"CRSDATA!C164","v":0},{"$f":"CRSDATA!D164","v":0},{"$f":"CRSDATA!F164","v":0},{"$f":"CRSDATA!E164","v":0},{"$f":"IF(CRSDATA!H164=3000,998,CRSDATA!H164)","v":0},{"$f":"CRSDATA!O164","v":0},{"$f":"CRSDATA!U164","v":0},null,{"$f":"IF(CRSDATA!V164=\"\",\"\",CRSDATA!V164)","v":""},{"$f":"key_row(CRSDATA!W164,CRSDATA!X164,CRSDATA!AK164,CRSDATA!AJ164,CRSDATA!P164,CRSDATA!V164)","v":""},{"$f":"CRSDATA!P164","v":0},{"$f":"CRSDATA!J164","v":0},{"$f":"CRSDATA!I164","v":0},{"$f":"IF(LEFT(CRSDATA!N164,2)=\"A0\",\"A00\",IF(LEFT(CRSDATA!N164,3)=\"B02\",\"B02\",IF(LEFT(CRSDATA!N164,3)=\"B03\",\"B03\",IF(CRSDATA!N164=\"B04\",\"C01\",IF(CRSDATA!N164=\"H01\",\"H00\",IF(OR(CRSDATA!N164=\"H02\",CRSDATA!N164=\"H03\",CRSDATA!N164=\"H04\",CRSDATA!N164=\"H05\",CRSDATA!N164=\"H06\"),\"I01\",CRSDATA!N164))))))","v":0},{"$f":"CRSDATA!M164","v":0},{"$f":"IF(CRSDATA!L164=22,\"FA04\",\"\")","v":""},{"$f":"IF(CRSDATA!K164=8,\"FC02\",\"\")","v":""},{"$f":"IF(OR(O164=\"B02\",O164=\"E02\",O164=\"G01\",O164=\"H00\",O164=\"I01\"),2,IF(OR(O164=\"A00\",O164=\"E01\",O164=\"F01\",P164=510,P164=520),1,IF(VLOOKUP(F164,recipient_country!AB:AD,3,FALSE)=\"Part I unallocated by income\",\"\",1)))","v":{"$error":"#N/A"}},{"$f":"CRSDATA!AM164","v":0},{"$f":"CRSDATA!AN164","v":0},{"$f":"CRSDATA!AP164","v":0},{"$f":"CRSDATA!AR164","v":0},{"$f":"CRSDATA!BA164","v":0},null,"",{"$f":"IF(CRSDATA!M164=421,DATEDIF(CRSDATA!B164,CRSDATA!BH164,\"m\"),\"\")","v":""},{"$f":"CRSDATA!AZ164","v":0},{"$f":"CRSDATA!BB164","v":0},{"$f":"CRSDATA!L164","v":0}]
[{"$f":"CRSDATA!A165","v":0},{"$f":"CRSDATA!C165","v":0},{"$f":"CRSDATA!D165","v":0},{"$f":"CRSDATA!F165","v":0},{"$f":"CRSDATA!E165","v":0},{"$f":"IF(CRSDATA!H165=3000,998,CRSDATA!H165)","v":0},{"$f":"CRSDATA!O165","v":0},{"$f":"CRSDATA!U165","v":0},null,{"$f":"IF(CRSDATA!V165=\"\",\"\",CRSDATA!V165)","v":""},{"$f":"key_row(CRSDATA!W165,CRSDATA!X165,CRSDATA!AK165,CRSDATA!AJ165,CRSDATA!P165,CRSDATA!V165)","v":""},{"$f":"CRSDATA!P165","v":0},{"$f":"CRSDATA!J165","v":0},{"$f":"CRSDATA!I165","v":0},{"$f":"IF(LEFT(CRSDATA!N165,2)=\"A0\",\"A00\",IF(LEFT(CRSDATA!N165,3)=\"B02\",\"B02\",IF(LEFT(CRSDATA!N165,3)=\"B03\",\"B03\",IF(CRSDATA!N165=\"B04\",\"C01\",IF(CRSDATA!N165=\"H01\",\"H00\",IF(OR(CRSDATA!N165=\"H02\",CRSDATA!N165=\"H03\",CRSDATA!N165=\"H04\",CRSDATA!N165=\"H05\",CRSDATA!N165=\"H06\"),\"I01\",CRSDATA!N165))))))","v":0},{"$f":"CRSDATA!M165","v":0},{"$f":"IF(CRSDATA!L165=22,\"FA04\",\"\")","v":""},{"$f":"IF(CRSDATA!K165=8,\"FC02\",\"\")","v":""},{"$f":"IF(OR(O165=\"B02\",O165=\"E02\",O165=\"G01\",O165=\"H00\",O165=\"I01\"),2,IF(OR(O165=\"A00\",O165=\"E01\",O165=\"F01\",P165=510,P165=520),1,IF(VLOOKUP(F165,recipient_country!AB:AD,3,FALSE)=\"Part I unallocated by income\",\"\",1)))","v":{"$error":"#N/A"}},{"$f":"CRSDATA!AM165","v":0},{"$f":"CRSDATA!AN165","v":0},{"$f":"CRSDATA!AP165","v":0},{"$f":"CRSDATA!AR165","v":0},{"$f":"CRSDATA!BA165","v":0},null,"",{"$f":"IF(CRSDATA!M165=421,DATEDIF(CRSDATA!B165,CRSDATA!BH165,\"m\"),\"\")","v":""},{"$f":"CRSDATA!AZ165","v":0},{"$f":"CRSDATA!BB165","v":0},{"$f":"CRSDATA!L165","v":0}]
[{"$f":"CRSDATA!A166","v":0},{"$f":"CRSDATA!C166","v":0},{"$f":"CRSDATA!D166","v":0},{"$f":"CRSDATA!F166","v":0},{"$f":"CRSDATA!E166","v":0},{"$f":"IF(CRSDATA!H166=3000,998,CRSDATA!H166)","v":0},{"$f":"CRSDATA!O166","v":0},{"$f":"CRSDATA!U166","v":0},null,{"$f":"IF(CRSDATA!V166=\"\",\"\",CRSDATA!V166)","v":""},{"$f":"key_row(CRSDATA!W166,CRSDATA!X166,CRSDATA!AK166,CRSDATA!AJ166,CRSDATA!P166,CRSDATA!V166)","v":""},{"$f":"CRSDATA!P166","v":0},{"$f":"CRSDATA!J166","v":0},{"$f":"CRSDATA!I166","v":0},{"$f":"IF(LEFT(CRSDATA!N166,2)=\"A0\",\"A00\",IF(LEFT(CRSDATA!N166,3)=\"B02\",\"B02\",IF(LEFT(CRSDATA!N166,3)=\"B03\",\"B03\",IF(CRSDATA!N166=\"B04\",\"C01\",IF(CRSDATA!N166=\"H01\",\"H00\",IF(OR(CRSDATA!N166=\"H02\",CRSDATA!N166=\"H03\",CRSDATA!N166=\"H04\",CRSDATA!N166=\"H05\",CRSDATA!N166=\"H06\"),\"I01\",CRSDATA!N166))))))","v":0},{"$f":"CRSDATA!M166","v":0},{"$f":"IF(CRSDATA!L166=22,\"FA04\",\"\")","v":""},{"$f":"IF(CRSDATA!K166=8,\"FC02\",\"\")","v":""},{"$f":"IF(OR(O166=\"B02\",O166=\"E02\",O166=\"G01\",O166=\"H00\",O166=\"I01\"),2,IF(OR(O166=\"A00\",O166=\"E01\",O166=\"F01\",P166=510,P166=520),1,IF(VLOOKUP(F166,recipient_country!AB:AD,3,FALSE)=\"Part I unallocated by income\",\"\",1)))","v":{"$error":"#N/A"}},{"$f":"CRSDATA!AM166","v":0},{"$f":"CRSDATA!AN166","v":0},{"$f":"CRSDATA!AP166","v":0},{"$f":"CRSDATA!AR166","v":0},{"$f":"CRSDATA!BA166","v":0},null,"",{"$f":"IF(CRSDATA!M166=421,DATEDIF(CRSDATA!B166,CRSDATA!BH166,\"m\"),\"\")","v":""},{"$f":"CRSDATA!AZ166","v":0},{"$f":"CRSDATA!BB166","v":0},{"$f":"CRSDATA!L166","v":0}]
[{"$f":"CRSDATA!A167","v":0},{"$f":"CRSDATA!C167","v":0},{"$f":"CRSDATA!D167","v":0},{"$f":"CRSDATA!F167","v":0},{"$f":"CRSDATA!E167","v":0},{"$f":"IF(CRSDATA!H167=3000,998,CRSDATA!H167)","v":0},{"$f":"CRSDATA!O167","v":0},{"$f":"CRSDATA!U167","v":0},null,{"$f":"IF(CRSDATA!V167=\"\",\"\",CRSDATA!V167)","v":""},{"$f":"key_row(CRSDATA!W167,CRSDATA!X167,CRSDATA!AK167,CRSDATA!AJ167,CRSDATA!P167,CRSDATA!V167)","v":""},{"$f":"CRSDATA!P167","v":0},{"$f":"CRSDATA!J167","v":0},{"$f":"CRSDATA!I167","v":0},{"$f":"IF(LEFT(CRSDATA!N167,2)=\"A0\",\"A00\",IF(LEFT(CRSDATA!N167,3)=\"B02\",\"B02\",IF(LEFT(CRSDATA!N167,3)=\"B03\",\"B03\",IF(CRSDATA!N167=\"B04\",\"C01\",IF(CRSDATA!N167=\"H01\",\"H00\",IF(OR(CRSDATA!N167=\"H02\",CRSDATA!N167=\"H03\",CRSDATA!N167=\"H04\",CRSDATA!N167=\"H05\",CRSDATA!N167=\"H06\"),\"I01\",CRSDATA!N167))))))","v":0},{"$f":"CRSDATA!M167","v":0},{"$f":"IF(CRSDATA!L167=22,\"FA04\",\"\")","v":""},{"$f":"IF(CRSDATA!K167=8,\"FC02\",\"\")","v":""},{"$f":"IF(OR(O167=\"B02\",O167=\"E02\",O167=\"G01\",O167=\"H00\",O167=\"I01\"),2,IF(OR(O167=\"A00\",O167=\"E01\",O167=\"F01\",P167=510,P167=520),1,IF(VLOOKUP(F167,recipient_country!AB:AD,3,FALSE)=\"Part I unallocated by income\",\"\",1)))","v":{"$error":"#N/A"}},{"$f":"CRSDATA!AM167","v":0},{"$f":"CRSDATA!AN167","v":0},{"$f":"CRSDATA!AP167","v":0},{"$f":"CRSDATA!AR167","v":0},{"$f":"CRSDATA!BA167","v":0},null,"",{"$f":"IF(CRSDATA!M167=421,DATEDIF(CRSDATA!B167,CRSDATA!BH167,\"m\"),\"\")","v":""},{"$f":"CRSDATA!AZ167","v":0},{"$f":"CRSDATA!BB167","v":0},{"$f":"CRSDATA!L167","v":0}]
[{"$f":"CRSDATA!A168","v":0},{"$f":"CRSDATA!C168","v":0},{"$f":"CRSDATA!D168","v":0},{"$f":"CRSDATA!F168","v":0},{"$f":"CRSDATA!E168","v":0},{"$f":"IF(CRSDATA!H168=3000,998,CRSDATA!H168)","v":0},{"$f":"CRSDATA!O168","v":0},{"$f":"CRSDATA!U168","v":0},null,{"$f":"IF(CRSDATA!V168=\"\",\"\",CRSDATA!V168)","v":""},{"$f":"key_row(CRSDATA!W168,CRSDATA!X168,CRSDATA!AK168,CRSDATA!AJ168,CRSDATA!P168,CRSDATA!V168)","v":""},{"$f":"CRSDATA!P168","v":0},{"$f":"CRSDATA!J168","v":0},{"$f":"CRSDATA!I168","v":0},{"$f":"IF(LEFT(CRSDATA!N168,2)=\"A0\",\"A00\",IF(LEFT(CRSDATA!N168,3)=\"B02\",\"B02\",IF(LEFT(CRSDATA!N168,3)=\"B03\",\"B03\",IF(CRSDATA!N168=\"B04\",\"C01\",IF(CRSDATA!N168=\"H01\",\"H00\",IF(OR(CRSDATA!N168=\"H02\",CRSDATA!N168=\"H03\",CRSDATA!N168=\"H04\",CRSDATA!N168=\"H05\",CRSDATA!N168=\"H06\"),\"I01\",CRSDATA!N168))))))","v":0},{"$f":"CRSDATA!M168","v":0},{"$f":"IF(CRSDATA!L168=22,\"FA04\",\"\")","v":""},{"$f":"IF(CRSDATA!K168=8,\"FC02\",\"\")","v":""},{"$f":"IF(OR(O168=\"B02\",O168=\"E02\",O168=\"G01\",O168=\"H00\",O168=\"I01\"),2,IF(OR(O168=\"A00\",O168=\"E01\",O168=\"F01\",P168=510,P168=520),1,IF(VLOOKUP(F168,recipient_country!AB:AD,3,FALSE)=\"Part I unallocated by income\",\"\",1)))","v":{"$error":"#N/A"}},{"$f":"CRSDATA!AM168","v":0},{"$f":"CRSDATA!AN168","v":0},{"$f":"CRSDATA!AP168","v":0},{"$f":"CRSDATA!AR168","v":0},{"$f":"CRSDATA!BA168","v":0},null,"",{"$f":"IF(CRSDATA!M168=421,DATEDIF(CRSDATA!B168,CRSDATA!BH168,\"m\"),\"\")","v":""},{"$f":"CRSDATA!AZ168","v":0},{"$f":"CRSDATA!BB168","v":0},{"$f":"CRSDATA!L168","v":0}]
[{"$f":"CRSDATA!A169","v":0},{"$f":"CRSDATA!C169","v":0},{"$f":"CRSDATA!D169","v":0},{"$f":"CRSDATA!F169","v":0},{"$f":"CRSDATA!E169","v":0},{"$f":"IF(CRSDATA!H169=3000,998,CRSDATA!H169)","v":0},{"$f":"CRSDATA!O169","v":0},{"$f":"CRSDATA!U169","v":0},null,{"$f":"IF(CRSDATA!V169=\"\",\"\",CRSDATA!V169)","v":""},{"$f":"key_row(CRSDATA!W169,CRSDATA!X169,CRSDATA!AK169,CRSDATA!AJ169,CRSDATA!P169,CRSDATA!V169)","v":""},{"$f":"CRSDATA!P169","v":0},{"$f":"CRSDATA!J169","v":0},{"$f":"CRSDATA!I169","v":0},{"$f":"IF(LEFT(CRSDATA!N169,2)=\"A0\",\"A00\",IF(LEFT(CRSDATA!N169,3)=\"B02\",\"B02\",IF(LEFT(CRSDATA!N169,3)=\"B03\",\"B03\",IF(CRSDATA!N169=\"B04\",\"C01\",IF(CRSDATA!N169=\"H01\",\"H00\",IF(OR(CRSDATA!N169=\"H02\",CRSDATA!N169=\"H03\",CRSDATA!N169=\"H04\",CRSDATA!N169=\"H05\",CRSDATA!N169=\"H06\"),\"I01\",CRSDATA!N169))))))","v":0},{"$f":"CRSDATA!M169","v":0},{"$f":"IF(CRSDATA!L169=22,\"FA04\",\"\")","v":""},{"$f":"IF(CRSDATA!K169=8,\"FC02\",\"\")","v":""},{"$f":"IF(OR(O169=\"B02\",O169=\"E02\",O169=\"G01\",O169=\"H00\",O169=\"I01\"),2,IF(OR(O169=\"A00\",O169=\"E01\",O169=\"F01\",P169=510,P169=520),1,IF(VLOOKUP(F169,recipient_country!AB:AD,3,FALSE)=\"Part I unallocated by income\",\"\",1)))","v":{"$error":"#N/A"}},{"$f":"CRSDATA!AM169","v":0},{"$f":"CRSDATA!AN169","v":0},{"$f":"CRSDATA!AP169","v":0},{"$f":"CRSDATA!AR169","v":0},{"$f":"CRSDATA!BA169","v":0},null,"",{"$f":"IF(CRSDATA!M169=421,DATEDIF(CRSDATA!B169,CRSDATA!BH169,\"m\"),\"\")","v":""},{"$f":"CRSDATA!AZ169","v":0},{"$f":"CRSDATA!BB169","v":0},{"$f":"CRSDATA!L169","v":0}]
[{"$f":"CRSDATA!A170","v":0},{"$f":"CRSDATA!C170","v":0},{"$f":"CRSDATA!D170","v":0},{"$f":"CRSDATA!F170","v":0},{"$f":"CRSDATA!E170","v":0},{"$f":"IF(CRSDATA!H170=3000,998,CRSDATA!H170)","v":0},{"$f":"CRSDATA!O170","v":0},{"$f":"CRSDATA!U170","v":0},null,{"$f":"IF(CRSDATA!V170=\"\",\"\",CRSDATA!V170)","v":""},{"$f":"key_row(CRSDATA!W170,CRSDATA!X170,CRSDATA!AK170,CRSDATA!AJ170,CRSDATA!P170,CRSDATA!V170)","v":""},{"$f":"CRSDATA!P170","v":0},{"$f":"CRSDATA!J170","v":0},{"$f":"CRSDATA!I170","v":0},{"$f":"IF(LEFT(CRSDATA!N170,2)=\"A0\",\"A00\",IF(LEFT(CRSDATA!N170,3)=\"B02\",\"B02\",IF(LEFT(CRSDATA!N170,3)=\"B03\",\"B03\",IF(CRSDATA!N170=\"B04\",\"C01\",IF(CRSDATA!N170=\"H01\",\"H00\",IF(OR(CRSDATA!N170=\"H02\",CRSDATA!N170=\"H03\",CRSDATA!N170=\"H04\",CRSDATA!N170=\"H05\",CRSDATA!N170=\"H06\"),\"I01\",CRSDATA!N170))))))","v":0},{"$f":"CRSDATA!M170","v":0},{"$f":"IF(CRSDATA!L170=22,\"FA04\",\"\")","v":""},{"$f":"IF(CRSDATA!K170=8,\"FC02\",\"\")","v":""},{"$f":"IF(OR(O170=\"B02\",O170=\"E02\",O170=\"G01\",O170=\"H00\",O170=\"I01\"),2,IF(OR(O170=\"A00\",O170=\"E01\",O170=\"F01\",P170=510,P170=520),1,IF(VLOOKUP(F170,recipient_country!AB:AD,3,FALSE)=\"Part I unallocated by income\",\"\",1)))","v":{"$error":"#N/A"}},{"$f":"CRSDATA!AM170","v":0},{"$f":"CRSDATA!AN170","v":0},{"$f":"CRSDATA!AP170","v":0},{"$f":"CRSDATA!AR170","v":0},{"$f":"CRSDATA!BA170","v":0},null,"",{"$f":"IF(CRSDATA!M170=421,DATEDIF(CRSDATA!B170,CRSDATA!BH170,\"m\"),\"\")","v":""},{"$f":"CRSDATA!AZ170","v":0},{"$f":"CRSDATA!BB170","v":0},{"$f":"CRSDATA!L170","v":0}]
[{"$f":"CRSDATA!A171","v":0},{"$f":"CRSDATA!C171","v":0},{"$f":"CRSDATA!D171","v":0},{"$f":"CRSDATA!F171","v":0},{"$f":"CRSDATA!E171","v":0},{"$f":"IF(CRSDATA!H171=3000,998,CRSDATA!H171)","v":0},{"$f":"CRSDATA!O171","v":0},{"$f":"CRSDATA!U171","v":0},null,{"$f":"IF(CRSDATA!V171=\"\",\"\",CRSDATA!V171)","v":""},{"$f":"key_row(CRSDATA!W171,CRSDATA!X171,CRSDATA!AK171,CRSDATA!AJ171,CRSDATA!P171,CRSDATA!V171)","v":""},{"$f":"CRSDATA!P171","v":0},{"$f":"CRSDATA!J171","v":0},{"$f":"CRSDATA!I171","v":0},{"$f":"IF(LEFT(CRSDATA!N171,2)=\"A0\",\"A00\",IF(LEFT(CRSDATA!N171,3)=\"B02\",\"B02\",IF(LEFT(CRSDATA!N171,3)=\"B03\",\"B03\",IF(CRSDATA!N171=\"B04\",\"C01\",IF(CRSDATA!N171=\"H01\",\"H00\",IF(OR(CRSDATA!N171=\"H02\",CRSDATA!N171=\"H03\",CRSDATA!N171=\"H04\",CRSDATA!N171=\"H05\",CRSDATA!N171=\"H06\"),\"I01\",CRSDATA!N171))))))","v":0},{"$f":"CRSDATA!M171","v":0},{"$f":"IF(CRSDATA!L171=22,\"FA04\",\"\")","v":""},{"$f":"IF(CRSDATA!K171=8,\"FC02\",\"\")","v":""},{"$f":"IF(OR(O171=\"B02\",O171=\"E02\",O171=\"G01\",O171=\"H00\",O171=\"I01\"),2,IF(OR(O171=\"A00\",O171=\"E01\",O171=\"F01\",P171=510,P171=520),1,IF(VLOOKUP(F171,recipient_country!AB:AD,3,FALSE)=\"Part I unallocated by income\",\"\",1)))","v":{"$error":"#N/A"}},{"$f":"CRSDATA!AM171","v":0},{"$f":"CRSDATA!AN171","v":0},{"$f":"CRSDATA!AP171","v":0},{"$f":"CRSDATA!AR171","v":0},{"$f":"CRSDATA!BA171","v":0},null,"",{"$f":"IF(CRSDATA!M171=421,DATEDIF(CRSDATA!B171,CRSDATA!BH171,\"m\"),\"\")","v":""},{"$f":"CRSDATA!AZ171","v":0},{"$f":"CRSDATA!BB171","v":0},{"$f":"CRSDATA!L171","v":0}]
[{"$f":"CRSDATA!A172","v":0},{"$f":"CRSDATA!C172","v":0},{"$f":"CRSDATA!D172","v":0},{"$f":"CRSDATA!F172","v":0},{"$f":"CRSDATA!E172","v":0},{"$f":"IF(CRSDATA!H172=3000,998,CRSDATA!H172)","v":0},{"$f":"CRSDATA!O172","v":0},{"$f":"CRSDATA!U172","v":0},null,{"$f":"IF(CRSDATA!V172=\"\",\"\",CRSDATA!V172)","v":""},{"$f":"key_row(CRSDATA!W172,CRSDATA!X172,CRSDATA!AK172,CRSDATA!AJ172,CRSDATA!P172,CRSDATA!V172)","v":""},{"$f":"CRSDATA!P172","v":0},{"$f":"CRSDATA!J172","v":0},{"$f":"CRSDATA!I172","v":0},{"$f":"IF(LEFT(CRSDATA!N172,2)=\"A0\",\"A00\",IF(LEFT(CRSDATA!N172,3)=\"B02\",\"B02\",IF(LEFT(CRSDATA!N172,3)=\"B03\",\"B03\",IF(CRSDATA!N172=\"B04\",\"C01\",IF(CRSDATA!N172=\"H01\",\"H00\",IF(OR(CRSDATA!N172=\"H02\",CRSDATA!N172=\"H03\",CRSDATA!N172=\"H04\",CRSDATA!N172=\"H05\",CRSDATA!N172=\"H06\"),\"I01\",CRSDATA!N172))))))","v":0},{"$f":"CRSDATA!M172","v":0},{"$f":"IF(CRSDATA!L172=22,\"FA04\",\"\")","v":""},{"$f":"IF(CRSDATA!K172=8,\"FC02\",\"\")","v":""},{"$f":"IF(OR(O172=\"B02\",O172=\"E02\",O172=\"G01\",O172=\"H00\",O172=\"I01\"),2,IF(OR(O172=\"A00\",O172=\"E01\",O172=\"F01\",P172=510,P172=520),1,IF(VLOOKUP(F172,recipient_country!AB:AD,3,FALSE)=\"Part I unallocated by income\",\"\",1)))","v":{"$error":"#N/A"}},{"$f":"CRSDATA!AM172","v":0},{"$f":"CRSDATA!AN172","v":0},{"$f":"CRSDATA!AP172","v":0},{"$f":"CRSDATA!AR172","v":0},{"$f":"CRSDATA!BA172","v":0},null,"",{"$f":"IF(CRSDATA!M172=421,DATEDIF(CRSDATA!B172,CRSDATA!BH172,\"m\"),\"\")","v":""},{"$f":"CRSDATA!AZ172","v":0},{"$f":"CRSDATA!BB172","v":0},{"$f":"CRSDATA!L172","v":0}]
[{"$f":"CRSDATA!A173","v":0},{"$f":"CRSDATA!C173","v":0},{"$f":"CRSDATA!D173","v":0},{"$f":"CRSDATA!F173","v":0},{"$f":"CRSDATA!E173","v":0},{"$f":"IF(CRSDATA!H173=3000,998,CRSDATA!H173)","v":0},{"$f":"CRSDATA!O173","v":0},{"$f":"CRSDATA!U173","v":0},null,{"$f":"IF(CRSDATA!V173=\"\",\"\",CRSDATA!V173)","v":""},{"$f":"key_row(CRSDATA!W173,CRSDATA!X173,CRSDATA!AK173,CRSDATA!AJ173,CRSDATA!P173,CRSDATA!V173)","v":""},{"$f":"CRSDATA!P173","v":0},{"$f":"CRSDATA!J173","v":0},{"$f":"CRSDATA!I173","v":0},{"$f":"IF(LEFT(CRSDATA!N173,2)=\"A0\",\"A00\",IF(LEFT(CRSDATA!N173,3)=\"B02\",\"B02\",IF(LEFT(CRSDATA!N173,3)=\"B03\",\"B03\",IF(CRSDATA!N173=\"B04\",\"C01\",IF(CRSDATA!N173=\"H01\",\"H00\",IF(OR(CRSDATA!N173=\"H02\",CRSDATA!N173=\"H03\",CRSDATA!N173=\"H04\",CRSDATA!N173=\"H05\",CRSDATA!N173=\"H06\"),\"I01\",CRSDATA!N173))))))","v":0},{"$f":"CRSDATA!M173","v":0},{"$f":"IF(CRSDATA!L173=22,\"FA04\",\"\")","v":""},{"$f":"IF(CRSDATA!K173=8,\"FC02\",\"\")","v":""},{"$f":"IF(OR(O173=\"B02\",O173=\"E02\",O173=\"G01\",O173=\"H00\",O173=\"I01\"),2,IF(OR(O173=\"A00\",O173=\"E01\",O173=\"F01\",P173=510,P173=520),1,IF(VLOOKUP(F173,recipient_country!AB:AD,3,FALSE)=\"Part I unallocated by income\",\"\",1)))","v":{"$error":"#N/A"}},{"$f":"CRSDATA!AM173","v":0},{"$f":"CRSDATA!AN173","v":0},{"$f":"CRSDATA!AP173","v":0},{"$f":"CRSDATA!AR173","v":0},{"$f":"CRSDATA!BA173","v":0},null,"",{"$f":"IF(CRSDATA!M173=421,DATEDIF(CRSDATA!B173,CRSDATA!BH173,\"m\"),\"\")","v":""},{"$f":"CRSDATA!AZ173","v":0},{"$f":"CRSDATA!BB173","v":0},{"$f":"CRSDATA!L173","v":0}]
[{"$f":"CRSDATA!A174","v":0},{"$f":"CRSDATA!C174","v":0},{"$f":"CRSDATA!D174","v":0},{"$f":"CRSDATA!F174","v":0},{"$f":"CRSDATA!E174","v":0},{"$f":"IF(CRSDATA!H174=3000,998,CRSDATA!H174)","v":0},{"$f":"CRSDATA!O174","v":0},{"$f":"CRSDATA!U174","v":0},null,{"$f":"IF(CRSDATA!V174=\"\",\"\",CRSDATA!V174)","v":""},{"$f":"key_row(CRSDATA!W174,CRSDATA!X174,CRSDATA!AK174,CRSDATA!AJ174,CRSDATA!P174,CRSDATA!V174)","v":""},{"$f":"CRSDATA!P174","v":0},{"$f":"CRSDATA!J174","v":0},{"$f":"CRSDATA!I174","v":0},{"$f":"IF(LEFT(CRSDATA!N174,2)=\"A0\",\"A00\",IF(LEFT(CRSDATA!N174,3)=\"B02\",\"B02\",IF(LEFT(CRSDATA!N174,3)=\"B03\",\"B03\",IF(CRSDATA!N174=\"B04\",\"C01\",IF(CRSDATA!N174=\"H01\",\"H00\",IF(OR(CRSDATA!N174=\"H02\",CRSDATA!N174=\"H03\",CRSDATA!N174=\"H04\",CRSDATA!N174=\"H05\",CRSDATA!N174=\"H06\"),\"I01\",CRSDATA!N174))))))","v":0},{"$f":"CRSDATA!M174","v":0},{"$f":"IF(CRSDATA!L174=22,\"FA04\",\"\")","v":""},{"$f":"IF(CRSDATA!K174=8,\"FC02\",\"\")","v":""},{"$f":"IF(OR(O174=\"B02\",O174=\"E02\",O174=\"G01\",O174=\"H00\",O174=\"I01\"),2,IF(OR(O174=\"A00\",O174=\"E01\",O174=\"F01\",P174=510,P174=520),1,IF(VLOOKUP(F174,recipient_country!AB:AD,3,FALSE)=\"Part I unallocated by income\",\"\",1)))","v":{"$error":"#N/A"}},{"$f":"CRSDATA!AM174","v":0},{"$f":"CRSDATA!AN174","v":0},{"$f":"CRSDATA!AP174","v":0},{"$f":"CRSDATA!AR174","v":0},{"$f":"CRSDATA!BA174","v":0},null,"",{"$f":"IF(CRSDATA!M174=421,DATEDIF(CRSDATA!B174,CRSDATA!BH174,\"m\"),\"\")","v":""},{"$f":"CRSDATA!AZ174","v":0},{"$f":"CRSDATA!BB174","v":0},{"$f":"CRSDATA!L174","v":0}]
[{"$f":"CRSDATA!A175","v":0},{"$f":"CRSDATA!C175","v":0},{"$f":"CRSDATA!D175","v":0},{"$f":"CRSDATA!F175","v":0},{"$f":"CRSDATA!E175","v":0},{"$f":"IF(CRSDATA!H175=3000,998,CRSDATA!H175)","v":0},{"$f":"CRSDATA!O175","v":0},{"$f":"CRSDATA!U175","v":0},null,{"$f":"IF(CRSDATA!V175=\"\",\"\",CRSDATA!V175)","v":""},{"$f":"key_row(CRSDATA!W175,CRSDATA!X175,CRSDATA!AK175,CRSDATA!AJ175,CRSDATA!P175,CRSDATA!V175)","v":""},{"$f":"CRSDATA!P175","v":0},{"$f":"CRSDATA!J175","v":0},{"$f":"CRSDATA!I175","v":0},{"$f":"IF(LEFT(CRSDATA!N175,2)=\"A0\",\"A00\",IF(LEFT(CRSDATA!N175,3)=\"B02\",\"B02\",IF(LEFT(CRSDATA!N175,3)=\"B03\",\"B03\",IF(CRSDATA!N175=\"B04\",\"C01\",IF(CRSDATA!N175=\"H01\",\"H00\",IF(OR(CRSDATA!N175=\"H02\",CRSDATA!N175=\"H03\",CRSDATA!N175=\"H04\",CRSDATA!N175=\"H05\",CRSDATA!N175=\"H06\"),\"I01\",CRSDATA!N175))))))","v":0},{"$f":"CRSDATA!M175","v":0},{"$f":"IF(CRSDATA!L175=22,\"FA04\",\"\")","v":""},{"$f":"IF(CRSDATA!K175=8,\"FC02\",\"\")","v":""},{"$f":"IF(OR(O175=\"B02\",O175=\"E02\",O175=\"G01\",O175=\"H00\",O175=\"I01\"),2,IF(OR(O175=\"A00\",O175=\"E01\",O175=\"F01\",P175=510,P175=520),1,IF(VLOOKUP(F175,recipient_country!AB:AD,3,FALSE)=\"Part I unallocated by income\",\"\",1)))","v":{"$error":"#N/A"}},{"$f":"CRSDATA!AM175","v":0},{"$f":"CRSDATA!AN175","v":0},{"$f":"CRSDATA!AP175","v":0},{"$f":"CRSDATA!AR175","v":0},{"$f":"CRSDATA!BA175","v":0},null,"",{"$f":"IF(CRSDATA!M175=421,DATEDIF(CRSDATA!B175,CRSDATA!BH175,\"m\"),\"\")","v":""},{"$f":"CRSDATA!AZ175","v":0},{"$f":"CRSDATA!BB175","v":0},{"$f":"CRSDATA!L175","v":0}]
[{"$f":"CRSDATA!A176","v":0},{"$f":"CRSDATA!C176","v":0},{"$f":"CRSDATA!D176","v":0},{"$f":"CRSDATA!F176","v":0},{"$f":"CRSDATA!E176","v":0},{"$f":"IF(CRSDATA!H176=3000,998,CRSDATA!H176)","v":0},{"$f":"CRSDATA!O176","v":0},{"$f":"CRSDATA!U176","v":0},null,{"$f":"IF(CRSDATA!V176=\"\",\"\",CRSDATA!V176)","v":""},{"$f":"key_row(CRSDATA!W176,CRSDATA!X176,CRSDATA!AK176,CRSDATA!AJ176,CRSDATA!P176,CRSDATA!V176)","v":""},{"$f":"CRSDATA!P176","v":0},{"$f":"CRSDATA!J176","v":0},{"$f":"CRSDATA!I176","v":0},{"$f":"IF(LEFT(CRSDATA!N176,2)=\"A0\",\"A00\",IF(LEFT(CRSDATA!N176,3)=\"B02\",\"B02\",IF(LEFT(CRSDATA!N176,3)=\"B03\",\"B03\",IF(CRSDATA!N176=\"B04\",\"C01\",IF(CRSDATA!N176=\"H01\",\"H00\",IF(OR(CRSDATA!N176=\"H02\",CRSDATA!N176=\"H03\",CRSDATA!N176=\"H04\",CRSDATA!N176=\"H05\",CRSDATA!N176=\"H06\"),\"I01\",CRSDATA!N176))))))","v":0},{"$f":"CRSDATA!M176","v":0},{"$f":"IF(CRSDATA!L176=22,\"FA04\",\"\")","v":""},{"$f":"IF(CRSDATA!K176=8,\"FC02\",\"\")","v":""},{"$f":"IF(OR(O176=\"B02\",O176=\"E02\",O176=\"G01\",O176=\"H00\",O176=\"I01\"),2,IF(OR(O176=\"A00\",O176=\"E01\",O176=\"F01\",P176=510,P176=520),1,IF(VLOOKUP(F176,recipient_country!AB:AD,3,FALSE)=\"Part I unallocated by income\",\"\",1)))","v":{"$error":"#N/A"}},{"$f":"CRSDATA!AM176","v":0},{"$f":"CRSDATA!AN176","v":0},{"$f":"CRSDATA!AP176","v":0},{"$f":"CRSDATA!AR176","v":0},{"$f":"CRSDATA!BA176","v":0},null,"",{"$f":"IF(CRSDATA!M176=421,DATEDIF(CRSDATA!B176,CRSDATA!BH176,\"m\"),\"\")","v":""},{"$f":"CRSDATA!AZ176","v":0},{"$f":"CRSDATA!BB176","v":0},{"$f":"CRSDATA!L176","v":0}]
[{"$f":"CRSDATA!A177","v":0},{"$f":"CRSDATA!C177","v":0},{"$f":"CRSDATA!D177","v":0},{"$f":"CRSDATA!F177","v":0},{"$f":"CRSDATA!E177","v":0},{"$f":"IF(CRSDATA!H177=3000,998,CRSDATA!H177)","v":0},{"$f":"CRSDATA!O177","v":0},{"$f":"CRSDATA!U177","v":0},null,{"$f":"IF(CRSDATA!V177=\"\",\"\",CRSDATA!V177)","v":""},{"$f":"key_row(CRSDATA!W177,CRSDATA!X177,CRSDATA!AK177,CRSDATA!AJ177,CRSDATA!P177,CRSDATA!V177)","v":""},{"$f":"CRSDATA!P177","v":0},{"$f":"CRSDATA!J177","v":0},{"$f":"CRSDATA!I177","v":0},{"$f":"IF(LEFT(CRSDATA!N177,2)=\"A0\",\"A00\",IF(LEFT(CRSDATA!N177,3)=\"B02\",\"B02\",IF(LEFT(CRSDATA!N177,3)=\"B03\",\"B03\",IF(CRSDATA!N177=\"B04\",\"C01\",IF(CRSDATA!N177=\"H01\",\"H00\",IF(OR(CRSDATA!N177=\"H02\",CRSDATA!N177=\"H03\",CRSDATA!N177=\"H04\",CRSDATA!N177=\"H05\",CRSDATA!N177=\"H06\"),\"I01\",CRSDATA!N177))))))","v":0},{"$f":"CRSDATA!M177","v":0},{"$f":"IF(CRSDATA!L177=22,\"FA04\",\"\")","v":""},{"$f":"IF(CRSDATA!K177=8,\"FC02\",\"\")","v":""},{"$f":"IF(OR(O177=\"B02\",O177=\"E02\",O177=\"G01\",O177=\"H00\",O177=\"I01\"),2,IF(OR(O177=\"A00\",O177=\"E01\",O177=\"F01\",P177=510,P177=520),1,IF(VLOOKUP(F177,recipient_country!AB:AD,3,FALSE)=\"Part I unallocated by income\",\"\",1)))","v":{"$error":"#N/A"}},{"$f":"CRSDATA!AM177","v":0},{"$f":"CRSDATA!AN177","v":0},{"$f":"CRSDATA!AP177","v":0},{"$f":"CRSDATA!AR177","v":0},{"$f":"CRSDATA!BA177","v":0},null,"",{"$f":"IF(CRSDATA!M177=421,DATEDIF(CRSDATA!B177,CRSDATA!BH177,\"m\"),\"\")","v":""},{"$f":"CRSDATA!AZ177","v":0},{"$f":"CRSDATA!BB177","v":0},{"$f":"CRSDATA!L177","v":0}]
[{"$f":"CRSDATA!A178","v":0},{"$f":"CRSDATA!C178","v":0},{"$f":"CRSDATA!D178","v":0},{"$f":"CRSDATA!F178","v":0},{"$f":"CRSDATA!E178","v":0},{"$f":"IF(CRSDATA!H178=3000,998,CRSDATA!H178)","v":0},{"$f":"CRSDATA!O178","v":0},{"$f":"CRSDATA!U178","v":0},null,{"$f":"IF(CRSDATA!V178=\"\",\"\",CRSDATA!V178)","v":""},{"$f":"key_row(CRSDATA!W178,CRSDATA!X178,CRSDATA!AK178,CRSDATA!AJ178,CRSDATA!P178,CRSDATA!V178)","v":""},{"$f":"CRSDATA!P178","v":0},{"$f":"CRSDATA!J178","v":0},{"$f":"CRSDATA!I178","v":0},{"$f":"IF(LEFT(CRSDATA!N178,2)=\"A0\",\"A00\",IF(LEFT(CRSDATA!N178,3)=\"B02\",\"B02\",IF(LEFT(CRSDATA!N178,3)=\"B03\",\"B03\",IF(CRSDATA!N178=\"B04\",\"C01\",IF(CRSDATA!N178=\"H01\",\"H00\",IF(OR(CRSDATA!N178=\"H02\",CRSDATA!N178=\"H03\",CRSDATA!N178=\"H04\",CRSDATA!N178=\"H05\",CRSDATA!N178=\"H06\"),\"I01\",CRSDATA!N178))))))","v":0},{"$f":"CRSDATA!M178","v":0},{"$f":"IF(CRSDATA!L178=22,\"FA04\",\"\")","v":""},{"$f":"IF(CRSDATA!K178=8,\"FC02\",\"\")","v":""},{"$f":"IF(OR(O178=\"B02\",O178=\"E02\",O178=\"G01\",O178=\"H00\",O178=\"I01\"),2,IF(OR(O178=\"A00\",O178=\"E01\",O178=\"F01\",P178=510,P178=520),1,IF(VLOOKUP(F178,recipient_country!AB:AD,3,FALSE)=\"Part I unallocated by income\",\"\",1)))","v":{"$error":"#N/A"}},{"$f":"CRSDATA!AM178","v":0},{"$f":"CRSDATA!AN178","v":0},{"$f":"CRSDATA!AP178","v":0},{"$f":"CRSDATA!AR178","v":0},{"$f":"CRSDATA!BA178","v":0},null,"",{"$f":"IF(CRSDATA!M178=421,DATEDIF(CRSDATA!B178,CRSDATA!BH178,\"m\"),\"\")","v":""},{"$f":"CRSDATA!AZ178","v":0},{"$f":"CRSDATA!BB178","v":0},{"$f":"CRSDATA!L178","v":0}]
[{"$f":"CRSDATA!A179","v":0},{"$f":"CRSDATA!C179","v":0},{"$f":"CRSDATA!D179","v":0},{"$f":"CRSDATA!F179","v":0},{"$f":"CRSDATA!E179","v":0},{"$f":"IF(CRSDATA!H179=3000,998,CRSDATA!H179)","v":0},{"$f":"CRSDATA!O179","v":0},{"$f":"CRSDATA!U179","v":0},null,{"$f":"IF(CRSDATA!V179=\"\",\"\",CRSDATA!V179)","v":""},{"$f":"key_row(CRSDATA!W179,CRSDATA!X179,CRSDATA!AK179,CRSDATA!AJ179,CRSDATA!P179,CRSDATA!V179)","v":""},{"$f":"CRSDATA!P179","v":0},{"$f":"CRSDATA!J179","v":0},{"$f":"CRSDATA!I179","v":0},{"$f":"IF(LEFT(CRSDATA!N179,2)=\"A0\",\"A00\",IF(LEFT(CRSDATA!N179,3)=\"B02\",\"B02\",IF(LEFT(CRSDATA!N179,3)=\"B03\",\"B03\",IF(CRSDATA!N179=\"B04\",\"C01\",IF(CRSDATA!N179=\"H01\",\"H00\",IF(OR(CRSDATA!N179=\"H02\",CRSDATA!N179=\"H03\",CRSDATA!N179=\"H04\",CRSDATA!N179=\"H05\",CRSDATA!N179=\"H06\"),\"I01\",CRSDATA!N179))))))","v":0},{"$f":"CRSDATA!M179","v":0},{"$f":"IF(CRSDATA!L179=22,\"FA04\",\"\")","v":""},{"$f":"IF(CRSDATA!K179=8,\"FC02\",\"\")","v":""},{"$f":"IF(OR(O179=\"B02\",O179=\"E02\",O179=\"G01\",O179=\"H00\",O179=\"I01\"),2,IF(OR(O179=\"A00\",O179=\"E01\",O179=\"F01\",P179=510,P179=520),1,IF(VLOOKUP(F179,recipient_country!AB:AD,3,FALSE)=\"Part I unallocated by income\",\"\",1)))","v":{"$error":"#N/A"}},{"$f":"CRSDATA!AM179","v":0},{"$f":"CRSDATA!AN179","v":0},{"$f":"CRSDATA!AP179","v":0},{"$f":"CRSDATA!AR179","v":0},{"$f":"CRSDATA!BA179","v":0},null,"",{"$f":"IF(CRSDATA!M179=421,DATEDIF(CRSDATA!B179,CRSDATA!BH179,\"m\"),\"\")","v":""},{"$f":"CRSDATA!AZ179","v":0},{"$f":"CRSDATA!BB179","v":0},{"$f":"CRSDATA!L179","v":0}]
[{"$f":"CRSDATA!A180","v":0},{"$f":"CRSDATA!C180","v":0},{"$f":"CRSDATA!D180","v":0},{"$f":"CRSDATA!F180","v":0},{"$f":"CRSDATA!E180","v":0},{"$f":"IF(CRSDATA!H180=3000,998,CRSDATA!H180)","v":0},{"$f":"CRSDATA!O180","v":0},{"$f":"CRSDATA!U180","v":0},null,{"$f":"IF(CRSDATA!V180=\"\",\"\",CRSDATA!V180)","v":""},{"$f":"key_row(CRSDATA!W180,CRSDATA!X180,CRSDATA!AK180,CRSDATA!AJ180,CRSDATA!P180,CRSDATA!V180)","v":""},{"$f":"CRSDATA!P180","v":0},{"$f":"CRSDATA!J180","v":0},{"$f":"CRSDATA!I180","v":0},{"$f":"IF(LEFT(CRSDATA!N180,2)=\"A0\",\"A00\",IF(LEFT(CRSDATA!N180,3)=\"B02\",\"B02\",IF(LEFT(CRSDATA!N180,3)=\"B03\",\"B03\",IF(CRSDATA!N180=\"B04\",\"C01\",IF(CRSDATA!N180=\"H01\",\"H00\",IF(OR(CRSDATA!N180=\"H02\",CRSDATA!N180=\"H03\",CRSDATA!N180=\"H04\",CRSDATA!N180=\"H05\",CRSDATA!N180=\"H06\"),\"I01\",CRSDATA!N180))))))","v":0},{"$f":"CRSDATA!M180","v":0},{"$f":"IF(CRSDATA!L180=22,\"FA04\",\"\")","v":""},{"$f":"IF(CRSDATA!K180=8,\"FC02\",\"\")","v":""},{"$f":"IF(OR(O180=\"B02\",O180=\"E02\",O180=\"G01\",O180=\"H00\",O180=\"I01\"),2,IF(OR(O180=\"A00\",O180=\"E01\",O180=\"F01\",P180=510,P180=520),1,IF(VLOOKUP(F180,recipient_country!AB:AD,3,FALSE)=\"Part I unallocated by income\",\"\",1)))","v":{"$error":"#N/A"}},{"$f":"CRSDATA!AM180","v":0},{"$f":"CRSDATA!AN180","v":0},{"$f":"CRSDATA!AP180","v":0},{"$f":"CRSDATA!AR180","v":0},{"$f":"CRSDATA!BA180","v":0},null,"",{"$f":"IF(CRSDATA!M180=421,DATEDIF(CRSDATA!B180,CRSDATA!BH180,\"m\"),\"\")","v":""},{"$f":"CRSDATA!AZ180","v":0},{"$f":"CRSDATA!BB180","v":0},{"$f":"CRSDATA!L180","v":0}]
[{"$f":"CRSDATA!A181","v":0},{"$f":"CRSDATA!C181","v":0},{"$f":"CRSDATA!D181","v":0},{"$f":"CRSDATA!F181","v":0},{"$f":"CRSDATA!E181","v":0},{"$f":"IF(CRSDATA!H181=3000,998,CRSDATA!H181)","v":0},{"$f":"CRSDATA!O181","v":0},{"$f":"CRSDATA!U181","v":0},null,{"$f":"IF(CRSDATA!V181=\"\",\"\",CRSDATA!V181)","v":""},{"$f":"key_row(CRSDATA!W181,CRSDATA!X181,CRSDATA!AK181,CRSDATA!AJ181,CRSDATA!P181,CRSDATA!V181)","v":""},{"$f":"CRSDATA!P181","v":0},{"$f":"CRSDATA!J181","v":0},{"$f":"CRSDATA!I181","v":0},{"$f":"IF(LEFT(CRSDATA!N181,2)=\"A0\",\"A00\",IF(LEFT(CRSDATA!N181,3)=\"B02\",\"B02\",IF(LEFT(CRSDATA!N181,3)=\"B03\",\"B03\",IF(CRSDATA!N181=\"B04\",\"C01\",IF(CRSDATA!N181=\"H01\",\"H00\",IF(OR(CRSDATA!N181=\"H02\",CRSDATA!N181=\"H03\",CRSDATA!N181=\"H04\",CRSDATA!N181=\"H05\",CRSDATA!N181=\"H06\"),\"I01\",CRSDATA!N181))))))","v":0},{"$f":"CRSDATA!M181","v":0},{"$f":"IF(CRSDATA!L181=22,\"FA04\",\"\")","v":""},{"$f":"IF(CRSDATA!K181=8,\"FC02\",\"\")","v":""},{"$f":"IF(OR(O181=\"B02\",O181=\"E02\",O181=\"G01\",O181=\"H00\",O181=\"I01\"),2,IF(OR(O181=\"A00\",O181=\"E01\",O181=\"F01\",P181=510,P181=520),1,IF(VLOOKUP(F181,recipient_country!AB:AD,3,FALSE)=\"Part I unallocated by income\",\"\",1)))","v":{"$error":"#N/A"}},{"$f":"CRSDATA!AM181","v":0},{"$f":"CRSDATA!AN181","v":0},{"$f":"CRSDATA!AP181","v":0},{"$f":"CRSDATA!AR181","v":0},{"$f":"CRSDATA!BA181","v":0},null,"",{"$f":"IF(CRSDATA!M181=421,DATEDIF(CRSDATA!B181,CRSDATA!BH181,\"m\"),\"\")","v":""},{"$f":"CRSDATA!AZ181","v":0},{"$f":"CRSDATA!BB181","v":0},{"$f":"CRSDATA!L181","v":0}]
[{"$f":"CRSDATA!A182","v":0},{"$f":"CRSDATA!C182","v":0},{"$f":"CRSDATA!D182","v":0},{"$f":"CRSDATA!F182","v":0},{"$f":"CRSDATA!E182","v":0},{"$f":"IF(CRSDATA!H182=3000,998,CRSDATA!H182)","v":0},{"$f":"CRSDATA!O182","v":0},{"$f":"CRSDATA!U182","v":0},null,{"$f":"IF(CRSDATA!V182=\"\",\"\",CRSDATA!V182)","v":""},{"$f":"key_row(CRSDATA!W182,CRSDATA!X182,CRSDATA!AK182,CRSDATA!AJ182,CRSDATA!P182,CRSDATA!V182)","v":""},{"$f":"CRSDATA!P182","v":0},{"$f":"CRSDATA!J182","v":0},{"$f":"CRSDATA!I182","v":0},{"$f":"IF(LEFT(CRSDATA!N182,2)=\"A0\",\"A00\",IF(LEFT(CRSDATA!N182,3)=\"B02\",\"B02\",IF(LEFT(CRSDATA!N182,3)=\"B03\",\"B03\",IF(CRSDATA!N182=\"B04\",\"C01\",IF(CRSDATA!N182=\"H01\",\"H00\",IF(OR(CRSDATA!N182=\"H02\",CRSDATA!N182=\"H03\",CRSDATA!N182=\"H04\",CRSDATA!N182=\"H05\",CRSDATA!N182=\"H06\"),\"I01\",CRSDATA!N182))))))","v":0},{"$f":"CRSDATA!M182","v":0},{"$f":"IF(CRSDATA!L182=22,\"FA04\",\"\")","v":""},{"$f":"IF(CRSDATA!K182=8,\"FC02\",\"\")","v":""},{"$f":"IF(OR(O182=\"B02\",O182=\"E02\",O182=\"G01\",O182=\"H00\",O182=\"I01\"),2,IF(OR(O182=\"A00\",O182=\"E01\",O182=\"F01\",P182=510,P182=520),1,IF(VLOOKUP(F182,recipient_country!AB:AD,3,FALSE)=\"Part I unallocated by income\",\"\",1)))","v":{"$error":"#N/A"}},{"$f":"CRSDATA!AM182","v":0},{"$f":"CRSDATA!AN182","v":0},{"$f":"CRSDATA!AP182","v":0},{"$f":"CRSDATA!AR182","v":0},{"$f":"CRSDATA!BA182","v":0},null,"",{"$f":"IF(CRSDATA!M182=421,DATEDIF(CRSDATA!B182,CRSDATA!BH182,\"m\"),\"\")","v":""},{"$f":"CRSDATA!AZ182","v":0},{"$f":"CRSDATA!BB182","v":0},{"$f":"CRSDATA!L182","v":0}]
[{"$f":"CRSDATA!A183","v":0},{"$f":"CRSDATA!C183","v":0},{"$f":"CRSDATA!D183","v":0},{"$f":"CRSDATA!F183","v":0},{"$f":"CRSDATA!E183","v":0},{"$f":"IF(CRSDATA!H183=3000,998,CRSDATA!H183)","v":0},{"$f":"CRSDATA!O183","v":0},{"$f":"CRSDATA!U183","v":0},null,{"$f":"IF(CRSDATA!V183=\"\",\"\",CRSDATA!V183)","v":""},{"$f":"key_row(CRSDATA!W183,CRSDATA!X183,CRSDATA!AK183,CRSDATA!AJ183,CRSDATA!P183,CRSDATA!V183)","v":""},{"$f":"CRSDATA!P183","v":0},{"$f":"CRSDATA!J183","v":0},{"$f":"CRSDATA!I183","v":0},{"$f":"IF(LEFT(CRSDATA!N183,2)=\"A0\",\"A00\",IF(LEFT(CRSDATA!N183,3)=\"B02\",\"B02\",IF(LEFT(CRSDATA!N183,3)=\"B03\",\"B03\",IF(CRSDATA!N183=\"B04\",\"C01\",IF(CRSDATA!N183=\"H01\",\"H00\",IF(OR(CRSDATA!N183=\"H02\",CRSDATA!N183=\"H03\",CRSDATA!N183=\"H04\",CRSDATA!N183=\"H05\",CRSDATA!N183=\"H06\"),\"I01\",CRSDATA!N183))))))","v":0},{"$f":"CRSDATA!M183","v":0},{"$f":"IF(CRSDATA!L183=22,\"FA04\",\"\")","v":""},{"$f":"IF(CRSDATA!K183=8,\"FC02\",\"\")","v":""},{"$f":"IF(OR(O183=\"B02\",O183=\"E02\",O183=\"G01\",O183=\"H00\",O183=\"I01\"),2,IF(OR(O183=\"A00\",O183=\"E01\",O183=\"F01\",P183=510,P183=520),1,IF(VLOOKUP(F183,recipient_country!AB:AD,3,FALSE)=\"Part I unallocated by income\",\"\",1)))","v":{"$error":"#N/A"}},{"$f":"CRSDATA!AM183","v":0},{"$f":"CRSDATA!AN183","v":0},{"$f":"CRSDATA!AP183","v":0},{"$f":"CRSDATA!AR183","v":0},{"$f":"CRSDATA!BA183","v":0},null,"",{"$f":"IF(CRSDATA!M183=421,DATEDIF(CRSDATA!B183,CRSDATA!BH183,\"m\"),\"\")","v":""},{"$f":"CRSDATA!AZ183","v":0},{"$f":"CRSDATA!BB183","v":0},{"$f":"CRSDATA!L183","v":0}]
[{"$f":"CRSDATA!A184","v":0},{"$f":"CRSDATA!C184","v":0},{"$f":"CRSDATA!D184","v":0},{"$f":"CRSDATA!F184","v":0},{"$f":"CRSDATA!E184","v":0},{"$f":"IF(CRSDATA!H184=3000,998,CRSDATA!H184)","v":0},{"$f":"CRSDATA!O184","v":0},{"$f":"CRSDATA!U184","v":0},null,{"$f":"IF(CRSDATA!V184=\"\",\"\",CRSDATA!V184)","v":""},{"$f":"key_row(CRSDATA!W184,CRSDATA!X184,CRSDATA!AK184,CRSDATA!AJ184,CRSDATA!P184,CRSDATA!V184)","v":""},{"$f":"CRSDATA!P184","v":0},{"$f":"CRSDATA!J184","v":0},{"$f":"CRSDATA!I184","v":0},{"$f":"IF(LEFT(CRSDATA!N184,2)=\"A0\",\"A00\",IF(LEFT(CRSDATA!N184,3)=\"B02\",\"B02\",IF(LEFT(CRSDATA!N184,3)=\"B03\",\"B03\",IF(CRSDATA!N184=\"B04\",\"C01\",IF(CRSDATA!N184=\"H01\",\"H00\",IF(OR(CRSDATA!N184=\"H02\",CRSDATA!N184=\"H03\",CRSDATA!N184=\"H04\",CRSDATA!N184=\"H05\",CRSDATA!N184=\"H06\"),\"I01\",CRSDATA!N184))))))","v":0},{"$f":"CRSDATA!M184","v":0},{"$f":"IF(CRSDATA!L184=22,\"FA04\",\"\")","v":""},{"$f":"IF(CRSDATA!K184=8,\"FC02\",\"\")","v":""},{"$f":"IF(OR(O184=\"B02\",O184=\"E02\",O184=\"G01\",O184=\"H00\",O184=\"I01\"),2,IF(OR(O184=\"A00\",O184=\"E01\",O184=\"F01\",P184=510,P184=520),1,IF(VLOOKUP(F184,recipient_country!AB:AD,3,FALSE)=\"Part I unallocated by income\",\"\",1)))","v":{"$error":"#N/A"}},{"$f":"CRSDATA!AM184","v":0},{"$f":"CRSDATA!AN184","v":0},{"$f":"CRSDATA!AP184","v":0},{"$f":"CRSDATA!AR184","v":0},{"$f":"CRSDATA!BA184","v":0},null,"",{"$f":"IF(CRSDATA!M184=421,DATEDIF(CRSDATA!B184,CRSDATA!BH184,\"m\"),\"\")","v":""},{"$f":"CRSDATA!AZ184","v":0},{"$f":"CRSDATA!BB184","v":0},{"$f":"CRSDATA!L184","v":0}]
[{"$f":"CRSDATA!A185","v":0},{"$f":"CRSDATA!C185","v":0},{"$f":"CRSDATA!D185","v":0},{"$f":"CRSDATA!F185","v":0},{"$f":"CRSDATA!E185","v":0},{"$f":"IF(CRSDATA!H185=3000,998,CRSDATA!H185)","v":0},{"$f":"CRSDATA!O185","v":0},{"$f":"CRSDATA!U185","v":0},null,{"$f":"IF(CRSDATA!V185=\"\",\"\",CRSDATA!V185)","v":""},{"$f":"key_row(CRSDATA!W185,CRSDATA!X185,CRSDATA!AK185,CRSDATA!AJ185,CRSDATA!P185,CRSDATA!V185)","v":""},{"$f":"CRSDATA!P185","v":0},{"$f":"CRSDATA!J185","v":0},{"$f":"CRSDATA!I185","v":0},{"$f":"IF(LEFT(CRSDATA!N185,2)=\"A0\",\"A00\",IF(LEFT(CRSDATA!N185,3)=\"B02\",\"B02\",IF(LEFT(CRSDATA!N185,3)=\"B03\",\"B03\",IF(CRSDATA!N185=\"B04\",\"C01\",IF(CRSDATA!N185=\"H01\",\"H00\",IF(OR(CRSDATA!N185=\"H02\",CRSDATA!N185=\"H03\",CRSDATA!N185=\"H04\",CRSDATA!N185=\"H05\",CRSDATA!N185=\"H06\"),\"I01\",CRSDATA!N185))))))","v":0},{"$f":"CRSDATA!M185","v":0},{"$f":"IF(CRSDATA!L185=22,\"FA04\",\"\")","v":""},{"$f":"IF(CRSDATA!K185=8,\"FC02\",\"\")","v":""},{"$f":"IF(OR(O185=\"B02\",O185=\"E02\",O185=\"G01\",O185=\"H00\",O185=\"I01\"),2,IF(OR(O185=\"A00\",O185=\"E01\",O185=\"F01\",P185=510,P185=520),1,IF(VLOOKUP(F185,recipient_country!AB:AD,3,FALSE)=\"Part I unallocated by income\",\"\",1)))","v":{"$error":"#N/A"}},{"$f":"CRSDATA!AM185","v":0},{"$f":"CRSDATA!AN185","v":0},{"$f":"CRSDATA!AP185","v":0},{"$f":"CRSDATA!AR185","v":0},{"$f":"CRSDATA!BA185","v":0},null,"",{"$f":"IF(CRSDATA!M185=421,DATEDIF(CRSDATA!B185,CRSDATA!BH185,\"m\"),\"\")","v":""},{"$f":"CRSDATA!AZ185","v":0},{"$f":"CRSDATA!BB185","v":0},{"$f":"CRSDATA!L185","v":0}]
[{"$f":"CRSDATA!A186","v":0},{"$f":"CRSDATA!C186","v":0},{"$f":"CRSDATA!D186","v":0},{"$f":"CRSDATA!F186","v":0},{"$f":"CRSDATA!E186","v":0},{"$f":"IF(CRSDATA!H186=3000,998,CRSDATA!H186)","v":0},{"$f":"CRSDATA!O186","v":0},{"$f":"CRSDATA!U186","v":0},null,{"$f":"IF(CRSDATA!V186=\"\",\"\",CRSDATA!V186)","v":""},{"$f":"key_row(CRSDATA!W186,CRSDATA!X186,CRSDATA!AK186,CRSDATA!AJ186,CRSDATA!P186,CRSDATA!V186)","v":""},{"$f":"CRSDATA!P186","v":0},{"$f":"CRSDATA!J186","v":0},{"$f":"CRSDATA!I186","v":0},{"$f":"IF(LEFT(CRSDATA!N186,2)=\"A0\",\"A00\",IF(LEFT(CRSDATA!N186,3)=\"B02\",\"B02\",IF(LEFT(CRSDATA!N186,3)=\"B03\",\"B03\",IF(CRSDATA!N186=\"B04\",\"C01\",IF(CRSDATA!N186=\"H01\",\"H00\",IF(OR(CRSDATA!N186=\"H02\",CRSDATA!N186=\"H03\",CRSDATA!N186=\"H04\",CRSDATA!N186=\"H05\",CRSDATA!N186=\"H06\"),\"I01\",CRSDATA!N186))))))","v":0},{"$f":"CRSDATA!M186","v":0},{"$f":"IF(CRSDATA!L186=22,\"FA04\",\"\")","v":""},{"$f":"IF(CRSDATA!K186=8,\"FC02\",\"\")","v":""},{"$f":"IF(OR(O186=\"B02\",O186=\"E02\",O186=\"G01\",O186=\"H00\",O186=\"I01\"),2,IF(OR(O186=\"A00\",O186=\"E01\",O186=\"F01\",P186=510,P186=520),1,IF(VLOOKUP(F186,recipient_country!AB:AD,3,FALSE)=\"Part I unallocated by income\",\"\",1)))","v":{"$error":"#N/A"}},{"$f":"CRSDATA!AM186","v":0},{"$f":"CRSDATA!AN186","v":0},{"$f":"CRSDATA!AP186","v":0},{"$f":"CRSDATA!AR186","v":0},{"$f":"CRSDATA!BA186","v":0},null,"",{"$f":"IF(CRSDATA!M186=421,DATEDIF(CRSDATA!B186,CRSDATA!BH186,\"m\"),\"\")","v":""},{"$f":"CRSDATA!AZ186","v":0},{"$f":"CRSDATA!BB186","v":0},{"$f":"CRSDATA!L186","v":0}]
[{"$f":"CRSDATA!A187","v":0},{"$f":"CRSDATA!C187","v":0},{"$f":"CRSDATA!D187","v":0},{"$f":"CRSDATA!F187","v":0},{"$f":"CRSDATA!E187","v":0},{"$f":"IF(CRSDATA!H187=3000,998,CRSDATA!H187)","v":0},{"$f":"CRSDATA!O187","v":0},{"$f":"CRSDATA!U187","v":0},null,{"$f":"IF(CRSDATA!V187=\"\",\"\",CRSDATA!V187)","v":""},{"$f":"key_row(CRSDATA!W187,CRSDATA!X187,CRSDATA!AK187,CRSDATA!AJ187,CRSDATA!P187,CRSDATA!V187)","v":""},{"$f":"CRSDATA!P187","v":0},{"$f":"CRSDATA!J187","v":0},{"$f":"CRSDATA!I187","v":0},{"$f":"IF(LEFT(CRSDATA!N187,2)=\"A0\",\"A00\",IF(LEFT(CRSDATA!N187,3)=\"B02\",\"B02\",IF(LEFT(CRSDATA!N187,3)=\"B03\",\"B03\",IF(CRSDATA!N187=\"B04\",\"C01\",IF(CRSDATA!N187=\"H01\",\"H00\",IF(OR(CRSDATA!N187=\"H02\",CRSDATA!N187=\"H03\",CRSDATA!N187=\"H04\",CRSDATA!N187=\"H05\",CRSDATA!N187=\"H06\"),\"I01\",CRSDATA!N187))))))","v":0},{"$f":"CRSDATA!M187","v":0},{"$f":"IF(CRSDATA!L187=22,\"FA04\",\"\")","v":""},{"$f":"IF(CRSDATA!K187=8,\"FC02\",\"\")","v":""},{"$f":"IF(OR(O187=\"B02\",O187=\"E02\",O187=\"G01\",O187=\"H00\",O187=\"I01\"),2,IF(OR(O187=\"A00\",O187=\"E01\",O187=\"F01\",P187=510,P187=520),1,IF(VLOOKUP(F187,recipient_country!AB:AD,3,FALSE)=\"Part I unallocated by income\",\"\",1)))","v":{"$error":"#N/A"}},{"$f":"CRSDATA!AM187","v":0},{"$f":"CRSDATA!AN187","v":0},{"$f":"CRSDATA!AP187","v":0},{"$f":"CRSDATA!AR187","v":0},{"$f":"CRSDATA!BA187","v":0},null,"",{"$f":"IF(CRSDATA!M187=421,DATEDIF(CRSDATA!B187,CRSDATA!BH187,\"m\"),\"\")","v":""},{"$f":"CRSDATA!AZ187","v":0},{"$f":"CRSDATA!BB187","v":0},{"$f":"CRSDATA!L187","v":0}]
[{"$f":"CRSDATA!A188","v":0},{"$f":"CRSDATA!C188","v":0},{"$f":"CRSDATA!D188","v":0},{"$f":"CRSDATA!F188","v":0},{"$f":"CRSDATA!E188","v":0},{"$f":"IF(CRSDATA!H188=3000,998,CRSDATA!H188)","v":0},{"$f":"CRSDATA!O188","v":0},{"$f":"CRSDATA!U188","v":0},null,{"$f":"IF(CRSDATA!V188=\"\",\"\",CRSDATA!V188)","v":""},{"$f":"key_row(CRSDATA!W188,CRSDATA!X188,CRSDATA!AK188,CRSDATA!AJ188,CRSDATA!P188,CRSDATA!V188)","v":""},{"$f":"CRSDATA!P188","v":0},{"$f":"CRSDATA!J188","v":0},{"$f":"CRSDATA!I188","v":0},{"$f":"IF(LEFT(CRSDATA!N188,2)=\"A0\",\"A00\",IF(LEFT(CRSDATA!N188,3)=\"B02\",\"B02\",IF(LEFT(CRSDATA!N188,3)=\"B03\",\"B03\",IF(CRSDATA!N188=\"B04\",\"C01\",IF(CRSDATA!N188=\"H01\",\"H00\",IF(OR(CRSDATA!N188=\"H02\",CRSDATA!N188=\"H03\",CRSDATA!N188=\"H04\",CRSDATA!N188=\"H05\",CRSDATA!N188=\"H06\"),\"I01\",CRSDATA!N188))))))","v":0},{"$f":"CRSDATA!M188","v":0},{"$f":"IF(CRSDATA!L188=22,\"FA04\",\"\")","v":""},{"$f":"IF(CRSDATA!K188=8,\"FC02\",\"\")","v":""},{"$f":"IF(OR(O188=\"B02\",O188=\"E02\",O188=\"G01\",O188=\"H00\",O188=\"I01\"),2,IF(OR(O188=\"A00\",O188=\"E01\",O188=\"F01\",P188=510,P188=520),1,IF(VLOOKUP(F188,recipient_country!AB:AD,3,FALSE)=\"Part I unallocated by income\",\"\",1)))","v":{"$error":"#N/A"}},{"$f":"CRSDATA!AM188","v":0},{"$f":"CRSDATA!AN188","v":0},{"$f":"CRSDATA!AP188","v":0},{"$f":"CRSDATA!AR188","v":0},{"$f":"CRSDATA!BA188","v":0},null,"",{"$f":"IF(CRSDATA!M188=421,DATEDIF(CRSDATA!B188,CRSDATA!BH188,\"m\"),\"\")","v":""},{"$f":"CRSDATA!AZ188","v":0},{"$f":"CRSDATA!BB188","v":0},{"$f":"CRSDATA!L188","v":0}]
[{"$f":"CRSDATA!A189","v":0},{"$f":"CRSDATA!C189","v":0},{"$f":"CRSDATA!D189","v":0},{"$f":"CRSDATA!F189","v":0},{"$f":"CRSDATA!E189","v":0},{"$f":"IF(CRSDATA!H189=3000,998,CRSDATA!H189)","v":0},{"$f":"CRSDATA!O189","v":0},{"$f":"CRSDATA!U189","v":0},null,{"$f":"IF(CRSDATA!V189=\"\",\"\",CRSDATA!V189)","v":""},{"$f":"key_row(CRSDATA!W189,CRSDATA!X189,CRSDATA!AK189,CRSDATA!AJ189,CRSDATA!P189,CRSDATA!V189)","v":""},{"$f":"CRSDATA!P189","v":0},{"$f":"CRSDATA!J189","v":0},{"$f":"CRSDATA!I189","v":0},{"$f":"IF(LEFT(CRSDATA!N189,2)=\"A0\",\"A00\",IF(LEFT(CRSDATA!N189,3)=\"B02\",\"B02\",IF(LEFT(CRSDATA!N189,3)=\"B03\",\"B03\",IF(CRSDATA!N189=\"B04\",\"C01\",IF(CRSDATA!N189=\"H01\",\"H00\",IF(OR(CRSDATA!N189=\"H02\",CRSDATA!N189=\"H03\",CRSDATA!N189=\"H04\",CRSDATA!N189=\"H05\",CRSDATA!N189=\"H06\"),\"I01\",CRSDATA!N189))))))","v":0},{"$f":"CRSDATA!M189","v":0},{"$f":"IF(CRSDATA!L189=22,\"FA04\",\"\")","v":""},{"$f":"IF(CRSDATA!K189=8,\"FC02\",\"\")","v":""},{"$f":"IF(OR(O189=\"B02\",O189=\"E02\",O189=\"G01\",O189=\"H00\",O189=\"I01\"),2,IF(OR(O189=\"A00\",O189=\"E01\",O189=\"F01\",P189=510,P189=520),1,IF(VLOOKUP(F189,recipient_country!AB:AD,3,FALSE)=\"Part I unallocated by income\",\"\",1)))","v":{"$error":"#N/A"}},{"$f":"CRSDATA!AM189","v":0},{"$f":"CRSDATA!AN189","v":0},{"$f":"CRSDATA!AP189","v":0},{"$f":"CRSDATA!AR189","v":0},{"$f":"CRSDATA!BA189","v":0},null,"",{"$f":"IF(CRSDATA!M189=421,DATEDIF(CRSDATA!B189,CRSDATA!BH189,\"m\"),\"\")","v":""},{"$f":"CRSDATA!AZ189","v":0},{"$f":"CRSDATA!BB189","v":0},{"$f":"CRSDATA!L189","v":0}]
[{"$f":"CRSDATA!A190","v":0},{"$f":"CRSDATA!C190","v":0},{"$f":"CRSDATA!D190","v":0},{"$f":"CRSDATA!F190","v":0},{"$f":"CRSDATA!E190","v":0},{"$f":"IF(CRSDATA!H190=3000,998,CRSDATA!H190)","v":0},{"$f":"CRSDATA!O190","v":0},{"$f":"CRSDATA!U190","v":0},null,{"$f":"IF(CRSDATA!V190=\"\",\"\",CRSDATA!V190)","v":""},{"$f":"key_row(CRSDATA!W190,CRSDATA!X190,CRSDATA!AK190,CRSDATA!AJ190,CRSDATA!P190,CRSDATA!V190)","v":""},{"$f":"CRSDATA!P190","v":0},{"$f":"CRSDATA!J190","v":0},{"$f":"CRSDATA!I190","v":0},{"$f":"IF(LEFT(CRSDATA!N190,2)=\"A0\",\"A00\",IF(LEFT(CRSDATA!N190,3)=\"B02\",\"B02\",IF(LEFT(CRSDATA!N190,3)=\"B03\",\"B03\",IF(CRSDATA!N190=\"B04\",\"C01\",IF(CRSDATA!N190=\"H01\",\"H00\",IF(OR(CRSDATA!N190=\"H02\",CRSDATA!N190=\"H03\",CRSDATA!N190=\"H04\",CRSDATA!N190=\"H05\",CRSDATA!N190=\"H06\"),\"I01\",CRSDATA!N190))))))","v":0},{"$f":"CRSDATA!M190","v":0},{"$f":"IF(CRSDATA!L190=22,\"FA04\",\"\")","v":""},{"$f":"IF(CRSDATA!K190=8,\"FC02\",\"\")","v":""},{"$f":"IF(OR(O190=\"B02\",O190=\"E02\",O190=\"G01\",O190=\"H00\",O190=\"I01\"),2,IF(OR(O190=\"A00\",O190=\"E01\",O190=\"F01\",P190=510,P190=520),1,IF(VLOOKUP(F190,recipient_country!AB:AD,3,FALSE)=\"Part I unallocated by income\",\"\",1)))","v":{"$error":"#N/A"}},{"$f":"CRSDATA!AM190","v":0},{"$f":"CRSDATA!AN190","v":0},{"$f":"CRSDATA!AP190","v":0},{"$f":"CRSDATA!AR190","v":0},{"$f":"CRSDATA!BA190","v":0},null,"",{"$f":"IF(CRSDATA!M190=421,DATEDIF(CRSDATA!B190,CRSDATA!BH190,\"m\"),\"\")","v":""},{"$f":"CRSDATA!AZ190","v":0},{"$f":"CRSDATA!BB190","v":0},{"$f":"CRSDATA!L190","v":0}]
[{"$f":"CRSDATA!A191","v":0},{"$f":"CRSDATA!C191","v":0},{"$f":"CRSDATA!D191","v":0},{"$f":"CRSDATA!F191","v":0},{"$f":"CRSDATA!E191","v":0},{"$f":"IF(CRSDATA!H191=3000,998,CRSDATA!H191)","v":0},{"$f":"CRSDATA!O191","v":0},{"$f":"CRSDATA!U191","v":0},null,{"$f":"IF(CRSDATA!V191=\"\",\"\",CRSDATA!V191)","v":""},{"$f":"key_row(CRSDATA!W191,CRSDATA!X191,CRSDATA!AK191,CRSDATA!AJ191,CRSDATA!P191,CRSDATA!V191)","v":""},{"$f":"CRSDATA!P191","v":0},{"$f":"CRSDATA!J191","v":0},{"$f":"CRSDATA!I191","v":0},{"$f":"IF(LEFT(CRSDATA!N191,2)=\"A0\",\"A00\",IF(LEFT(CRSDATA!N191,3)=\"B02\",\"B02\",IF(LEFT(CRSDATA!N191,3)=\"B03\",\"B03\",IF(CRSDATA!N191=\"B04\",\"C01\",IF(CRSDATA!N191=\"H01\",\"H00\",IF(OR(CRSDATA!N191=\"H02\",CRSDATA!N191=\"H03\",CRSDATA!N191=\"H04\",CRSDATA!N191=\"H05\",CRSDATA!N191=\"H06\"),\"I01\",CRSDATA!N191))))))","v":0},{"$f":"CRSDATA!M191","v":0},{"$f":"IF(CRSDATA!L191=22,\"FA04\",\"\")","v":""},{"$f":"IF(CRSDATA!K191=8,\"FC02\",\"\")","v":""},{"$f":"IF(OR(O191=\"B02\",O191=\"E02\",O191=\"G01\",O191=\"H00\",O191=\"I01\"),2,IF(OR(O191=\"A00\",O191=\"E01\",O191=\"F01\",P191=510,P191=520),1,IF(VLOOKUP(F191,recipient_country!AB:AD,3,FALSE)=\"Part I unallocated by income\",\"\",1)))","v":{"$error":"#N/A"}},{"$f":"CRSDATA!AM191","v":0},{"$f":"CRSDATA!AN191","v":0},{"$f":"CRSDATA!AP191","v":0},{"$f":"CRSDATA!AR191","v":0},{"$f":"CRSDATA!BA191","v":0},null,"",{"$f":"IF(CRSDATA!M191=421,DATEDIF(CRSDATA!B191,CRSDATA!BH191,\"m\"),\"\")","v":""},{"$f":"CRSDATA!AZ191","v":0},{"$f":"CRSDATA!BB191","v":0},{"$f":"CRSDATA!L191","v":0}]
[{"$f":"CRSDATA!A192","v":0},{"$f":"CRSDATA!C192","v":0},{"$f":"CRSDATA!D192","v":0},{"$f":"CRSDATA!F192","v":0},{"$f":"CRSDATA!E192","v":0},{"$f":"IF(CRSDATA!H192=3000,998,CRSDATA!H192)","v":0},{"$f":"CRSDATA!O192","v":0},{"$f":"CRSDATA!U192","v":0},null,{"$f":"IF(CRSDATA!V192=\"\",\"\",CRSDATA!V192)","v":""},{"$f":"key_row(CRSDATA!W192,CRSDATA!X192,CRSDATA!AK192,CRSDATA!AJ192,CRSDATA!P192,CRSDATA!V192)","v":""},{"$f":"CRSDATA!P192","v":0},{"$f":"CRSDATA!J192","v":0},{"$f":"CRSDATA!I192","v":0},{"$f":"IF(LEFT(CRSDATA!N192,2)=\"A0\",\"A00\",IF(LEFT(CRSDATA!N192,3)=\"B02\",\"B02\",IF(LEFT(CRSDATA!N192,3)=\"B03\",\"B03\",IF(CRSDATA!N192=\"B04\",\"C01\",IF(CRSDATA!N192=\"H01\",\"H00\",IF(OR(CRSDATA!N192=\"H02\",CRSDATA!N192=\"H03\",CRSDATA!N192=\"H04\",CRSDATA!N192=\"H05\",CRSDATA!N192=\"H06\"),\"I01\",CRSDATA!N192))))))","v":0},{"$f":"CRSDATA!M192","v":0},{"$f":"IF(CRSDATA!L192=22,\"FA04\",\"\")","v":""},{"$f":"IF(CRSDATA!K192=8,\"FC02\",\"\")","v":""},{"$f":"IF(OR(O192=\"B02\",O192=\"E02\",O192=\"G01\",O192=\"H00\",O192=\"I01\"),2,IF(OR(O192=\"A00\",O192=\"E01\",O192=\"F01\",P192=510,P192=520),1,IF(VLOOKUP(F192,recipient_country!AB:AD,3,FALSE)=\"Part I unallocated by income\",\"\",1)))","v":{"$error":"#N/A"}},{"$f":"CRSDATA!AM192","v":0},{"$f":"CRSDATA!AN192","v":0},{"$f":"CRSDATA!AP192","v":0},{"$f":"CRSDATA!AR192","v":0},{"$f":"CRSDATA!BA192","v":0},null,"",{"$f":"IF(CRSDATA!M192=421,DATEDIF(CRSDATA!B192,CRSDATA!BH192,\"m\"),\"\")","v":""},{"$f":"CRSDATA!AZ192","v":0},{"$f":"CRSDATA!BB192","v":0},{"$f":"CRSDATA!L192","v":0}]
[{"$f":"CRSDATA!A193","v":0},{"$f":"CRSDATA!C193","v":0},{"$f":"CRSDATA!D193","v":0},{"$f":"CRSDATA!F193","v":0},{"$f":"CRSDATA!E193","v":0},{"$f":"IF(CRSDATA!H193=3000,998,CRSDATA!H193)","v":0},{"$f":"CRSDATA!O193","v":0},{"$f":"CRSDATA!U193","v":0},null,{"$f":"IF(CRSDATA!V193=\"\",\"\",CRSDATA!V193)","v":""},{"$f":"key_row(CRSDATA!W193,CRSDATA!X193,CRSDATA!AK193,CRSDATA!AJ193,CRSDATA!P193,CRSDATA!V193)","v":""},{"$f":"CRSDATA!P193","v":0},{"$f":"CRSDATA!J193","v":0},{"$f":"CRSDATA!I193","v":0},{"$f":"IF(LEFT(CRSDATA!N193,2)=\"A0\",\"A00\",IF(LEFT(CRSDATA!N193,3)=\"B02\",\"B02\",IF(LEFT(CRSDATA!N193,3)=\"B03\",\"B03\",IF(CRSDATA!N193=\"B04\",\"C01\",IF(CRSDATA!N193=\"H01\",\"H00\",IF(OR(CRSDATA!N193=\"H02\",CRSDATA!N193=\"H03\",CRSDATA!N193=\"H04\",CRSDATA!N193=\"H05\",CRSDATA!N193=\"H06\"),\"I01\",CRSDATA!N193))))))","v":0},{"$f":"CRSDATA!M193","v":0},{"$f":"IF(CRSDATA!L193=22,\"FA04\",\"\")","v":""},{"$f":"IF(CRSDATA!K193=8,\"FC02\",\"\")","v":""},{"$f":"IF(OR(O193=\"B02\",O193=\"E02\",O193=\"G01\",O193=\"H00\",O193=\"I01\"),2,IF(OR(O193=\"A00\",O193=\"E01\",O193=\"F01\",P193=510,P193=520),1,IF(VLOOKUP(F193,recipient_country!AB:AD,3,FALSE)=\"Part I unallocated by income\",\"\",1)))","v":{"$error":"#N/A"}},{"$f":"CRSDATA!AM193","v":0},{"$f":"CRSDATA!AN193","v":0},{"$f":"CRSDATA!AP193","v":0},{"$f":"CRSDATA!AR193","v":0},{"$f":"CRSDATA!BA193","v":0},null,"",{"$f":"IF(CRSDATA!M193=421,DATEDIF(CRSDATA!B193,CRSDATA!BH193,\"m\"),\"\")","v":""},{"$f":"CRSDATA!AZ193","v":0},{"$f":"CRSDATA!BB193","v":0},{"$f":"CRSDATA!L193","v":0}]
[{"$f":"CRSDATA!A194","v":0},{"$f":"CRSDATA!C194","v":0},{"$f":"CRSDATA!D194","v":0},{"$f":"CRSDATA!F194","v":0},{"$f":"CRSDATA!E194","v":0},{"$f":"IF(CRSDATA!H194=3000,998,CRSDATA!H194)","v":0},{"$f":"CRSDATA!O194","v":0},{"$f":"CRSDATA!U194","v":0},null,{"$f":"IF(CRSDATA!V194=\"\",\"\",CRSDATA!V194)","v":""},{"$f":"key_row(CRSDATA!W194,CRSDATA!X194,CRSDATA!AK194,CRSDATA!AJ194,CRSDATA!P194,CRSDATA!V194)","v":""},{"$f":"CRSDATA!P194","v":0},{"$f":"CRSDATA!J194","v":0},{"$f":"CRSDATA!I194","v":0},{"$f":"IF(LEFT(CRSDATA!N194,2)=\"A0\",\"A00\",IF(LEFT(CRSDATA!N194,3)=\"B02\",\"B02\",IF(LEFT(CRSDATA!N194,3)=\"B03\",\"B03\",IF(CRSDATA!N194=\"B04\",\"C01\",IF(CRSDATA!N194=\"H01\",\"H00\",IF(OR(CRSDATA!N194=\"H02\",CRSDATA!N194=\"H03\",CRSDATA!N194=\"H04\",CRSDATA!N194=\"H05\",CRSDATA!N194=\"H06\"),\"I01\",CRSDATA!N194))))))","v":0},{"$f":"CRSDATA!M194","v":0},{"$f":"IF(CRSDATA!L194=22,\"FA04\",\"\")","v":""},{"$f":"IF(CRSDATA!K194=8,\"FC02\",\"\")","v":""},{"$f":"IF(OR(O194=\"B02\",O194=\"E02\",O194=\"G01\",O194=\"H00\",O194=\"I01\"),2,IF(OR(O194=\"A00\",O194=\"E01\",O194=\"F01\",P194=510,P194=520),1,IF(VLOOKUP(F194,recipient_country!AB:AD,3,FALSE)=\"Part I unallocated by income\",\"\",1)))","v":{"$error":"#N/A"}},{"$f":"CRSDATA!AM194","v":0},{"$f":"CRSDATA!AN194","v":0},{"$f":"CRSDATA!AP194","v":0},{"$f":"CRSDATA!AR194","v":0},{"$f":"CRSDATA!BA194","v":0},null,"",{"$f":"IF(CRSDATA!M194=421,DATEDIF(CRSDATA!B194,CRSDATA!BH194,\"m\"),\"\")","v":""},{"$f":"CRSDATA!AZ194","v":0},{"$f":"CRSDATA!BB194","v":0},{"$f":"CRSDATA!L194","v":0}]
[{"$f":"CRSDATA!A195","v":0},{"$f":"CRSDATA!C195","v":0},{"$f":"CRSDATA!D195","v":0},{"$f":"CRSDATA!F195","v":0},{"$f":"CRSDATA!E195","v":0},{"$f":"IF(CRSDATA!H195=3000,998,CRSDATA!H195)","v":0},{"$f":"CRSDATA!O195","v":0},{"$f":"CRSDATA!U195","v":0},null,{"$f":"IF(CRSDATA!V195=\"\",\"\",CRSDATA!V195)","v":""},{"$f":"key_row(CRSDATA!W195,CRSDATA!X195,CRSDATA!AK195,CRSDATA!AJ195,CRSDATA!P195,CRSDATA!V195)","v":""},{"$f":"CRSDATA!P195","v":0},{"$f":"CRSDATA!J195","v":0},{"$f":"CRSDATA!I195","v":0},{"$f":"IF(LEFT(CRSDATA!N195,2)=\"A0\",\"A00\",IF(LEFT(CRSDATA!N195,3)=\"B02\",\"B02\",IF(LEFT(CRSDATA!N195,3)=\"B03\",\"B03\",IF(CRSDATA!N195=\"B04\",\"C01\",IF(CRSDATA!N195=\"H01\",\"H00\",IF(OR(CRSDATA!N195=\"H02\",CRSDATA!N195=\"H03\",CRSDATA!N195=\"H04\",CRSDATA!N195=\"H05\",CRSDATA!N195=\"H06\"),\"I01\",CRSDATA!N195))))))","v":0},{"$f":"CRSDATA!M195","v":0},{"$f":"IF(CRSDATA!L195=22,\"FA04\",\"\")","v":""},{"$f":"IF(CRSDATA!K195=8,\"FC02\",\"\")","v":""},{"$f":"IF(OR(O195=\"B02\",O195=\"E02\",O195=\"G01\",O195=\"H00\",O195=\"I01\"),2,IF(OR(O195=\"A00\",O195=\"E01\",O195=\"F01\",P195=510,P195=520),1,IF(VLOOKUP(F195,recipient_country!AB:AD,3,FALSE)=\"Part I unallocated by income\",\"\",1)))","v":{"$error":"#N/A"}},{"$f":"CRSDATA!AM195","v":0},{"$f":"CRSDATA!AN195","v":0},{"$f":"CRSDATA!AP195","v":0},{"$f":"CRSDATA!AR195","v":0},{"$f":"CRSDATA!BA195","v":0},null,"",{"$f":"IF(CRSDATA!M195=421,DATEDIF(CRSDATA!B195,CRSDATA!BH195,\"m\"),\"\")","v":""},{"$f":"CRSDATA!AZ195","v":0},{"$f":"CRSDATA!BB195","v":0},{"$f":"CRSDATA!L195","v":0}]
[{"$f":"CRSDATA!A196","v":0},{"$f":"CRSDATA!C196","v":0},{"$f":"CRSDATA!D196","v":0},{"$f":"CRSDATA!F196","v":0},{"$f":"CRSDATA!E196","v":0},{"$f":"IF(CRSDATA!H196=3000,998,CRSDATA!H196)","v":0},{"$f":"CRSDATA!O196","v":0},{"$f":"CRSDATA!U196","v":0},null,{"$f":"IF(CRSDATA!V196=\"\",\"\",CRSDATA!V196)","v":""},{"$f":"key_row(CRSDATA!W196,CRSDATA!X196,CRSDATA!AK196,CRSDATA!AJ196,CRSDATA!P196,CRSDATA!V196)","v":""},{"$f":"CRSDATA!P196","v":0},{"$f":"CRSDATA!J196","v":0},{"$f":"CRSDATA!I196","v":0},{"$f":"IF(LEFT(CRSDATA!N196,2)=\"A0\",\"A00\",IF(LEFT(CRSDATA!N196,3)=\"B02\",\"B02\",IF(LEFT(CRSDATA!N196,3)=\"B03\",\"B03\",IF(CRSDATA!N196=\"B04\",\"C01\",IF(CRSDATA!N196=\"H01\",\"H00\",IF(OR(CRSDATA!N196=\"H02\",CRSDATA!N196=\"H03\",CRSDATA!N196=\"H04\",CRSDATA!N196=\"H05\",CRSDATA!N196=\"H06\"),\"I01\",CRSDATA!N196))))))","v":0},{"$f":"CRSDATA!M196","v":0},{"$f":"IF(CRSDATA!L196=22,\"FA04\",\"\")","v":""},{"$f":"IF(CRSDATA!K196=8,\"FC02\",\"\")","v":""},{"$f":"IF(OR(O196=\"B02\",O196=\"E02\",O196=\"G01\",O196=\"H00\",O196=\"I01\"),2,IF(OR(O196=\"A00\",O196=\"E01\",O196=\"F01\",P196=510,P196=520),1,IF(VLOOKUP(F196,recipient_country!AB:AD,3,FALSE)=\"Part I unallocated by income\",\"\",1)))","v":{"$error":"#N/A"}},{"$f":"CRSDATA!AM196","v":0},{"$f":"CRSDATA!AN196","v":0},{"$f":"CRSDATA!AP196","v":0},{"$f":"CRSDATA!AR196","v":0},{"$f":"CRSDATA!BA196","v":0},null,{"$f":"IF(Q196=\"FA04\",0,\"\")","v":""},{"$f":"IF(CRSDATA!M196=421,DATEDIF(CRSDATA!B196,CRSDATA!BH196,\"m\"),\"\")","v":""},{"$f":"CRSDATA!AZ196","v":0},{"$f":"CRSDATA!BB196","v":0},{"$f":"CRSDATA!L196","v":0}]
[{"$f":"CRSDATA!A197","v":0},{"$f":"CRSDATA!C197","v":0},{"$f":"CRSDATA!D197","v":0},{"$f":"CRSDATA!F197","v":0},{"$f":"CRSDATA!E197","v":0},{"$f":"IF(CRSDATA!H197=3000,998,CRSDATA!H197)","v":0},{"$f":"CRSDATA!O197","v":0},{"$f":"CRSDATA!U197","v":0},null,{"$f":"IF(CRSDATA!V197=\"\",\"\",CRSDATA!V197)","v":""},{"$f":"key_row(CRSDATA!W197,CRSDATA!X197,CRSDATA!AK197,CRSDATA!AJ197,CRSDATA!P197,CRSDATA!V197)","v":""},{"$f":"CRSDATA!P197","v":0},{"$f":"CRSDATA!J197","v":0},{"$f":"CRSDATA!I197","v":0},{"$f":"IF(LEFT(CRSDATA!N197,2)=\"A0\",\"A00\",IF(LEFT(CRSDATA!N197,3)=\"B02\",\"B02\",IF(LEFT(CRSDATA!N197,3)=\"B03\",\"B03\",IF(CRSDATA!N197=\"B04\",\"C01\",IF(CRSDATA!N197=\"H01\",\"H00\",IF(OR(CRSDATA!N197=\"H02\",CRSDATA!N197=\"H03\",CRSDATA!N197=\"H04\",CRSDATA!N197=\"H05\",CRSDATA!N197=\"H06\"),\"I01\",CRSDATA!N197))))))","v":0},{"$f":"CRSDATA!M197","v":0},{"$f":"IF(CRSDATA!L197=22,\"FA04\",\"\")","v":""},{"$f":"IF(CRSDATA!K197=8,\"FC02\",\"\")","v":""},{"$f":"IF(OR(O197=\"B02\",O197=\"E02\",O197=\"G01\",O197=\"H00\",O197=\"I01\"),2,IF(OR(O197=\"A00\",O197=\"E01\",O197=\"F01\",P197=510,P197=520),1,IF(VLOOKUP(F197,recipient_country!AB:AD,3,FALSE)=\"Part I unallocated by income\",\"\",1)))","v":{"$error":"#N/A"}},{"$f":"CRSDATA!AM197","v":0},{"$f":"CRSDATA!AN197","v":0},{"$f":"CRSDATA!AP197","v":0},{"$f":"CRSDATA!AR197","v":0},{"$f":"CRSDATA!BA197","v":0},null,"",{"$f":"IF(CRSDATA!M197=421,DATEDIF(CRSDATA!B197,CRSDATA!BH197,\"m\"),\"\")","v":""},{"$f":"CRSDATA!AZ197","v":0},{"$f":"CRSDATA!BB197","v":0},{"$f":"CRSDATA!L197","v":0}]
[{"$f":"CRSDATA!A198","v":0},{"$f":"CRSDATA!C198","v":0},{"$f":"CRSDATA!D198","v":0},{"$f":"CRSDATA!F198","v":0},{"$f":"CRSDATA!E198","v":0},{"$f":"IF(CRSDATA!H198=3000,998,CRSDATA!H198)","v":0},{"$f":"CRSDATA!O198","v":0},{"$f":"CRSDATA!U198","v":0},null,{"$f":"IF(CRSDATA!V198=\"\",\"\",CRSDATA!V198)","v":""},{"$f":"key_row(CRSDATA!W198,CRSDATA!X198,CRSDATA!AK198,CRSDATA!AJ198,CRSDATA!P198,CRSDATA!V198)","v":""},{"$f":"CRSDATA!P198","v":0},{"$f":"CRSDATA!J198","v":0},{"$f":"CRSDATA!I198","v":0},{"$f":"IF(LEFT(CRSDATA!N198,2)=\"A0\",\"A00\",IF(LEFT(CRSDATA!N198,3)=\"B02\",\"B02\",IF(LEFT(CRSDATA!N198,3)=\"B03\",\"B03\",IF(CRSDATA!N198=\"B04\",\"C01\",IF(CRSDATA!N198=\"H01\",\"H00\",IF(OR(CRSDATA!N198=\"H02\",CRSDATA!N198=\"H03\",CRSDATA!N198=\"H04\",CRSDATA!N198=\"H05\",CRSDATA!N198=\"H06\"),\"I01\",CRSDATA!N198))))))","v":0},{"$f":"CRSDATA!M198","v":0},{"$f":"IF(CRSDATA!L198=22,\"FA04\",\"\")","v":""},{"$f":"IF(CRSDATA!K198=8,\"FC02\",\"\")","v":""},{"$f":"IF(OR(O198=\"B02\",O198=\"E02\",O198=\"G01\",O198=\"H00\",O198=\"I01\"),2,IF(OR(O198=\"A00\",O198=\"E01\",O198=\"F01\",P198=510,P198=520),1,IF(VLOOKUP(F198,recipient_country!AB:AD,3,FALSE)=\"Part I unallocated by income\",\"\",1)))","v":{"$error":"#N/A"}},{"$f":"CRSDATA!AM198","v":0},{"$f":"CRSDATA!AN198","v":0},{"$f":"CRSDATA!AP198","v":0},{"$f":"CRSDATA!AR198","v":0},{"$f":"CRSDATA!BA198","v":0},null,"",{"$f":"IF(CRSDATA!M198=421,DATEDIF(CRSDATA!B198,CRSDATA!BH198,\"m\"),\"\")","v":""},{"$f":"CRSDATA!AZ198","v":0},{"$f":"CRSDATA!BB198","v":0},{"$f":"CRSDATA!L198","v":0}]
[{"$f":"CRSDATA!A199","v":0},{"$f":"CRSDATA!C199","v":0},{"$f":"CRSDATA!D199","v":0},{"$f":"CRSDATA!F199","v":0},{"$f":"CRSDATA!E199","v":0},{"$f":"IF(CRSDATA!H199=3000,998,CRSDATA!H199)","v":0},{"$f":"CRSDATA!O199","v":0},{"$f":"CRSDATA!U199","v":0},null,{"$f":"IF(CRSDATA!V199=\"\",\"\",CRSDATA!V199)","v":""},{"$f":"key_row(CRSDATA!W199,CRSDATA!X199,CRSDATA!AK199,CRSDATA!AJ199,CRSDATA!P199,CRSDATA!V199)","v":""},{"$f":"CRSDATA!P199","v":0},{"$f":"CRSDATA!J199","v":0},{"$f":"CRSDATA!I199","v":0},{"$f":"IF(LEFT(CRSDATA!N199,2)=\"A0\",\"A00\",IF(LEFT(CRSDATA!N199,3)=\"B02\",\"B02\",IF(LEFT(CRSDATA!N199,3)=\"B03\",\"B03\",IF(CRSDATA!N199=\"B04\",\"C01\",IF(CRSDATA!N199=\"H01\",\"H00\",IF(OR(CRSDATA!N199=\"H02\",CRSDATA!N199=\"H03\",CRSDATA!N199=\"H04\",CRSDATA!N199=\"H05\",CRSDATA!N199=\"H06\"),\"I01\",CRSDATA!N199))))))","v":0},{"$f":"CRSDATA!M199","v":0},{"$f":"IF(CRSDATA!L199=22,\"FA04\",\"\")","v":""},{"$f":"IF(CRSDATA!K199=8,\"FC02\",\"\")","v":""},{"$f":"IF(OR(O199=\"B02\",O199=\"E02\",O199=\"G01\",O199=\"H00\",O199=\"I01\"),2,IF(OR(O199=\"A00\",O199=\"E01\",O199=\"F01\",P199=510,P199=520),1,IF(VLOOKUP(F199,recipient_country!AB:AD,3,FALSE)=\"Part I unallocated by income\",\"\",1)))","v":{"$error":"#N/A"}},{"$f":"CRSDATA!AM199","v":0},{"$f":"CRSDATA!AN199","v":0},{"$f":"CRSDATA!AP199","v":0},{"$f":"CRSDATA!AR199","v":0},{"$f":"CRSDATA!BA199","v":0},null,"",{"$f":"IF(CRSDATA!M199=421,DATEDIF(CRSDATA!B199,CRSDATA!BH199,\"m\"),\"\")","v":""},{"$f":"CRSDATA!AZ199","v":0},{"$f":"CRSDATA!BB199","v":0},{"$f":"CRSDATA!L199","v":0}]
[{"$f":"CRSDATA!A200","v":0},{"$f":"CRSDATA!C200","v":0},{"$f":"CRSDATA!D200","v":0},{"$f":"CRSDATA!F200","v":0},{"$f":"CRSDATA!E200","v":0},{"$f":"IF(CRSDATA!H200=3000,998,CRSDATA!H200)","v":0},{"$f":"CRSDATA!O200","v":0},{"$f":"CRSDATA!U200","v":0},null,{"$f":"IF(CRSDATA!V200=\"\",\"\",CRSDATA!V200)","v":""},{"$f":"key_row(CRSDATA!W200,CRSDATA!X200,CRSDATA!AK200,CRSDATA!AJ200,CRSDATA!P200,CRSDATA!V200)","v":""},{"$f":"CRSDATA!P200","v":0},{"$f":"CRSDATA!J200","v":0},{"$f":"CRSDATA!I200","v":0},{"$f":"IF(LEFT(CRSDATA!N200,2)=\"A0\",\"A00\",IF(LEFT(CRSDATA!N200,3)=\"B02\",\"B02\",IF(LEFT(CRSDATA!N200,3)=\"B03\",\"B03\",IF(CRSDATA!N200=\"B04\",\"C01\",IF(CRSDATA!N200=\"H01\",\"H00\",IF(OR(CRSDATA!N200=\"H02\",CRSDATA!N200=\"H03\",CRSDATA!N200=\"H04\",CRSDATA!N200=\"H05\",CRSDATA!N200=\"H06\"),\"I01\",CRSDATA!N200))))))","v":0},{"$f":"CRSDATA!M200","v":0},{"$f":"IF(CRSDATA!L200=22,\"FA04\",\"\")","v":""},{"$f":"IF(CRSDATA!K200=8,\"FC02\",\"\")","v":""},{"$f":"IF(OR(O200=\"B02\",O200=\"E02\",O200=\"G01\",O200=\"H00\",O200=\"I01\"),2,IF(OR(O200=\"A00\",O200=\"E01\",O200=\"F01\",P200=510,P200=520),1,IF(VLOOKUP(F200,recipient_country!AB:AD,3,FALSE)=\"Part I unallocated by income\",\"\",1)))","v":{"$error":"#N/A"}},{"$f":"CRSDATA!AM200","v":0},{"$f":"CRSDATA!AN200","v":0},{"$f":"CRSDATA!AP200","v":0},{"$f":"CRSDATA!AR200","v":0},{"$f":"CRSDATA!BA200","v":0},null,"",{"$f":"IF(CRSDATA!M200=421,DATEDIF(CRSDATA!B200,CRSDATA!BH200,\"m\"),\"\")","v":""},{"$f":"CRSDATA!AZ200","v":0},{"$f":"CRSDATA!BB200","v":0},{"$f":"CRSDATA!L200","v":0}]
[{"$f":"CRSDATA!A201","v":0},{"$f":"CRSDATA!C201","v":0},{"$f":"CRSDATA!D201","v":0},{"$f":"CRSDATA!F201","v":0},{"$f":"CRSDATA!E201","v":0},{"$f":"IF(CRSDATA!H201=3000,998,CRSDATA!H201)","v":0},{"$f":"CRSDATA!O201","v":0},{"$f":"CRSDATA!U201","v":0},null,{"$f":"IF(CRSDATA!V201=\"\",\"\",CRSDATA!V201)","v":""},{"$f":"key_row(CRSDATA!W201,CRSDATA!X201,CRSDATA!AK201,CRSDATA!AJ201,CRSDATA!P201,CRSDATA!V201)","v":""},{"$f":"CRSDATA!P201","v":0},{"$f":"CRSDATA!J201","v":0},{"$f":"CRSDATA!I201","v":0},{"$f":"IF(LEFT(CRSDATA!N201,2)=\"A0\",\"A00\",IF(LEFT(CRSDATA!N201,3)=\"B02\",\"B02\",IF(LEFT(CRSDATA!N201,3)=\"B03\",\"B03\",IF(CRSDATA!N201=\"B04\",\"C01\",IF(CRSDATA!N201=\"H01\",\"H00\",IF(OR(CRSDATA!N201=\"H02\",CRSDATA!N201=\"H03\",CRSDATA!N201=\"H04\",CRSDATA!N201=\"H05\",CRSDATA!N201=\"H06\"),\"I01\",CRSDATA!N201))))))","v":0},{"$f":"CRSDATA!M201","v":0},{"$f":"IF(CRSDATA!L201=22,\"FA04\",\"\")","v":""},{"$f":"IF(CRSDATA!K201=8,\"FC02\",\"\")","v":""},{"$f":"IF(OR(O201=\"B02\",O201=\"E02\",O201=\"G01\",O201=\"H00\",O201=\"I01\"),2,IF(OR(O201=\"A00\",O201=\"E01\",O201=\"F01\",P201=510,P201=520),1,IF(VLOOKUP(F201,recipient_country!AB:AD,3,FALSE)=\"Part I unallocated by income\",\"\",1)))","v":{"$error":"#N/A"}},{"$f":"CRSDATA!AM201","v":0},{"$f":"CRSDATA!AN201","v":0},{"$f":"CRSDATA!AP201","v":0},{"$f":"CRSDATA!AR201","v":0},{"$f":"CRSDATA!BA201","v":0},null,"",{"$f":"IF(CRSDATA!M201=421,DATEDIF(CRSDATA!B201,CRSDATA!BH201,\"m\"),\"\")","v":""},{"$f":"CRSDATA!AZ201","v":0},{"$f":"CRSDATA!BB201","v":0},{"$f":"CRSDATA!L201","v":0}]
[{"$f":"CRSDATA!A202","v":0},{"$f":"CRSDATA!C202","v":0},{"$f":"CRSDATA!D202","v":0},{"$f":"CRSDATA!F202","v":0},{"$f":"CRSDATA!E202","v":0},{"$f":"IF(CRSDATA!H202=3000,998,CRSDATA!H202)","v":0},{"$f":"CRSDATA!O202","v":0},{"$f":"CRSDATA!U202","v":0},null,{"$f":"IF(CRSDATA!V202=\"\",\"\",CRSDATA!V202)","v":""},{"$f":"key_row(CRSDATA!W202,CRSDATA!X202,CRSDATA!AK202,CRSDATA!AJ202,CRSDATA!P202,CRSDATA!V202)","v":""},{"$f":"CRSDATA!P202","v":0},{"$f":"CRSDATA!J202","v":0},{"$f":"CRSDATA!I202","v":0},{"$f":"IF(LEFT(CRSDATA!N202,2)=\"A0\",\"A00\",IF(LEFT(CRSDATA!N202,3)=\"B02\",\"B02\",IF(LEFT(CRSDATA!N202,3)=\"B03\",\"B03\",IF(CRSDATA!N202=\"B04\",\"C01\",IF(CRSDATA!N202=\"H01\",\"H00\",IF(OR(CRSDATA!N202=\"H02\",CRSDATA!N202=\"H03\",CRSDATA!N202=\"H04\",CRSDATA!N202=\"H05\",CRSDATA!N202=\"H06\"),\"I01\",CRSDATA!N202))))))","v":0},{"$f":"CRSDATA!M202","v":0},{"$f":"IF(CRSDATA!L202=22,\"FA04\",\"\")","v":""},{"$f":"IF(CRSDATA!K202=8,\"FC02\",\"\")","v":""},{"$f":"IF(OR(O202=\"B02\",O202=\"E02\",O202=\"G01\",O202=\"H00\",O202=\"I01\"),2,IF(OR(O202=\"A00\",O202=\"E01\",O202=\"F01\",P202=510,P202=520),1,IF(VLOOKUP(F202,recipient_country!AB:AD,3,FALSE)=\"Part I unallocated by income\",\"\",1)))","v":{"$error":"#N/A"}},{"$f":"CRSDATA!AM202","v":0},{"$f":"CRSDATA!AN202","v":0},{"$f":"CRSDATA!AP202","v":0},{"$f":"CRSDATA!AR202","v":0},{"$f":"CRSDATA!BA202","v":0},null,"",{"$f":"IF(CRSDATA!M202=421,DATEDIF(CRSDATA!B202,CRSDATA!BH202,\"m\"),\"\")","v":""},{"$f":"CRSDATA!AZ202","v":0},{"$f":"CRSDATA!BB202","v":0},{"$f":"CRSDATA!L202","v":0}]
[{"$f":"CRSDATA!A203","v":0},{"$f":"CRSDATA!C203","v":0},{"$f":"CRSDATA!D203","v":0},{"$f":"CRSDATA!F203","v":0},{"$f":"CRSDATA!E203","v":0},{"$f":"IF(CRSDATA!H203=3000,998,CRSDATA!H203)","v":0},{"$f":"CRSDATA!O203","v":0},{"$f":"CRSDATA!U203","v":0},null,{"$f":"IF(CRSDATA!V203=\"\",\"\",CRSDATA!V203)","v":""},{"$f":"key_row(CRSDATA!W203,CRSDATA!X203,CRSDATA!AK203,CRSDATA!AJ203,CRSDATA!P203,CRSDATA!V203)","v":""},{"$f":"CRSDATA!P203","v":0},{"$f":"CRSDATA!J203","v":0},{"$f":"CRSDATA!I203","v":0},{"$f":"IF(LEFT(CRSDATA!N203,2)=\"A0\",\"A00\",IF(LEFT(CRSDATA!N203,3)=\"B02\",\"B02\",IF(LEFT(CRSDATA!N203,3)=\"B03\",\"B03\",IF(CRSDATA!N203=\"B04\",\"C01\",IF(CRSDATA!N203=\"H01\",\"H00\",IF(OR(CRSDATA!N203=\"H02\",CRSDATA!N203=\"H03\",CRSDATA!N203=\"H04\",CRSDATA!N203=\"H05\",CRSDATA!N203=\"H06\"),\"I01\",CRSDATA!N203))))))","v":0},{"$f":"CRSDATA!M203","v":0},{"$f":"IF(CRSDATA!L203=22,\"FA04\",\"\")","v":""},{"$f":"IF(CRSDATA!K203=8,\"FC02\",\"\")","v":""},{"$f":"IF(OR(O203=\"B02\",O203=\"E02\",O203=\"G01\",O203=\"H00\",O203=\"I01\"),2,IF(OR(O203=\"A00\",O203=\"E01\",O203=\"F01\",P203=510,P203=520),1,IF(VLOOKUP(F203,recipient_country!AB:AD,3,FALSE)=\"Part I unallocated by income\",\"\",1)))","v":{"$error":"#N/A"}},{"$f":"CRSDATA!AM203","v":0},{"$f":"CRSDATA!AN203","v":0},{"$f":"CRSDATA!AP203","v":0},{"$f":"CRSDATA!AR203","v":0},{"$f":"CRSDATA!BA203","v":0},null,"",{"$f":"IF(CRSDATA!M203=421,DATEDIF(CRSDATA!B203,CRSDATA!BH203,\"m\"),\"\")","v":""},{"$f":"CRSDATA!AZ203","v":0},{"$f":"CRSDATA!BB203","v":0},{"$f":"CRSDATA!L203","v":0}]
[{"$f":"CRSDATA!A204","v":0},{"$f":"CRSDATA!C204","v":0},{"$f":"CRSDATA!D204","v":0},{"$f":"CRSDATA!F204","v":0},{"$f":"CRSDATA!E204","v":0},{"$f":"IF(CRSDATA!H204=3000,998,CRSDATA!H204)","v":0},{"$f":"CRSDATA!O204","v":0},{"$f":"CRSDATA!U204","v":0},null,{"$f":"IF(CRSDATA!V204=\"\",\"\",CRSDATA!V204)","v":""},{"$f":"key_row(CRSDATA!W204,CRSDATA!X204,CRSDATA!AK204,CRSDATA!AJ204,CRSDATA!P204,CRSDATA!V204)","v":""},{"$f":"CRSDATA!P204","v":0},{"$f":"CRSDATA!J204","v":0},{"$f":"CRSDATA!I204","v":0},{"$f":"IF(LEFT(CRSDATA!N204,2)=\"A0\",\"A00\",IF(LEFT(CRSDATA!N204,3)=\"B02\",\"B02\",IF(LEFT(CRSDATA!N204,3)=\"B03\",\"B03\",IF(CRSDATA!N204=\"B04\",\"C01\",IF(CRSDATA!N204=\"H01\",\"H00\",IF(OR(CRSDATA!N204=\"H02\",CRSDATA!N204=\"H03\",CRSDATA!N204=\"H04\",CRSDATA!N204=\"H05\",CRSDATA!N204=\"H06\"),\"I01\",CRSDATA!N204))))))","v":0},{"$f":"CRSDATA!M204","v":0},{"$f":"IF(CRSDATA!L204=22,\"FA04\",\"\")","v":""},{"$f":"IF(CRSDATA!K204=8,\"FC02\",\"\")","v":""},{"$f":"IF(OR(O204=\"B02\",O204=\"E02\",O204=\"G01\",O204=\"H00\",O204=\"I01\"),2,IF(OR(O204=\"A00\",O204=\"E01\",O204=\"F01\",P204=510,P204=520),1,IF(VLOOKUP(F204,recipient_country!AB:AD,3,FALSE)=\"Part I unallocated by income\",\"\",1)))","v":{"$error":"#N/A"}},{"$f":"CRSDATA!AM204","v":0},{"$f":"CRSDATA!AN204","v":0},{"$f":"CRSDATA!AP204","v":0},{"$f":"CRSDATA!AR204","v":0},{"$f":"CRSDATA!BA204","v":0},null,"",{"$f":"IF(CRSDATA!M204=421,DATEDIF(CRSDATA!B204,CRSDATA!BH204,\"m\"),\"\")","v":""},{"$f":"CRSDATA!AZ204","v":0},{"$f":"CRSDATA!BB204","v":0},{"$f":"CRSDATA!L204","v":0}]
[{"$f":"CRSDATA!A205","v":0},{"$f":"CRSDATA!C205","v":0},{"$f":"CRSDATA!D205","v":0},{"$f":"CRSDATA!F205","v":0},{"$f":"CRSDATA!E205","v":0},{"$f":"IF(CRSDATA!H205=3000,998,CRSDATA!H205)","v":0},{"$f":"CRSDATA!O205","v":0},{"$f":"CRSDATA!U205","v":0},null,{"$f":"IF(CRSDATA!V205=\"\",\"\",CRSDATA!V205)","v":""},{"$f":"key_row(CRSDATA!W205,CRSDATA!X205,CRSDATA!AK205,CRSDATA!AJ205,CRSDATA!P205,CRSDATA!V205)","v":""},{"$f":"CRSDATA!P205","v":0},{"$f":"CRSDATA!J205","v":0},{"$f":"CRSDATA!I205","v":0},{"$f":"IF(LEFT(CRSDATA!N205,2)=\"A0\",\"A00\",IF(LEFT(CRSDATA!N205,3)=\"B02\",\"B02\",IF(LEFT(CRSDATA!N205,3)=\"B03\",\"B03\",IF(CRSDATA!N205=\"B04\",\"C01\",IF(CRSDATA!N205=\"H01\",\"H00\",IF(OR(CRSDATA!N205=\"H02\",CRSDATA!N205=\"H03\",CRSDATA!N205=\"H04\",CRSDATA!N205=\"H05\",CRSDATA!N205=\"H06\"),\"I01\",CRSDATA!N205))))))","v":0},{"$f":"CRSDATA!M205","v":0},{"$f":"IF(CRSDATA!L205=22,\"FA04\",\"\")","v":""},{"$f":"IF(CRSDATA!K205=8,\"FC02\",\"\")","v":""},{"$f":"IF(OR(O205=\"B02\",O205=\"E02\",O205=\"G01\",O205=\"H00\",O205=\"I01\"),2,IF(OR(O205=\"A00\",O205=\"E01\",O205=\"F01\",P205=510,P205=520),1,IF(VLOOKUP(F205,recipient_country!AB:AD,3,FALSE)=\"Part I unallocated by income\",\"\",1)))","v":{"$error":"#N/A"}},{"$f":"CRSDATA!AM205","v":0},{"$f":"CRSDATA!AN205","v":0},{"$f":"CRSDATA!AP205","v":0},{"$f":"CRSDATA!AR205","v":0},{"$f":"CRSDATA!BA205","v":0},null,"",{"$f":"IF(CRSDATA!M205=421,DATEDIF(CRSDATA!B205,CRSDATA!BH205,\"m\"),\"\")","v":""},{"$f":"CRSDATA!AZ205","v":0},{"$f":"CRSDATA!BB205","v":0},{"$f":"CRSDATA!L205","v":0}]
[{"$f":"CRSDATA!A206","v":0},{"$f":"CRSDATA!C206","v":0},{"$f":"CRSDATA!D206","v":0},{"$f":"CRSDATA!F206","v":0},{"$f":"CRSDATA!E206","v":0},{"$f":"IF(CRSDATA!H206=3000,998,CRSDATA!H206)","v":0},{"$f":"CRSDATA!O206","v":0},{"$f":"CRSDATA!U206","v":0},null,{"$f":"IF(CRSDATA!V206=\"\",\"\",CRSDATA!V206)","v":""},{"$f":"key_row(CRSDATA!W206,CRSDATA!X206,CRSDATA!AK206,CRSDATA!AJ206,CRSDATA!P206,CRSDATA!V206)","v":""},{"$f":"CRSDATA!P206","v":0},{"$f":"CRSDATA!J206","v":0},{"$f":"CRSDATA!I206","v":0},{"$f":"IF(LEFT(CRSDATA!N206,2)=\"A0\",\"A00\",IF(LEFT(CRSDATA!N206,3)=\"B02\",\"B02\",IF(LEFT(CRSDATA!N206,3)=\"B03\",\"B03\",IF(CRSDATA!N206=\"B04\",\"C01\",IF(CRSDATA!N206=\"H01\",\"H00\",IF(OR(CRSDATA!N206=\"H02\",CRSDATA!N206=\"H03\",CRSDATA!N206=\"H04\",CRSDATA!N206=\"H05\",CRSDATA!N206=\"H06\"),\"I01\",CRSDATA!N206))))))","v":0},{"$f":"CRSDATA!M206","v":0},{"$f":"IF(CRSDATA!L206=22,\"FA04\",\"\")","v":""},{"$f":"IF(CRSDATA!K206=8,\"FC02\",\"\")","v":""},{"$f":"IF(OR(O206=\"B02\",O206=\"E02\",O206=\"G01\",O206=\"H00\",O206=\"I01\"),2,IF(OR(O206=\"A00\",O206=\"E01\",O206=\"F01\",P206=510,P206=520),1,IF(VLOOKUP(F206,recipient_country!AB:AD,3,FALSE)=\"Part I unallocated by income\",\"\",1)))","v":{"$error":"#N/A"}},{"$f":"CRSDATA!AM206","v":0},{"$f":"CRSDATA!AN206","v":0},{"$f":"CRSDATA!AP206","v":0},{"$f":"CRSDATA!AR206","v":0},{"$f":"CRSDATA!BA206","v":0},null,"",{"$f":"IF(CRSDATA!M206=421,DATEDIF(CRSDATA!B206,CRSDATA!BH206,\"m\"),\"\")","v":""},{"$f":"CRSDATA!AZ206","v":0},{"$f":"CRSDATA!BB206","v":0},{"$f":"CRSDATA!L206","v":0}]
[{"$f":"CRSDATA!A207","v":0},{"$f":"CRSDATA!C207","v":0},{"$f":"CRSDATA!D207","v":0},{"$f":"CRSDATA!F207","v":0},{"$f":"CRSDATA!E207","v":0},{"$f":"IF(CRSDATA!H207=3000,998,CRSDATA!H207)","v":0},{"$f":"CRSDATA!O207","v":0},{"$f":"CRSDATA!U207","v":0},null,{"$f":"IF(CRSDATA!V207=\"\",\"\",CRSDATA!V207)","v":""},{"$f":"key_row(CRSDATA!W207,CRSDATA!X207,CRSDATA!AK207,CRSDATA!AJ207,CRSDATA!P207,CRSDATA!V207)","v":""},{"$f":"CRSDATA!P207","v":0},{"$f":"CRSDATA!J207","v":0},{"$f":"CRSDATA!I207","v":0},{"$f":"IF(LEFT(CRSDATA!N207,2)=\"A0\",\"A00\",IF(LEFT(CRSDATA!N207,3)=\"B02\",\"B02\",IF(LEFT(CRSDATA!N207,3)=\"B03\",\"B03\",IF(CRSDATA!N207=\"B04\",\"C01\",IF(CRSDATA!N207=\"H01\",\"H00\",IF(OR(CRSDATA!N207=\"H02\",CRSDATA!N207=\"H03\",CRSDATA!N207=\"H04\",CRSDATA!N207=\"H05\",CRSDATA!N207=\"H06\"),\"I01\",CRSDATA!N207))))))","v":0},{"$f":"CRSDATA!M207","v":0},{"$f":"IF(CRSDATA!L207=22,\"FA04\",\"\")","v":""},{"$f":"IF(CRSDATA!K207=8,\"FC02\",\"\")","v":""},{"$f":"IF(OR(O207=\"B02\",O207=\"E02\",O207=\"G01\",O207=\"H00\",O207=\"I01\"),2,IF(OR(O207=\"A00\",O207=\"E01\",O207=\"F01\",P207=510,P207=520),1,IF(VLOOKUP(F207,recipient_country!AB:AD,3,FALSE)=\"Part I unallocated by income\",\"\",1)))","v":{"$error":"#N/A"}},{"$f":"CRSDATA!AM207","v":0},{"$f":"CRSDATA!AN207","v":0},{"$f":"CRSDATA!AP207","v":0},{"$f":"CRSDATA!AR207","v":0},{"$f":"CRSDATA!BA207","v":0},null,"",{"$f":"IF(CRSDATA!M207=421,DATEDIF(CRSDATA!B207,CRSDATA!BH207,\"m\"),\"\")","v":""},{"$f":"CRSDATA!AZ207","v":0},{"$f":"CRSDATA!BB207","v":0},{"$f":"CRSDATA!L207","v":0}]
[{"$f":"CRSDATA!A208","v":0},{"$f":"CRSDATA!C208","v":0},{"$f":"CRSDATA!D208","v":0},{"$f":"CRSDATA!F208","v":0},{"$f":"CRSDATA!E208","v":0},{"$f":"IF(CRSDATA!H208=3000,998,CRSDATA!H208)","v":0},{"$f":"CRSDATA!O208","v":0},{"$f":"CRSDATA!U208","v":0},null,{"$f":"IF(CRSDATA!V208=\"\",\"\",CRSDATA!V208)","v":""},{"$f":"key_row(CRSDATA!W208,CRSDATA!X208,CRSDATA!AK208,CRSDATA!AJ208,CRSDATA!P208,CRSDATA!V208)","v":""},{"$f":"CRSDATA!P208","v":0},{"$f":"CRSDATA!J208","v":0},{"$f":"CRSDATA!I208","v":0},{"$f":"IF(LEFT(CRSDATA!N208,2)=\"A0\",\"A00\",IF(LEFT(CRSDATA!N208,3)=\"B02\",\"B02\",IF(LEFT(CRSDATA!N208,3)=\"B03\",\"B03\",IF(CRSDATA!N208=\"B04\",\"C01\",IF(CRSDATA!N208=\"H01\",\"H00\",IF(OR(CRSDATA!N208=\"H02\",CRSDATA!N208=\"H03\",CRSDATA!N208=\"H04\",CRSDATA!N208=\"H05\",CRSDATA!N208=\"H06\"),\"I01\",CRSDATA!N208))))))","v":0},{"$f":"CRSDATA!M208","v":0},{"$f":"IF(CRSDATA!L208=22,\"FA04\",\"\")","v":""},{"$f":"IF(CRSDATA!K208=8,\"FC02\",\"\")","v":""},{"$f":"IF(OR(O208=\"B02\",O208=\"E02\",O208=\"G01\",O208=\"H00\",O208=\"I01\"),2,IF(OR(O208=\"A00\",O208=\"E01\",O208=\"F01\",P208=510,P208=520),1,IF(VLOOKUP(F208,recipient_country!AB:AD,3,FALSE)=\"Part I unallocated by income\",\"\",1)))","v":{"$error":"#N/A"}},{"$f":"CRSDATA!AM208","v":0},{"$f":"CRSDATA!AN208","v":0},{"$f":"CRSDATA!AP208","v":0},{"$f":"CRSDATA!AR208","v":0},{"$f":"CRSDATA!BA208","v":0},null,"",{"$f":"IF(CRSDATA!M208=421,DATEDIF(CRSDATA!B208,CRSDATA!BH208,\"m\"),\"\")","v":""},{"$f":"CRSDATA!AZ208","v":0},{"$f":"CRSDATA!BB208","v":0},{"$f":"CRSDATA!L208","v":0}]
[{"$f":"CRSDATA!A209","v":0},{"$f":"CRSDATA!C209","v":0},{"$f":"CRSDATA!D209","v":0},{"$f":"CRSDATA!F209","v":0},{"$f":"CRSDATA!E209","v":0},{"$f":"IF(CRSDATA!H209=3000,998,CRSDATA!H209)","v":0},{"$f":"CRSDATA!O209","v":0},{"$f":"CRSDATA!U209","v":0},null,{"$f":"IF(CRSDATA!V209=\"\",\"\",CRSDATA!V209)","v":""},{"$f":"key_row(CRSDATA!W209,CRSDATA!X209,CRSDATA!AK209,CRSDATA!AJ209,CRSDATA!P209,CRSDATA!V209)","v":""},{"$f":"CRSDATA!P209","v":0},{"$f":"CRSDATA!J209","v":0},{"$f":"CRSDATA!I209","v":0},{"$f":"IF(LEFT(CRSDATA!N209,2)=\"A0\",\"A00\",IF(LEFT(CRSDATA!N209,3)=\"B02\",\"B02\",IF(LEFT(CRSDATA!N209,3)=\"B03\",\"B03\",IF(CRSDATA!N209=\"B04\",\"C01\",IF(CRSDATA!N209=\"H01\",\"H00\",IF(OR(CRSDATA!N209=\"H02\",CRSDATA!N209=\"H03\",CRSDATA!N209=\"H04\",CRSDATA!N209=\"H05\",CRSDATA!N209=\"H06\"),\"I01\",CRSDATA!N209))))))","v":0},{"$f":"CRSDATA!M209","v":0},{"$f":"IF(CRSDATA!L209=22,\"FA04\",\"\")","v":""},{"$f":"IF(CRSDATA!K209=8,\"FC02\",\"\")","v":""},{"$f":"IF(OR(O209=\"B02\",O209=\"E02\",O209=\"G01\",O209=\"H00\",O209=\"I01\"),2,IF(OR(O209=\"A00\",O209=\"E01\",O209=\"F01\",P209=510,P209=520),1,IF(VLOOKUP(F209,recipient_country!AB:AD,3,FALSE)=\"Part I unallocated by income\",\"\",1)))","v":{"$error":"#N/A"}},{"$f":"CRSDATA!AM209","v":0},{"$f":"CRSDATA!AN209","v":0},{"$f":"CRSDATA!AP209","v":0},{"$f":"CRSDATA!AR209","v":0},{"$f":"CRSDATA!BA209","v":0},null,"",{"$f":"IF(CRSDATA!M209=421,DATEDIF(CRSDATA!B209,CRSDATA!BH209,\"m\"),\"\")","v":""},{"$f":"CRSDATA!AZ209","v":0},{"$f":"CRSDATA!BB209","v":0},{"$f":"CRSDATA!L209","v":0}]
[{"$f":"CRSDATA!A210","v":0},{"$f":"CRSDATA!C210","v":0},{"$f":"CRSDATA!D210","v":0},{"$f":"CRSDATA!F210","v":0},{"$f":"CRSDATA!E210","v":0},{"$f":"IF(CRSDATA!H210=3000,998,CRSDATA!H210)","v":0},{"$f":"CRSDATA!O210","v":0},{"$f":"CRSDATA!U210","v":0},null,{"$f":"IF(CRSDATA!V210=\"\",\"\",CRSDATA!V210)","v":""},{"$f":"key_row(CRSDATA!W210,CRSDATA!X210,CRSDATA!AK210,CRSDATA!AJ210,CRSDATA!P210,CRSDATA!V210)","v":""},{"$f":"CRSDATA!P210","v":0},{"$f":"CRSDATA!J210","v":0},{"$f":"CRSDATA!I210","v":0},{"$f":"IF(LEFT(CRSDATA!N210,2)=\"A0\",\"A00\",IF(LEFT(CRSDATA!N210,3)=\"B02\",\"B02\",IF(LEFT(CRSDATA!N210,3)=\"B03\",\"B03\",IF(CRSDATA!N210=\"B04\",\"C01\",IF(CRSDATA!N210=\"H01\",\"H00\",IF(OR(CRSDATA!N210=\"H02\",CRSDATA!N210=\"H03\",CRSDATA!N210=\"H04\",CRSDATA!N210=\"H05\",CRSDATA!N210=\"H06\"),\"I01\",CRSDATA!N210))))))","v":0},{"$f":"CRSDATA!M210","v":0},{"$f":"IF(CRSDATA!L210=22,\"FA04\",\"\")","v":""},{"$f":"IF(CRSDATA!K210=8,\"FC02\",\"\")","v":""},{"$f":"IF(OR(O210=\"B02\",O210=\"E02\",O210=\"G01\",O210=\"H00\",O210=\"I01\"),2,IF(OR(O210=\"A00\",O210=\"E01\",O210=\"F01\",P210=510,P210=520),1,IF(VLOOKUP(F210,recipient_country!AB:AD,3,FALSE)=\"Part I unallocated by income\",\"\",1)))","v":{"$error":"#N/A"}},{"$f":"CRSDATA!AM210","v":0},{"$f":"CRSDATA!AN210","v":0},{"$f":"CRSDATA!AP210","v":0},{"$f":"CRSDATA!AR210","v":0},{"$f":"CRSDATA!BA210","v":0},null,"",{"$f":"IF(CRSDATA!M210=421,DATEDIF(CRSDATA!B210,CRSDATA!BH210,\"m\"),\"\")","v":""},{"$f":"CRSDATA!AZ210","v":0},{"$f":"CRSDATA!BB210","v":0},{"$f":"CRSDATA!L210","v":0}]
[{"$f":"CRSDATA!A211","v":0},{"$f":"CRSDATA!C211","v":0},{"$f":"CRSDATA!D211","v":0},{"$f":"CRSDATA!F211","v":0},{"$f":"CRSDATA!E211","v":0},{"$f":"IF(CRSDATA!H211=3000,998,CRSDATA!H211)","v":0},{"$f":"CRSDATA!O211","v":0},{"$f":"CRSDATA!U211","v":0},null,{"$f":"IF(CRSDATA!V211=\"\",\"\",CRSDATA!V211)","v":""},{"$f":"key_row(CRSDATA!W211,CRSDATA!X211,CRSDATA!AK211,CRSDATA!AJ211,CRSDATA!P211,CRSDATA!V211)","v":""},{"$f":"CRSDATA!P211","v":0},{"$f":"CRSDATA!J211","v":0},{"$f":"CRSDATA!I211","v":0},{"$f":"IF(LEFT(CRSDATA!N211,2)=\"A0\",\"A00\",IF(LEFT(CRSDATA!N211,3)=\"B02\",\"B02\",IF(LEFT(CRSDATA!N211,3)=\"B03\",\"B03\",IF(CRSDATA!N211=\"B04\",\"C01\",IF(CRSDATA!N211=\"H01\",\"H00\",IF(OR(CRSDATA!N211=\"H02\",CRSDATA!N211=\"H03\",CRSDATA!N211=\"H04\",CRSDATA!N211=\"H05\",CRSDATA!N211=\"H06\"),\"I01\",CRSDATA!N211))))))","v":0},{"$f":"CRSDATA!M211","v":0},{"$f":"IF(CRSDATA!L211=22,\"FA04\",\"\")","v":""},{"$f":"IF(CRSDATA!K211=8,\"FC02\",\"\")","v":""},{"$f":"IF(OR(O211=\"B02\",O211=\"E02\",O211=\"G01\",O211=\"H00\",O211=\"I01\"),2,IF(OR(O211=\"A00\",O211=\"E01\",O211=\"F01\",P211=510,P211=520),1,IF(VLOOKUP(F211,recipient_country!AB:AD,3,FALSE)=\"Part I unallocated by income\",\"\",1)))","v":{"$error":"#N/A"}},{"$f":"CRSDATA!AM211","v":0},{"$f":"CRSDATA!AN211","v":0},{"$f":"CRSDATA!AP211","v":0},{"$f":"CRSDATA!AR211","v":0},{"$f":"CRSDATA!BA211","v":0},null,"",{"$f":"IF(CRSDATA!M211=421,DATEDIF(CRSDATA!B211,CRSDATA!BH211,\"m\"),\"\")","v":""},{"$f":"CRSDATA!AZ211","v":0},{"$f":"CRSDATA!BB211","v":0},{"$f":"CRSDATA!L211","v":0}]
[{"$f":"CRSDATA!A212","v":0},{"$f":"CRSDATA!C212","v":0},{"$f":"CRSDATA!D212","v":0},{"$f":"CRSDATA!F212","v":0},{"$f":"CRSDATA!E212","v":0},{"$f":"IF(CRSDATA!H212=3000,998,CRSDATA!H212)","v":0},{"$f":"CRSDATA!O212","v":0},{"$f":"CRSDATA!U212","v":0},null,{"$f":"IF(CRSDATA!V212=\"\",\"\",CRSDATA!V212)","v":""},{"$f":"key_row(CRSDATA!W212,CRSDATA!X212,CRSDATA!AK212,CRSDATA!AJ212,CRSDATA!P212,CRSDATA!V212)","v":""},{"$f":"CRSDATA!P212","v":0},{"$f":"CRSDATA!J212","v":0},{"$f":"CRSDATA!I212","v":0},{"$f":"IF(LEFT(CRSDATA!N212,2)=\"A0\",\"A00\",IF(LEFT(CRSDATA!N212,3)=\"B02\",\"B02\",IF(LEFT(CRSDATA!N212,3)=\"B03\",\"B03\",IF(CRSDATA!N212=\"B04\",\"C01\",IF(CRSDATA!N212=\"H01\",\"H00\",IF(OR(CRSDATA!N212=\"H02\",CRSDATA!N212=\"H03\",CRSDATA!N212=\"H04\",CRSDATA!N212=\"H05\",CRSDATA!N212=\"H06\"),\"I01\",CRSDATA!N212))))))","v":0},{"$f":"CRSDATA!M212","v":0},{"$f":"IF(CRSDATA!L212=22,\"FA04\",\"\")","v":""},{"$f":"IF(CRSDATA!K212=8,\"FC02\",\"\")","v":""},{"$f":"IF(OR(O212=\"B02\",O212=\"E02\",O212=\"G01\",O212=\"H00\",O212=\"I01\"),2,IF(OR(O212=\"A00\",O212=\"E01\",O212=\"F01\",P212=510,P212=520),1,IF(VLOOKUP(F212,recipient_country!AB:AD,3,FALSE)=\"Part I unallocated by income\",\"\",1)))","v":{"$error":"#N/A"}},{"$f":"CRSDATA!AM212","v":0},{"$f":"CRSDATA!AN212","v":0},{"$f":"CRSDATA!AP212","v":0},{"$f":"CRSDATA!AR212","v":0},{"$f":"CRSDATA!BA212","v":0},null,"",{"$f":"IF(CRSDATA!M212=421,DATEDIF(CRSDATA!B212,CRSDATA!BH212,\"m\"),\"\")","v":""},{"$f":"CRSDATA!AZ212","v":0},{"$f":"CRSDATA!BB212","v":0},{"$f":"CRSDATA!L212","v":0}]
[{"$f":"CRSDATA!A213","v":0},{"$f":"CRSDATA!C213","v":0},{"$f":"CRSDATA!D213","v":0},{"$f":"CRSDATA!F213","v":0},{"$f":"CRSDATA!E213","v":0},{"$f":"IF(CRSDATA!H213=3000,998,CRSDATA!H213)","v":0},{"$f":"CRSDATA!O213","v":0},{"$f":"CRSDATA!U213","v":0},null,{"$f":"IF(CRSDATA!V213=\"\",\"\",CRSDATA!V213)","v":""},{"$f":"key_row(CRSDATA!W213,CRSDATA!X213,CRSDATA!AK213,CRSDATA!AJ213,CRSDATA!P213,CRSDATA!V213)","v":""},{"$f":"CRSDATA!P213","v":0},{"$f":"CRSDATA!J213","v":0},{"$f":"CRSDATA!I213","v":0},{"$f":"IF(LEFT(CRSDATA!N213,2)=\"A0\",\"A00\",IF(LEFT(CRSDATA!N213,3)=\"B02\",\"B02\",IF(LEFT(CRSDATA!N213,3)=\"B03\",\"B03\",IF(CRSDATA!N213=\"B04\",\"C01\",IF(CRSDATA!N213=\"H01\",\"H00\",IF(OR(CRSDATA!N213=\"H02\",CRSDATA!N213=\"H03\",CRSDATA!N213=\"H04\",CRSDATA!N213=\"H05\",CRSDATA!N213=\"H06\"),\"I01\",CRSDATA!N213))))))","v":0},{"$f":"CRSDATA!M213","v":0},{"$f":"IF(CRSDATA!L213=22,\"FA04\",\"\")","v":""},{"$f":"IF(CRSDATA!K213=8,\"FC02\",\"\")","v":""},{"$f":"IF(OR(O213=\"B02\",O213=\"E02\",O213=\"G01\",O213=\"H00\",O213=\"I01\"),2,IF(OR(O213=\"A00\",O213=\"E01\",O213=\"F01\",P213=510,P213=520),1,IF(VLOOKUP(F213,recipient_country!AB:AD,3,FALSE)=\"Part I unallocated by income\",\"\",1)))","v":{"$error":"#N/A"}},{"$f":"CRSDATA!AM213","v":0},{"$f":"CRSDATA!AN213","v":0},{"$f":"CRSDATA!AP213","v":0},{"$f":"CRSDATA!AR213","v":0},{"$f":"CRSDATA!BA213","v":0},null,"",{"$f":"IF(CRSDATA!M213=421,DATEDIF(CRSDATA!B213,CRSDATA!BH213,\"m\"),\"\")","v":""},{"$f":"CRSDATA!AZ213","v":0},{"$f":"CRSDATA!BB213","v":0},{"$f":"CRSDATA!L213","v":0}]
[{"$f":"CRSDATA!A214","v":0},{"$f":"CRSDATA!C214","v":0},{"$f":"CRSDATA!D214","v":0},{"$f":"CRSDATA!F214","v":0},{"$f":"CRSDATA!E214","v":0},{"$f":"IF(CRSDATA!H214=3000,998,CRSDATA!H214)","v":0},{"$f":"CRSDATA!O214","v":0},{"$f":"CRSDATA!U214","v":0},null,{"$f":"IF(CRSDATA!V214=\"\",\"\",CRSDATA!V214)","v":""},{"$f":"key_row(CRSDATA!W214,CRSDATA!X214,CRSDATA!AK214,CRSDATA!AJ214,CRSDATA!P214,CRSDATA!V214)","v":""},{"$f":"CRSDATA!P214","v":0},{"$f":"CRSDATA!J214","v":0},{"$f":"CRSDATA!I214","v":0},{"$f":"IF(LEFT(CRSDATA!N214,2)=\"A0\",\"A00\",IF(LEFT(CRSDATA!N214,3)=\"B02\",\"B02\",IF(LEFT(CRSDATA!N214,3)=\"B03\",\"B03\",IF(CRSDATA!N214=\"B04\",\"C01\",IF(CRSDATA!N214=\"H01\",\"H00\",IF(OR(CRSDATA!N214=\"H02\",CRSDATA!N214=\"H03\",CRSDATA!N214=\"H04\",CRSDATA!N214=\"H05\",CRSDATA!N214=\"H06\"),\"I01\",CRSDATA!N214))))))","v":0},{"$f":"CRSDATA!M214","v":0},{"$f":"IF(CRSDATA!L214=22,\"FA04\",\"\")","v":""},{"$f":"IF(CRSDATA!K214=8,\"FC02\",\"\")","v":""},{"$f":"IF(OR(O214=\"B02\",O214=\"E02\",O214=\"G01\",O214=\"H00\",O214=\"I01\"),2,IF(OR(O214=\"A00\",O214=\"E01\",O214=\"F01\",P214=510,P214=520),1,IF(VLOOKUP(F214,recipient_country!AB:AD,3,FALSE)=\"Part I unallocated by income\",\"\",1)))","v":{"$error":"#N/A"}},{"$f":"CRSDATA!AM214","v":0},{"$f":"CRSDATA!AN214","v":0},{"$f":"CRSDATA!AP214","v":0},{"$f":"CRSDATA!AR214","v":0},{"$f":"CRSDATA!BA214","v":0},null,"",{"$f":"IF(CRSDATA!M214=421,DATEDIF(CRSDATA!B214,CRSDATA!BH214,\"m\"),\"\")","v":""},{"$f":"CRSDATA!AZ214","v":0},{"$f":"CRSDATA!BB214","v":0},{"$f":"CRSDATA!L214","v":0}]
[{"$f":"CRSDATA!A215","v":0},{"$f":"CRSDATA!C215","v":0},{"$f":"CRSDATA!D215","v":0},{"$f":"CRSDATA!F215","v":0},{"$f":"CRSDATA!E215","v":0},{"$f":"IF(CRSDATA!H215=3000,998,CRSDATA!H215)","v":0},{"$f":"CRSDATA!O215","v":0},{"$f":"CRSDATA!U215","v":0},null,{"$f":"IF(CRSDATA!V215=\"\",\"\",CRSDATA!V215)","v":""},{"$f":"key_row(CRSDATA!W215,CRSDATA!X215,CRSDATA!AK215,CRSDATA!AJ215,CRSDATA!P215,CRSDATA!V215)","v":""},{"$f":"CRSDATA!P215","v":0},{"$f":"CRSDATA!J215","v":0},{"$f":"CRSDATA!I215","v":0},{"$f":"IF(LEFT(CRSDATA!N215,2)=\"A0\",\"A00\",IF(LEFT(CRSDATA!N215,3)=\"B02\",\"B02\",IF(LEFT(CRSDATA!N215,3)=\"B03\",\"B03\",IF(CRSDATA!N215=\"B04\",\"C01\",IF(CRSDATA!N215=\"H01\",\"H00\",IF(OR(CRSDATA!N215=\"H02\",CRSDATA!N215=\"H03\",CRSDATA!N215=\"H04\",CRSDATA!N215=\"H05\",CRSDATA!N215=\"H06\"),\"I01\",CRSDATA!N215))))))","v":0},{"$f":"CRSDATA!M215","v":0},{"$f":"IF(CRSDATA!L215=22,\"FA04\",\"\")","v":""},{"$f":"IF(CRSDATA!K215=8,\"FC02\",\"\")","v":""},{"$f":"IF(OR(O215=\"B02\",O215=\"E02\",O215=\"G01\",O215=\"H00\",O215=\"I01\"),2,IF(OR(O215=\"A00\",O215=\"E01\",O215=\"F01\",P215=510,P215=520),1,IF(VLOOKUP(F215,recipient_country!AB:AD,3,FALSE)=\"Part I unallocated by income\",\"\",1)))","v":{"$error":"#N/A"}},{"$f":"CRSDATA!AM215","v":0},{"$f":"CRSDATA!AN215","v":0},{"$f":"CRSDATA!AP215","v":0},{"$f":"CRSDATA!AR215","v":0},{"$f":"CRSDATA!BA215","v":0},null,"",{"$f":"IF(CRSDATA!M215=421,DATEDIF(CRSDATA!B215,CRSDATA!BH215,\"m\"),\"\")","v":""},{"$f":"CRSDATA!AZ215","v":0},{"$f":"CRSDATA!BB215","v":0},{"$f":"CRSDATA!L215","v":0}]
[{"$f":"CRSDATA!A216","v":0},{"$f":"CRSDATA!C216","v":0},{"$f":"CRSDATA!D216","v":0},{"$f":"CRSDATA!F216","v":0},{"$f":"CRSDATA!E216","v":0},{"$f":"IF(CRSDATA!H216=3000,998,CRSDATA!H216)","v":0},{"$f":"CRSDATA!O216","v":0},{"$f":"CRSDATA!U216","v":0},null,{"$f":"IF(CRSDATA!V216=\"\",\"\",CRSDATA!V216)","v":""},{"$f":"key_row(CRSDATA!W216,CRSDATA!X216,CRSDATA!AK216,CRSDATA!AJ216,CRSDATA!P216,CRSDATA!V216)","v":""},{"$f":"CRSDATA!P216","v":0},{"$f":"CRSDATA!J216","v":0},{"$f":"CRSDATA!I216","v":0},{"$f":"IF(LEFT(CRSDATA!N216,2)=\"A0\",\"A00\",IF(LEFT(CRSDATA!N216,3)=\"B02\",\"B02\",IF(LEFT(CRSDATA!N216,3)=\"B03\",\"B03\",IF(CRSDATA!N216=\"B04\",\"C01\",IF(CRSDATA!N216=\"H01\",\"H00\",IF(OR(CRSDATA!N216=\"H02\",CRSDATA!N216=\"H03\",CRSDATA!N216=\"H04\",CRSDATA!N216=\"H05\",CRSDATA!N216=\"H06\"),\"I01\",CRSDATA!N216))))))","v":0},{"$f":"CRSDATA!M216","v":0},{"$f":"IF(CRSDATA!L216=22,\"FA04\",\"\")","v":""},{"$f":"IF(CRSDATA!K216=8,\"FC02\",\"\")","v":""},{"$f":"IF(OR(O216=\"B02\",O216=\"E02\",O216=\"G01\",O216=\"H00\",O216=\"I01\"),2,IF(OR(O216=\"A00\",O216=\"E01\",O216=\"F01\",P216=510,P216=520),1,IF(VLOOKUP(F216,recipient_country!AB:AD,3,FALSE)=\"Part I unallocated by income\",\"\",1)))","v":{"$error":"#N/A"}},{"$f":"CRSDATA!AM216","v":0},{"$f":"CRSDATA!AN216","v":0},{"$f":"CRSDATA!AP216","v":0},{"$f":"CRSDATA!AR216","v":0},{"$f":"CRSDATA!BA216","v":0},null,"",{"$f":"IF(CRSDATA!M216=421,DATEDIF(CRSDATA!B216,CRSDATA!BH216,\"m\"),\"\")","v":""},{"$f":"CRSDATA!AZ216","v":0},{"$f":"CRSDATA!BB216","v":0},{"$f":"CRSDATA!L216","v":0}]
[{"$f":"CRSDATA!A217","v":0},{"$f":"CRSDATA!C217","v":0},{"$f":"CRSDATA!D217","v":0},{"$f":"CRSDATA!F217","v":0},{"$f":"CRSDATA!E217","v":0},{"$f":"IF(CRSDATA!H217=3000,998,CRSDATA!H217)","v":0},{"$f":"CRSDATA!O217","v":0},{"$f":"CRSDATA!U217","v":0},null,{"$f":"IF(CRSDATA!V217=\"\",\"\",CRSDATA!V217)","v":""},{"$f":"key_row(CRSDATA!W217,CRSDATA!X217,CRSDATA!AK217,CRSDATA!AJ217,CRSDATA!P217,CRSDATA!V217)","v":""},{"$f":"CRSDATA!P217","v":0},{"$f":"CRSDATA!J217","v":0},{"$f":"CRSDATA!I217","v":0},{"$f":"IF(LEFT(CRSDATA!N217,2)=\"A0\",\"A00\",IF(LEFT(CRSDATA!N217,3)=\"B02\",\"B02\",IF(LEFT(CRSDATA!N217,3)=\"B03\",\"B03\",IF(CRSDATA!N217=\"B04\",\"C01\",IF(CRSDATA!N217=\"H01\",\"H00\",IF(OR(CRSDATA!N217=\"H02\",CRSDATA!N217=\"H03\",CRSDATA!N217=\"H04\",CRSDATA!N217=\"H05\",CRSDATA!N217=\"H06\"),\"I01\",CRSDATA!N217))))))","v":0},{"$f":"CRSDATA!M217","v":0},{"$f":"IF(CRSDATA!L217=22,\"FA04\",\"\")","v":""},{"$f":"IF(CRSDATA!K217=8,\"FC02\",\"\")","v":""},{"$f":"IF(OR(O217=\"B02\",O217=\"E02\",O217=\"G01\",O217=\"H00\",O217=\"I01\"),2,IF(OR(O217=\"A00\",O217=\"E01\",O217=\"F01\",P217=510,P217=520),1,IF(VLOOKUP(F217,recipient_country!AB:AD,3,FALSE)=\"Part I unallocated by income\",\"\",1)))","v":{"$error":"#N/A"}},{"$f":"CRSDATA!AM217","v":0},{"$f":"CRSDATA!AN217","v":0},{"$f":"CRSDATA!AP217","v":0},{"$f":"CRSDATA!AR217","v":0},{"$f":"CRSDATA!BA217","v":0},null,"",{"$f":"IF(CRSDATA!M217=421,DATEDIF(CRSDATA!B217,CRSDATA!BH217,\"m\"),\"\")","v":""},{"$f":"CRSDATA!AZ217","v":0},{"$f":"CRSDATA!BB217","v":0},{"$f":"CRSDATA!L217","v":0}]
[{"$f":"CRSDATA!A218","v":0},{"$f":"CRSDATA!C218","v":0},{"$f":"CRSDATA!D218","v":0},{"$f":"CRSDATA!F218","v":0},{"$f":"CRSDATA!E218","v":0},{"$f":"IF(CRSDATA!H218=3000,998,CRSDATA!H218)","v":0},{"$f":"CRSDATA!O218","v":0},{"$f":"CRSDATA!U218","v":0},null,{"$f":"IF(CRSDATA!V218=\"\",\"\",CRSDATA!V218)","v":""},{"$f":"key_row(CRSDATA!W218,CRSDATA!X218,CRSDATA!AK218,CRSDATA!AJ218,CRSDATA!P218,CRSDATA!V218)","v":""},{"$f":"CRSDATA!P218","v":0},{"$f":"CRSDATA!J218","v":0},{"$f":"CRSDATA!I218","v":0},{"$f":"IF(LEFT(CRSDATA!N218,2)=\"A0\",\"A00\",IF(LEFT(CRSDATA!N218,3)=\"B02\",\"B02\",IF(LEFT(CRSDATA!N218,3)=\"B03\",\"B03\",IF(CRSDATA!N218=\"B04\",\"C01\",IF(CRSDATA!N218=\"H01\",\"H00\",IF(OR(CRSDATA!N218=\"H02\",CRSDATA!N218=\"H03\",CRSDATA!N218=\"H04\",CRSDATA!N218=\"H05\",CRSDATA!N218=\"H06\"),\"I01\",CRSDATA!N218))))))","v":0},{"$f":"CRSDATA!M218","v":0},{"$f":"IF(CRSDATA!L218=22,\"FA04\",\"\")","v":""},{"$f":"IF(CRSDATA!K218=8,\"FC02\",\"\")","v":""},{"$f":"IF(OR(O218=\"B02\",O218=\"E02\",O218=\"G01\",O218=\"H00\",O218=\"I01\"),2,IF(OR(O218=\"A00\",O218=\"E01\",O218=\"F01\",P218=510,P218=520),1,IF(VLOOKUP(F218,recipient_country!AB:AD,3,FALSE)=\"Part I unallocated by income\",\"\",1)))","v":{"$error":"#N/A"}},{"$f":"CRSDATA!AM218","v":0},{"$f":"CRSDATA!AN218","v":0},{"$f":"CRSDATA!AP218","v":0},{"$f":"CRSDATA!AR218","v":0},{"$f":"CRSDATA!BA218","v":0},null,"",{"$f":"IF(CRSDATA!M218=421,DATEDIF(CRSDATA!B218,CRSDATA!BH218,\"m\"),\"\")","v":""},{"$f":"CRSDATA!AZ218","v":0},{"$f":"CRSDATA!BB218","v":0},{"$f":"CRSDATA!L218","v":0}]
[{"$f":"CRSDATA!A219","v":0},{"$f":"CRSDATA!C219","v":0},{"$f":"CRSDATA!D219","v":0},{"$f":"CRSDATA!F219","v":0},{"$f":"CRSDATA!E219","v":0},{"$f":"IF(CRSDATA!H219=3000,998,CRSDATA!H219)","v":0},{"$f":"CRSDATA!O219","v":0},{"$f":"CRSDATA!U219","v":0},null,{"$f":"IF(CRSDATA!V219=\"\",\"\",CRSDATA!V219)","v":""},{"$f":"key_row(CRSDATA!W219,CRSDATA!X219,CRSDATA!AK219,CRSDATA!AJ219,CRSDATA!P219,CRSDATA!V219)","v":""},{"$f":"CRSDATA!P219","v":0},{"$f":"CRSDATA!J219","v":0},{"$f":"CRSDATA!I219","v":0},{"$f":"IF(LEFT(CRSDATA!N219,2)=\"A0\",\"A00\",IF(LEFT(CRSDATA!N219,3)=\"B02\",\"B02\",IF(LEFT(CRSDATA!N219,3)=\"B03\",\"B03\",IF(CRSDATA!N219=\"B04\",\"C01\",IF(CRSDATA!N219=\"H01\",\"H00\",IF(OR(CRSDATA!N219=\"H02\",CRSDATA!N219=\"H03\",CRSDATA!N219=\"H04\",CRSDATA!N219=\"H05\",CRSDATA!N219=\"H06\"),\"I01\",CRSDATA!N219))))))","v":0},{"$f":"CRSDATA!M219","v":0},{"$f":"IF(CRSDATA!L219=22,\"FA04\",\"\")","v":""},{"$f":"IF(CRSDATA!K219=8,\"FC02\",\"\")","v":""},{"$f":"IF(OR(O219=\"B02\",O219=\"E02\",O219=\"G01\",O219=\"H00\",O219=\"I01\"),2,IF(OR(O219=\"A00\",O219=\"E01\",O219=\"F01\",P219=510,P219=520),1,IF(VLOOKUP(F219,recipient_country!AB:AD,3,FALSE)=\"Part I unallocated by income\",\"\",1)))","v":{"$error":"#N/A"}},{"$f":"CRSDATA!AM219","v":0},{"$f":"CRSDATA!AN219","v":0},{"$f":"CRSDATA!AP219","v":0},{"$f":"CRSDATA!AR219","v":0},{"$f":"CRSDATA!BA219","v":0},null,"",{"$f":"IF(CRSDATA!M219=421,DATEDIF(CRSDATA!B219,CRSDATA!BH219,\"m\"),\"\")","v":""},{"$f":"CRSDATA!AZ219","v":0},{"$f":"CRSDATA!BB219","v":0},{"$f":"CRSDATA!L219","v":0}]
[{"$f":"CRSDATA!A220","v":0},{"$f":"CRSDATA!C220","v":0},{"$f":"CRSDATA!D220","v":0},{"$f":"CRSDATA!F220","v":0},{"$f":"CRSDATA!E220","v":0},{"$f":"IF(CRSDATA!H220=3000,998,CRSDATA!H220)","v":0},{"$f":"CRSDATA!O220","v":0},{"$f":"CRSDATA!U220","v":0},null,{"$f":"IF(CRSDATA!V220=\"\",\"\",CRSDATA!V220)","v":""},{"$f":"key_row(CRSDATA!W220,CRSDATA!X220,CRSDATA!AK220,CRSDATA!AJ220,CRSDATA!P220,CRSDATA!V220)","v":""},{"$f":"CRSDATA!P220","v":0},{"$f":"CRSDATA!J220","v":0},{"$f":"CRSDATA!I220","v":0},{"$f":"IF(LEFT(CRSDATA!N220,2)=\"A0\",\"A00\",IF(LEFT(CRSDATA!N220,3)=\"B02\",\"B02\",IF(LEFT(CRSDATA!N220,3)=\"B03\",\"B03\",IF(CRSDATA!N220=\"B04\",\"C01\",IF(CRSDATA!N220=\"H01\",\"H00\",IF(OR(CRSDATA!N220=\"H02\",CRSDATA!N220=\"H03\",CRSDATA!N220=\"H04\",CRSDATA!N220=\"H05\",CRSDATA!N220=\"H06\"),\"I01\",CRSDATA!N220))))))","v":0},{"$f":"CRSDATA!M220","v":0},{"$f":"IF(CRSDATA!L220=22,\"FA04\",\"\")","v":""},{"$f":"IF(CRSDATA!K220=8,\"FC02\",\"\")","v":""},{"$f":"IF(OR(O220=\"B02\",O220=\"E02\",O220=\"G01\",O220=\"H00\",O220=\"I01\"),2,IF(OR(O220=\"A00\",O220=\"E01\",O220=\"F01\",P220=510,P220=520),1,IF(VLOOKUP(F220,recipient_country!AB:AD,3,FALSE)=\"Part I unallocated by income\",\"\",1)))","v":{"$error":"#N/A"}},{"$f":"CRSDATA!AM220","v":0},{"$f":"CRSDATA!AN220","v":0},{"$f":"CRSDATA!AP220","v":0},{"$f":"CRSDATA!AR220","v":0},{"$f":"CRSDATA!BA220","v":0},null,"",{"$f":"IF(CRSDATA!M220=421,DATEDIF(CRSDATA!B220,CRSDATA!BH220,\"m\"),\"\")","v":""},{"$f":"CRSDATA!AZ220","v":0},{"$f":"CRSDATA!BB220","v":0},{"$f":"CRSDATA!L220","v":0}]
[{"$f":"CRSDATA!A221","v":0},{"$f":"CRSDATA!C221","v":0},{"$f":"CRSDATA!D221","v":0},{"$f":"CRSDATA!F221","v":0},{"$f":"CRSDATA!E221","v":0},{"$f":"IF(CRSDATA!H221=3000,998,CRSDATA!H221)","v":0},{"$f":"CRSDATA!O221","v":0},{"$f":"CRSDATA!U221","v":0},null,{"$f":"IF(CRSDATA!V221=\"\",\"\",CRSDATA!V221)","v":""},{"$f":"key_row(CRSDATA!W221,CRSDATA!X221,CRSDATA!AK221,CRSDATA!AJ221,CRSDATA!P221,CRSDATA!V221)","v":""},{"$f":"CRSDATA!P221","v":0},{"$f":"CRSDATA!J221","v":0},{"$f":"CRSDATA!I221","v":0},{"$f":"IF(LEFT(CRSDATA!N221,2)=\"A0\",\"A00\",IF(LEFT(CRSDATA!N221,3)=\"B02\",\"B02\",IF(LEFT(CRSDATA!N221,3)=\"B03\",\"B03\",IF(CRSDATA!N221=\"B04\",\"C01\",IF(CRSDATA!N221=\"H01\",\"H00\",IF(OR(CRSDATA!N221=\"H02\",CRSDATA!N221=\"H03\",CRSDATA!N221=\"H04\",CRSDATA!N221=\"H05\",CRSDATA!N221=\"H06\"),\"I01\",CRSDATA!N221))))))","v":0},{"$f":"CRSDATA!M221","v":0},{"$f":"IF(CRSDATA!L221=22,\"FA04\",\"\")","v":""},{"$f":"IF(CRSDATA!K221=8,\"FC02\",\"\")","v":""},{"$f":"IF(OR(O221=\"B02\",O221=\"E02\",O221=\"G01\",O221=\"H00\",O221=\"I01\"),2,IF(OR(O221=\"A00\",O221=\"E01\",O221=\"F01\",P221=510,P221=520),1,IF(VLOOKUP(F221,recipient_country!AB:AD,3,FALSE)=\"Part I unallocated by income\",\"\",1)))","v":{"$error":"#N/A"}},{"$f":"CRSDATA!AM221","v":0},{"$f":"CRSDATA!AN221","v":0},{"$f":"CRSDATA!AP221","v":0},{"$f":"CRSDATA!AR221","v":0},{"$f":"CRSDATA!BA221","v":0},null,"",{"$f":"IF(CRSDATA!M221=421,DATEDIF(CRSDATA!B221,CRSDATA!BH221,\"m\"),\"\")","v":""},{"$f":"CRSDATA!AZ221","v":0},{"$f":"CRSDATA!BB221","v":0},{"$f":"CRSDATA!L221","v":0}]
[{"$f":"CRSDATA!A222","v":0},{"$f":"CRSDATA!C222","v":0},{"$f":"CRSDATA!D222","v":0},{"$f":"CRSDATA!F222","v":0},{"$f":"CRSDATA!E222","v":0},{"$f":"IF(CRSDATA!H222=3000,998,CRSDATA!H222)","v":0},{"$f":"CRSDATA!O222","v":0},{"$f":"CRSDATA!U222","v":0},null,{"$f":"IF(CRSDATA!V222=\"\",\"\",CRSDATA!V222)","v":""},{"$f":"key_row(CRSDATA!W222,CRSDATA!X222,CRSDATA!AK222,CRSDATA!AJ222,CRSDATA!P222,CRSDATA!V222)","v":""},{"$f":"CRSDATA!P222","v":0},{"$f":"CRSDATA!J222","v":0},{"$f":"CRSDATA!I222","v":0},{"$f":"IF(LEFT(CRSDATA!N222,2)=\"A0\",\"A00\",IF(LEFT(CRSDATA!N222,3)=\"B02\",\"B02\",IF(LEFT(CRSDATA!N222,3)=\"B03\",\"B03\",IF(CRSDATA!N222=\"B04\",\"C01\",IF(CRSDATA!N222=\"H01\",\"H00\",IF(OR(CRSDATA!N222=\"H02\",CRSDATA!N222=\"H03\",CRSDATA!N222=\"H04\",CRSDATA!N222=\"H05\",CRSDATA!N222=\"H06\"),\"I01\",CRSDATA!N222))))))","v":0},{"$f":"CRSDATA!M222","v":0},{"$f":"IF(CRSDATA!L222=22,\"FA04\",\"\")","v":""},{"$f":"IF(CRSDATA!K222=8,\"FC02\",\"\")","v":""},{"$f":"IF(OR(O222=\"B02\",O222=\"E02\",O222=\"G01\",O222=\"H00\",O222=\"I01\"),2,IF(OR(O222=\"A00\",O222=\"E01\",O222=\"F01\",P222=510,P222=520),1,IF(VLOOKUP(F222,recipient_country!AB:AD,3,FALSE)=\"Part I unallocated by income\",\"\",1)))","v":{"$error":"#N/A"}},{"$f":"CRSDATA!AM222","v":0},{"$f":"CRSDATA!AN222","v":0},{"$f":"CRSDATA!AP222","v":0},{"$f":"CRSDATA!AR222","v":0},{"$f":"CRSDATA!BA222","v":0},null,"",{"$f":"IF(CRSDATA!M222=421,DATEDIF(CRSDATA!B222,CRSDATA!BH222,\"m\"),\"\")","v":""},{"$f":"CRSDATA!AZ222","v":0},{"$f":"CRSDATA!BB222","v":0},{"$f":"CRSDATA!L222","v":0}]
[{"$f":"CRSDATA!A223","v":0},{"$f":"CRSDATA!C223","v":0},{"$f":"CRSDATA!D223","v":0},{"$f":"CRSDATA!F223","v":0},{"$f":"CRSDATA!E223","v":0},{"$f":"IF(CRSDATA!H223=3000,998,CRSDATA!H223)","v":0},{"$f":"CRSDATA!O223","v":0},{"$f":"CRSDATA!U223","v":0},null,{"$f":"IF(CRSDATA!V223=\"\",\"\",CRSDATA!V223)","v":""},{"$f":"key_row(CRSDATA!W223,CRSDATA!X223,CRSDATA!AK223,CRSDATA!AJ223,CRSDATA!P223,CRSDATA!V223)","v":""},{"$f":"CRSDATA!P223","v":0},{"$f":"CRSDATA!J223","v":0},{"$f":"CRSDATA!I223","v":0},{"$f":"IF(LEFT(CRSDATA!N223,2)=\"A0\",\"A00\",IF(LEFT(CRSDATA!N223,3)=\"B02\",\"B02\",IF(LEFT(CRSDATA!N223,3)=\"B03\",\"B03\",IF(CRSDATA!N223=\"B04\",\"C01\",IF(CRSDATA!N223=\"H01\",\"H00\",IF(OR(CRSDATA!N223=\"H02\",CRSDATA!N223=\"H03\",CRSDATA!N223=\"H04\",CRSDATA!N223=\"H05\",CRSDATA!N223=\"H06\"),\"I01\",CRSDATA!N223))))))","v":0},{"$f":"CRSDATA!M223","v":0},{"$f":"IF(CRSDATA!L223=22,\"FA04\",\"\")","v":""},{"$f":"IF(CRSDATA!K223=8,\"FC02\",\"\")","v":""},{"$f":"IF(OR(O223=\"B02\",O223=\"E02\",O223=\"G01\",O223=\"H00\",O223=\"I01\"),2,IF(OR(O223=\"A00\",O223=\"E01\",O223=\"F01\",P223=510,P223=520),1,IF(VLOOKUP(F223,recipient_country!AB:AD,3,FALSE)=\"Part I unallocated by income\",\"\",1)))","v":{"$error":"#N/A"}},{"$f":"CRSDATA!AM223","v":0},{"$f":"CRSDATA!AN223","v":0},{"$f":"CRSDATA!AP223","v":0},{"$f":"CRSDATA!AR223","v":0},{"$f":"CRSDATA!BA223","v":0},null,"",{"$f":"IF(CRSDATA!M223=421,DATEDIF(CRSDATA!B223,CRSDATA!BH223,\"m\"),\"\")","v":""},{"$f":"CRSDATA!AZ223","v":0},{"$f":"CRSDATA!BB223","v":0},{"$f":"CRSDATA!L223","v":0}]
[{"$f":"CRSDATA!A224","v":0},{"$f":"CRSDATA!C224","v":0},{"$f":"CRSDATA!D224","v":0},{"$f":"CRSDATA!F224","v":0},{"$f":"CRSDATA!E224","v":0},{"$f":"IF(CRSDATA!H224=3000,998,CRSDATA!H224)","v":0},{"$f":"CRSDATA!O224","v":0},{"$f":"CRSDATA!U224","v":0},null,{"$f":"IF(CRSDATA!V224=\"\",\"\",CRSDATA!V224)","v":""},{"$f":"key_row(CRSDATA!W224,CRSDATA!X224,CRSDATA!AK224,CRSDATA!AJ224,CRSDATA!P224,CRSDATA!V224)","v":""},{"$f":"CRSDATA!P224","v":0},{"$f":"CRSDATA!J224","v":0},{"$f":"CRSDATA!I224","v":0},{"$f":"IF(LEFT(CRSDATA!N224,2)=\"A0\",\"A00\",IF(LEFT(CRSDATA!N224,3)=\"B02\",\"B02\",IF(LEFT(CRSDATA!N224,3)=\"B03\",\"B03\",IF(CRSDATA!N224=\"B04\",\"C01\",IF(CRSDATA!N224=\"H01\",\"H00\",IF(OR(CRSDATA!N224=\"H02\",CRSDATA!N224=\"H03\",CRSDATA!N224=\"H04\",CRSDATA!N224=\"H05\",CRSDATA!N224=\"H06\"),\"I01\",CRSDATA!N224))))))","v":0},{"$f":"CRSDATA!M224","v":0},{"$f":"IF(CRSDATA!L224=22,\"FA04\",\"\")","v":""},{"$f":"IF(CRSDATA!K224=8,\"FC02\",\"\")","v":""},{"$f":"IF(OR(O224=\"B02\",O224=\"E02\",O224=\"G01\",O224=\"H00\",O224=\"I01\"),2,IF(OR(O224=\"A00\",O224=\"E01\",O224=\"F01\",P224=510,P224=520),1,IF(VLOOKUP(F224,recipient_country!AB:AD,3,FALSE)=\"Part I unallocated by income\",\"\",1)))","v":{"$error":"#N/A"}},{"$f":"CRSDATA!AM224","v":0},{"$f":"CRSDATA!AN224","v":0},{"$f":"CRSDATA!AP224","v":0},{"$f":"CRSDATA!AR224","v":0},{"$f":"CRSDATA!BA224","v":0},null,"",{"$f":"IF(CRSDATA!M224=421,DATEDIF(CRSDATA!B224,CRSDATA!BH224,\"m\"),\"\")","v":""},{"$f":"CRSDATA!AZ224","v":0},{"$f":"CRSDATA!BB224","v":0},{"$f":"CRSDATA!L224","v":0}]
[{"$f":"CRSDATA!A225","v":0},{"$f":"CRSDATA!C225","v":0},{"$f":"CRSDATA!D225","v":0},{"$f":"CRSDATA!F225","v":0},{"$f":"CRSDATA!E225","v":0},{"$f":"IF(CRSDATA!H225=3000,998,CRSDATA!H225)","v":0},{"$f":"CRSDATA!O225","v":0},{"$f":"CRSDATA!U225","v":0},null,{"$f":"IF(CRSDATA!V225=\"\",\"\",CRSDATA!V225)","v":""},{"$f":"key_row(CRSDATA!W225,CRSDATA!X225,CRSDATA!AK225,CRSDATA!AJ225,CRSDATA!P225,CRSDATA!V225)","v":""},{"$f":"CRSDATA!P225","v":0},{"$f":"CRSDATA!J225","v":0},{"$f":"CRSDATA!I225","v":0},{"$f":"IF(LEFT(CRSDATA!N225,2)=\"A0\",\"A00\",IF(LEFT(CRSDATA!N225,3)=\"B02\",\"B02\",IF(LEFT(CRSDATA!N225,3)=\"B03\",\"B03\",IF(CRSDATA!N225=\"B04\",\"C01\",IF(CRSDATA!N225=\"H01\",\"H00\",IF(OR(CRSDATA!N225=\"H02\",CRSDATA!N225=\"H03\",CRSDATA!N225=\"H04\",CRSDATA!N225=\"H05\",CRSDATA!N225=\"H06\"),\"I01\",CRSDATA!N225))))))","v":0},{"$f":"CRSDATA!M225","v":0},{"$f":"IF(CRSDATA!L225=22,\"FA04\",\"\")","v":""},{"$f":"IF(CRSDATA!K225=8,\"FC02\",\"\")","v":""},{"$f":"IF(OR(O225=\"B02\",O225=\"E02\",O225=\"G01\",O225=\"H00\",O225=\"I01\"),2,IF(OR(O225=\"A00\",O225=\"E01\",O225=\"F01\",P225=510,P225=520),1,IF(VLOOKUP(F225,recipient_country!AB:AD,3,FALSE)=\"Part I unallocated by income\",\"\",1)))","v":{"$error":"#N/A"}},{"$f":"CRSDATA!AM225","v":0},{"$f":"CRSDATA!AN225","v":0},{"$f":"CRSDATA!AP225","v":0},{"$f":"CRSDATA!AR225","v":0},{"$f":"CRSDATA!BA225","v":0},null,"",{"$f":"IF(CRSDATA!M225=421,DATEDIF(CRSDATA!B225,CRSDATA!BH225,\"m\"),\"\")","v":""},{"$f":"CRSDATA!AZ225","v":0},{"$f":"CRSDATA!BB225","v":0},{"$f":"CRSDATA!L225","v":0}]
[{"$f":"CRSDATA!A226","v":0},{"$f":"CRSDATA!C226","v":0},{"$f":"CRSDATA!D226","v":0},{"$f":"CRSDATA!F226","v":0},{"$f":"CRSDATA!E226","v":0},{"$f":"IF(CRSDATA!H226=3000,998,CRSDATA!H226)","v":0},{"$f":"CRSDATA!O226","v":0},{"$f":"CRSDATA!U226","v":0},null,{"$f":"IF(CRSDATA!V226=\"\",\"\",CRSDATA!V226)","v":""},{"$f":"key_row(CRSDATA!W226,CRSDATA!X226,CRSDATA!AK226,CRSDATA!AJ226,CRSDATA!P226,CRSDATA!V226)","v":""},{"$f":"CRSDATA!P226","v":0},{"$f":"CRSDATA!J226","v":0},{"$f":"CRSDATA!I226","v":0},{"$f":"IF(LEFT(CRSDATA!N226,2)=\"A0\",\"A00\",IF(LEFT(CRSDATA!N226,3)=\"B02\",\"B02\",IF(LEFT(CRSDATA!N226,3)=\"B03\",\"B03\",IF(CRSDATA!N226=\"B04\",\"C01\",IF(CRSDATA!N226=\"H01\",\"H00\",IF(OR(CRSDATA!N226=\"H02\",CRSDATA!N226=\"H03\",CRSDATA!N226=\"H04\",CRSDATA!N226=\"H05\",CRSDATA!N226=\"H06\"),\"I01\",CRSDATA!N226))))))","v":0},{"$f":"CRSDATA!M226","v":0},{"$f":"IF(CRSDATA!L226=22,\"FA04\",\"\")","v":""},{"$f":"IF(CRSDATA!K226=8,\"FC02\",\"\")","v":""},{"$f":"IF(OR(O226=\"B02\",O226=\"E02\",O226=\"G01\",O226=\"H00\",O226=\"I01\"),2,IF(OR(O226=\"A00\",O226=\"E01\",O226=\"F01\",P226=510,P226=520),1,IF(VLOOKUP(F226,recipient_country!AB:AD,3,FALSE)=\"Part I unallocated by income\",\"\",1)))","v":{"$error":"#N/A"}},{"$f":"CRSDATA!AM226","v":0},{"$f":"CRSDATA!AN226","v":0},{"$f":"CRSDATA!AP226","v":0},{"$f":"CRSDATA!AR226","v":0},{"$f":"CRSDATA!BA226","v":0},null,"",{"$f":"IF(CRSDATA!M226=421,DATEDIF(CRSDATA!B226,CRSDATA!BH226,\"m\"),\"\")","v":""},{"$f":"CRSDATA!AZ226","v":0},{"$f":"CRSDATA!BB226","v":0},{"$f":"CRSDATA!L226","v":0}]
[{"$f":"CRSDATA!A227","v":0},{"$f":"CRSDATA!C227","v":0},{"$f":"CRSDATA!D227","v":0},{"$f":"CRSDATA!F227","v":0},{"$f":"CRSDATA!E227","v":0},{"$f":"IF(CRSDATA!H227=3000,998,CRSDATA!H227)","v":0},{"$f":"CRSDATA!O227","v":0},{"$f":"CRSDATA!U227","v":0},null,{"$f":"IF(CRSDATA!V227=\"\",\"\",CRSDATA!V227)","v":""},{"$f":"key_row(CRSDATA!W227,CRSDATA!X227,CRSDATA!AK227,CRSDATA!AJ227,CRSDATA!P227,CRSDATA!V227)","v":""},{"$f":"CRSDATA!P227","v":0},{"$f":"CRSDATA!J227","v":0},{"$f":"CRSDATA!I227","v":0},{"$f":"IF(LEFT(CRSDATA!N227,2)=\"A0\",\"A00\",IF(LEFT(CRSDATA!N227,3)=\"B02\",\"B02\",IF(LEFT(CRSDATA!N227,3)=\"B03\",\"B03\",IF(CRSDATA!N227=\"B04\",\"C01\",IF(CRSDATA!N227=\"H01\",\"H00\",IF(OR(CRSDATA!N227=\"H02\",CRSDATA!N227=\"H03\",CRSDATA!N227=\"H04\",CRSDATA!N227=\"H05\",CRSDATA!N227=\"H06\"),\"I01\",CRSDATA!N227))))))","v":0},{"$f":"CRSDATA!M227","v":0},{"$f":"IF(CRSDATA!L227=22,\"FA04\",\"\")","v":""},{"$f":"IF(CRSDATA!K227=8,\"FC02\",\"\")","v":""},{"$f":"IF(OR(O227=\"B02\",O227=\"E02\",O227=\"G01\",O227=\"H00\",O227=\"I01\"),2,IF(OR(O227=\"A00\",O227=\"E01\",O227=\"F01\",P227=510,P227=520),1,IF(VLOOKUP(F227,recipient_country!AB:AD,3,FALSE)=\"Part I unallocated by income\",\"\",1)))","v":{"$error":"#N/A"}},{"$f":"CRSDATA!AM227","v":0},{"$f":"CRSDATA!AN227","v":0},{"$f":"CRSDATA!AP227","v":0},{"$f":"CRSDATA!AR227","v":0},{"$f":"CRSDATA!BA227","v":0},null,"",{"$f":"IF(CRSDATA!M227=421,DATEDIF(CRSDATA!B227,CRSDATA!BH227,\"m\"),\"\")","v":""},{"$f":"CRSDATA!AZ227","v":0},{"$f":"CRSDATA!BB227","v":0},{"$f":"CRSDATA!L227","v":0}]
[{"$f":"CRSDATA!A228","v":0},{"$f":"CRSDATA!C228","v":0},{"$f":"CRSDATA!D228","v":0},{"$f":"CRSDATA!F228","v":0},{"$f":"CRSDATA!E228","v":0},{"$f":"IF(CRSDATA!H228=3000,998,CRSDATA!H228)","v":0},{"$f":"CRSDATA!O228","v":0},{"$f":"CRSDATA!U228","v":0},null,{"$f":"IF(CRSDATA!V228=\"\",\"\",CRSDATA!V228)","v":""},{"$f":"key_row(CRSDATA!W228,CRSDATA!X228,CRSDATA!AK228,CRSDATA!AJ228,CRSDATA!P228,CRSDATA!V228)","v":""},{"$f":"CRSDATA!P228","v":0},{"$f":"CRSDATA!J228","v":0},{"$f":"CRSDATA!I228","v":0},{"$f":"IF(LEFT(CRSDATA!N228,2)=\"A0\",\"A00\",IF(LEFT(CRSDATA!N228,3)=\"B02\",\"B02\",IF(LEFT(CRSDATA!N228,3)=\"B03\",\"B03\",IF(CRSDATA!N228=\"B04\",\"C01\",IF(CRSDATA!N228=\"H01\",\"H00\",IF(OR(CRSDATA!N228=\"H02\",CRSDATA!N228=\"H03\",CRSDATA!N228=\"H04\",CRSDATA!N228=\"H05\",CRSDATA!N228=\"H06\"),\"I01\",CRSDATA!N228))))))","v":0},{"$f":"CRSDATA!M228","v":0},{"$f":"IF(CRSDATA!L228=22,\"FA04\",\"\")","v":""},{"$f":"IF(CRSDATA!K228=8,\"FC02\",\"\")","v":""},{"$f":"IF(OR(O228=\"B02\",O228=\"E02\",O228=\"G01\",O228=\"H00\",O228=\"I01\"),2,IF(OR(O228=\"A00\",O228=\"E01\",O228=\"F01\",P228=510,P228=520),1,IF(VLOOKUP(F228,recipient_country!AB:AD,3,FALSE)=\"Part I unallocated by income\",\"\",1)))","v":{"$error":"#N/A"}},{"$f":"CRSDATA!AM228","v":0},{"$f":"CRSDATA!AN228","v":0},{"$f":"CRSDATA!AP228","v":0},{"$f":"CRSDATA!AR228","v":0},{"$f":"CRSDATA!BA228","v":0},null,"",{"$f":"IF(CRSDATA!M228=421,DATEDIF(CRSDATA!B228,CRSDATA!BH228,\"m\"),\"\")","v":""},{"$f":"CRSDATA!AZ228","v":0},{"$f":"CRSDATA!BB228","v":0},{"$f":"CRSDATA!L228","v":0}]
[{"$f":"CRSDATA!A229","v":0},{"$f":"CRSDATA!C229","v":0},{"$f":"CRSDATA!D229","v":0},{"$f":"CRSDATA!F229","v":0},{"$f":"CRSDATA!E229","v":0},{"$f":"IF(CRSDATA!H229=3000,998,CRSDATA!H229)","v":0},{"$f":"CRSDATA!O229","v":0},{"$f":"CRSDATA!U229","v":0},null,{"$f":"IF(CRSDATA!V229=\"\",\"\",CRSDATA!V229)","v":""},{"$f":"key_row(CRSDATA!W229,CRSDATA!X229,CRSDATA!AK229,CRSDATA!AJ229,CRSDATA!P229,CRSDATA!V229)","v":""},{"$f":"CRSDATA!P229","v":0},{"$f":"CRSDATA!J229","v":0},{"$f":"CRSDATA!I229","v":0},{"$f":"IF(LEFT(CRSDATA!N229,2)=\"A0\",\"A00\",IF(LEFT(CRSDATA!N229,3)=\"B02\",\"B02\",IF(LEFT(CRSDATA!N229,3)=\"B03\",\"B03\",IF(CRSDATA!N229=\"B04\",\"C01\",IF(CRSDATA!N229=\"H01\",\"H00\",IF(OR(CRSDATA!N229=\"H02\",CRSDATA!N229=\"H03\",CRSDATA!N229=\"H04\",CRSDATA!N229=\"H05\",CRSDATA!N229=\"H06\"),\"I01\",CRSDATA!N229))))))","v":0},{"$f":"CRSDATA!M229","v":0},{"$f":"IF(CRSDATA!L229=22,\"FA04\",\"\")","v":""},{"$f":"IF(CRSDATA!K229=8,\"FC02\",\"\")","v":""},{"$f":"IF(OR(O229=\"B02\",O229=\"E02\",O229=\"G01\",O229=\"H00\",O229=\"I01\"),2,IF(OR(O229=\"A00\",O229=\"E01\",O229=\"F01\",P229=510,P229=520),1,IF(VLOOKUP(F229,recipient_country!AB:AD,3,FALSE)=\"Part I unallocated by income\",\"\",1)))","v":{"$error":"#N/A"}},{"$f":"CRSDATA!AM229","v":0},{"$f":"CRSDATA!AN229","v":0},{"$f":"CRSDATA!AP229","v":0},{"$f":"CRSDATA!AR229","v":0},{"$f":"CRSDATA!BA229","v":0},null,"",{"$f":"IF(CRSDATA!M229=421,DATEDIF(CRSDATA!B229,CRSDATA!BH229,\"m\"),\"\")","v":""},{"$f":"CRSDATA!AZ229","v":0},{"$f":"CRSDATA!BB229","v":0},{"$f":"CRSDATA!L229","v":0}]
[{"$f":"CRSDATA!A230","v":0},{"$f":"CRSDATA!C230","v":0},{"$f":"CRSDATA!D230","v":0},{"$f":"CRSDATA!F230","v":0},{"$f":"CRSDATA!E230","v":0},{"$f":"IF(CRSDATA!H230=3000,998,CRSDATA!H230)","v":0},{"$f":"CRSDATA!O230","v":0},{"$f":"CRSDATA!U230","v":0},null,{"$f":"IF(CRSDATA!V230=\"\",\"\",CRSDATA!V230)","v":""},{"$f":"key_row(CRSDATA!W230,CRSDATA!X230,CRSDATA!AK230,CRSDATA!AJ230,CRSDATA!P230,CRSDATA!V230)","v":""},{"$f":"CRSDATA!P230","v":0},{"$f":"CRSDATA!J230","v":0},{"$f":"CRSDATA!I230","v":0},{"$f":"IF(LEFT(CRSDATA!N230,2)=\"A0\",\"A00\",IF(LEFT(CRSDATA!N230,3)=\"B02\",\"B02\",IF(LEFT(CRSDATA!N230,3)=\"B03\",\"B03\",IF(CRSDATA!N230=\"B04\",\"C01\",IF(CRSDATA!N230=\"H01\",\"H00\",IF(OR(CRSDATA!N230=\"H02\",CRSDATA!N230=\"H03\",CRSDATA!N230=\"H04\",CRSDATA!N230=\"H05\",CRSDATA!N230=\"H06\"),\"I01\",CRSDATA!N230))))))","v":0},{"$f":"CRSDATA!M230","v":0},{"$f":"IF(CRSDATA!L230=22,\"FA04\",\"\")","v":""},{"$f":"IF(CRSDATA!K230=8,\"FC02\",\"\")","v":""},{"$f":"IF(OR(O230=\"B02\",O230=\"E02\",O230=\"G01\",O230=\"H00\",O230=\"I01\"),2,IF(OR(O230=\"A00\",O230=\"E01\",O230=\"F01\",P230=510,P230=520),1,IF(VLOOKUP(F230,recipient_country!AB:AD,3,FALSE)=\"Part I unallocated by income\",\"\",1)))","v":{"$error":"#N/A"}},{"$f":"CRSDATA!AM230","v":0},{"$f":"CRSDATA!AN230","v":0},{"$f":"CRSDATA!AP230","v":0},{"$f":"CRSDATA!AR230","v":0},{"$f":"CRSDATA!BA230","v":0},null,"",{"$f":"IF(CRSDATA!M230=421,DATEDIF(CRSDATA!B230,CRSDATA!BH230,\"m\"),\"\")","v":""},{"$f":"CRSDATA!AZ230","v":0},{"$f":"CRSDATA!BB230","v":0},{"$f":"CRSDATA!L230","v":0}]
[{"$f":"CRSDATA!A231","v":0},{"$f":"CRSDATA!C231","v":0},{"$f":"CRSDATA!D231","v":0},{"$f":"CRSDATA!F231","v":0},{"$f":"CRSDATA!E231","v":0},{"$f":"IF(CRSDATA!H231=3000,998,CRSDATA!H231)","v":0},{"$f":"CRSDATA!O231","v":0},{"$f":"CRSDATA!U231","v":0},null,{"$f":"IF(CRSDATA!V231=\"\",\"\",CRSDATA!V231)","v":""},{"$f":"key_row(CRSDATA!W231,CRSDATA!X231,CRSDATA!AK231,CRSDATA!AJ231,CRSDATA!P231,CRSDATA!V231)","v":""},{"$f":"CRSDATA!P231","v":0},{"$f":"CRSDATA!J231","v":0},{"$f":"CRSDATA!I231","v":0},{"$f":"IF(LEFT(CRSDATA!N231,2)=\"A0\",\"A00\",IF(LEFT(CRSDATA!N231,3)=\"B02\",\"B02\",IF(LEFT(CRSDATA!N231,3)=\"B03\",\"B03\",IF(CRSDATA!N231=\"B04\",\"C01\",IF(CRSDATA!N231=\"H01\",\"H00\",IF(OR(CRSDATA!N231=\"H02\",CRSDATA!N231=\"H03\",CRSDATA!N231=\"H04\",CRSDATA!N231=\"H05\",CRSDATA!N231=\"H06\"),\"I01\",CRSDATA!N231))))))","v":0},{"$f":"CRSDATA!M231","v":0},{"$f":"IF(CRSDATA!L231=22,\"FA04\",\"\")","v":""},{"$f":"IF(CRSDATA!K231=8,\"FC02\",\"\")","v":""},{"$f":"IF(OR(O231=\"B02\",O231=\"E02\",O231=\"G01\",O231=\"H00\",O231=\"I01\"),2,IF(OR(O231=\"A00\",O231=\"E01\",O231=\"F01\",P231=510,P231=520),1,IF(VLOOKUP(F231,recipient_country!AB:AD,3,FALSE)=\"Part I unallocated by income\",\"\",1)))","v":{"$error":"#N/A"}},{"$f":"CRSDATA!AM231","v":0},{"$f":"CRSDATA!AN231","v":0},{"$f":"CRSDATA!AP231","v":0},{"$f":"CRSDATA!AR231","v":0},{"$f":"CRSDATA!BA231","v":0},null,"",{"$f":"IF(CRSDATA!M231=421,DATEDIF(CRSDATA!B231,CRSDATA!BH231,\"m\"),\"\")","v":""},{"$f":"CRSDATA!AZ231","v":0},{"$f":"CRSDATA!BB231","v":0},{"$f":"CRSDATA!L231","v":0}]
[{"$f":"CRSDATA!A232","v":0},{"$f":"CRSDATA!C232","v":0},{"$f":"CRSDATA!D232","v":0},{"$f":"CRSDATA!F232","v":0},{"$f":"CRSDATA!E232","v":0},{"$f":"IF(CRSDATA!H232=3000,998,CRSDATA!H232)","v":0},{"$f":"CRSDATA!O232","v":0},{"$f":"CRSDATA!U232","v":0},null,{"$f":"IF(CRSDATA!V232=\"\",\"\",CRSDATA!V232)","v":""},{"$f":"key_row(CRSDATA!W232,CRSDATA!X232,CRSDATA!AK232,CRSDATA!AJ232,CRSDATA!P232,CRSDATA!V232)","v":""},{"$f":"CRSDATA!P232","v":0},{"$f":"CRSDATA!J232","v":0},{"$f":"CRSDATA!I232","v":0},{"$f":"IF(LEFT(CRSDATA!N232,2)=\"A0\",\"A00\",IF(LEFT(CRSDATA!N232,3)=\"B02\",\"B02\",IF(LEFT(CRSDATA!N232,3)=\"B03\",\"B03\",IF(CRSDATA!N232=\"B04\",\"C01\",IF(CRSDATA!N232=\"H01\",\"H00\",IF(OR(CRSDATA!N232=\"H02\",CRSDATA!N232=\"H03\",CRSDATA!N232=\"H04\",CRSDATA!N232=\"H05\",CRSDATA!N232=\"H06\"),\"I01\",CRSDATA!N232))))))","v":0},{"$f":"CRSDATA!M232","v":0},{"$f":"IF(CRSDATA!L232=22,\"FA04\",\"\")","v":""},{"$f":"IF(CRSDATA!K232=8,\"FC02\",\"\")","v":""},{"$f":"IF(OR(O232=\"B02\",O232=\"E02\",O232=\"G01\",O232=\"H00\",O232=\"I01\"),2,IF(OR(O232=\"A00\",O232=\"E01\",O232=\"F01\",P232=510,P232=520),1,IF(VLOOKUP(F232,recipient_country!AB:AD,3,FALSE)=\"Part I unallocated by income\",\"\",1)))","v":{"$error":"#N/A"}},{"$f":"CRSDATA!AM232","v":0},{"$f":"CRSDATA!AN232","v":0},{"$f":"CRSDATA!AP232","v":0},{"$f":"CRSDATA!AR232","v":0},{"$f":"CRSDATA!BA232","v":0},null,"",{"$f":"IF(CRSDATA!M232=421,DATEDIF(CRSDATA!B232,CRSDATA!BH232,\"m\"),\"\")","v":""},{"$f":"CRSDATA!AZ232","v":0},{"$f":"CRSDATA!BB232","v":0},{"$f":"CRSDATA!L232","v":0}]
[{"$f":"CRSDATA!A233","v":0},{"$f":"CRSDATA!C233","v":0},{"$f":"CRSDATA!D233","v":0},{"$f":"CRSDATA!F233","v":0},{"$f":"CRSDATA!E233","v":0},{"$f":"IF(CRSDATA!H233=3000,998,CRSDATA!H233)","v":0},{"$f":"CRSDATA!O233","v":0},{"$f":"CRSDATA!U233","v":0},null,{"$f":"IF(CRSDATA!V233=\"\",\"\",CRSDATA!V233)","v":""},{"$f":"key_row(CRSDATA!W233,CRSDATA!X233,CRSDATA!AK233,CRSDATA!AJ233,CRSDATA!P233,CRSDATA!V233)","v":""},{"$f":"CRSDATA!P233","v":0},{"$f":"CRSDATA!J233","v":0},{"$f":"CRSDATA!I233","v":0},{"$f":"IF(LEFT(CRSDATA!N233,2)=\"A0\",\"A00\",IF(LEFT(CRSDATA!N233,3)=\"B02\",\"B02\",IF(LEFT(CRSDATA!N233,3)=\"B03\",\"B03\",IF(CRSDATA!N233=\"B04\",\"C01\",IF(CRSDATA!N233=\"H01\",\"H00\",IF(OR(CRSDATA!N233=\"H02\",CRSDATA!N233=\"H03\",CRSDATA!N233=\"H04\",CRSDATA!N233=\"H05\",CRSDATA!N233=\"H06\"),\"I01\",CRSDATA!N233))))))","v":0},{"$f":"CRSDATA!M233","v":0},{"$f":"IF(CRSDATA!L233=22,\"FA04\",\"\")","v":""},{"$f":"IF(CRSDATA!K233=8,\"FC02\",\"\")","v":""},{"$f":"IF(OR(O233=\"B02\",O233=\"E02\",O233=\"G01\",O233=\"H00\",O233=\"I01\"),2,IF(OR(O233=\"A00\",O233=\"E01\",O233=\"F01\",P233=510,P233=520),1,IF(VLOOKUP(F233,recipient_country!AB:AD,3,FALSE)=\"Part I unallocated by income\",\"\",1)))","v":{"$error":"#N/A"}},{"$f":"CRSDATA!AM233","v":0},{"$f":"CRSDATA!AN233","v":0},{"$f":"CRSDATA!AP233","v":0},{"$f":"CRSDATA!AR233","v":0},{"$f":"CRSDATA!BA233","v":0},null,"",{"$f":"IF(CRSDATA!M233=421,DATEDIF(CRSDATA!B233,CRSDATA!BH233,\"m\"),\"\")","v":""},{"$f":"CRSDATA!AZ233","v":0},{"$f":"CRSDATA!BB233","v":0},{"$f":"CRSDATA!L233","v":0}]
[{"$f":"CRSDATA!A234","v":0},{"$f":"CRSDATA!C234","v":0},{"$f":"CRSDATA!D234","v":0},{"$f":"CRSDATA!F234","v":0},{"$f":"CRSDATA!E234","v":0},{"$f":"IF(CRSDATA!H234=3000,998,CRSDATA!H234)","v":0},{"$f":"CRSDATA!O234","v":0},{"$f":"CRSDATA!U234","v":0},null,{"$f":"IF(CRSDATA!V234=\"\",\"\",CRSDATA!V234)","v":""},{"$f":"key_row(CRSDATA!W234,CRSDATA!X234,CRSDATA!AK234,CRSDATA!AJ234,CRSDATA!P234,CRSDATA!V234)","v":""},{"$f":"CRSDATA!P234","v":0},{"$f":"CRSDATA!J234","v":0},{"$f":"CRSDATA!I234","v":0},{"$f":"IF(LEFT(CRSDATA!N234,2)=\"A0\",\"A00\",IF(LEFT(CRSDATA!N234,3)=\"B02\",\"B02\",IF(LEFT(CRSDATA!N234,3)=\"B03\",\"B03\",IF(CRSDATA!N234=\"B04\",\"C01\",IF(CRSDATA!N234=\"H01\",\"H00\",IF(OR(CRSDATA!N234=\"H02\",CRSDATA!N234=\"H03\",CRSDATA!N234=\"H04\",CRSDATA!N234=\"H05\",CRSDATA!N234=\"H06\"),\"I01\",CRSDATA!N234))))))","v":0},{"$f":"CRSDATA!M234","v":0},{"$f":"IF(CRSDATA!L234=22,\"FA04\",\"\")","v":""},{"$f":"IF(CRSDATA!K234=8,\"FC02\",\"\")","v":""},{"$f":"IF(OR(O234=\"B02\",O234=\"E02\",O234=\"G01\",O234=\"H00\",O234=\"I01\"),2,IF(OR(O234=\"A00\",O234=\"E01\",O234=\"F01\",P234=510,P234=520),1,IF(VLOOKUP(F234,recipient_country!AB:AD,3,FALSE)=\"Part I unallocated by income\",\"\",1)))","v":{"$error":"#N/A"}},{"$f":"CRSDATA!AM234","v":0},{"$f":"CRSDATA!AN234","v":0},{"$f":"CRSDATA!AP234","v":0},{"$f":"CRSDATA!AR234","v":0},{"$f":"CRSDATA!BA234","v":0},null,"",{"$f":"IF(CRSDATA!M234=421,DATEDIF(CRSDATA!B234,CRSDATA!BH234,\"m\"),\"\")","v":""},{"$f":"CRSDATA!AZ234","v":0},{"$f":"CRSDATA!BB234","v":0},{"$f":"CRSDATA!L234","v":0}]
[{"$f":"CRSDATA!A235","v":0},{"$f":"CRSDATA!C235","v":0},{"$f":"CRSDATA!D235","v":0},{"$f":"CRSDATA!F235","v":0},{"$f":"CRSDATA!E235","v":0},{"$f":"IF(CRSDATA!H235=3000,998,CRSDATA!H235)","v":0},{"$f":"CRSDATA!O235","v":0},{"$f":"CRSDATA!U235","v":0},null,{"$f":"IF(CRSDATA!V235=\"\",\"\",CRSDATA!V235)","v":""},{"$f":"key_row(CRSDATA!W235,CRSDATA!X235,CRSDATA!AK235,CRSDATA!AJ235,CRSDATA!P235,CRSDATA!V235)","v":""},{"$f":"CRSDATA!P235","v":0},{"$f":"CRSDATA!J235","v":0},{"$f":"CRSDATA!I235","v":0},{"$f":"IF(LEFT(CRSDATA!N235,2)=\"A0\",\"A00\",IF(LEFT(CRSDATA!N235,3)=\"B02\",\"B02\",IF(LEFT(CRSDATA!N235,3)=\"B03\",\"B03\",IF(CRSDATA!N235=\"B04\",\"C01\",IF(CRSDATA!N235=\"H01\",\"H00\",IF(OR(CRSDATA!N235=\"H02\",CRSDATA!N235=\"H03\",CRSDATA!N235=\"H04\",CRSDATA!N235=\"H05\",CRSDATA!N235=\"H06\"),\"I01\",CRSDATA!N235))))))","v":0},{"$f":"CRSDATA!M235","v":0},{"$f":"IF(CRSDATA!L235=22,\"FA04\",\"\")","v":""},{"$f":"IF(CRSDATA!K235=8,\"FC02\",\"\")","v":""},{"$f":"IF(OR(O235=\"B02\",O235=\"E02\",O235=\"G01\",O235=\"H00\",O235=\"I01\"),2,IF(OR(O235=\"A00\",O235=\"E01\",O235=\"F01\",P235=510,P235=520),1,IF(VLOOKUP(F235,recipient_country!AB:AD,3,FALSE)=\"Part I unallocated by income\",\"\",1)))","v":{"$error":"#N/A"}},{"$f":"CRSDATA!AM235","v":0},{"$f":"CRSDATA!AN235","v":0},{"$f":"CRSDATA!AP235","v":0},{"$f":"CRSDATA!AR235","v":0},{"$f":"CRSDATA!BA235","v":0},null,"",{"$f":"IF(CRSDATA!M235=421,DATEDIF(CRSDATA!B235,CRSDATA!BH235,\"m\"),\"\")","v":""},{"$f":"CRSDATA!AZ235","v":0},{"$f":"CRSDATA!BB235","v":0},{"$f":"CRSDATA!L235","v":0}]
[{"$f":"CRSDATA!A236","v":0},{"$f":"CRSDATA!C236","v":0},{"$f":"CRSDATA!D236","v":0},{"$f":"CRSDATA!F236","v":0},{"$f":"CRSDATA!E236","v":0},{"$f":"IF(CRSDATA!H236=3000,998,CRSDATA!H236)","v":0},{"$f":"CRSDATA!O236","v":0},{"$f":"CRSDATA!U236","v":0},null,{"$f":"IF(CRSDATA!V236=\"\",\"\",CRSDATA!V236)","v":""},{"$f":"key_row(CRSDATA!W236,CRSDATA!X236,CRSDATA!AK236,CRSDATA!AJ236,CRSDATA!P236,CRSDATA!V236)","v":""},{"$f":"CRSDATA!P236","v":0},{"$f":"CRSDATA!J236","v":0},{"$f":"CRSDATA!I236","v":0},{"$f":"IF(LEFT(CRSDATA!N236,2)=\"A0\",\"A00\",IF(LEFT(CRSDATA!N236,3)=\"B02\",\"B02\",IF(LEFT(CRSDATA!N236,3)=\"B03\",\"B03\",IF(CRSDATA!N236=\"B04\",\"C01\",IF(CRSDATA!N236=\"H01\",\"H00\",IF(OR(CRSDATA!N236=\"H02\",CRSDATA!N236=\"H03\",CRSDATA!N236=\"H04\",CRSDATA!N236=\"H05\",CRSDATA!N236=\"H06\"),\"I01\",CRSDATA!N236))))))","v":0},{"$f":"CRSDATA!M236","v":0},{"$f":"IF(CRSDATA!L236=22,\"FA04\",\"\")","v":""},{"$f":"IF(CRSDATA!K236=8,\"FC02\",\"\")","v":""},{"$f":"IF(OR(O236=\"B02\",O236=\"E02\",O236=\"G01\",O236=\"H00\",O236=\"I01\"),2,IF(OR(O236=\"A00\",O236=\"E01\",O236=\"F01\",P236=510,P236=520),1,IF(VLOOKUP(F236,recipient_country!AB:AD,3,FALSE)=\"Part I unallocated by income\",\"\",1)))","v":{"$error":"#N/A"}},{"$f":"CRSDATA!AM236","v":0},{"$f":"CRSDATA!AN236","v":0},{"$f":"CRSDATA!AP236","v":0},{"$f":"CRSDATA!AR236","v":0},{"$f":"CRSDATA!BA236","v":0},null,"",{"$f":"IF(CRSDATA!M236=421,DATEDIF(CRSDATA!B236,CRSDATA!BH236,\"m\"),\"\")","v":""},{"$f":"CRSDATA!AZ236","v":0},{"$f":"CRSDATA!BB236","v":0},{"$f":"CRSDATA!L236","v":0}]
[{"$f":"CRSDATA!A237","v":0},{"$f":"CRSDATA!C237","v":0},{"$f":"CRSDATA!D237","v":0},{"$f":"CRSDATA!F237","v":0},{"$f":"CRSDATA!E237","v":0},{"$f":"IF(CRSDATA!H237=3000,998,CRSDATA!H237)","v":0},{"$f":"CRSDATA!O237","v":0},{"$f":"CRSDATA!U237","v":0},null,{"$f":"IF(CRSDATA!V237=\"\",\"\",CRSDATA!V237)","v":""},{"$f":"key_row(CRSDATA!W237,CRSDATA!X237,CRSDATA!AK237,CRSDATA!AJ237,CRSDATA!P237,CRSDATA!V237)","v":""},{"$f":"CRSDATA!P237","v":0},{"$f":"CRSDATA!J237","v":0},{"$f":"CRSDATA!I237","v":0},{"$f":"IF(LEFT(CRSDATA!N237,2)=\"A0\",\"A00\",IF(LEFT(CRSDATA!N237,3)=\"B02\",\"B02\",IF(LEFT(CRSDATA!N237,3)=\"B03\",\"B03\",IF(CRSDATA!N237=\"B04\",\"C01\",IF(CRSDATA!N237=\"H01\",\"H00\",IF(OR(CRSDATA!N237=\"H02\",CRSDATA!N237=\"H03\",CRSDATA!N237=\"H04\",CRSDATA!N237=\"H05\",CRSDATA!N237=\"H06\"),\"I01\",CRSDATA!N237))))))","v":0},{"$f":"CRSDATA!M237","v":0},{"$f":"IF(CRSDATA!L237=22,\"FA04\",\"\")","v":""},{"$f":"IF(CRSDATA!K237=8,\"FC02\",\"\")","v":""},{"$f":"IF(OR(O237=\"B02\",O237=\"E02\",O237=\"G01\",O237=\"H00\",O237=\"I01\"),2,IF(OR(O237=\"A00\",O237=\"E01\",O237=\"F01\",P237=510,P237=520),1,IF(VLOOKUP(F237,recipient_country!AB:AD,3,FALSE)=\"Part I unallocated by income\",\"\",1)))","v":{"$error":"#N/A"}},{"$f":"CRSDATA!AM237","v":0},{"$f":"CRSDATA!AN237","v":0},{"$f":"CRSDATA!AP237","v":0},{"$f":"CRSDATA!AR237","v":0},{"$f":"CRSDATA!BA237","v":0},null,"",{"$f":"IF(CRSDATA!M237=421,DATEDIF(CRSDATA!B237,CRSDATA!BH237,\"m\"),\"\")","v":""},{"$f":"CRSDATA!AZ237","v":0},{"$f":"CRSDATA!BB237","v":0},{"$f":"CRSDATA!L237","v":0}]
[{"$f":"CRSDATA!A238","v":0},{"$f":"CRSDATA!C238","v":0},{"$f":"CRSDATA!D238","v":0},{"$f":"CRSDATA!F238","v":0},{"$f":"CRSDATA!E238","v":0},{"$f":"IF(CRSDATA!H238=3000,998,CRSDATA!H238)","v":0},{"$f":"CRSDATA!O238","v":0},{"$f":"CRSDATA!U238","v":0},null,{"$f":"IF(CRSDATA!V238=\"\",\"\",CRSDATA!V238)","v":""},{"$f":"key_row(CRSDATA!W238,CRSDATA!X238,CRSDATA!AK238,CRSDATA!AJ238,CRSDATA!P238,CRSDATA!V238)","v":""},{"$f":"CRSDATA!P238","v":0},{"$f":"CRSDATA!J238","v":0},{"$f":"CRSDATA!I238","v":0},{"$f":"IF(LEFT(CRSDATA!N238,2)=\"A0\",\"A00\",IF(LEFT(CRSDATA!N238,3)=\"B02\",\"B02\",IF(LEFT(CRSDATA!N238,3)=\"B03\",\"B03\",IF(CRSDATA!N238=\"B04\",\"C01\",IF(CRSDATA!N238=\"H01\",\"H00\",IF(OR(CRSDATA!N238=\"H02\",CRSDATA!N238=\"H03\",CRSDATA!N238=\"H04\",CRSDATA!N238=\"H05\",CRSDATA!N238=\"H06\"),\"I01\",CRSDATA!N238))))))","v":0},{"$f":"CRSDATA!M238","v":0},{"$f":"IF(CRSDATA!L238=22,\"FA04\",\"\")","v":""},{"$f":"IF(CRSDATA!K238=8,\"FC02\",\"\")","v":""},{"$f":"IF(OR(O238=\"B02\",O238=\"E02\",O238=\"G01\",O238=\"H00\",O238=\"I01\"),2,IF(OR(O238=\"A00\",O238=\"E01\",O238=\"F01\",P238=510,P238=520),1,IF(VLOOKUP(F238,recipient_country!AB:AD,3,FALSE)=\"Part I unallocated by income\",\"\",1)))","v":{"$error":"#N/A"}},{"$f":"CRSDATA!AM238","v":0},{"$f":"CRSDATA!AN238","v":0},{"$f":"CRSDATA!AP238","v":0},{"$f":"CRSDATA!AR238","v":0},{"$f":"CRSDATA!BA238","v":0},null,"",{"$f":"IF(CRSDATA!M238=421,DATEDIF(CRSDATA!B238,CRSDATA!BH238,\"m\"),\"\")","v":""},{"$f":"CRSDATA!AZ238","v":0},{"$f":"CRSDATA!BB238","v":0},{"$f":"CRSDATA!L238","v":0}]
[{"$f":"CRSDATA!A239","v":0},{"$f":"CRSDATA!C239","v":0},{"$f":"CRSDATA!D239","v":0},{"$f":"CRSDATA!F239","v":0},{"$f":"CRSDATA!E239","v":0},{"$f":"IF(CRSDATA!H239=3000,998,CRSDATA!H239)","v":0},{"$f":"CRSDATA!O239","v":0},{"$f":"CRSDATA!U239","v":0},null,{"$f":"IF(CRSDATA!V239=\"\",\"\",CRSDATA!V239)","v":""},{"$f":"key_row(CRSDATA!W239,CRSDATA!X239,CRSDATA!AK239,CRSDATA!AJ239,CRSDATA!P239,CRSDATA!V239)","v":""},{"$f":"CRSDATA!P239","v":0},{"$f":"CRSDATA!J239","v":0},{"$f":"CRSDATA!I239","v":0},{"$f":"IF(LEFT(CRSDATA!N239,2)=\"A0\",\"A00\",IF(LEFT(CRSDATA!N239,3)=\"B02\",\"B02\",IF(LEFT(CRSDATA!N239,3)=\"B03\",\"B03\",IF(CRSDATA!N239=\"B04\",\"C01\",IF(CRSDATA!N239=\"H01\",\"H00\",IF(OR(CRSDATA!N239=\"H02\",CRSDATA!N239=\"H03\",CRSDATA!N239=\"H04\",CRSDATA!N239=\"H05\",CRSDATA!N239=\"H06\"),\"I01\",CRSDATA!N239))))))","v":0},{"$f":"CRSDATA!M239","v":0},{"$f":"IF(CRSDATA!L239=22,\"FA04\",\"\")","v":""},{"$f":"IF(CRSDATA!K239=8,\"FC02\",\"\")","v":""},{"$f":"IF(OR(O239=\"B02\",O239=\"E02\",O239=\"G01\",O239=\"H00\",O239=\"I01\"),2,IF(OR(O239=\"A00\",O239=\"E01\",O239=\"F01\",P239=510,P239=520),1,IF(VLOOKUP(F239,recipient_country!AB:AD,3,FALSE)=\"Part I unallocated by income\",\"\",1)))","v":{"$error":"#N/A"}},{"$f":"CRSDATA!AM239","v":0},{"$f":"CRSDATA!AN239","v":0},{"$f":"CRSDATA!AP239","v":0},{"$f":"CRSDATA!AR239","v":0},{"$f":"CRSDATA!BA239","v":0},null,"",{"$f":"IF(CRSDATA!M239=421,DATEDIF(CRSDATA!B239,CRSDATA!BH239,\"m\"),\"\")","v":""},{"$f":"CRSDATA!AZ239","v":0},{"$f":"CRSDATA!BB239","v":0},{"$f":"CRSDATA!L239","v":0}]
[{"$f":"CRSDATA!A240","v":0},{"$f":"CRSDATA!C240","v":0},{"$f":"CRSDATA!D240","v":0},{"$f":"CRSDATA!F240","v":0},{"$f":"CRSDATA!E240","v":0},{"$f":"IF(CRSDATA!H240=3000,998,CRSDATA!H240)","v":0},{"$f":"CRSDATA!O240","v":0},{"$f":"CRSDATA!U240","v":0},null,{"$f":"IF(CRSDATA!V240=\"\",\"\",CRSDATA!V240)","v":""},{"$f":"key_row(CRSDATA!W240,CRSDATA!X240,CRSDATA!AK240,CRSDATA!AJ240,CRSDATA!P240,CRSDATA!V240)","v":""},{"$f":"CRSDATA!P240","v":0},{"$f":"CRSDATA!J240","v":0},{"$f":"CRSDATA!I240","v":0},{"$f":"IF(LEFT(CRSDATA!N240,2)=\"A0\",\"A00\",IF(LEFT(CRSDATA!N240,3)=\"B02\",\"B02\",IF(LEFT(CRSDATA!N240,3)=\"B03\",\"B03\",IF(CRSDATA!N240=\"B04\",\"C01\",IF(CRSDATA!N240=\"H01\",\"H00\",IF(OR(CRSDATA!N240=\"H02\",CRSDATA!N240=\"H03\",CRSDATA!N240=\"H04\",CRSDATA!N240=\"H05\",CRSDATA!N240=\"H06\"),\"I01\",CRSDATA!N240))))))","v":0},{"$f":"CRSDATA!M240","v":0},{"$f":"IF(CRSDATA!L240=22,\"FA04\",\"\")","v":""},{"$f":"IF(CRSDATA!K240=8,\"FC02\",\"\")","v":""},{"$f":"IF(OR(O240=\"B02\",O240=\"E02\",O240=\"G01\",O240=\"H00\",O240=\"I01\"),2,IF(OR(O240=\"A00\",O240=\"E01\",O240=\"F01\",P240=510,P240=520),1,IF(VLOOKUP(F240,recipient_country!AB:AD,3,FALSE)=\"Part I unallocated by income\",\"\",1)))","v":{"$error":"#N/A"}},{"$f":"CRSDATA!AM240","v":0},{"$f":"CRSDATA!AN240","v":0},{"$f":"CRSDATA!AP240","v":0},{"$f":"CRSDATA!AR240","v":0},{"$f":"CRSDATA!BA240","v":0},null,"",{"$f":"IF(CRSDATA!M240=421,DATEDIF(CRSDATA!B240,CRSDATA!BH240,\"m\"),\"\")","v":""},{"$f":"CRSDATA!AZ240","v":0},{"$f":"CRSDATA!BB240","v":0},{"$f":"CRSDATA!L240","v":0}]
[{"$f":"CRSDATA!A241","v":0},{"$f":"CRSDATA!C241","v":0},{"$f":"CRSDATA!D241","v":0},{"$f":"CRSDATA!F241","v":0},{"$f":"CRSDATA!E241","v":0},{"$f":"IF(CRSDATA!H241=3000,998,CRSDATA!H241)","v":0},{"$f":"CRSDATA!O241","v":0},{"$f":"CRSDATA!U241","v":0},null,{"$f":"IF(CRSDATA!V241=\"\",\"\",CRSDATA!V241)","v":""},{"$f":"key_row(CRSDATA!W241,CRSDATA!X241,CRSDATA!AK241,CRSDATA!AJ241,CRSDATA!P241,CRSDATA!V241)","v":""},{"$f":"CRSDATA!P241","v":0},{"$f":"CRSDATA!J241","v":0},{"$f":"CRSDATA!I241","v":0},{"$f":"IF(LEFT(CRSDATA!N241,2)=\"A0\",\"A00\",IF(LEFT(CRSDATA!N241,3)=\"B02\",\"B02\",IF(LEFT(CRSDATA!N241,3)=\"B03\",\"B03\",IF(CRSDATA!N241=\"B04\",\"C01\",IF(CRSDATA!N241=\"H01\",\"H00\",IF(OR(CRSDATA!N241=\"H02\",CRSDATA!N241=\"H03\",CRSDATA!N241=\"H04\",CRSDATA!N241=\"H05\",CRSDATA!N241=\"H06\"),\"I01\",CRSDATA!N241))))))","v":0},{"$f":"CRSDATA!M241","v":0},{"$f":"IF(CRSDATA!L241=22,\"FA04\",\"\")","v":""},{"$f":"IF(CRSDATA!K241=8,\"FC02\",\"\")","v":""},{"$f":"IF(OR(O241=\"B02\",O241=\"E02\",O241=\"G01\",O241=\"H00\",O241=\"I01\"),2,IF(OR(O241=\"A00\",O241=\"E01\",O241=\"F01\",P241=510,P241=520),1,IF(VLOOKUP(F241,recipient_country!AB:AD,3,FALSE)=\"Part I unallocated by income\",\"\",1)))","v":{"$error":"#N/A"}},{"$f":"CRSDATA!AM241","v":0},{"$f":"CRSDATA!AN241","v":0},{"$f":"CRSDATA!AP241","v":0},{"$f":"CRSDATA!AR241","v":0},{"$f":"CRSDATA!BA241","v":0},null,"",{"$f":"IF(CRSDATA!M241=421,DATEDIF(CRSDATA!B241,CRSDATA!BH241,\"m\"),\"\")","v":""},{"$f":"CRSDATA!AZ241","v":0},{"$f":"CRSDATA!BB241","v":0},{"$f":"CRSDATA!L241","v":0}]
[{"$f":"CRSDATA!A242","v":0},{"$f":"CRSDATA!C242","v":0},{"$f":"CRSDATA!D242","v":0},{"$f":"CRSDATA!F242","v":0},{"$f":"CRSDATA!E242","v":0},{"$f":"IF(CRSDATA!H242=3000,998,CRSDATA!H242)","v":0},{"$f":"CRSDATA!O242","v":0},{"$f":"CRSDATA!U242","v":0},null,{"$f":"IF(CRSDATA!V242=\"\",\"\",CRSDATA!V242)","v":""},{"$f":"key_row(CRSDATA!W242,CRSDATA!X242,CRSDATA!AK242,CRSDATA!AJ242,CRSDATA!P242,CRSDATA!V242)","v":""},{"$f":"CRSDATA!P242","v":0},{"$f":"CRSDATA!J242","v":0},{"$f":"CRSDATA!I242","v":0},{"$f":"IF(LEFT(CRSDATA!N242,2)=\"A0\",\"A00\",IF(LEFT(CRSDATA!N242,3)=\"B02\",\"B02\",IF(LEFT(CRSDATA!N242,3)=\"B03\",\"B03\",IF(CRSDATA!N242=\"B04\",\"C01\",IF(CRSDATA!N242=\"H01\",\"H00\",IF(OR(CRSDATA!N242=\"H02\",CRSDATA!N242=\"H03\",CRSDATA!N242=\"H04\",CRSDATA!N242=\"H05\",CRSDATA!N242=\"H06\"),\"I01\",CRSDATA!N242))))))","v":0},{"$f":"CRSDATA!M242","v":0},{"$f":"IF(CRSDATA!L242=22,\"FA04\",\"\")","v":""},{"$f":"IF(CRSDATA!K242=8,\"FC02\",\"\")","v":""},{"$f":"IF(OR(O242=\"B02\",O242=\"E02\",O242=\"G01\",O242=\"H00\",O242=\"I01\"),2,IF(OR(O242=\"A00\",O242=\"E01\",O242=\"F01\",P242=510,P242=520),1,IF(VLOOKUP(F242,recipient_country!AB:AD,3,FALSE)=\"Part I unallocated by income\",\"\",1)))","v":{"$error":"#N/A"}},{"$f":"CRSDATA!AM242","v":0},{"$f":"CRSDATA!AN242","v":0},{"$f":"CRSDATA!AP242","v":0},{"$f":"CRSDATA!AR242","v":0},{"$f":"CRSDATA!BA242","v":0},null,"",{"$f":"IF(CRSDATA!M242=421,DATEDIF(CRSDATA!B242,CRSDATA!BH242,\"m\"),\"\")","v":""},{"$f":"CRSDATA!AZ242","v":0},{"$f":"CRSDATA!BB242","v":0},{"$f":"CRSDATA!L242","v":0}]
[{"$f":"CRSDATA!A243","v":0},{"$f":"CRSDATA!C243","v":0},{"$f":"CRSDATA!D243","v":0},{"$f":"CRSDATA!F243","v":0},{"$f":"CRSDATA!E243","v":0},{"$f":"IF(CRSDATA!H243=3000,998,CRSDATA!H243)","v":0},{"$f":"CRSDATA!O243","v":0},{"$f":"CRSDATA!U243","v":0},null,{"$f":"IF(CRSDATA!V243=\"\",\"\",CRSDATA!V243)","v":""},{"$f":"key_row(CRSDATA!W243,CRSDATA!X243,CRSDATA!AK243,CRSDATA!AJ243,CRSDATA!P243,CRSDATA!V243)","v":""},{"$f":"CRSDATA!P243","v":0},{"$f":"CRSDATA!J243","v":0},{"$f":"CRSDATA!I243","v":0},{"$f":"IF(LEFT(CRSDATA!N243,2)=\"A0\",\"A00\",IF(LEFT(CRSDATA!N243,3)=\"B02\",\"B02\",IF(LEFT(CRSDATA!N243,3)=\"B03\",\"B03\",IF(CRSDATA!N243=\"B04\",\"C01\",IF(CRSDATA!N243=\"H01\",\"H00\",IF(OR(CRSDATA!N243=\"H02\",CRSDATA!N243=\"H03\",CRSDATA!N243=\"H04\",CRSDATA!N243=\"H05\",CRSDATA!N243=\"H06\"),\"I01\",CRSDATA!N243))))))","v":0},{"$f":"CRSDATA!M243","v":0},{"$f":"IF(CRSDATA!L243=22,\"FA04\",\"\")","v":""},{"$f":"IF(CRSDATA!K243=8,\"FC02\",\"\")","v":""},{"$f":"IF(OR(O243=\"B02\",O243=\"E02\",O243=\"G01\",O243=\"H00\",O243=\"I01\"),2,IF(OR(O243=\"A00\",O243=\"E01\",O243=\"F01\",P243=510,P243=520),1,IF(VLOOKUP(F243,recipient_country!AB:AD,3,FALSE)=\"Part I unallocated by income\",\"\",1)))","v":{"$error":"#N/A"}},{"$f":"CRSDATA!AM243","v":0},{"$f":"CRSDATA!AN243","v":0},{"$f":"CRSDATA!AP243","v":0},{"$f":"CRSDATA!AR243","v":0},{"$f":"CRSDATA!BA243","v":0},null,"",{"$f":"IF(CRSDATA!M243=421,DATEDIF(CRSDATA!B243,CRSDATA!BH243,\"m\"),\"\")","v":""},{"$f":"CRSDATA!AZ243","v":0},{"$f":"CRSDATA!BB243","v":0},{"$f":"CRSDATA!L243","v":0}]
[{"$f":"CRSDATA!A244","v":0},{"$f":"CRSDATA!C244","v":0},{"$f":"CRSDATA!D244","v":0},{"$f":"CRSDATA!F244","v":0},{"$f":"CRSDATA!E244","v":0},{"$f":"IF(CRSDATA!H244=3000,998,CRSDATA!H244)","v":0},{"$f":"CRSDATA!O244","v":0},{"$f":"CRSDATA!U244","v":0},null,{"$f":"IF(CRSDATA!V244=\"\",\"\",CRSDATA!V244)","v":""},{"$f":"key_row(CRSDATA!W244,CRSDATA!X244,CRSDATA!AK244,CRSDATA!AJ244,CRSDATA!P244,CRSDATA!V244)","v":""},{"$f":"CRSDATA!P244","v":0},{"$f":"CRSDATA!J244","v":0},{"$f":"CRSDATA!I244","v":0},{"$f":"IF(LEFT(CRSDATA!N244,2)=\"A0\",\"A00\",IF(LEFT(CRSDATA!N244,3)=\"B02\",\"B02\",IF(LEFT(CRSDATA!N244,3)=\"B03\",\"B03\",IF(CRSDATA!N244=\"B04\",\"C01\",IF(CRSDATA!N244=\"H01\",\"H00\",IF(OR(CRSDATA!N244=\"H02\",CRSDATA!N244=\"H03\",CRSDATA!N244=\"H04\",CRSDATA!N244=\"H05\",CRSDATA!N244=\"H06\"),\"I01\",CRSDATA!N244))))))","v":0},{"$f":"CRSDATA!M244","v":0},{"$f":"IF(CRSDATA!L244=22,\"FA04\",\"\")","v":""},{"$f":"IF(CRSDATA!K244=8,\"FC02\",\"\")","v":""},{"$f":"IF(OR(O244=\"B02\",O244=\"E02\",O244=\"G01\",O244=\"H00\",O244=\"I01\"),2,IF(OR(O244=\"A00\",O244=\"E01\",O244=\"F01\",P244=510,P244=520),1,IF(VLOOKUP(F244,recipient_country!AB:AD,3,FALSE)=\"Part I unallocated by income\",\"\",1)))","v":{"$error":"#N/A"}},{"$f":"CRSDATA!AM244","v":0},{"$f":"CRSDATA!AN244","v":0},{"$f":"CRSDATA!AP244","v":0},{"$f":"CRSDATA!AR244","v":0},{"$f":"CRSDATA!BA244","v":0},null,"",{"$f":"IF(CRSDATA!M244=421,DATEDIF(CRSDATA!B244,CRSDATA!BH244,\"m\"),\"\")","v":""},{"$f":"CRSDATA!AZ244","v":0},{"$f":"CRSDATA!BB244","v":0},{"$f":"CRSDATA!L244","v":0}]
[{"$f":"CRSDATA!A245","v":0},{"$f":"CRSDATA!C245","v":0},{"$f":"CRSDATA!D245","v":0},{"$f":"CRSDATA!F245","v":0},{"$f":"CRSDATA!E245","v":0},{"$f":"IF(CRSDATA!H245=3000,998,CRSDATA!H245)","v":0},{"$f":"CRSDATA!O245","v":0},{"$f":"CRSDATA!U245","v":0},null,{"$f":"IF(CRSDATA!V245=\"\",\"\",CRSDATA!V245)","v":""},{"$f":"key_row(CRSDATA!W245,CRSDATA!X245,CRSDATA!AK245,CRSDATA!AJ245,CRSDATA!P245,CRSDATA!V245)","v":""},{"$f":"CRSDATA!P245","v":0},{"$f":"CRSDATA!J245","v":0},{"$f":"CRSDATA!I245","v":0},{"$f":"IF(LEFT(CRSDATA!N245,2)=\"A0\",\"A00\",IF(LEFT(CRSDATA!N245,3)=\"B02\",\"B02\",IF(LEFT(CRSDATA!N245,3)=\"B03\",\"B03\",IF(CRSDATA!N245=\"B04\",\"C01\",IF(CRSDATA!N245=\"H01\",\"H00\",IF(OR(CRSDATA!N245=\"H02\",CRSDATA!N245=\"H03\",CRSDATA!N245=\"H04\",CRSDATA!N245=\"H05\",CRSDATA!N245=\"H06\"),\"I01\",CRSDATA!N245))))))","v":0},{"$f":"CRSDATA!M245","v":0},{"$f":"IF(CRSDATA!L245=22,\"FA04\",\"\")","v":""},{"$f":"IF(CRSDATA!K245=8,\"FC02\",\"\")","v":""},{"$f":"IF(OR(O245=\"B02\",O245=\"E02\",O245=\"G01\",O245=\"H00\",O245=\"I01\"),2,IF(OR(O245=\"A00\",O245=\"E01\",O245=\"F01\",P245=510,P245=520),1,IF(VLOOKUP(F245,recipient_country!AB:AD,3,FALSE)=\"Part I unallocated by income\",\"\",1)))","v":{"$error":"#N/A"}},{"$f":"CRSDATA!AM245","v":0},{"$f":"CRSDATA!AN245","v":0},{"$f":"CRSDATA!AP245","v":0},{"$f":"CRSDATA!AR245","v":0},{"$f":"CRSDATA!BA245","v":0},null,"",{"$f":"IF(CRSDATA!M245=421,DATEDIF(CRSDATA!B245,CRSDATA!BH245,\"m\"),\"\")","v":""},{"$f":"CRSDATA!AZ245","v":0},{"$f":"CRSDATA!BB245","v":0},{"$f":"CRSDATA!L245","v":0}]
[{"$f":"CRSDATA!A246","v":0},{"$f":"CRSDATA!C246","v":0},{"$f":"CRSDATA!D246","v":0},{"$f":"CRSDATA!F246","v":0},{"$f":"CRSDATA!E246","v":0},{"$f":"IF(CRSDATA!H246=3000,998,CRSDATA!H246)","v":0},{"$f":"CRSDATA!O246","v":0},{"$f":"CRSDATA!U246","v":0},null,{"$f":"IF(CRSDATA!V246=\"\",\"\",CRSDATA!V246)","v":""},{"$f":"key_row(CRSDATA!W246,CRSDATA!X246,CRSDATA!AK246,CRSDATA!AJ246,CRSDATA!P246,CRSDATA!V246)","v":""},{"$f":"CRSDATA!P246","v":0},{"$f":"CRSDATA!J246","v":0},{"$f":"CRSDATA!I246","v":0},{"$f":"IF(LEFT(CRSDATA!N246,2)=\"A0\",\"A00\",IF(LEFT(CRSDATA!N246,3)=\"B02\",\"B02\",IF(LEFT(CRSDATA!N246,3)=\"B03\",\"B03\",IF(CRSDATA!N246=\"B04\",\"C01\",IF(CRSDATA!N246=\"H01\",\"H00\",IF(OR(CRSDATA!N246=\"H02\",CRSDATA!N246=\"H03\",CRSDATA!N246=\"H04\",CRSDATA!N246=\"H05\",CRSDATA!N246=\"H06\"),\"I01\",CRSDATA!N246))))))","v":0},{"$f":"CRSDATA!M246","v":0},{"$f":"IF(CRSDATA!L246=22,\"FA04\",\"\")","v":""},{"$f":"IF(CRSDATA!K246=8,\"FC02\",\"\")","v":""},{"$f":"IF(OR(O246=\"B02\",O246=\"E02\",O246=\"G01\",O246=\"H00\",O246=\"I01\"),2,IF(OR(O246=\"A00\",O246=\"E01\",O246=\"F01\",P246=510,P246=520),1,IF(VLOOKUP(F246,recipient_country!AB:AD,3,FALSE)=\"Part I unallocated by income\",\"\",1)))","v":{"$error":"#N/A"}},{"$f":"CRSDATA!AM246","v":0},{"$f":"CRSDATA!AN246","v":0},{"$f":"CRSDATA!AP246","v":0},{"$f":"CRSDATA!AR246","v":0},{"$f":"CRSDATA!BA246","v":0},null,"",{"$f":"IF(CRSDATA!M246=421,DATEDIF(CRSDATA!B246,CRSDATA!BH246,\"m\"),\"\")","v":""},{"$f":"CRSDATA!AZ246","v":0},{"$f":"CRSDATA!BB246","v":0},{"$f":"CRSDATA!L246","v":0}]
[{"$f":"CRSDATA!A247","v":0},{"$f":"CRSDATA!C247","v":0},{"$f":"CRSDATA!D247","v":0},{"$f":"CRSDATA!F247","v":0},{"$f":"CRSDATA!E247","v":0},{"$f":"IF(CRSDATA!H247=3000,998,CRSDATA!H247)","v":0},{"$f":"CRSDATA!O247","v":0},{"$f":"CRSDATA!U247","v":0},null,{"$f":"IF(CRSDATA!V247=\"\",\"\",CRSDATA!V247)","v":""},{"$f":"key_row(CRSDATA!W247,CRSDATA!X247,CRSDATA!AK247,CRSDATA!AJ247,CRSDATA!P247,CRSDATA!V247)","v":""},{"$f":"CRSDATA!P247","v":0},{"$f":"CRSDATA!J247","v":0},{"$f":"CRSDATA!I247","v":0},{"$f":"IF(LEFT(CRSDATA!N247,2)=\"A0\",\"A00\",IF(LEFT(CRSDATA!N247,3)=\"B02\",\"B02\",IF(LEFT(CRSDATA!N247,3)=\"B03\",\"B03\",IF(CRSDATA!N247=\"B04\",\"C01\",IF(CRSDATA!N247=\"H01\",\"H00\",IF(OR(CRSDATA!N247=\"H02\",CRSDATA!N247=\"H03\",CRSDATA!N247=\"H04\",CRSDATA!N247=\"H05\",CRSDATA!N247=\"H06\"),\"I01\",CRSDATA!N247))))))","v":0},{"$f":"CRSDATA!M247","v":0},{"$f":"IF(CRSDATA!L247=22,\"FA04\",\"\")","v":""},{"$f":"IF(CRSDATA!K247=8,\"FC02\",\"\")","v":""},{"$f":"IF(OR(O247=\"B02\",O247=\"E02\",O247=\"G01\",O247=\"H00\",O247=\"I01\"),2,IF(OR(O247=\"A00\",O247=\"E01\",O247=\"F01\",P247=510,P247=520),1,IF(VLOOKUP(F247,recipient_country!AB:AD,3,FALSE)=\"Part I unallocated by income\",\"\",1)))","v":{"$error":"#N/A"}},{"$f":"CRSDATA!AM247","v":0},{"$f":"CRSDATA!AN247","v":0},{"$f":"CRSDATA!AP247","v":0},{"$f":"CRSDATA!AR247","v":0},{"$f":"CRSDATA!BA247","v":0},null,"",{"$f":"IF(CRSDATA!M247=421,DATEDIF(CRSDATA!B247,CRSDATA!BH247,\"m\"),\"\")","v":""},{"$f":"CRSDATA!AZ247","v":0},{"$f":"CRSDATA!BB247","v":0},{"$f":"CRSDATA!L247","v":0}]
[{"$f":"CRSDATA!A248","v":0},{"$f":"CRSDATA!C248","v":0},{"$f":"CRSDATA!D248","v":0},{"$f":"CRSDATA!F248","v":0},{"$f":"CRSDATA!E248","v":0},{"$f":"IF(CRSDATA!H248=3000,998,CRSDATA!H248)","v":0},{"$f":"CRSDATA!O248","v":0},{"$f":"CRSDATA!U248","v":0},null,{"$f":"IF(CRSDATA!V248=\"\",\"\",CRSDATA!V248)","v":""},{"$f":"key_row(CRSDATA!W248,CRSDATA!X248,CRSDATA!AK248,CRSDATA!AJ248,CRSDATA!P248,CRSDATA!V248)","v":""},{"$f":"CRSDATA!P248","v":0},{"$f":"CRSDATA!J248","v":0},{"$f":"CRSDATA!I248","v":0},{"$f":"IF(LEFT(CRSDATA!N248,2)=\"A0\",\"A00\",IF(LEFT(CRSDATA!N248,3)=\"B02\",\"B02\",IF(LEFT(CRSDATA!N248,3)=\"B03\",\"B03\",IF(CRSDATA!N248=\"B04\",\"C01\",IF(CRSDATA!N248=\"H01\",\"H00\",IF(OR(CRSDATA!N248=\"H02\",CRSDATA!N248=\"H03\",CRSDATA!N248=\"H04\",CRSDATA!N248=\"H05\",CRSDATA!N248=\"H06\"),\"I01\",CRSDATA!N248))))))","v":0},{"$f":"CRSDATA!M248","v":0},{"$f":"IF(CRSDATA!L248=22,\"FA04\",\"\")","v":""},{"$f":"IF(CRSDATA!K248=8,\"FC02\",\"\")","v":""},{"$f":"IF(OR(O248=\"B02\",O248=\"E02\",O248=\"G01\",O248=\"H00\",O248=\"I01\"),2,IF(OR(O248=\"A00\",O248=\"E01\",O248=\"F01\",P248=510,P248=520),1,IF(VLOOKUP(F248,recipient_country!AB:AD,3,FALSE)=\"Part I unallocated by income\",\"\",1)))","v":{"$error":"#N/A"}},{"$f":"CRSDATA!AM248","v":0},{"$f":"CRSDATA!AN248","v":0},{"$f":"CRSDATA!AP248","v":0},{"$f":"CRSDATA!AR248","v":0},{"$f":"CRSDATA!BA248","v":0},null,"",{"$f":"IF(CRSDATA!M248=421,DATEDIF(CRSDATA!B248,CRSDATA!BH248,\"m\"),\"\")","v":""},{"$f":"CRSDATA!AZ248","v":0},{"$f":"CRSDATA!BB248","v":0},{"$f":"CRSDATA!L248","v":0}]
[{"$f":"CRSDATA!A249","v":0},{"$f":"CRSDATA!C249","v":0},{"$f":"CRSDATA!D249","v":0},{"$f":"CRSDATA!F249","v":0},{"$f":"CRSDATA!E249","v":0},{"$f":"IF(CRSDATA!H249=3000,998,CRSDATA!H249)","v":0},{"$f":"CRSDATA!O249","v":0},{"$f":"CRSDATA!U249","v":0},null,{"$f":"IF(CRSDATA!V249=\"\",\"\",CRSDATA!V249)","v":""},{"$f":"key_row(CRSDATA!W249,CRSDATA!X249,CRSDATA!AK249,CRSDATA!AJ249,CRSDATA!P249,CRSDATA!V249)","v":""},{"$f":"CRSDATA!P249","v":0},{"$f":"CRSDATA!J249","v":0},{"$f":"CRSDATA!I249","v":0},{"$f":"IF(LEFT(CRSDATA!N249,2)=\"A0\",\"A00\",IF(LEFT(CRSDATA!N249,3)=\"B02\",\"B02\",IF(LEFT(CRSDATA!N249,3)=\"B03\",\"B03\",IF(CRSDATA!N249=\"B04\",\"C01\",IF(CRSDATA!N249=\"H01\",\"H00\",IF(OR(CRSDATA!N249=\"H02\",CRSDATA!N249=\"H03\",CRSDATA!N249=\"H04\",CRSDATA!N249=\"H05\",CRSDATA!N249=\"H06\"),\"I01\",CRSDATA!N249))))))","v":0},{"$f":"CRSDATA!M249","v":0},{"$f":"IF(CRSDATA!L249=22,\"FA04\",\"\")","v":""},{"$f":"IF(CRSDATA!K249=8,\"FC02\",\"\")","v":""},{"$f":"IF(OR(O249=\"B02\",O249=\"E02\",O249=\"G01\",O249=\"H00\",O249=\"I01\"),2,IF(OR(O249=\"A00\",O249=\"E01\",O249=\"F01\",P249=510,P249=520),1,IF(VLOOKUP(F249,recipient_country!AB:AD,3,FALSE)=\"Part I unallocated by income\",\"\",1)))","v":{"$error":"#N/A"}},{"$f":"CRSDATA!AM249","v":0},{"$f":"CRSDATA!AN249","v":0},{"$f":"CRSDATA!AP249","v":0},{"$f":"CRSDATA!AR249","v":0},{"$f":"CRSDATA!BA249","v":0},null,"",{"$f":"IF(CRSDATA!M249=421,DATEDIF(CRSDATA!B249,CRSDATA!BH249,\"m\"),\"\")","v":""},{"$f":"CRSDATA!AZ249","v":0},{"$f":"CRSDATA!BB249","v":0},{"$f":"CRSDATA!L249","v":0}]
[{"$f":"CRSDATA!A250","v":0},{"$f":"CRSDATA!C250","v":0},{"$f":"CRSDATA!D250","v":0},{"$f":"CRSDATA!F250","v":0},{"$f":"CRSDATA!E250","v":0},{"$f":"IF(CRSDATA!H250=3000,998,CRSDATA!H250)","v":0},{"$f":"CRSDATA!O250","v":0},{"$f":"CRSDATA!U250","v":0},null,{"$f":"IF(CRSDATA!V250=\"\",\"\",CRSDATA!V250)","v":""},{"$f":"key_row(CRSDATA!W250,CRSDATA!X250,CRSDATA!AK250,CRSDATA!AJ250,CRSDATA!P250,CRSDATA!V250)","v":""},{"$f":"CRSDATA!P250","v":0},{"$f":"CRSDATA!J250","v":0},{"$f":"CRSDATA!I250","v":0},{"$f":"IF(LEFT(CRSDATA!N250,2)=\"A0\",\"A00\",IF(LEFT(CRSDATA!N250,3)=\"B02\",\"B02\",IF(LEFT(CRSDATA!N250,3)=\"B03\",\"B03\",IF(CRSDATA!N250=\"B04\",\"C01\",IF(CRSDATA!N250=\"H01\",\"H00\",IF(OR(CRSDATA!N250=\"H02\",CRSDATA!N250=\"H03\",CRSDATA!N250=\"H04\",CRSDATA!N250=\"H05\",CRSDATA!N250=\"H06\"),\"I01\",CRSDATA!N250))))))","v":0},{"$f":"CRSDATA!M250","v":0},{"$f":"IF(CRSDATA!L250=22,\"FA04\",\"\")","v":""},{"$f":"IF(CRSDATA!K250=8,\"FC02\",\"\")","v":""},{"$f":"IF(OR(O250=\"B02\",O250=\"E02\",O250=\"G01\",O250=\"H00\",O250=\"I01\"),2,IF(OR(O250=\"A00\",O250=\"E01\",O250=\"F01\",P250=510,P250=520),1,IF(VLOOKUP(F250,recipient_country!AB:AD,3,FALSE)=\"Part I unallocated by income\",\"\",1)))","v":{"$error":"#N/A"}},{"$f":"CRSDATA!AM250","v":0},{"$f":"CRSDATA!AN250","v":0},{"$f":"CRSDATA!AP250","v":0},{"$f":"CRSDATA!AR250","v":0},{"$f":"CRSDATA!BA250","v":0},null,"",{"$f":"IF(CRSDATA!M250=421,DATEDIF(CRSDATA!B250,CRSDATA!BH250,\"m\"),\"\")","v":""},{"$f":"CRSDATA!AZ250","v":0},{"$f":"CRSDATA!BB250","v":0},{"$f":"CRSDATA!L250","v":0}]
[{"$f":"CRSDATA!A251","v":0},{"$f":"CRSDATA!C251","v":0},{"$f":"CRSDATA!D251","v":0},{"$f":"CRSDATA!F251","v":0},{"$f":"CRSDATA!E251","v":0},{"$f":"IF(CRSDATA!H251=3000,998,CRSDATA!H251)","v":0},{"$f":"CRSDATA!O251","v":0},{"$f":"CRSDATA!U251","v":0},null,{"$f":"IF(CRSDATA!V251=\"\",\"\",CRSDATA!V251)","v":""},{"$f":"key_row(CRSDATA!W251,CRSDATA!X251,CRSDATA!AK251,CRSDATA!AJ251,CRSDATA!P251,CRSDATA!V251)","v":""},{"$f":"CRSDATA!P251","v":0},{"$f":"CRSDATA!J251","v":0},{"$f":"CRSDATA!I251","v":0},{"$f":"IF(LEFT(CRSDATA!N251,2)=\"A0\",\"A00\",IF(LEFT(CRSDATA!N251,3)=\"B02\",\"B02\",IF(LEFT(CRSDATA!N251,3)=\"B03\",\"B03\",IF(CRSDATA!N251=\"B04\",\"C01\",IF(CRSDATA!N251=\"H01\",\"H00\",IF(OR(CRSDATA!N251=\"H02\",CRSDATA!N251=\"H03\",CRSDATA!N251=\"H04\",CRSDATA!N251=\"H05\",CRSDATA!N251=\"H06\"),\"I01\",CRSDATA!N251))))))","v":0},{"$f":"CRSDATA!M251","v":0},{"$f":"IF(CRSDATA!L251=22,\"FA04\",\"\")","v":""},{"$f":"IF(CRSDATA!K251=8,\"FC02\",\"\")","v":""},{"$f":"IF(OR(O251=\"B02\",O251=\"E02\",O251=\"G01\",O251=\"H00\",O251=\"I01\"),2,IF(OR(O251=\"A00\",O251=\"E01\",O251=\"F01\",P251=510,P251=520),1,IF(VLOOKUP(F251,recipient_country!AB:AD,3,FALSE)=\"Part I unallocated by income\",\"\",1)))","v":{"$error":"#N/A"}},{"$f":"CRSDATA!AM251","v":0},{"$f":"CRSDATA!AN251","v":0},{"$f":"CRSDATA!AP251","v":0},{"$f":"CRSDATA!AR251","v":0},{"$f":"CRSDATA!BA251","v":0},null,"",{"$f":"IF(CRSDATA!M251=421,DATEDIF(CRSDATA!B251,CRSDATA!BH251,\"m\"),\"\")","v":""},{"$f":"CRSDATA!AZ251","v":0},{"$f":"CRSDATA!BB251","v":0},{"$f":"CRSDATA!L251","v":0}]
[{"$f":"CRSDATA!A252","v":0},{"$f":"CRSDATA!C252","v":0},{"$f":"CRSDATA!D252","v":0},{"$f":"CRSDATA!F252","v":0},{"$f":"CRSDATA!E252","v":0},{"$f":"IF(CRSDATA!H252=3000,998,CRSDATA!H252)","v":0},{"$f":"CRSDATA!O252","v":0},{"$f":"CRSDATA!U252","v":0},null,{"$f":"IF(CRSDATA!V252=\"\",\"\",CRSDATA!V252)","v":""},{"$f":"key_row(CRSDATA!W252,CRSDATA!X252,CRSDATA!AK252,CRSDATA!AJ252,CRSDATA!P252,CRSDATA!V252)","v":""},{"$f":"CRSDATA!P252","v":0},{"$f":"CRSDATA!J252","v":0},{"$f":"CRSDATA!I252","v":0},{"$f":"IF(LEFT(CRSDATA!N252,2)=\"A0\",\"A00\",IF(LEFT(CRSDATA!N252,3)=\"B02\",\"B02\",IF(LEFT(CRSDATA!N252,3)=\"B03\",\"B03\",IF(CRSDATA!N252=\"B04\",\"C01\",IF(CRSDATA!N252=\"H01\",\"H00\",IF(OR(CRSDATA!N252=\"H02\",CRSDATA!N252=\"H03\",CRSDATA!N252=\"H04\",CRSDATA!N252=\"H05\",CRSDATA!N252=\"H06\"),\"I01\",CRSDATA!N252))))))","v":0},{"$f":"CRSDATA!M252","v":0},{"$f":"IF(CRSDATA!L252=22,\"FA04\",\"\")","v":""},{"$f":"IF(CRSDATA!K252=8,\"FC02\",\"\")","v":""},{"$f":"IF(OR(O252=\"B02\",O252=\"E02\",O252=\"G01\",O252=\"H00\",O252=\"I01\"),2,IF(OR(O252=\"A00\",O252=\"E01\",O252=\"F01\",P252=510,P252=520),1,IF(VLOOKUP(F252,recipient_country!AB:AD,3,FALSE)=\"Part I unallocated by income\",\"\",1)))","v":{"$error":"#N/A"}},{"$f":"CRSDATA!AM252","v":0},{"$f":"CRSDATA!AN252","v":0},{"$f":"CRSDATA!AP252","v":0},{"$f":"CRSDATA!AR252","v":0},{"$f":"CRSDATA!BA252","v":0},null,"",{"$f":"IF(CRSDATA!M252=421,DATEDIF(CRSDATA!B252,CRSDATA!BH252,\"m\"),\"\")","v":""},{"$f":"CRSDATA!AZ252","v":0},{"$f":"CRSDATA!BB252","v":0},{"$f":"CRSDATA!L252","v":0}]
[{"$f":"CRSDATA!A253","v":0},{"$f":"CRSDATA!C253","v":0},{"$f":"CRSDATA!D253","v":0},{"$f":"CRSDATA!F253","v":0},{"$f":"CRSDATA!E253","v":0},{"$f":"IF(CRSDATA!H253=3000,998,CRSDATA!H253)","v":0},{"$f":"CRSDATA!O253","v":0},{"$f":"CRSDATA!U253","v":0},null,{"$f":"IF(CRSDATA!V253=\"\",\"\",CRSDATA!V253)","v":""},{"$f":"key_row(CRSDATA!W253,CRSDATA!X253,CRSDATA!AK253,CRSDATA!AJ253,CRSDATA!P253,CRSDATA!V253)","v":""},{"$f":"CRSDATA!P253","v":0},{"$f":"CRSDATA!J253","v":0},{"$f":"CRSDATA!I253","v":0},{"$f":"IF(LEFT(CRSDATA!N253,2)=\"A0\",\"A00\",IF(LEFT(CRSDATA!N253,3)=\"B02\",\"B02\",IF(LEFT(CRSDATA!N253,3)=\"B03\",\"B03\",IF(CRSDATA!N253=\"B04\",\"C01\",IF(CRSDATA!N253=\"H01\",\"H00\",IF(OR(CRSDATA!N253=\"H02\",CRSDATA!N253=\"H03\",CRSDATA!N253=\"H04\",CRSDATA!N253=\"H05\",CRSDATA!N253=\"H06\"),\"I01\",CRSDATA!N253))))))","v":0},{"$f":"CRSDATA!M253","v":0},{"$f":"IF(CRSDATA!L253=22,\"FA04\",\"\")","v":""},{"$f":"IF(CRSDATA!K253=8,\"FC02\",\"\")","v":""},{"$f":"IF(OR(O253=\"B02\",O253=\"E02\",O253=\"G01\",O253=\"H00\",O253=\"I01\"),2,IF(OR(O253=\"A00\",O253=\"E01\",O253=\"F01\",P253=510,P253=520),1,IF(VLOOKUP(F253,recipient_country!AB:AD,3,FALSE)=\"Part I unallocated by income\",\"\",1)))","v":{"$error":"#N/A"}},{"$f":"CRSDATA!AM253","v":0},{"$f":"CRSDATA!AN253","v":0},{"$f":"CRSDATA!AP253","v":0},{"$f":"CRSDATA!AR253","v":0},{"$f":"CRSDATA!BA253","v":0},null,"",{"$f":"IF(CRSDATA!M253=421,DATEDIF(CRSDATA!B253,CRSDATA!BH253,\"m\"),\"\")","v":""},{"$f":"CRSDATA!AZ253","v":0},{"$f":"CRSDATA!BB253","v":0},{"$f":"CRSDATA!L253","v":0}]
[{"$f":"CRSDATA!A254","v":0},{"$f":"CRSDATA!C254","v":0},{"$f":"CRSDATA!D254","v":0},{"$f":"CRSDATA!F254","v":0},{"$f":"CRSDATA!E254","v":0},{"$f":"IF(CRSDATA!H254=3000,998,CRSDATA!H254)","v":0},{"$f":"CRSDATA!O254","v":0},{"$f":"CRSDATA!U254","v":0},null,{"$f":"IF(CRSDATA!V254=\"\",\"\",CRSDATA!V254)","v":""},{"$f":"key_row(CRSDATA!W254,CRSDATA!X254,CRSDATA!AK254,CRSDATA!AJ254,CRSDATA!P254,CRSDATA!V254)","v":""},{"$f":"CRSDATA!P254","v":0},{"$f":"CRSDATA!J254","v":0},{"$f":"CRSDATA!I254","v":0},{"$f":"IF(LEFT(CRSDATA!N254,2)=\"A0\",\"A00\",IF(LEFT(CRSDATA!N254,3)=\"B02\",\"B02\",IF(LEFT(CRSDATA!N254,3)=\"B03\",\"B03\",IF(CRSDATA!N254=\"B04\",\"C01\",IF(CRSDATA!N254=\"H01\",\"H00\",IF(OR(CRSDATA!N254=\"H02\",CRSDATA!N254=\"H03\",CRSDATA!N254=\"H04\",CRSDATA!N254=\"H05\",CRSDATA!N254=\"H06\"),\"I01\",CRSDATA!N254))))))","v":0},{"$f":"CRSDATA!M254","v":0},{"$f":"IF(CRSDATA!L254=22,\"FA04\",\"\")","v":""},{"$f":"IF(CRSDATA!K254=8,\"FC02\",\"\")","v":""},{"$f":"IF(OR(O254=\"B02\",O254=\"E02\",O254=\"G01\",O254=\"H00\",O254=\"I01\"),2,IF(OR(O254=\"A00\",O254=\"E01\",O254=\"F01\",P254=510,P254=520),1,IF(VLOOKUP(F254,recipient_country!AB:AD,3,FALSE)=\"Part I unallocated by income\",\"\",1)))","v":{"$error":"#N/A"}},{"$f":"CRSDATA!AM254","v":0},{"$f":"CRSDATA!AN254","v":0},{"$f":"CRSDATA!AP254","v":0},{"$f":"CRSDATA!AR254","v":0},{"$f":"CRSDATA!BA254","v":0},null,"",{"$f":"IF(CRSDATA!M254=421,DATEDIF(CRSDATA!B254,CRSDATA!BH254,\"m\"),\"\")","v":""},{"$f":"CRSDATA!AZ254","v":0},{"$f":"CRSDATA!BB254","v":0},{"$f":"CRSDATA!L254","v":0}]
[{"$f":"CRSDATA!A255","v":0},{"$f":"CRSDATA!C255","v":0},{"$f":"CRSDATA!D255","v":0},{"$f":"CRSDATA!F255","v":0},{"$f":"CRSDATA!E255","v":0},{"$f":"IF(CRSDATA!H255=3000,998,CRSDATA!H255)","v":0},{"$f":"CRSDATA!O255","v":0},{"$f":"CRSDATA!U255","v":0},null,{"$f":"IF(CRSDATA!V255=\"\",\"\",CRSDATA!V255)","v":""},{"$f":"key_row(CRSDATA!W255,CRSDATA!X255,CRSDATA!AK255,CRSDATA!AJ255,CRSDATA!P255,CRSDATA!V255)","v":""},{"$f":"CRSDATA!P255","v":0},{"$f":"CRSDATA!J255","v":0},{"$f":"CRSDATA!I255","v":0},{"$f":"IF(LEFT(CRSDATA!N255,2)=\"A0\",\"A00\",IF(LEFT(CRSDATA!N255,3)=\"B02\",\"B02\",IF(LEFT(CRSDATA!N255,3)=\"B03\",\"B03\",IF(CRSDATA!N255=\"B04\",\"C01\",IF(CRSDATA!N255=\"H01\",\"H00\",IF(OR(CRSDATA!N255=\"H02\",CRSDATA!N255=\"H03\",CRSDATA!N255=\"H04\",CRSDATA!N255=\"H05\",CRSDATA!N255=\"H06\"),\"I01\",CRSDATA!N255))))))","v":0},{"$f":"CRSDATA!M255","v":0},{"$f":"IF(CRSDATA!L255=22,\"FA04\",\"\")","v":""},{"$f":"IF(CRSDATA!K255=8,\"FC02\",\"\")","v":""},{"$f":"IF(OR(O255=\"B02\",O255=\"E02\",O255=\"G01\",O255=\"H00\",O255=\"I01\"),2,IF(OR(O255=\"A00\",O255=\"E01\",O255=\"F01\",P255=510,P255=520),1,IF(VLOOKUP(F255,recipient_country!AB:AD,3,FALSE)=\"Part I unallocated by income\",\"\",1)))","v":{"$error":"#N/A"}},{"$f":"CRSDATA!AM255","v":0},{"$f":"CRSDATA!AN255","v":0},{"$f":"CRSDATA!AP255","v":0},{"$f":"CRSDATA!AR255","v":0},{"$f":"CRSDATA!BA255","v":0},null,"",{"$f":"IF(CRSDATA!M255=421,DATEDIF(CRSDATA!B255,CRSDATA!BH255,\"m\"),\"\")","v":""},{"$f":"CRSDATA!AZ255","v":0},{"$f":"CRSDATA!BB255","v":0},{"$f":"CRSDATA!L255","v":0}]
[{"$f":"CRSDATA!A256","v":0},{"$f":"CRSDATA!C256","v":0},{"$f":"CRSDATA!D256","v":0},{"$f":"CRSDATA!F256","v":0},{"$f":"CRSDATA!E256","v":0},{"$f":"IF(CRSDATA!H256=3000,998,CRSDATA!H256)","v":0},{"$f":"CRSDATA!O256","v":0},{"$f":"CRSDATA!U256","v":0},null,{"$f":"IF(CRSDATA!V256=\"\",\"\",CRSDATA!V256)","v":""},{"$f":"key_row(CRSDATA!W256,CRSDATA!X256,CRSDATA!AK256,CRSDATA!AJ256,CRSDATA!P256,CRSDATA!V256)","v":""},{"$f":"CRSDATA!P256","v":0},{"$f":"CRSDATA!J256","v":0},{"$f":"CRSDATA!I256","v":0},{"$f":"IF(LEFT(CRSDATA!N256,2)=\"A0\",\"A00\",IF(LEFT(CRSDATA!N256,3)=\"B02\",\"B02\",IF(LEFT(CRSDATA!N256,3)=\"B03\",\"B03\",IF(CRSDATA!N256=\"B04\",\"C01\",IF(CRSDATA!N256=\"H01\",\"H00\",IF(OR(CRSDATA!N256=\"H02\",CRSDATA!N256=\"H03\",CRSDATA!N256=\"H04\",CRSDATA!N256=\"H05\",CRSDATA!N256=\"H06\"),\"I01\",CRSDATA!N256))))))","v":0},{"$f":"CRSDATA!M256","v":0},{"$f":"IF(CRSDATA!L256=22,\"FA04\",\"\")","v":""},{"$f":"IF(CRSDATA!K256=8,\"FC02\",\"\")","v":""},{"$f":"IF(OR(O256=\"B02\",O256=\"E02\",O256=\"G01\",O256=\"H00\",O256=\"I01\"),2,IF(OR(O256=\"A00\",O256=\"E01\",O256=\"F01\",P256=510,P256=520),1,IF(VLOOKUP(F256,recipient_country!AB:AD,3,FALSE)=\"Part I unallocated by income\",\"\",1)))","v":{"$error":"#N/A"}},{"$f":"CRSDATA!AM256","v":0},{"$f":"CRSDATA!AN256","v":0},{"$f":"CRSDATA!AP256","v":0},{"$f":"CRSDATA!AR256","v":0},{"$f":"CRSDATA!BA256","v":0},null,"",{"$f":"IF(CRSDATA!M256=421,DATEDIF(CRSDATA!B256,CRSDATA!BH256,\"m\"),\"\")","v":""},{"$f":"CRSDATA!AZ256","v":0},{"$f":"CRSDATA!BB256","v":0},{"$f":"CRSDATA!L256","v":0}]
[{"$f":"CRSDATA!A257","v":0},{"$f":"CRSDATA!C257","v":0},{"$f":"CRSDATA!D257","v":0},{"$f":"CRSDATA!F257","v":0},{"$f":"CRSDATA!E257","v":0},{"$f":"IF(CRSDATA!H257=3000,998,CRSDATA!H257)","v":0},{"$f":"CRSDATA!O257","v":0},{"$f":"CRSDATA!U257","v":0},null,{"$f":"IF(CRSDATA!V257=\"\",\"\",CRSDATA!V257)","v":""},{"$f":"key_row(CRSDATA!W257,CRSDATA!X257,CRSDATA!AK257,CRSDATA!AJ257,CRSDATA!P257,CRSDATA!V257)","v":""},{"$f":"CRSDATA!P257","v":0},{"$f":"CRSDATA!J257","v":0},{"$f":"CRSDATA!I257","v":0},{"$f":"IF(LEFT(CRSDATA!N257,2)=\"A0\",\"A00\",IF(LEFT(CRSDATA!N257,3)=\"B02\",\"B02\",IF(LEFT(CRSDATA!N257,3)=\"B03\",\"B03\",IF(CRSDATA!N257=\"B04\",\"C01\",IF(CRSDATA!N257=\"H01\",\"H00\",IF(OR(CRSDATA!N257=\"H02\",CRSDATA!N257=\"H03\",CRSDATA!N257=\"H04\",CRSDATA!N257=\"H05\",CRSDATA!N257=\"H06\"),\"I01\",CRSDATA!N257))))))","v":0},{"$f":"CRSDATA!M257","v":0},{"$f":"IF(CRSDATA!L257=22,\"FA04\",\"\")","v":""},{"$f":"IF(CRSDATA!K257=8,\"FC02\",\"\")","v":""},{"$f":"IF(OR(O257=\"B02\",O257=\"E02\",O257=\"G01\",O257=\"H00\",O257=\"I01\"),2,IF(OR(O257=\"A00\",O257=\"E01\",O257=\"F01\",P257=510,P257=520),1,IF(VLOOKUP(F257,recipient_country!AB:AD,3,FALSE)=\"Part I unallocated by income\",\"\",1)))","v":{"$error":"#N/A"}},{"$f":"CRSDATA!AM257","v":0},{"$f":"CRSDATA!AN257","v":0},{"$f":"CRSDATA!AP257","v":0},{"$f":"CRSDATA!AR257","v":0},{"$f":"CRSDATA!BA257","v":0},null,"",{"$f":"IF(CRSDATA!M257=421,DATEDIF(CRSDATA!B257,CRSDATA!BH257,\"m\"),\"\")","v":""},{"$f":"CRSDATA!AZ257","v":0},{"$f":"CRSDATA!BB257","v":0},{"$f":"CRSDATA!L257","v":0}]
[{"$f":"CRSDATA!A258","v":0},{"$f":"CRSDATA!C258","v":0},{"$f":"CRSDATA!D258","v":0},{"$f":"CRSDATA!F258","v":0},{"$f":"CRSDATA!E258","v":0},{"$f":"IF(CRSDATA!H258=3000,998,CRSDATA!H258)","v":0},{"$f":"CRSDATA!O258","v":0},{"$f":"CRSDATA!U258","v":0},null,{"$f":"IF(CRSDATA!V258=\"\",\"\",CRSDATA!V258)","v":""},{"$f":"key_row(CRSDATA!W258,CRSDATA!X258,CRSDATA!AK258,CRSDATA!AJ258,CRSDATA!P258,CRSDATA!V258)","v":""},{"$f":"CRSDATA!P258","v":0},{"$f":"CRSDATA!J258","v":0},{"$f":"CRSDATA!I258","v":0},{"$f":"IF(LEFT(CRSDATA!N258,2)=\"A0\",\"A00\",IF(LEFT(CRSDATA!N258,3)=\"B02\",\"B02\",IF(LEFT(CRSDATA!N258,3)=\"B03\",\"B03\",IF(CRSDATA!N258=\"B04\",\"C01\",IF(CRSDATA!N258=\"H01\",\"H00\",IF(OR(CRSDATA!N258=\"H02\",CRSDATA!N258=\"H03\",CRSDATA!N258=\"H04\",CRSDATA!N258=\"H05\",CRSDATA!N258=\"H06\"),\"I01\",CRSDATA!N258))))))","v":0},{"$f":"CRSDATA!M258","v":0},{"$f":"IF(CRSDATA!L258=22,\"FA04\",\"\")","v":""},{"$f":"IF(CRSDATA!K258=8,\"FC02\",\"\")","v":""},{"$f":"IF(OR(O258=\"B02\",O258=\"E02\",O258=\"G01\",O258=\"H00\",O258=\"I01\"),2,IF(OR(O258=\"A00\",O258=\"E01\",O258=\"F01\",P258=510,P258=520),1,IF(VLOOKUP(F258,recipient_country!AB:AD,3,FALSE)=\"Part I unallocated by income\",\"\",1)))","v":{"$error":"#N/A"}},{"$f":"CRSDATA!AM258","v":0},{"$f":"CRSDATA!AN258","v":0},{"$f":"CRSDATA!AP258","v":0},{"$f":"CRSDATA!AR258","v":0},{"$f":"CRSDATA!BA258","v":0},null,"",{"$f":"IF(CRSDATA!M258=421,DATEDIF(CRSDATA!B258,CRSDATA!BH258,\"m\"),\"\")","v":""},{"$f":"CRSDATA!AZ258","v":0},{"$f":"CRSDATA!BB258","v":0},{"$f":"CRSDATA!L258","v":0}]
[{"$f":"CRSDATA!A259","v":0},{"$f":"CRSDATA!C259","v":0},{"$f":"CRSDATA!D259","v":0},{"$f":"CRSDATA!F259","v":0},{"$f":"CRSDATA!E259","v":0},{"$f":"IF(CRSDATA!H259=3000,998,CRSDATA!H259)","v":0},{"$f":"CRSDATA!O259","v":0},{"$f":"CRSDATA!U259","v":0},null,{"$f":"IF(CRSDATA!V259=\"\",\"\",CRSDATA!V259)","v":""},{"$f":"key_row(CRSDATA!W259,CRSDATA!X259,CRSDATA!AK259,CRSDATA!AJ259,CRSDATA!P259,CRSDATA!V259)","v":""},{"$f":"CRSDATA!P259","v":0},{"$f":"CRSDATA!J259","v":0},{"$f":"CRSDATA!I259","v":0},{"$f":"IF(LEFT(CRSDATA!N259,2)=\"A0\",\"A00\",IF(LEFT(CRSDATA!N259,3)=\"B02\",\"B02\",IF(LEFT(CRSDATA!N259,3)=\"B03\",\"B03\",IF(CRSDATA!N259=\"B04\",\"C01\",IF(CRSDATA!N259=\"H01\",\"H00\",IF(OR(CRSDATA!N259=\"H02\",CRSDATA!N259=\"H03\",CRSDATA!N259=\"H04\",CRSDATA!N259=\"H05\",CRSDATA!N259=\"H06\"),\"I01\",CRSDATA!N259))))))","v":0},{"$f":"CRSDATA!M259","v":0},{"$f":"IF(CRSDATA!L259=22,\"FA04\",\"\")","v":""},{"$f":"IF(CRSDATA!K259=8,\"FC02\",\"\")","v":""},{"$f":"IF(OR(O259=\"B02\",O259=\"E02\",O259=\"G01\",O259=\"H00\",O259=\"I01\"),2,IF(OR(O259=\"A00\",O259=\"E01\",O259=\"F01\",P259=510,P259=520),1,IF(VLOOKUP(F259,recipient_country!AB:AD,3,FALSE)=\"Part I unallocated by income\",\"\",1)))","v":{"$error":"#N/A"}},{"$f":"CRSDATA!AM259","v":0},{"$f":"CRSDATA!AN259","v":0},{"$f":"CRSDATA!AP259","v":0},{"$f":"CRSDATA!AR259","v":0},{"$f":"CRSDATA!BA259","v":0},null,"",{"$f":"IF(CRSDATA!M259=421,DATEDIF(CRSDATA!B259,CRSDATA!BH259,\"m\"),\"\")","v":""},{"$f":"CRSDATA!AZ259","v":0},{"$f":"CRSDATA!BB259","v":0},{"$f":"CRSDATA!L259","v":0}]
[{"$f":"CRSDATA!A260","v":0},{"$f":"CRSDATA!C260","v":0},{"$f":"CRSDATA!D260","v":0},{"$f":"CRSDATA!F260","v":0},{"$f":"CRSDATA!E260","v":0},{"$f":"IF(CRSDATA!H260=3000,998,CRSDATA!H260)","v":0},{"$f":"CRSDATA!O260","v":0},{"$f":"CRSDATA!U260","v":0},null,{"$f":"IF(CRSDATA!V260=\"\",\"\",CRSDATA!V260)","v":""},{"$f":"key_row(CRSDATA!W260,CRSDATA!X260,CRSDATA!AK260,CRSDATA!AJ260,CRSDATA!P260,CRSDATA!V260)","v":""},{"$f":"CRSDATA!P260","v":0},{"$f":"CRSDATA!J260","v":0},{"$f":"CRSDATA!I260","v":0},{"$f":"IF(LEFT(CRSDATA!N260,2)=\"A0\",\"A00\",IF(LEFT(CRSDATA!N260,3)=\"B02\",\"B02\",IF(LEFT(CRSDATA!N260,3)=\"B03\",\"B03\",IF(CRSDATA!N260=\"B04\",\"C01\",IF(CRSDATA!N260=\"H01\",\"H00\",IF(OR(CRSDATA!N260=\"H02\",CRSDATA!N260=\"H03\",CRSDATA!N260=\"H04\",CRSDATA!N260=\"H05\",CRSDATA!N260=\"H06\"),\"I01\",CRSDATA!N260))))))","v":0},{"$f":"CRSDATA!M260","v":0},{"$f":"IF(CRSDATA!L260=22,\"FA04\",\"\")","v":""},{"$f":"IF(CRSDATA!K260=8,\"FC02\",\"\")","v":""},{"$f":"IF(OR(O260=\"B02\",O260=\"E02\",O260=\"G01\",O260=\"H00\",O260=\"I01\"),2,IF(OR(O260=\"A00\",O260=\"E01\",O260=\"F01\",P260=510,P260=520),1,IF(VLOOKUP(F260,recipient_country!AB:AD,3,FALSE)=\"Part I unallocated by income\",\"\",1)))","v":{"$error":"#N/A"}},{"$f":"CRSDATA!AM260","v":0},{"$f":"CRSDATA!AN260","v":0},{"$f":"CRSDATA!AP260","v":0},{"$f":"CRSDATA!AR260","v":0},{"$f":"CRSDATA!BA260","v":0},null,{"$f":"IF(Q260=\"FA04\",0,\"\")","v":""},{"$f":"IF(CRSDATA!M260=421,DATEDIF(CRSDATA!B260,CRSDATA!BH260,\"m\"),\"\")","v":""},{"$f":"CRSDATA!AZ260","v":0},{"$f":"CRSDATA!BB260","v":0},{"$f":"CRSDATA!L260","v":0}]
[{"$f":"CRSDATA!A261","v":0},{"$f":"CRSDATA!C261","v":0},{"$f":"CRSDATA!D261","v":0},{"$f":"CRSDATA!F261","v":0},{"$f":"CRSDATA!E261","v":0},{"$f":"IF(CRSDATA!H261=3000,998,CRSDATA!H261)","v":0},{"$f":"CRSDATA!O261","v":0},{"$f":"CRSDATA!U261","v":0},null,{"$f":"IF(CRSDATA!V261=\"\",\"\",CRSDATA!V261)","v":""},{"$f":"key_row(CRSDATA!W261,CRSDATA!X261,CRSDATA!AK261,CRSDATA!AJ261,CRSDATA!P261,CRSDATA!V261)","v":""},{"$f":"CRSDATA!P261","v":0},{"$f":"CRSDATA!J261","v":0},{"$f":"CRSDATA!I261","v":0},{"$f":"IF(LEFT(CRSDATA!N261,2)=\"A0\",\"A00\",IF(LEFT(CRSDATA!N261,3)=\"B02\",\"B02\",IF(LEFT(CRSDATA!N261,3)=\"B03\",\"B03\",IF(CRSDATA!N261=\"B04\",\"C01\",IF(CRSDATA!N261=\"H01\",\"H00\",IF(OR(CRSDATA!N261=\"H02\",CRSDATA!N261=\"H03\",CRSDATA!N261=\"H04\",CRSDATA!N261=\"H05\",CRSDATA!N261=\"H06\"),\"I01\",CRSDATA!N261))))))","v":0},{"$f":"CRSDATA!M261","v":0},{"$f":"IF(CRSDATA!L261=22,\"FA04\",\"\")","v":""},{"$f":"IF(CRSDATA!K261=8,\"FC02\",\"\")","v":""},{"$f":"IF(OR(O261=\"B02\",O261=\"E02\",O261=\"G01\",O261=\"H00\",O261=\"I01\"),2,IF(OR(O261=\"A00\",O261=\"E01\",O261=\"F01\",P261=510,P261=520),1,IF(VLOOKUP(F261,recipient_country!AB:AD,3,FALSE)=\"Part I unallocated by income\",\"\",1)))","v":{"$error":"#N/A"}},{"$f":"CRSDATA!AM261","v":0},{"$f":"CRSDATA!AN261","v":0},{"$f":"CRSDATA!AP261","v":0},{"$f":"CRSDATA!AR261","v":0},{"$f":"CRSDATA!BA261","v":0},null,"",{"$f":"IF(CRSDATA!M261=421,DATEDIF(CRSDATA!B261,CRSDATA!BH261,\"m\"),\"\")","v":""},{"$f":"CRSDATA!AZ261","v":0},{"$f":"CRSDATA!BB261","v":0},{"$f":"CRSDATA!L261","v":0}]
[{"$f":"CRSDATA!A262","v":0},{"$f":"CRSDATA!C262","v":0},{"$f":"CRSDATA!D262","v":0},{"$f":"CRSDATA!F262","v":0},{"$f":"CRSDATA!E262","v":0},{"$f":"IF(CRSDATA!H262=3000,998,CRSDATA!H262)","v":0},{"$f":"CRSDATA!O262","v":0},{"$f":"CRSDATA!U262","v":0},null,{"$f":"IF(CRSDATA!V262=\"\",\"\",CRSDATA!V262)","v":""},{"$f":"key_row(CRSDATA!W262,CRSDATA!X262,CRSDATA!AK262,CRSDATA!AJ262,CRSDATA!P262,CRSDATA!V262)","v":""},{"$f":"CRSDATA!P262","v":0},{"$f":"CRSDATA!J262","v":0},{"$f":"CRSDATA!I262","v":0},{"$f":"IF(LEFT(CRSDATA!N262,2)=\"A0\",\"A00\",IF(LEFT(CRSDATA!N262,3)=\"B02\",\"B02\",IF(LEFT(CRSDATA!N262,3)=\"B03\",\"B03\",IF(CRSDATA!N262=\"B04\",\"C01\",IF(CRSDATA!N262=\"H01\",\"H00\",IF(OR(CRSDATA!N262=\"H02\",CRSDATA!N262=\"H03\",CRSDATA!N262=\"H04\",CRSDATA!N262=\"H05\",CRSDATA!N262=\"H06\"),\"I01\",CRSDATA!N262))))))","v":0},{"$f":"CRSDATA!M262","v":0},{"$f":"IF(CRSDATA!L262=22,\"FA04\",\"\")","v":""},{"$f":"IF(CRSDATA!K262=8,\"FC02\",\"\")","v":""},{"$f":"IF(OR(O262=\"B02\",O262=\"E02\",O262=\"G01\",O262=\"H00\",O262=\"I01\"),2,IF(OR(O262=\"A00\",O262=\"E01\",O262=\"F01\",P262=510,P262=520),1,IF(VLOOKUP(F262,recipient_country!AB:AD,3,FALSE)=\"Part I unallocated by income\",\"\",1)))","v":{"$error":"#N/A"}},{"$f":"CRSDATA!AM262","v":0},{"$f":"CRSDATA!AN262","v":0},{"$f":"CRSDATA!AP262","v":0},{"$f":"CRSDATA!AR262","v":0},{"$f":"CRSDATA!BA262","v":0},null,"",{"$f":"IF(CRSDATA!M262=421,DATEDIF(CRSDATA!B262,CRSDATA!BH262,\"m\"),\"\")","v":""},{"$f":"CRSDATA!AZ262","v":0},{"$f":"CRSDATA!BB262","v":0},{"$f":"CRSDATA!L262","v":0}]
[{"$f":"CRSDATA!A263","v":0},{"$f":"CRSDATA!C263","v":0},{"$f":"CRSDATA!D263","v":0},{"$f":"CRSDATA!F263","v":0},{"$f":"CRSDATA!E263","v":0},{"$f":"IF(CRSDATA!H263=3000,998,CRSDATA!H263)","v":0},{"$f":"CRSDATA!O263","v":0},{"$f":"CRSDATA!U263","v":0},null,{"$f":"IF(CRSDATA!V263=\"\",\"\",CRSDATA!V263)","v":""},{"$f":"key_row(CRSDATA!W263,CRSDATA!X263,CRSDATA!AK263,CRSDATA!AJ263,CRSDATA!P263,CRSDATA!V263)","v":""},{"$f":"CRSDATA!P263","v":0},{"$f":"CRSDATA!J263","v":0},{"$f":"CRSDATA!I263","v":0},{"$f":"IF(LEFT(CRSDATA!N263,2)=\"A0\",\"A00\",IF(LEFT(CRSDATA!N263,3)=\"B02\",\"B02\",IF(LEFT(CRSDATA!N263,3)=\"B03\",\"B03\",IF(CRSDATA!N263=\"B04\",\"C01\",IF(CRSDATA!N263=\"H01\",\"H00\",IF(OR(CRSDATA!N263=\"H02\",CRSDATA!N263=\"H03\",CRSDATA!N263=\"H04\",CRSDATA!N263=\"H05\",CRSDATA!N263=\"H06\"),\"I01\",CRSDATA!N263))))))","v":0},{"$f":"CRSDATA!M263","v":0},{"$f":"IF(CRSDATA!L263=22,\"FA04\",\"\")","v":""},{"$f":"IF(CRSDATA!K263=8,\"FC02\",\"\")","v":""},{"$f":"IF(OR(O263=\"B02\",O263=\"E02\",O263=\"G01\",O263=\"H00\",O263=\"I01\"),2,IF(OR(O263=\"A00\",O263=\"E01\",O263=\"F01\",P263=510,P263=520),1,IF(VLOOKUP(F263,recipient_country!AB:AD,3,FALSE)=\"Part I unallocated by income\",\"\",1)))","v":{"$error":"#N/A"}},{"$f":"CRSDATA!AM263","v":0},{"$f":"CRSDATA!AN263","v":0},{"$f":"CRSDATA!AP263","v":0},{"$f":"CRSDATA!AR263","v":0},{"$f":"CRSDATA!BA263","v":0},null,"",{"$f":"IF(CRSDATA!M263=421,DATEDIF(CRSDATA!B263,CRSDATA!BH263,\"m\"),\"\")","v":""},{"$f":"CRSDATA!AZ263","v":0},{"$f":"CRSDATA!BB263","v":0},{"$f":"CRSDATA!L263","v":0}]
[{"$f":"CRSDATA!A264","v":0},{"$f":"CRSDATA!C264","v":0},{"$f":"CRSDATA!D264","v":0},{"$f":"CRSDATA!F264","v":0},{"$f":"CRSDATA!E264","v":0},{"$f":"IF(CRSDATA!H264=3000,998,CRSDATA!H264)","v":0},{"$f":"CRSDATA!O264","v":0},{"$f":"CRSDATA!U264","v":0},null,{"$f":"IF(CRSDATA!V264=\"\",\"\",CRSDATA!V264)","v":""},{"$f":"key_row(CRSDATA!W264,CRSDATA!X264,CRSDATA!AK264,CRSDATA!AJ264,CRSDATA!P264,CRSDATA!V264)","v":""},{"$f":"CRSDATA!P264","v":0},{"$f":"CRSDATA!J264","v":0},{"$f":"CRSDATA!I264","v":0},{"$f":"IF(LEFT(CRSDATA!N264,2)=\"A0\",\"A00\",IF(LEFT(CRSDATA!N264,3)=\"B02\",\"B02\",IF(LEFT(CRSDATA!N264,3)=\"B03\",\"B03\",IF(CRSDATA!N264=\"B04\",\"C01\",IF(CRSDATA!N264=\"H01\",\"H00\",IF(OR(CRSDATA!N264=\"H02\",CRSDATA!N264=\"H03\",CRSDATA!N264=\"H04\",CRSDATA!N264=\"H05\",CRSDATA!N264=\"H06\"),\"I01\",CRSDATA!N264))))))","v":0},{"$f":"CRSDATA!M264","v":0},{"$f":"IF(CRSDATA!L264=22,\"FA04\",\"\")","v":""},{"$f":"IF(CRSDATA!K264=8,\"FC02\",\"\")","v":""},{"$f":"IF(OR(O264=\"B02\",O264=\"E02\",O264=\"G01\",O264=\"H00\",O264=\"I01\"),2,IF(OR(O264=\"A00\",O264=\"E01\",O264=\"F01\",P264=510,P264=520),1,IF(VLOOKUP(F264,recipient_country!AB:AD,3,FALSE)=\"Part I unallocated by income\",\"\",1)))","v":{"$error":"#N/A"}},{"$f":"CRSDATA!AM264","v":0},{"$f":"CRSDATA!AN264","v":0},{"$f":"CRSDATA!AP264","v":0},{"$f":"CRSDATA!AR264","v":0},{"$f":"CRSDATA!BA264","v":0},null,"",{"$f":"IF(CRSDATA!M264=421,DATEDIF(CRSDATA!B264,CRSDATA!BH264,\"m\"),\"\")","v":""},{"$f":"CRSDATA!AZ264","v":0},{"$f":"CRSDATA!BB264","v":0},{"$f":"CRSDATA!L264","v":0}]
[{"$f":"CRSDATA!A265","v":0},{"$f":"CRSDATA!C265","v":0},{"$f":"CRSDATA!D265","v":0},{"$f":"CRSDATA!F265","v":0},{"$f":"CRSDATA!E265","v":0},{"$f":"IF(CRSDATA!H265=3000,998,CRSDATA!H265)","v":0},{"$f":"CRSDATA!O265","v":0},{"$f":"CRSDATA!U265","v":0},null,{"$f":"IF(CRSDATA!V265=\"\",\"\",CRSDATA!V265)","v":""},{"$f":"key_row(CRSDATA!W265,CRSDATA!X265,CRSDATA!AK265,CRSDATA!AJ265,CRSDATA!P265,CRSDATA!V265)","v":""},{"$f":"CRSDATA!P265","v":0},{"$f":"CRSDATA!J265","v":0},{"$f":"CRSDATA!I265","v":0},{"$f":"IF(LEFT(CRSDATA!N265,2)=\"A0\",\"A00\",IF(LEFT(CRSDATA!N265,3)=\"B02\",\"B02\",IF(LEFT(CRSDATA!N265,3)=\"B03\",\"B03\",IF(CRSDATA!N265=\"B04\",\"C01\",IF(CRSDATA!N265=\"H01\",\"H00\",IF(OR(CRSDATA!N265=\"H02\",CRSDATA!N265=\"H03\",CRSDATA!N265=\"H04\",CRSDATA!N265=\"H05\",CRSDATA!N265=\"H06\"),\"I01\",CRSDATA!N265))))))","v":0},{"$f":"CRSDATA!M265","v":0},{"$f":"IF(CRSDATA!L265=22,\"FA04\",\"\")","v":""},{"$f":"IF(CRSDATA!K265=8,\"FC02\",\"\")","v":""},{"$f":"IF(OR(O265=\"B02\",O265=\"E02\",O265=\"G01\",O265=\"H00\",O265=\"I01\"),2,IF(OR(O265=\"A00\",O265=\"E01\",O265=\"F01\",P265=510,P265=520),1,IF(VLOOKUP(F265,recipient_country!AB:AD,3,FALSE)=\"Part I unallocated by income\",\"\",1)))","v":{"$error":"#N/A"}},{"$f":"CRSDATA!AM265","v":0},{"$f":"CRSDATA!AN265","v":0},{"$f":"CRSDATA!AP265","v":0},{"$f":"CRSDATA!AR265","v":0},{"$f":"CRSDATA!BA265","v":0},null,"",{"$f":"IF(CRSDATA!M265=421,DATEDIF(CRSDATA!B265,CRSDATA!BH265,\"m\"),\"\")","v":""},{"$f":"CRSDATA!AZ265","v":0},{"$f":"CRSDATA!BB265","v":0},{"$f":"CRSDATA!L265","v":0}]
[{"$f":"CRSDATA!A266","v":0},{"$f":"CRSDATA!C266","v":0},{"$f":"CRSDATA!D266","v":0},{"$f":"CRSDATA!F266","v":0},{"$f":"CRSDATA!E266","v":0},{"$f":"IF(CRSDATA!H266=3000,998,CRSDATA!H266)","v":0},{"$f":"CRSDATA!O266","v":0},{"$f":"CRSDATA!U266","v":0},null,{"$f":"IF(CRSDATA!V266=\"\",\"\",CRSDATA!V266)","v":""},{"$f":"key_row(CRSDATA!W266,CRSDATA!X266,CRSDATA!AK266,CRSDATA!AJ266,CRSDATA!P266,CRSDATA!V266)","v":""},{"$f":"CRSDATA!P266","v":0},{"$f":"CRSDATA!J266","v":0},{"$f":"CRSDATA!I266","v":0},{"$f":"IF(LEFT(CRSDATA!N266,2)=\"A0\",\"A00\",IF(LEFT(CRSDATA!N266,3)=\"B02\",\"B02\",IF(LEFT(CRSDATA!N266,3)=\"B03\",\"B03\",IF(CRSDATA!N266=\"B04\",\"C01\",IF(CRSDATA!N266=\"H01\",\"H00\",IF(OR(CRSDATA!N266=\"H02\",CRSDATA!N266=\"H03\",CRSDATA!N266=\"H04\",CRSDATA!N266=\"H05\",CRSDATA!N266=\"H06\"),\"I01\",CRSDATA!N266))))))","v":0},{"$f":"CRSDATA!M266","v":0},{"$f":"IF(CRSDATA!L266=22,\"FA04\",\"\")","v":""},{"$f":"IF(CRSDATA!K266=8,\"FC02\",\"\")","v":""},{"$f":"IF(OR(O266=\"B02\",O266=\"E02\",O266=\"G01\",O266=\"H00\",O266=\"I01\"),2,IF(OR(O266=\"A00\",O266=\"E01\",O266=\"F01\",P266=510,P266=520),1,IF(VLOOKUP(F266,recipient_country!AB:AD,3,FALSE)=\"Part I unallocated by income\",\"\",1)))","v":{"$error":"#N/A"}},{"$f":"CRSDATA!AM266","v":0},{"$f":"CRSDATA!AN266","v":0},{"$f":"CRSDATA!AP266","v":0},{"$f":"CRSDATA!AR266","v":0},{"$f":"CRSDATA!BA266","v":0},null,"",{"$f":"IF(CRSDATA!M266=421,DATEDIF(CRSDATA!B266,CRSDATA!BH266,\"m\"),\"\")","v":""},{"$f":"CRSDATA!AZ266","v":0},{"$f":"CRSDATA!BB266","v":0},{"$f":"CRSDATA!L266","v":0}]
[{"$f":"CRSDATA!A267","v":0},{"$f":"CRSDATA!C267","v":0},{"$f":"CRSDATA!D267","v":0},{"$f":"CRSDATA!F267","v":0},{"$f":"CRSDATA!E267","v":0},{"$f":"IF(CRSDATA!H267=3000,998,CRSDATA!H267)","v":0},{"$f":"CRSDATA!O267","v":0},{"$f":"CRSDATA!U267","v":0},null,{"$f":"IF(CRSDATA!V267=\"\",\"\",CRSDATA!V267)","v":""},{"$f":"key_row(CRSDATA!W267,CRSDATA!X267,CRSDATA!AK267,CRSDATA!AJ267,CRSDATA!P267,CRSDATA!V267)","v":""},{"$f":"CRSDATA!P267","v":0},{"$f":"CRSDATA!J267","v":0},{"$f":"CRSDATA!I267","v":0},{"$f":"IF(LEFT(CRSDATA!N267,2)=\"A0\",\"A00\",IF(LEFT(CRSDATA!N267,3)=\"B02\",\"B02\",IF(LEFT(CRSDATA!N267,3)=\"B03\",\"B03\",IF(CRSDATA!N267=\"B04\",\"C01\",IF(CRSDATA!N267=\"H01\",\"H00\",IF(OR(CRSDATA!N267=\"H02\",CRSDATA!N267=\"H03\",CRSDATA!N267=\"H04\",CRSDATA!N267=\"H05\",CRSDATA!N267=\"H06\"),\"I01\",CRSDATA!N267))))))","v":0},{"$f":"CRSDATA!M267","v":0},{"$f":"IF(CRSDATA!L267=22,\"FA04\",\"\")","v":""},{"$f":"IF(CRSDATA!K267=8,\"FC02\",\"\")","v":""},{"$f":"IF(OR(O267=\"B02\",O267=\"E02\",O267=\"G01\",O267=\"H00\",O267=\"I01\"),2,IF(OR(O267=\"A00\",O267=\"E01\",O267=\"F01\",P267=510,P267=520),1,IF(VLOOKUP(F267,recipient_country!AB:AD,3,FALSE)=\"Part I unallocated by income\",\"\",1)))","v":{"$error":"#N/A"}},{"$f":"CRSDATA!AM267","v":0},{"$f":"CRSDATA!AN267","v":0},{"$f":"CRSDATA!AP267","v":0},{"$f":"CRSDATA!AR267","v":0},{"$f":"CRSDATA!BA267","v":0},null,"",{"$f":"IF(CRSDATA!M267=421,DATEDIF(CRSDATA!B267,CRSDATA!BH267,\"m\"),\"\")","v":""},{"$f":"CRSDATA!AZ267","v":0},{"$f":"CRSDATA!BB267","v":0},{"$f":"CRSDATA!L267","v":0}]
[{"$f":"CRSDATA!A268","v":0},{"$f":"CRSDATA!C268","v":0},{"$f":"CRSDATA!D268","v":0},{"$f":"CRSDATA!F268","v":0},{"$f":"CRSDATA!E268","v":0},{"$f":"IF(CRSDATA!H268=3000,998,CRSDATA!H268)","v":0},{"$f":"CRSDATA!O268","v":0},{"$f":"CRSDATA!U268","v":0},null,{"$f":"IF(CRSDATA!V268=\"\",\"\",CRSDATA!V268)","v":""},{"$f":"key_row(CRSDATA!W268,CRSDATA!X268,CRSDATA!AK268,CRSDATA!AJ268,CRSDATA!P268,CRSDATA!V268)","v":""},{"$f":"CRSDATA!P268","v":0},{"$f":"CRSDATA!J268","v":0},{"$f":"CRSDATA!I268","v":0},{"$f":"IF(LEFT(CRSDATA!N268,2)=\"A0\",\"A00\",IF(LEFT(CRSDATA!N268,3)=\"B02\",\"B02\",IF(LEFT(CRSDATA!N268,3)=\"B03\",\"B03\",IF(CRSDATA!N268=\"B04\",\"C01\",IF(CRSDATA!N268=\"H01\",\"H00\",IF(OR(CRSDATA!N268=\"H02\",CRSDATA!N268=\"H03\",CRSDATA!N268=\"H04\",CRSDATA!N268=\"H05\",CRSDATA!N268=\"H06\"),\"I01\",CRSDATA!N268))))))","v":0},{"$f":"CRSDATA!M268","v":0},{"$f":"IF(CRSDATA!L268=22,\"FA04\",\"\")","v":""},{"$f":"IF(CRSDATA!K268=8,\"FC02\",\"\")","v":""},{"$f":"IF(OR(O268=\"B02\",O268=\"E02\",O268=\"G01\",O268=\"H00\",O268=\"I01\"),2,IF(OR(O268=\"A00\",O268=\"E01\",O268=\"F01\",P268=510,P268=520),1,IF(VLOOKUP(F268,recipient_country!AB:AD,3,FALSE)=\"Part I unallocated by income\",\"\",1)))","v":{"$error":"#N/A"}},{"$f":"CRSDATA!AM268","v":0},{"$f":"CRSDATA!AN268","v":0},{"$f":"CRSDATA!AP268","v":0},{"$f":"CRSDATA!AR268","v":0},{"$f":"CRSDATA!BA268","v":0},null,"",{"$f":"IF(CRSDATA!M268=421,DATEDIF(CRSDATA!B268,CRSDATA!BH268,\"m\"),\"\")","v":""},{"$f":"CRSDATA!AZ268","v":0},{"$f":"CRSDATA!BB268","v":0},{"$f":"CRSDATA!L268","v":0}]
[{"$f":"CRSDATA!A269","v":0},{"$f":"CRSDATA!C269","v":0},{"$f":"CRSDATA!D269","v":0},{"$f":"CRSDATA!F269","v":0},{"$f":"CRSDATA!E269","v":0},{"$f":"IF(CRSDATA!H269=3000,998,CRSDATA!H269)","v":0},{"$f":"CRSDATA!O269","v":0},{"$f":"CRSDATA!U269","v":0},null,{"$f":"IF(CRSDATA!V269=\"\",\"\",CRSDATA!V269)","v":""},{"$f":"key_row(CRSDATA!W269,CRSDATA!X269,CRSDATA!AK269,CRSDATA!AJ269,CRSDATA!P269,CRSDATA!V269)","v":""},{"$f":"CRSDATA!P269","v":0},{"$f":"CRSDATA!J269","v":0},{"$f":"CRSDATA!I269","v":0},{"$f":"IF(LEFT(CRSDATA!N269,2)=\"A0\",\"A00\",IF(LEFT(CRSDATA!N269,3)=\"B02\",\"B02\",IF(LEFT(CRSDATA!N269,3)=\"B03\",\"B03\",IF(CRSDATA!N269=\"B04\",\"C01\",IF(CRSDATA!N269=\"H01\",\"H00\",IF(OR(CRSDATA!N269=\"H02\",CRSDATA!N269=\"H03\",CRSDATA!N269=\"H04\",CRSDATA!N269=\"H05\",CRSDATA!N269=\"H06\"),\"I01\",CRSDATA!N269))))))","v":0},{"$f":"CRSDATA!M269","v":0},{"$f":"IF(CRSDATA!L269=22,\"FA04\",\"\")","v":""},{"$f":"IF(CRSDATA!K269=8,\"FC02\",\"\")","v":""},{"$f":"IF(OR(O269=\"B02\",O269=\"E02\",O269=\"G01\",O269=\"H00\",O269=\"I01\"),2,IF(OR(O269=\"A00\",O269=\"E01\",O269=\"F01\",P269=510,P269=520),1,IF(VLOOKUP(F269,recipient_country!AB:AD,3,FALSE)=\"Part I unallocated by income\",\"\",1)))","v":{"$error":"#N/A"}},{"$f":"CRSDATA!AM269","v":0},{"$f":"CRSDATA!AN269","v":0},{"$f":"CRSDATA!AP269","v":0},{"$f":"CRSDATA!AR269","v":0},{"$f":"CRSDATA!BA269","v":0},null,"",{"$f":"IF(CRSDATA!M269=421,DATEDIF(CRSDATA!B269,CRSDATA!BH269,\"m\"),\"\")","v":""},{"$f":"CRSDATA!AZ269","v":0},{"$f":"CRSDATA!BB269","v":0},{"$f":"CRSDATA!L269","v":0}]
[{"$f":"CRSDATA!A270","v":0},{"$f":"CRSDATA!C270","v":0},{"$f":"CRSDATA!D270","v":0},{"$f":"CRSDATA!F270","v":0},{"$f":"CRSDATA!E270","v":0},{"$f":"IF(CRSDATA!H270=3000,998,CRSDATA!H270)","v":0},{"$f":"CRSDATA!O270","v":0},{"$f":"CRSDATA!U270","v":0},null,{"$f":"IF(CRSDATA!V270=\"\",\"\",CRSDATA!V270)","v":""},{"$f":"key_row(CRSDATA!W270,CRSDATA!X270,CRSDATA!AK270,CRSDATA!AJ270,CRSDATA!P270,CRSDATA!V270)","v":""},{"$f":"CRSDATA!P270","v":0},{"$f":"CRSDATA!J270","v":0},{"$f":"CRSDATA!I270","v":0},{"$f":"IF(LEFT(CRSDATA!N270,2)=\"A0\",\"A00\",IF(LEFT(CRSDATA!N270,3)=\"B02\",\"B02\",IF(LEFT(CRSDATA!N270,3)=\"B03\",\"B03\",IF(CRSDATA!N270=\"B04\",\"C01\",IF(CRSDATA!N270=\"H01\",\"H00\",IF(OR(CRSDATA!N270=\"H02\",CRSDATA!N270=\"H03\",CRSDATA!N270=\"H04\",CRSDATA!N270=\"H05\",CRSDATA!N270=\"H06\"),\"I01\",CRSDATA!N270))))))","v":0},{"$f":"CRSDATA!M270","v":0},{"$f":"IF(CRSDATA!L270=22,\"FA04\",\"\")","v":""},{"$f":"IF(CRSDATA!K270=8,\"FC02\",\"\")","v":""},{"$f":"IF(OR(O270=\"B02\",O270=\"E02\",O270=\"G01\",O270=\"H00\",O270=\"I01\"),2,IF(OR(O270=\"A00\",O270=\"E01\",O270=\"F01\",P270=510,P270=520),1,IF(VLOOKUP(F270,recipient_country!AB:AD,3,FALSE)=\"Part I unallocated by income\",\"\",1)))","v":{"$error":"#N/A"}},{"$f":"CRSDATA!AM270","v":0},{"$f":"CRSDATA!AN270","v":0},{"$f":"CRSDATA!AP270","v":0},{"$f":"CRSDATA!AR270","v":0},{"$f":"CRSDATA!BA270","v":0},null,"",{"$f":"IF(CRSDATA!M270=421,DATEDIF(CRSDATA!B270,CRSDATA!BH270,\"m\"),\"\")","v":""},{"$f":"CRSDATA!AZ270","v":0},{"$f":"CRSDATA!BB270","v":0},{"$f":"CRSDATA!L270","v":0}]
[{"$f":"CRSDATA!A271","v":0},{"$f":"CRSDATA!C271","v":0},{"$f":"CRSDATA!D271","v":0},{"$f":"CRSDATA!F271","v":0},{"$f":"CRSDATA!E271","v":0},{"$f":"IF(CRSDATA!H271=3000,998,CRSDATA!H271)","v":0},{"$f":"CRSDATA!O271","v":0},{"$f":"CRSDATA!U271","v":0},null,{"$f":"IF(CRSDATA!V271=\"\",\"\",CRSDATA!V271)","v":""},{"$f":"key_row(CRSDATA!W271,CRSDATA!X271,CRSDATA!AK271,CRSDATA!AJ271,CRSDATA!P271,CRSDATA!V271)","v":""},{"$f":"CRSDATA!P271","v":0},{"$f":"CRSDATA!J271","v":0},{"$f":"CRSDATA!I271","v":0},{"$f":"IF(LEFT(CRSDATA!N271,2)=\"A0\",\"A00\",IF(LEFT(CRSDATA!N271,3)=\"B02\",\"B02\",IF(LEFT(CRSDATA!N271,3)=\"B03\",\"B03\",IF(CRSDATA!N271=\"B04\",\"C01\",IF(CRSDATA!N271=\"H01\",\"H00\",IF(OR(CRSDATA!N271=\"H02\",CRSDATA!N271=\"H03\",CRSDATA!N271=\"H04\",CRSDATA!N271=\"H05\",CRSDATA!N271=\"H06\"),\"I01\",CRSDATA!N271))))))","v":0},{"$f":"CRSDATA!M271","v":0},{"$f":"IF(CRSDATA!L271=22,\"FA04\",\"\")","v":""},{"$f":"IF(CRSDATA!K271=8,\"FC02\",\"\")","v":""},{"$f":"IF(OR(O271=\"B02\",O271=\"E02\",O271=\"G01\",O271=\"H00\",O271=\"I01\"),2,IF(OR(O271=\"A00\",O271=\"E01\",O271=\"F01\",P271=510,P271=520),1,IF(VLOOKUP(F271,recipient_country!AB:AD,3,FALSE)=\"Part I unallocated by income\",\"\",1)))","v":{"$error":"#N/A"}},{"$f":"CRSDATA!AM271","v":0},{"$f":"CRSDATA!AN271","v":0},{"$f":"CRSDATA!AP271","v":0},{"$f":"CRSDATA!AR271","v":0},{"$f":"CRSDATA!BA271","v":0},null,"",{"$f":"IF(CRSDATA!M271=421,DATEDIF(CRSDATA!B271,CRSDATA!BH271,\"m\"),\"\")","v":""},{"$f":"CRSDATA!AZ271","v":0},{"$f":"CRSDATA!BB271","v":0},{"$f":"CRSDATA!L271","v":0}]
[{"$f":"CRSDATA!A272","v":0},{"$f":"CRSDATA!C272","v":0},{"$f":"CRSDATA!D272","v":0},{"$f":"CRSDATA!F272","v":0},{"$f":"CRSDATA!E272","v":0},{"$f":"IF(CRSDATA!H272=3000,998,CRSDATA!H272)","v":0},{"$f":"CRSDATA!O272","v":0},{"$f":"CRSDATA!U272","v":0},null,{"$f":"IF(CRSDATA!V272=\"\",\"\",CRSDATA!V272)","v":""},{"$f":"key_row(CRSDATA!W272,CRSDATA!X272,CRSDATA!AK272,CRSDATA!AJ272,CRSDATA!P272,CRSDATA!V272)","v":""},{"$f":"CRSDATA!P272","v":0},{"$f":"CRSDATA!J272","v":0},{"$f":"CRSDATA!I272","v":0},{"$f":"IF(LEFT(CRSDATA!N272,2)=\"A0\",\"A00\",IF(LEFT(CRSDATA!N272,3)=\"B02\",\"B02\",IF(LEFT(CRSDATA!N272,3)=\"B03\",\"B03\",IF(CRSDATA!N272=\"B04\",\"C01\",IF(CRSDATA!N272=\"H01\",\"H00\",IF(OR(CRSDATA!N272=\"H02\",CRSDATA!N272=\"H03\",CRSDATA!N272=\"H04\",CRSDATA!N272=\"H05\",CRSDATA!N272=\"H06\"),\"I01\",CRSDATA!N272))))))","v":0},{"$f":"CRSDATA!M272","v":0},{"$f":"IF(CRSDATA!L272=22,\"FA04\",\"\")","v":""},{"$f":"IF(CRSDATA!K272=8,\"FC02\",\"\")","v":""},{"$f":"IF(OR(O272=\"B02\",O272=\"E02\",O272=\"G01\",O272=\"H00\",O272=\"I01\"),2,IF(OR(O272=\"A00\",O272=\"E01\",O272=\"F01\",P272=510,P272=520),1,IF(VLOOKUP(F272,recipient_country!AB:AD,3,FALSE)=\"Part I unallocated by income\",\"\",1)))","v":{"$error":"#N/A"}},{"$f":"CRSDATA!AM272","v":0},{"$f":"CRSDATA!AN272","v":0},{"$f":"CRSDATA!AP272","v":0},{"$f":"CRSDATA!AR272","v":0},{"$f":"CRSDATA!BA272","v":0},null,"",{"$f":"IF(CRSDATA!M272=421,DATEDIF(CRSDATA!B272,CRSDATA!BH272,\"m\"),\"\")","v":""},{"$f":"CRSDATA!AZ272","v":0},{"$f":"CRSDATA!BB272","v":0},{"$f":"CRSDATA!L272","v":0}]
[{"$f":"CRSDATA!A273","v":0},{"$f":"CRSDATA!C273","v":0},{"$f":"CRSDATA!D273","v":0},{"$f":"CRSDATA!F273","v":0},{"$f":"CRSDATA!E273","v":0},{"$f":"IF(CRSDATA!H273=3000,998,CRSDATA!H273)","v":0},{"$f":"CRSDATA!O273","v":0},{"$f":"CRSDATA!U273","v":0},null,{"$f":"IF(CRSDATA!V273=\"\",\"\",CRSDATA!V273)","v":""},{"$f":"key_row(CRSDATA!W273,CRSDATA!X273,CRSDATA!AK273,CRSDATA!AJ273,CRSDATA!P273,CRSDATA!V273)","v":""},{"$f":"CRSDATA!P273","v":0},{"$f":"CRSDATA!J273","v":0},{"$f":"CRSDATA!I273","v":0},{"$f":"IF(LEFT(CRSDATA!N273,2)=\"A0\",\"A00\",IF(LEFT(CRSDATA!N273,3)=\"B02\",\"B02\",IF(LEFT(CRSDATA!N273,3)=\"B03\",\"B03\",IF(CRSDATA!N273=\"B04\",\"C01\",IF(CRSDATA!N273=\"H01\",\"H00\",IF(OR(CRSDATA!N273=\"H02\",CRSDATA!N273=\"H03\",CRSDATA!N273=\"H04\",CRSDATA!N273=\"H05\",CRSDATA!N273=\"H06\"),\"I01\",CRSDATA!N273))))))","v":0},{"$f":"CRSDATA!M273","v":0},{"$f":"IF(CRSDATA!L273=22,\"FA04\",\"\")","v":""},{"$f":"IF(CRSDATA!K273=8,\"FC02\",\"\")","v":""},{"$f":"IF(OR(O273=\"B02\",O273=\"E02\",O273=\"G01\",O273=\"H00\",O273=\"I01\"),2,IF(OR(O273=\"A00\",O273=\"E01\",O273=\"F01\",P273=510,P273=520),1,IF(VLOOKUP(F273,recipient_country!AB:AD,3,FALSE)=\"Part I unallocated by income\",\"\",1)))","v":{"$error":"#N/A"}},{"$f":"CRSDATA!AM273","v":0},{"$f":"CRSDATA!AN273","v":0},{"$f":"CRSDATA!AP273","v":0},{"$f":"CRSDATA!AR273","v":0},{"$f":"CRSDATA!BA273","v":0},null,"",{"$f":"IF(CRSDATA!M273=421,DATEDIF(CRSDATA!B273,CRSDATA!BH273,\"m\"),\"\")","v":""},{"$f":"CRSDATA!AZ273","v":0},{"$f":"CRSDATA!BB273","v":0},{"$f":"CRSDATA!L273","v":0}]
[{"$f":"CRSDATA!A274","v":0},{"$f":"CRSDATA!C274","v":0},{"$f":"CRSDATA!D274","v":0},{"$f":"CRSDATA!F274","v":0},{"$f":"CRSDATA!E274","v":0},{"$f":"IF(CRSDATA!H274=3000,998,CRSDATA!H274)","v":0},{"$f":"CRSDATA!O274","v":0},{"$f":"CRSDATA!U274","v":0},null,{"$f":"IF(CRSDATA!V274=\"\",\"\",CRSDATA!V274)","v":""},{"$f":"key_row(CRSDATA!W274,CRSDATA!X274,CRSDATA!AK274,CRSDATA!AJ274,CRSDATA!P274,CRSDATA!V274)","v":""},{"$f":"CRSDATA!P274","v":0},{"$f":"CRSDATA!J274","v":0},{"$f":"CRSDATA!I274","v":0},{"$f":"IF(LEFT(CRSDATA!N274,2)=\"A0\",\"A00\",IF(LEFT(CRSDATA!N274,3)=\"B02\",\"B02\",IF(LEFT(CRSDATA!N274,3)=\"B03\",\"B03\",IF(CRSDATA!N274=\"B04\",\"C01\",IF(CRSDATA!N274=\"H01\",\"H00\",IF(OR(CRSDATA!N274=\"H02\",CRSDATA!N274=\"H03\",CRSDATA!N274=\"H04\",CRSDATA!N274=\"H05\",CRSDATA!N274=\"H06\"),\"I01\",CRSDATA!N274))))))","v":0},{"$f":"CRSDATA!M274","v":0},{"$f":"IF(CRSDATA!L274=22,\"FA04\",\"\")","v":""},{"$f":"IF(CRSDATA!K274=8,\"FC02\",\"\")","v":""},{"$f":"IF(OR(O274=\"B02\",O274=\"E02\",O274=\"G01\",O274=\"H00\",O274=\"I01\"),2,IF(OR(O274=\"A00\",O274=\"E01\",O274=\"F01\",P274=510,P274=520),1,IF(VLOOKUP(F274,recipient_country!AB:AD,3,FALSE)=\"Part I unallocated by income\",\"\",1)))","v":{"$error":"#N/A"}},{"$f":"CRSDATA!AM274","v":0},{"$f":"CRSDATA!AN274","v":0},{"$f":"CRSDATA!AP274","v":0},{"$f":"CRSDATA!AR274","v":0},{"$f":"CRSDATA!BA274","v":0},null,"",{"$f":"IF(CRSDATA!M274=421,DATEDIF(CRSDATA!B274,CRSDATA!BH274,\"m\"),\"\")","v":""},{"$f":"CRSDATA!AZ274","v":0},{"$f":"CRSDATA!BB274","v":0},{"$f":"CRSDATA!L274","v":0}]
[{"$f":"CRSDATA!A275","v":0},{"$f":"CRSDATA!C275","v":0},{"$f":"CRSDATA!D275","v":0},{"$f":"CRSDATA!F275","v":0},{"$f":"CRSDATA!E275","v":0},{"$f":"IF(CRSDATA!H275=3000,998,CRSDATA!H275)","v":0},{"$f":"CRSDATA!O275","v":0},{"$f":"CRSDATA!U275","v":0},null,{"$f":"IF(CRSDATA!V275=\"\",\"\",CRSDATA!V275)","v":""},{"$f":"key_row(CRSDATA!W275,CRSDATA!X275,CRSDATA!AK275,CRSDATA!AJ275,CRSDATA!P275,CRSDATA!V275)","v":""},{"$f":"CRSDATA!P275","v":0},{"$f":"CRSDATA!J275","v":0},{"$f":"CRSDATA!I275","v":0},{"$f":"IF(LEFT(CRSDATA!N275,2)=\"A0\",\"A00\",IF(LEFT(CRSDATA!N275,3)=\"B02\",\"B02\",IF(LEFT(CRSDATA!N275,3)=\"B03\",\"B03\",IF(CRSDATA!N275=\"B04\",\"C01\",IF(CRSDATA!N275=\"H01\",\"H00\",IF(OR(CRSDATA!N275=\"H02\",CRSDATA!N275=\"H03\",CRSDATA!N275=\"H04\",CRSDATA!N275=\"H05\",CRSDATA!N275=\"H06\"),\"I01\",CRSDATA!N275))))))","v":0},{"$f":"CRSDATA!M275","v":0},{"$f":"IF(CRSDATA!L275=22,\"FA04\",\"\")","v":""},{"$f":"IF(CRSDATA!K275=8,\"FC02\",\"\")","v":""},{"$f":"IF(OR(O275=\"B02\",O275=\"E02\",O275=\"G01\",O275=\"H00\",O275=\"I01\"),2,IF(OR(O275=\"A00\",O275=\"E01\",O275=\"F01\",P275=510,P275=520),1,IF(VLOOKUP(F275,recipient_country!AB:AD,3,FALSE)=\"Part I unallocated by income\",\"\",1)))","v":{"$error":"#N/A"}},{"$f":"CRSDATA!AM275","v":0},{"$f":"CRSDATA!AN275","v":0},{"$f":"CRSDATA!AP275","v":0},{"$f":"CRSDATA!AR275","v":0},{"$f":"CRSDATA!BA275","v":0},null,"",{"$f":"IF(CRSDATA!M275=421,DATEDIF(CRSDATA!B275,CRSDATA!BH275,\"m\"),\"\")","v":""},{"$f":"CRSDATA!AZ275","v":0},{"$f":"CRSDATA!BB275","v":0},{"$f":"CRSDATA!L275","v":0}]
[{"$f":"CRSDATA!A276","v":0},{"$f":"CRSDATA!C276","v":0},{"$f":"CRSDATA!D276","v":0},{"$f":"CRSDATA!F276","v":0},{"$f":"CRSDATA!E276","v":0},{"$f":"IF(CRSDATA!H276=3000,998,CRSDATA!H276)","v":0},{"$f":"CRSDATA!O276","v":0},{"$f":"CRSDATA!U276","v":0},null,{"$f":"IF(CRSDATA!V276=\"\",\"\",CRSDATA!V276)","v":""},{"$f":"key_row(CRSDATA!W276,CRSDATA!X276,CRSDATA!AK276,CRSDATA!AJ276,CRSDATA!P276,CRSDATA!V276)","v":""},{"$f":"CRSDATA!P276","v":0},{"$f":"CRSDATA!J276","v":0},{"$f":"CRSDATA!I276","v":0},{"$f":"IF(LEFT(CRSDATA!N276,2)=\"A0\",\"A00\",IF(LEFT(CRSDATA!N276,3)=\"B02\",\"B02\",IF(LEFT(CRSDATA!N276,3)=\"B03\",\"B03\",IF(CRSDATA!N276=\"B04\",\"C01\",IF(CRSDATA!N276=\"H01\",\"H00\",IF(OR(CRSDATA!N276=\"H02\",CRSDATA!N276=\"H03\",CRSDATA!N276=\"H04\",CRSDATA!N276=\"H05\",CRSDATA!N276=\"H06\"),\"I01\",CRSDATA!N276))))))","v":0},{"$f":"CRSDATA!M276","v":0},{"$f":"IF(CRSDATA!L276=22,\"FA04\",\"\")","v":""},{"$f":"IF(CRSDATA!K276=8,\"FC02\",\"\")","v":""},{"$f":"IF(OR(O276=\"B02\",O276=\"E02\",O276=\"G01\",O276=\"H00\",O276=\"I01\"),2,IF(OR(O276=\"A00\",O276=\"E01\",O276=\"F01\",P276=510,P276=520),1,IF(VLOOKUP(F276,recipient_country!AB:AD,3,FALSE)=\"Part I unallocated by income\",\"\",1)))","v":{"$error":"#N/A"}},{"$f":"CRSDATA!AM276","v":0},{"$f":"CRSDATA!AN276","v":0},{"$f":"CRSDATA!AP276","v":0},{"$f":"CRSDATA!AR276","v":0},{"$f":"CRSDATA!BA276","v":0},null,"",{"$f":"IF(CRSDATA!M276=421,DATEDIF(CRSDATA!B276,CRSDATA!BH276,\"m\"),\"\")","v":""},{"$f":"CRSDATA!AZ276","v":0},{"$f":"CRSDATA!BB276","v":0},{"$f":"CRSDATA!L276","v":0}]
[{"$f":"CRSDATA!A277","v":0},{"$f":"CRSDATA!C277","v":0},{"$f":"CRSDATA!D277","v":0},{"$f":"CRSDATA!F277","v":0},{"$f":"CRSDATA!E277","v":0},{"$f":"IF(CRSDATA!H277=3000,998,CRSDATA!H277)","v":0},{"$f":"CRSDATA!O277","v":0},{"$f":"CRSDATA!U277","v":0},null,{"$f":"IF(CRSDATA!V277=\"\",\"\",CRSDATA!V277)","v":""},{"$f":"key_row(CRSDATA!W277,CRSDATA!X277,CRSDATA!AK277,CRSDATA!AJ277,CRSDATA!P277,CRSDATA!V277)","v":""},{"$f":"CRSDATA!P277","v":0},{"$f":"CRSDATA!J277","v":0},{"$f":"CRSDATA!I277","v":0},{"$f":"IF(LEFT(CRSDATA!N277,2)=\"A0\",\"A00\",IF(LEFT(CRSDATA!N277,3)=\"B02\",\"B02\",IF(LEFT(CRSDATA!N277,3)=\"B03\",\"B03\",IF(CRSDATA!N277=\"B04\",\"C01\",IF(CRSDATA!N277=\"H01\",\"H00\",IF(OR(CRSDATA!N277=\"H02\",CRSDATA!N277=\"H03\",CRSDATA!N277=\"H04\",CRSDATA!N277=\"H05\",CRSDATA!N277=\"H06\"),\"I01\",CRSDATA!N277))))))","v":0},{"$f":"CRSDATA!M277","v":0},{"$f":"IF(CRSDATA!L277=22,\"FA04\",\"\")","v":""},{"$f":"IF(CRSDATA!K277=8,\"FC02\",\"\")","v":""},{"$f":"IF(OR(O277=\"B02\",O277=\"E02\",O277=\"G01\",O277=\"H00\",O277=\"I01\"),2,IF(OR(O277=\"A00\",O277=\"E01\",O277=\"F01\",P277=510,P277=520),1,IF(VLOOKUP(F277,recipient_country!AB:AD,3,FALSE)=\"Part I unallocated by income\",\"\",1)))","v":{"$error":"#N/A"}},{"$f":"CRSDATA!AM277","v":0},{"$f":"CRSDATA!AN277","v":0},{"$f":"CRSDATA!AP277","v":0},{"$f":"CRSDATA!AR277","v":0},{"$f":"CRSDATA!BA277","v":0},null,"",{"$f":"IF(CRSDATA!M277=421,DATEDIF(CRSDATA!B277,CRSDATA!BH277,\"m\"),\"\")","v":""},{"$f":"CRSDATA!AZ277","v":0},{"$f":"CRSDATA!BB277","v":0},{"$f":"CRSDATA!L277","v":0}]
[{"$f":"CRSDATA!A278","v":0},{"$f":"CRSDATA!C278","v":0},{"$f":"CRSDATA!D278","v":0},{"$f":"CRSDATA!F278","v":0},{"$f":"CRSDATA!E278","v":0},{"$f":"IF(CRSDATA!H278=3000,998,CRSDATA!H278)","v":0},{"$f":"CRSDATA!O278","v":0},{"$f":"CRSDATA!U278","v":0},null,{"$f":"IF(CRSDATA!V278=\"\",\"\",CRSDATA!V278)","v":""},{"$f":"key_row(CRSDATA!W278,CRSDATA!X278,CRSDATA!AK278,CRSDATA!AJ278,CRSDATA!P278,CRSDATA!V278)","v":""},{"$f":"CRSDATA!P278","v":0},{"$f":"CRSDATA!J278","v":0},{"$f":"CRSDATA!I278","v":0},{"$f":"IF(LEFT(CRSDATA!N278,2)=\"A0\",\"A00\",IF(LEFT(CRSDATA!N278,3)=\"B02\",\"B02\",IF(LEFT(CRSDATA!N278,3)=\"B03\",\"B03\",IF(CRSDATA!N278=\"B04\",\"C01\",IF(CRSDATA!N278=\"H01\",\"H00\",IF(OR(CRSDATA!N278=\"H02\",CRSDATA!N278=\"H03\",CRSDATA!N278=\"H04\",CRSDATA!N278=\"H05\",CRSDATA!N278=\"H06\"),\"I01\",CRSDATA!N278))))))","v":0},{"$f":"CRSDATA!M278","v":0},{"$f":"IF(CRSDATA!L278=22,\"FA04\",\"\")","v":""},{"$f":"IF(CRSDATA!K278=8,\"FC02\",\"\")","v":""},{"$f":"IF(OR(O278=\"B02\",O278=\"E02\",O278=\"G01\",O278=\"H00\",O278=\"I01\"),2,IF(OR(O278=\"A00\",O278=\"E01\",O278=\"F01\",P278=510,P278=520),1,IF(VLOOKUP(F278,recipient_country!AB:AD,3,FALSE)=\"Part I unallocated by income\",\"\",1)))","v":{"$error":"#N/A"}},{"$f":"CRSDATA!AM278","v":0},{"$f":"CRSDATA!AN278","v":0},{"$f":"CRSDATA!AP278","v":0},{"$f":"CRSDATA!AR278","v":0},{"$f":"CRSDATA!BA278","v":0},null,"",{"$f":"IF(CRSDATA!M278=421,DATEDIF(CRSDATA!B278,CRSDATA!BH278,\"m\"),\"\")","v":""},{"$f":"CRSDATA!AZ278","v":0},{"$f":"CRSDATA!BB278","v":0},{"$f":"CRSDATA!L278","v":0}]
[{"$f":"CRSDATA!A279","v":0},{"$f":"CRSDATA!C279","v":0},{"$f":"CRSDATA!D279","v":0},{"$f":"CRSDATA!F279","v":0},{"$f":"CRSDATA!E279","v":0},{"$f":"IF(CRSDATA!H279=3000,998,CRSDATA!H279)","v":0},{"$f":"CRSDATA!O279","v":0},{"$f":"CRSDATA!U279","v":0},null,{"$f":"IF(CRSDATA!V279=\"\",\"\",CRSDATA!V279)","v":""},{"$f":"key_row(CRSDATA!W279,CRSDATA!X279,CRSDATA!AK279,CRSDATA!AJ279,CRSDATA!P279,CRSDATA!V279)","v":""},{"$f":"CRSDATA!P279","v":0},{"$f":"CRSDATA!J279","v":0},{"$f":"CRSDATA!I279","v":0},{"$f":"IF(LEFT(CRSDATA!N279,2)=\"A0\",\"A00\",IF(LEFT(CRSDATA!N279,3)=\"B02\",\"B02\",IF(LEFT(CRSDATA!N279,3)=\"B03\",\"B03\",IF(CRSDATA!N279=\"B04\",\"C01\",IF(CRSDATA!N279=\"H01\",\"H00\",IF(OR(CRSDATA!N279=\"H02\",CRSDATA!N279=\"H03\",CRSDATA!N279=\"H04\",CRSDATA!N279=\"H05\",CRSDATA!N279=\"H06\"),\"I01\",CRSDATA!N279))))))","v":0},{"$f":"CRSDATA!M279","v":0},{"$f":"IF(CRSDATA!L279=22,\"FA04\",\"\")","v":""},{"$f":"IF(CRSDATA!K279=8,\"FC02\",\"\")","v":""},{"$f":"IF(OR(O279=\"B02\",O279=\"E02\",O279=\"G01\",O279=\"H00\",O279=\"I01\"),2,IF(OR(O279=\"A00\",O279=\"E01\",O279=\"F01\",P279=510,P279=520),1,IF(VLOOKUP(F279,recipient_country!AB:AD,3,FALSE)=\"Part I unallocated by income\",\"\",1)))","v":{"$error":"#N/A"}},{"$f":"CRSDATA!AM279","v":0},{"$f":"CRSDATA!AN279","v":0},{"$f":"CRSDATA!AP279","v":0},{"$f":"CRSDATA!AR279","v":0},{"$f":"CRSDATA!BA279","v":0},null,"",{"$f":"IF(CRSDATA!M279=421,DATEDIF(CRSDATA!B279,CRSDATA!BH279,\"m\"),\"\")","v":""},{"$f":"CRSDATA!AZ279","v":0},{"$f":"CRSDATA!BB279","v":0},{"$f":"CRSDATA!L279","v":0}]
[{"$f":"CRSDATA!A280","v":0},{"$f":"CRSDATA!C280","v":0},{"$f":"CRSDATA!D280","v":0},{"$f":"CRSDATA!F280","v":0},{"$f":"CRSDATA!E280","v":0},{"$f":"IF(CRSDATA!H280=3000,998,CRSDATA!H280)","v":0},{"$f":"CRSDATA!O280","v":0},{"$f":"CRSDATA!U280","v":0},null,{"$f":"IF(CRSDATA!V280=\"\",\"\",CRSDATA!V280)","v":""},{"$f":"key_row(CRSDATA!W280,CRSDATA!X280,CRSDATA!AK280,CRSDATA!AJ280,CRSDATA!P280,CRSDATA!V280)","v":""},{"$f":"CRSDATA!P280","v":0},{"$f":"CRSDATA!J280","v":0},{"$f":"CRSDATA!I280","v":0},{"$f":"IF(LEFT(CRSDATA!N280,2)=\"A0\",\"A00\",IF(LEFT(CRSDATA!N280,3)=\"B02\",\"B02\",IF(LEFT(CRSDATA!N280,3)=\"B03\",\"B03\",IF(CRSDATA!N280=\"B04\",\"C01\",IF(CRSDATA!N280=\"H01\",\"H00\",IF(OR(CRSDATA!N280=\"H02\",CRSDATA!N280=\"H03\",CRSDATA!N280=\"H04\",CRSDATA!N280=\"H05\",CRSDATA!N280=\"H06\"),\"I01\",CRSDATA!N280))))))","v":0},{"$f":"CRSDATA!M280","v":0},{"$f":"IF(CRSDATA!L280=22,\"FA04\",\"\")","v":""},{"$f":"IF(CRSDATA!K280=8,\"FC02\",\"\")","v":""},{"$f":"IF(OR(O280=\"B02\",O280=\"E02\",O280=\"G01\",O280=\"H00\",O280=\"I01\"),2,IF(OR(O280=\"A00\",O280=\"E01\",O280=\"F01\",P280=510,P280=520),1,IF(VLOOKUP(F280,recipient_country!AB:AD,3,FALSE)=\"Part I unallocated by income\",\"\",1)))","v":{"$error":"#N/A"}},{"$f":"CRSDATA!AM280","v":0},{"$f":"CRSDATA!AN280","v":0},{"$f":"CRSDATA!AP280","v":0},{"$f":"CRSDATA!AR280","v":0},{"$f":"CRSDATA!BA280","v":0},null,"",{"$f":"IF(CRSDATA!M280=421,DATEDIF(CRSDATA!B280,CRSDATA!BH280,\"m\"),\"\")","v":""},{"$f":"CRSDATA!AZ280","v":0},{"$f":"CRSDATA!BB280","v":0},{"$f":"CRSDATA!L280","v":0}]
[{"$f":"CRSDATA!A281","v":0},{"$f":"CRSDATA!C281","v":0},{"$f":"CRSDATA!D281","v":0},{"$f":"CRSDATA!F281","v":0},{"$f":"CRSDATA!E281","v":0},{"$f":"IF(CRSDATA!H281=3000,998,CRSDATA!H281)","v":0},{"$f":"CRSDATA!O281","v":0},{"$f":"CRSDATA!U281","v":0},null,{"$f":"IF(CRSDATA!V281=\"\",\"\",CRSDATA!V281)","v":""},{"$f":"key_row(CRSDATA!W281,CRSDATA!X281,CRSDATA!AK281,CRSDATA!AJ281,CRSDATA!P281,CRSDATA!V281)","v":""},{"$f":"CRSDATA!P281","v":0},{"$f":"CRSDATA!J281","v":0},{"$f":"CRSDATA!I281","v":0},{"$f":"IF(LEFT(CRSDATA!N281,2)=\"A0\",\"A00\",IF(LEFT(CRSDATA!N281,3)=\"B02\",\"B02\",IF(LEFT(CRSDATA!N281,3)=\"B03\",\"B03\",IF(CRSDATA!N281=\"B04\",\"C01\",IF(CRSDATA!N281=\"H01\",\"H00\",IF(OR(CRSDATA!N281=\"H02\",CRSDATA!N281=\"H03\",CRSDATA!N281=\"H04\",CRSDATA!N281=\"H05\",CRSDATA!N281=\"H06\"),\"I01\",CRSDATA!N281))))))","v":0},{"$f":"CRSDATA!M281","v":0},{"$f":"IF(CRSDATA!L281=22,\"FA04\",\"\")","v":""},{"$f":"IF(CRSDATA!K281=8,\"FC02\",\"\")","v":""},{"$f":"IF(OR(O281=\"B02\",O281=\"E02\",O281=\"G01\",O281=\"H00\",O281=\"I01\"),2,IF(OR(O281=\"A00\",O281=\"E01\",O281=\"F01\",P281=510,P281=520),1,IF(VLOOKUP(F281,recipient_country!AB:AD,3,FALSE)=\"Part I unallocated by income\",\"\",1)))","v":{"$error":"#N/A"}},{"$f":"CRSDATA!AM281","v":0},{"$f":"CRSDATA!AN281","v":0},{"$f":"CRSDATA!AP281","v":0},{"$f":"CRSDATA!AR281","v":0},{"$f":"CRSDATA!BA281","v":0},null,"",{"$f":"IF(CRSDATA!M281=421,DATEDIF(CRSDATA!B281,CRSDATA!BH281,\"m\"),\"\")","v":""},{"$f":"CRSDATA!AZ281","v":0},{"$f":"CRSDATA!BB281","v":0},{"$f":"CRSDATA!L281","v":0}]
[{"$f":"CRSDATA!A282","v":0},{"$f":"CRSDATA!C282","v":0},{"$f":"CRSDATA!D282","v":0},{"$f":"CRSDATA!F282","v":0},{"$f":"CRSDATA!E282","v":0},{"$f":"IF(CRSDATA!H282=3000,998,CRSDATA!H282)","v":0},{"$f":"CRSDATA!O282","v":0},{"$f":"CRSDATA!U282","v":0},null,{"$f":"IF(CRSDATA!V282=\"\",\"\",CRSDATA!V282)","v":""},{"$f":"key_row(CRSDATA!W282,CRSDATA!X282,CRSDATA!AK282,CRSDATA!AJ282,CRSDATA!P282,CRSDATA!V282)","v":""},{"$f":"CRSDATA!P282","v":0},{"$f":"CRSDATA!J282","v":0},{"$f":"CRSDATA!I282","v":0},{"$f":"IF(LEFT(CRSDATA!N282,2)=\"A0\",\"A00\",IF(LEFT(CRSDATA!N282,3)=\"B02\",\"B02\",IF(LEFT(CRSDATA!N282,3)=\"B03\",\"B03\",IF(CRSDATA!N282=\"B04\",\"C01\",IF(CRSDATA!N282=\"H01\",\"H00\",IF(OR(CRSDATA!N282=\"H02\",CRSDATA!N282=\"H03\",CRSDATA!N282=\"H04\",CRSDATA!N282=\"H05\",CRSDATA!N282=\"H06\"),\"I01\",CRSDATA!N282))))))","v":0},{"$f":"CRSDATA!M282","v":0},{"$f":"IF(CRSDATA!L282=22,\"FA04\",\"\")","v":""},{"$f":"IF(CRSDATA!K282=8,\"FC02\",\"\")","v":""},{"$f":"IF(OR(O282=\"B02\",O282=\"E02\",O282=\"G01\",O282=\"H00\",O282=\"I01\"),2,IF(OR(O282=\"A00\",O282=\"E01\",O282=\"F01\",P282=510,P282=520),1,IF(VLOOKUP(F282,recipient_country!AB:AD,3,FALSE)=\"Part I unallocated by income\",\"\",1)))","v":{"$error":"#N/A"}},{"$f":"CRSDATA!AM282","v":0},{"$f":"CRSDATA!AN282","v":0},{"$f":"CRSDATA!AP282","v":0},{"$f":"CRSDATA!AR282","v":0},{"$f":"CRSDATA!BA282","v":0},null,"",{"$f":"IF(CRSDATA!M282=421,DATEDIF(CRSDATA!B282,CRSDATA!BH282,\"m\"),\"\")","v":""},{"$f":"CRSDATA!AZ282","v":0},{"$f":"CRSDATA!BB282","v":0},{"$f":"CRSDATA!L282","v":0}]
[{"$f":"CRSDATA!A283","v":0},{"$f":"CRSDATA!C283","v":0},{"$f":"CRSDATA!D283","v":0},{"$f":"CRSDATA!F283","v":0},{"$f":"CRSDATA!E283","v":0},{"$f":"IF(CRSDATA!H283=3000,998,CRSDATA!H283)","v":0},{"$f":"CRSDATA!O283","v":0},{"$f":"CRSDATA!U283","v":0},null,{"$f":"IF(CRSDATA!V283=\"\",\"\",CRSDATA!V283)","v":""},{"$f":"key_row(CRSDATA!W283,CRSDATA!X283,CRSDATA!AK283,CRSDATA!AJ283,CRSDATA!P283,CRSDATA!V283)","v":""},{"$f":"CRSDATA!P283","v":0},{"$f":"CRSDATA!J283","v":0},{"$f":"CRSDATA!I283","v":0},{"$f":"IF(LEFT(CRSDATA!N283,2)=\"A0\",\"A00\",IF(LEFT(CRSDATA!N283,3)=\"B02\",\"B02\",IF(LEFT(CRSDATA!N283,3)=\"B03\",\"B03\",IF(CRSDATA!N283=\"B04\",\"C01\",IF(CRSDATA!N283=\"H01\",\"H00\",IF(OR(CRSDATA!N283=\"H02\",CRSDATA!N283=\"H03\",CRSDATA!N283=\"H04\",CRSDATA!N283=\"H05\",CRSDATA!N283=\"H06\"),\"I01\",CRSDATA!N283))))))","v":0},{"$f":"CRSDATA!M283","v":0},{"$f":"IF(CRSDATA!L283=22,\"FA04\",\"\")","v":""},{"$f":"IF(CRSDATA!K283=8,\"FC02\",\"\")","v":""},{"$f":"IF(OR(O283=\"B02\",O283=\"E02\",O283=\"G01\",O283=\"H00\",O283=\"I01\"),2,IF(OR(O283=\"A00\",O283=\"E01\",O283=\"F01\",P283=510,P283=520),1,IF(VLOOKUP(F283,recipient_country!AB:AD,3,FALSE)=\"Part I unallocated by income\",\"\",1)))","v":{"$error":"#N/A"}},{"$f":"CRSDATA!AM283","v":0},{"$f":"CRSDATA!AN283","v":0},{"$f":"CRSDATA!AP283","v":0},{"$f":"CRSDATA!AR283","v":0},{"$f":"CRSDATA!BA283","v":0},null,"",{"$f":"IF(CRSDATA!M283=421,DATEDIF(CRSDATA!B283,CRSDATA!BH283,\"m\"),\"\")","v":""},{"$f":"CRSDATA!AZ283","v":0},{"$f":"CRSDATA!BB283","v":0},{"$f":"CRSDATA!L283","v":0}]
[{"$f":"CRSDATA!A284","v":0},{"$f":"CRSDATA!C284","v":0},{"$f":"CRSDATA!D284","v":0},{"$f":"CRSDATA!F284","v":0},{"$f":"CRSDATA!E284","v":0},{"$f":"IF(CRSDATA!H284=3000,998,CRSDATA!H284)","v":0},{"$f":"CRSDATA!O284","v":0},{"$f":"CRSDATA!U284","v":0},null,{"$f":"IF(CRSDATA!V284=\"\",\"\",CRSDATA!V284)","v":""},{"$f":"key_row(CRSDATA!W284,CRSDATA!X284,CRSDATA!AK284,CRSDATA!AJ284,CRSDATA!P284,CRSDATA!V284)","v":""},{"$f":"CRSDATA!P284","v":0},{"$f":"CRSDATA!J284","v":0},{"$f":"CRSDATA!I284","v":0},{"$f":"IF(LEFT(CRSDATA!N284,2)=\"A0\",\"A00\",IF(LEFT(CRSDATA!N284,3)=\"B02\",\"B02\",IF(LEFT(CRSDATA!N284,3)=\"B03\",\"B03\",IF(CRSDATA!N284=\"B04\",\"C01\",IF(CRSDATA!N284=\"H01\",\"H00\",IF(OR(CRSDATA!N284=\"H02\",CRSDATA!N284=\"H03\",CRSDATA!N284=\"H04\",CRSDATA!N284=\"H05\",CRSDATA!N284=\"H06\"),\"I01\",CRSDATA!N284))))))","v":0},{"$f":"CRSDATA!M284","v":0},{"$f":"IF(CRSDATA!L284=22,\"FA04\",\"\")","v":""},{"$f":"IF(CRSDATA!K284=8,\"FC02\",\"\")","v":""},{"$f":"IF(OR(O284=\"B02\",O284=\"E02\",O284=\"G01\",O284=\"H00\",O284=\"I01\"),2,IF(OR(O284=\"A00\",O284=\"E01\",O284=\"F01\",P284=510,P284=520),1,IF(VLOOKUP(F284,recipient_country!AB:AD,3,FALSE)=\"Part I unallocated by income\",\"\",1)))","v":{"$error":"#N/A"}},{"$f":"CRSDATA!AM284","v":0},{"$f":"CRSDATA!AN284","v":0},{"$f":"CRSDATA!AP284","v":0},{"$f":"CRSDATA!AR284","v":0},{"$f":"CRSDATA!BA284","v":0},null,"",{"$f":"IF(CRSDATA!M284=421,DATEDIF(CRSDATA!B284,CRSDATA!BH284,\"m\"),\"\")","v":""},{"$f":"CRSDATA!AZ284","v":0},{"$f":"CRSDATA!BB284","v":0},{"$f":"CRSDATA!L284","v":0}]
[{"$f":"CRSDATA!A285","v":0},{"$f":"CRSDATA!C285","v":0},{"$f":"CRSDATA!D285","v":0},{"$f":"CRSDATA!F285","v":0},{"$f":"CRSDATA!E285","v":0},{"$f":"IF(CRSDATA!H285=3000,998,CRSDATA!H285)","v":0},{"$f":"CRSDATA!O285","v":0},{"$f":"CRSDATA!U285","v":0},null,{"$f":"IF(CRSDATA!V285=\"\",\"\",CRSDATA!V285)","v":""},{"$f":"key_row(CRSDATA!W285,CRSDATA!X285,CRSDATA!AK285,CRSDATA!AJ285,CRSDATA!P285,CRSDATA!V285)","v":""},{"$f":"CRSDATA!P285","v":0},{"$f":"CRSDATA!J285","v":0},{"$f":"CRSDATA!I285","v":0},{"$f":"IF(LEFT(CRSDATA!N285,2)=\"A0\",\"A00\",IF(LEFT(CRSDATA!N285,3)=\"B02\",\"B02\",IF(LEFT(CRSDATA!N285,3)=\"B03\",\"B03\",IF(CRSDATA!N285=\"B04\",\"C01\",IF(CRSDATA!N285=\"H01\",\"H00\",IF(OR(CRSDATA!N285=\"H02\",CRSDATA!N285=\"H03\",CRSDATA!N285=\"H04\",CRSDATA!N285=\"H05\",CRSDATA!N285=\"H06\"),\"I01\",CRSDATA!N285))))))","v":0},{"$f":"CRSDATA!M285","v":0},{"$f":"IF(CRSDATA!L285=22,\"FA04\",\"\")","v":""},{"$f":"IF(CRSDATA!K285=8,\"FC02\",\"\")","v":""},{"$f":"IF(OR(O285=\"B02\",O285=\"E02\",O285=\"G01\",O285=\"H00\",O285=\"I01\"),2,IF(OR(O285=\"A00\",O285=\"E01\",O285=\"F01\",P285=510,P285=520),1,IF(VLOOKUP(F285,recipient_country!AB:AD,3,FALSE)=\"Part I unallocated by income\",\"\",1)))","v":{"$error":"#N/A"}},{"$f":"CRSDATA!AM285","v":0},{"$f":"CRSDATA!AN285","v":0},{"$f":"CRSDATA!AP285","v":0},{"$f":"CRSDATA!AR285","v":0},{"$f":"CRSDATA!BA285","v":0},null,"",{"$f":"IF(CRSDATA!M285=421,DATEDIF(CRSDATA!B285,CRSDATA!BH285,\"m\"),\"\")","v":""},{"$f":"CRSDATA!AZ285","v":0},{"$f":"CRSDATA!BB285","v":0},{"$f":"CRSDATA!L285","v":0}]
[{"$f":"CRSDATA!A286","v":0},{"$f":"CRSDATA!C286","v":0},{"$f":"CRSDATA!D286","v":0},{"$f":"CRSDATA!F286","v":0},{"$f":"CRSDATA!E286","v":0},{"$f":"IF(CRSDATA!H286=3000,998,CRSDATA!H286)","v":0},{"$f":"CRSDATA!O286","v":0},{"$f":"CRSDATA!U286","v":0},null,{"$f":"IF(CRSDATA!V286=\"\",\"\",CRSDATA!V286)","v":""},{"$f":"key_row(CRSDATA!W286,CRSDATA!X286,CRSDATA!AK286,CRSDATA!AJ286,CRSDATA!P286,CRSDATA!V286)","v":""},{"$f":"CRSDATA!P286","v":0},{"$f":"CRSDATA!J286","v":0},{"$f":"CRSDATA!I286","v":0},{"$f":"IF(LEFT(CRSDATA!N286,2)=\"A0\",\"A00\",IF(LEFT(CRSDATA!N286,3)=\"B02\",\"B02\",IF(LEFT(CRSDATA!N286,3)=\"B03\",\"B03\",IF(CRSDATA!N286=\"B04\",\"C01\",IF(CRSDATA!N286=\"H01\",\"H00\",IF(OR(CRSDATA!N286=\"H02\",CRSDATA!N286=\"H03\",CRSDATA!N286=\"H04\",CRSDATA!N286=\"H05\",CRSDATA!N286=\"H06\"),\"I01\",CRSDATA!N286))))))","v":0},{"$f":"CRSDATA!M286","v":0},{"$f":"IF(CRSDATA!L286=22,\"FA04\",\"\")","v":""},{"$f":"IF(CRSDATA!K286=8,\"FC02\",\"\")","v":""},{"$f":"IF(OR(O286=\"B02\",O286=\"E02\",O286=\"G01\",O286=\"H00\",O286=\"I01\"),2,IF(OR(O286=\"A00\",O286=\"E01\",O286=\"F01\",P286=510,P286=520),1,IF(VLOOKUP(F286,recipient_country!AB:AD,3,FALSE)=\"Part I unallocated by income\",\"\",1)))","v":{"$error":"#N/A"}},{"$f":"CRSDATA!AM286","v":0},{"$f":"CRSDATA!AN286","v":0},{"$f":"CRSDATA!AP286","v":0},{"$f":"CRSDATA!AR286","v":0},{"$f":"CRSDATA!BA286","v":0},null,"",{"$f":"IF(CRSDATA!M286=421,DATEDIF(CRSDATA!B286,CRSDATA!BH286,\"m\"),\"\")","v":""},{"$f":"CRSDATA!AZ286","v":0},{"$f":"CRSDATA!BB286","v":0},{"$f":"CRSDATA!L286","v":0}]
[{"$f":"CRSDATA!A287","v":0},{"$f":"CRSDATA!C287","v":0},{"$f":"CRSDATA!D287","v":0},{"$f":"CRSDATA!F287","v":0},{"$f":"CRSDATA!E287","v":0},{"$f":"IF(CRSDATA!H287=3000,998,CRSDATA!H287)","v":0},{"$f":"CRSDATA!O287","v":0},{"$f":"CRSDATA!U287","v":0},null,{"$f":"IF(CRSDATA!V287=\"\",\"\",CRSDATA!V287)","v":""},{"$f":"key_row(CRSDATA!W287,CRSDATA!X287,CRSDATA!AK287,CRSDATA!AJ287,CRSDATA!P287,CRSDATA!V287)","v":""},{"$f":"CRSDATA!P287","v":0},{"$f":"CRSDATA!J287","v":0},{"$f":"CRSDATA!I287","v":0},{"$f":"IF(LEFT(CRSDATA!N287,2)=\"A0\",\"A00\",IF(LEFT(CRSDATA!N287,3)=\"B02\",\"B02\",IF(LEFT(CRSDATA!N287,3)=\"B03\",\"B03\",IF(CRSDATA!N287=\"B04\",\"C01\",IF(CRSDATA!N287=\"H01\",\"H00\",IF(OR(CRSDATA!N287=\"H02\",CRSDATA!N287=\"H03\",CRSDATA!N287=\"H04\",CRSDATA!N287=\"H05\",CRSDATA!N287=\"H06\"),\"I01\",CRSDATA!N287))))))","v":0},{"$f":"CRSDATA!M287","v":0},{"$f":"IF(CRSDATA!L287=22,\"FA04\",\"\")","v":""},{"$f":"IF(CRSDATA!K287=8,\"FC02\",\"\")","v":""},{"$f":"IF(OR(O287=\"B02\",O287=\"E02\",O287=\"G01\",O287=\"H00\",O287=\"I01\"),2,IF(OR(O287=\"A00\",O287=\"E01\",O287=\"F01\",P287=510,P287=520),1,IF(VLOOKUP(F287,recipient_country!AB:AD,3,FALSE)=\"Part I unallocated by income\",\"\",1)))","v":{"$error":"#N/A"}},{"$f":"CRSDATA!AM287","v":0},{"$f":"CRSDATA!AN287","v":0},{"$f":"CRSDATA!AP287","v":0},{"$f":"CRSDATA!AR287","v":0},{"$f":"CRSDATA!BA287","v":0},null,"",{"$f":"IF(CRSDATA!M287=421,DATEDIF(CRSDATA!B287,CRSDATA!BH287,\"m\"),\"\")","v":""},{"$f":"CRSDATA!AZ287","v":0},{"$f":"CRSDATA!BB287","v":0},{"$f":"CRSDATA!L287","v":0}]
[{"$f":"CRSDATA!A288","v":0},{"$f":"CRSDATA!C288","v":0},{"$f":"CRSDATA!D288","v":0},{"$f":"CRSDATA!F288","v":0},{"$f":"CRSDATA!E288","v":0},{"$f":"IF(CRSDATA!H288=3000,998,CRSDATA!H288)","v":0},{"$f":"CRSDATA!O288","v":0},{"$f":"CRSDATA!U288","v":0},null,{"$f":"IF(CRSDATA!V288=\"\",\"\",CRSDATA!V288)","v":""},{"$f":"key_row(CRSDATA!W288,CRSDATA!X288,CRSDATA!AK288,CRSDATA!AJ288,CRSDATA!P288,CRSDATA!V288)","v":""},{"$f":"CRSDATA!P288","v":0},{"$f":"CRSDATA!J288","v":0},{"$f":"CRSDATA!I288","v":0},{"$f":"IF(LEFT(CRSDATA!N288,2)=\"A0\",\"A00\",IF(LEFT(CRSDATA!N288,3)=\"B02\",\"B02\",IF(LEFT(CRSDATA!N288,3)=\"B03\",\"B03\",IF(CRSDATA!N288=\"B04\",\"C01\",IF(CRSDATA!N288=\"H01\",\"H00\",IF(OR(CRSDATA!N288=\"H02\",CRSDATA!N288=\"H03\",CRSDATA!N288=\"H04\",CRSDATA!N288=\"H05\",CRSDATA!N288=\"H06\"),\"I01\",CRSDATA!N288))))))","v":0},{"$f":"CRSDATA!M288","v":0},{"$f":"IF(CRSDATA!L288=22,\"FA04\",\"\")","v":""},{"$f":"IF(CRSDATA!K288=8,\"FC02\",\"\")","v":""},{"$f":"IF(OR(O288=\"B02\",O288=\"E02\",O288=\"G01\",O288=\"H00\",O288=\"I01\"),2,IF(OR(O288=\"A00\",O288=\"E01\",O288=\"F01\",P288=510,P288=520),1,IF(VLOOKUP(F288,recipient_country!AB:AD,3,FALSE)=\"Part I unallocated by income\",\"\",1)))","v":{"$error":"#N/A"}},{"$f":"CRSDATA!AM288","v":0},{"$f":"CRSDATA!AN288","v":0},{"$f":"CRSDATA!AP288","v":0},{"$f":"CRSDATA!AR288","v":0},{"$f":"CRSDATA!BA288","v":0},null,"",{"$f":"IF(CRSDATA!M288=421,DATEDIF(CRSDATA!B288,CRSDATA!BH288,\"m\"),\"\")","v":""},{"$f":"CRSDATA!AZ288","v":0},{"$f":"CRSDATA!BB288","v":0},{"$f":"CRSDATA!L288","v":0}]
[{"$f":"CRSDATA!A289","v":0},{"$f":"CRSDATA!C289","v":0},{"$f":"CRSDATA!D289","v":0},{"$f":"CRSDATA!F289","v":0},{"$f":"CRSDATA!E289","v":0},{"$f":"IF(CRSDATA!H289=3000,998,CRSDATA!H289)","v":0},{"$f":"CRSDATA!O289","v":0},{"$f":"CRSDATA!U289","v":0},null,{"$f":"IF(CRSDATA!V289=\"\",\"\",CRSDATA!V289)","v":""},{"$f":"key_row(CRSDATA!W289,CRSDATA!X289,CRSDATA!AK289,CRSDATA!AJ289,CRSDATA!P289,CRSDATA!V289)","v":""},{"$f":"CRSDATA!P289","v":0},{"$f":"CRSDATA!J289","v":0},{"$f":"CRSDATA!I289","v":0},{"$f":"IF(LEFT(CRSDATA!N289,2)=\"A0\",\"A00\",IF(LEFT(CRSDATA!N289,3)=\"B02\",\"B02\",IF(LEFT(CRSDATA!N289,3)=\"B03\",\"B03\",IF(CRSDATA!N289=\"B04\",\"C01\",IF(CRSDATA!N289=\"H01\",\"H00\",IF(OR(CRSDATA!N289=\"H02\",CRSDATA!N289=\"H03\",CRSDATA!N289=\"H04\",CRSDATA!N289=\"H05\",CRSDATA!N289=\"H06\"),\"I01\",CRSDATA!N289))))))","v":0},{"$f":"CRSDATA!M289","v":0},{"$f":"IF(CRSDATA!L289=22,\"FA04\",\"\")","v":""},{"$f":"IF(CRSDATA!K289=8,\"FC02\",\"\")","v":""},{"$f":"IF(OR(O289=\"B02\",O289=\"E02\",O289=\"G01\",O289=\"H00\",O289=\"I01\"),2,IF(OR(O289=\"A00\",O289=\"E01\",O289=\"F01\",P289=510,P289=520),1,IF(VLOOKUP(F289,recipient_country!AB:AD,3,FALSE)=\"Part I unallocated by income\",\"\",1)))","v":{"$error":"#N/A"}},{"$f":"CRSDATA!AM289","v":0},{"$f":"CRSDATA!AN289","v":0},{"$f":"CRSDATA!AP289","v":0},{"$f":"CRSDATA!AR289","v":0},{"$f":"CRSDATA!BA289","v":0},null,"",{"$f":"IF(CRSDATA!M289=421,DATEDIF(CRSDATA!B289,CRSDATA!BH289,\"m\"),\"\")","v":""},{"$f":"CRSDATA!AZ289","v":0},{"$f":"CRSDATA!BB289","v":0},{"$f":"CRSDATA!L289","v":0}]
[{"$f":"CRSDATA!A290","v":0},{"$f":"CRSDATA!C290","v":0},{"$f":"CRSDATA!D290","v":0},{"$f":"CRSDATA!F290","v":0},{"$f":"CRSDATA!E290","v":0},{"$f":"IF(CRSDATA!H290=3000,998,CRSDATA!H290)","v":0},{"$f":"CRSDATA!O290","v":0},{"$f":"CRSDATA!U290","v":0},null,{"$f":"IF(CRSDATA!V290=\"\",\"\",CRSDATA!V290)","v":""},{"$f":"key_row(CRSDATA!W290,CRSDATA!X290,CRSDATA!AK290,CRSDATA!AJ290,CRSDATA!P290,CRSDATA!V290)","v":""},{"$f":"CRSDATA!P290","v":0},{"$f":"CRSDATA!J290","v":0},{"$f":"CRSDATA!I290","v":0},{"$f":"IF(LEFT(CRSDATA!N290,2)=\"A0\",\"A00\",IF(LEFT(CRSDATA!N290,3)=\"B02\",\"B02\",IF(LEFT(CRSDATA!N290,3)=\"B03\",\"B03\",IF(CRSDATA!N290=\"B04\",\"C01\",IF(CRSDATA!N290=\"H01\",\"H00\",IF(OR(CRSDATA!N290=\"H02\",CRSDATA!N290=\"H03\",CRSDATA!N290=\"H04\",CRSDATA!N290=\"H05\",CRSDATA!N290=\"H06\"),\"I01\",CRSDATA!N290))))))","v":0},{"$f":"CRSDATA!M290","v":0},{"$f":"IF(CRSDATA!L290=22,\"FA04\",\"\")","v":""},{"$f":"IF(CRSDATA!K290=8,\"FC02\",\"\")","v":""},{"$f":"IF(OR(O290=\"B02\",O290=\"E02\",O290=\"G01\",O290=\"H00\",O290=\"I01\"),2,IF(OR(O290=\"A00\",O290=\"E01\",O290=\"F01\",P290=510,P290=520),1,IF(VLOOKUP(F290,recipient_country!AB:AD,3,FALSE)=\"Part I unallocated by income\",\"\",1)))","v":{"$error":"#N/A"}},{"$f":"CRSDATA!AM290","v":0},{"$f":"CRSDATA!AN290","v":0},{"$f":"CRSDATA!AP290","v":0},{"$f":"CRSDATA!AR290","v":0},{"$f":"CRSDATA!BA290","v":0},null,"",{"$f":"IF(CRSDATA!M290=421,DATEDIF(CRSDATA!B290,CRSDATA!BH290,\"m\"),\"\")","v":""},{"$f":"CRSDATA!AZ290","v":0},{"$f":"CRSDATA!BB290","v":0},{"$f":"CRSDATA!L290","v":0}]
[{"$f":"CRSDATA!A291","v":0},{"$f":"CRSDATA!C291","v":0},{"$f":"CRSDATA!D291","v":0},{"$f":"CRSDATA!F291","v":0},{"$f":"CRSDATA!E291","v":0},{"$f":"IF(CRSDATA!H291=3000,998,CRSDATA!H291)","v":0},{"$f":"CRSDATA!O291","v":0},{"$f":"CRSDATA!U291","v":0},null,{"$f":"IF(CRSDATA!V291=\"\",\"\",CRSDATA!V291)","v":""},{"$f":"key_row(CRSDATA!W291,CRSDATA!X291,CRSDATA!AK291,CRSDATA!AJ291,CRSDATA!P291,CRSDATA!V291)","v":""},{"$f":"CRSDATA!P291","v":0},{"$f":"CRSDATA!J291","v":0},{"$f":"CRSDATA!I291","v":0},{"$f":"IF(LEFT(CRSDATA!N291,2)=\"A0\",\"A00\",IF(LEFT(CRSDATA!N291,3)=\"B02\",\"B02\",IF(LEFT(CRSDATA!N291,3)=\"B03\",\"B03\",IF(CRSDATA!N291=\"B04\",\"C01\",IF(CRSDATA!N291=\"H01\",\"H00\",IF(OR(CRSDATA!N291=\"H02\",CRSDATA!N291=\"H03\",CRSDATA!N291=\"H04\",CRSDATA!N291=\"H05\",CRSDATA!N291=\"H06\"),\"I01\",CRSDATA!N291))))))","v":0},{"$f":"CRSDATA!M291","v":0},{"$f":"IF(CRSDATA!L291=22,\"FA04\",\"\")","v":""},{"$f":"IF(CRSDATA!K291=8,\"FC02\",\"\")","v":""},{"$f":"IF(OR(O291=\"B02\",O291=\"E02\",O291=\"G01\",O291=\"H00\",O291=\"I01\"),2,IF(OR(O291=\"A00\",O291=\"E01\",O291=\"F01\",P291=510,P291=520),1,IF(VLOOKUP(F291,recipient_country!AB:AD,3,FALSE)=\"Part I unallocated by income\",\"\",1)))","v":{"$error":"#N/A"}},{"$f":"CRSDATA!AM291","v":0},{"$f":"CRSDATA!AN291","v":0},{"$f":"CRSDATA!AP291","v":0},{"$f":"CRSDATA!AR291","v":0},{"$f":"CRSDATA!BA291","v":0},null,"",{"$f":"IF(CRSDATA!M291=421,DATEDIF(CRSDATA!B291,CRSDATA!BH291,\"m\"),\"\")","v":""},{"$f":"CRSDATA!AZ291","v":0},{"$f":"CRSDATA!BB291","v":0},{"$f":"CRSDATA!L291","v":0}]
[{"$f":"CRSDATA!A292","v":0},{"$f":"CRSDATA!C292","v":0},{"$f":"CRSDATA!D292","v":0},{"$f":"CRSDATA!F292","v":0},{"$f":"CRSDATA!E292","v":0},{"$f":"IF(CRSDATA!H292=3000,998,CRSDATA!H292)","v":0},{"$f":"CRSDATA!O292","v":0},{"$f":"CRSDATA!U292","v":0},null,{"$f":"IF(CRSDATA!V292=\"\",\"\",CRSDATA!V292)","v":""},{"$f":"key_row(CRSDATA!W292,CRSDATA!X292,CRSDATA!AK292,CRSDATA!AJ292,CRSDATA!P292,CRSDATA!V292)","v":""},{"$f":"CRSDATA!P292","v":0},{"$f":"CRSDATA!J292","v":0},{"$f":"CRSDATA!I292","v":0},{"$f":"IF(LEFT(CRSDATA!N292,2)=\"A0\",\"A00\",IF(LEFT(CRSDATA!N292,3)=\"B02\",\"B02\",IF(LEFT(CRSDATA!N292,3)=\"B03\",\"B03\",IF(CRSDATA!N292=\"B04\",\"C01\",IF(CRSDATA!N292=\"H01\",\"H00\",IF(OR(CRSDATA!N292=\"H02\",CRSDATA!N292=\"H03\",CRSDATA!N292=\"H04\",CRSDATA!N292=\"H05\",CRSDATA!N292=\"H06\"),\"I01\",CRSDATA!N292))))))","v":0},{"$f":"CRSDATA!M292","v":0},{"$f":"IF(CRSDATA!L292=22,\"FA04\",\"\")","v":""},{"$f":"IF(CRSDATA!K292=8,\"FC02\",\"\")","v":""},{"$f":"IF(OR(O292=\"B02\",O292=\"E02\",O292=\"G01\",O292=\"H00\",O292=\"I01\"),2,IF(OR(O292=\"A00\",O292=\"E01\",O292=\"F01\",P292=510,P292=520),1,IF(VLOOKUP(F292,recipient_country!AB:AD,3,FALSE)=\"Part I unallocated by income\",\"\",1)))","v":{"$error":"#N/A"}},{"$f":"CRSDATA!AM292","v":0},{"$f":"CRSDATA!AN292","v":0},{"$f":"CRSDATA!AP292","v":0},{"$f":"CRSDATA!AR292","v":0},{"$f":"CRSDATA!BA292","v":0},null,"",{"$f":"IF(CRSDATA!M292=421,DATEDIF(CRSDATA!B292,CRSDATA!BH292,\"m\"),\"\")","v":""},{"$f":"CRSDATA!AZ292","v":0},{"$f":"CRSDATA!BB292","v":0},{"$f":"CRSDATA!L292","v":0}]
[{"$f":"CRSDATA!A293","v":0},{"$f":"CRSDATA!C293","v":0},{"$f":"CRSDATA!D293","v":0},{"$f":"CRSDATA!F293","v":0},{"$f":"CRSDATA!E293","v":0},{"$f":"IF(CRSDATA!H293=3000,998,CRSDATA!H293)","v":0},{"$f":"CRSDATA!O293","v":0},{"$f":"CRSDATA!U293","v":0},null,{"$f":"IF(CRSDATA!V293=\"\",\"\",CRSDATA!V293)","v":""},{"$f":"key_row(CRSDATA!W293,CRSDATA!X293,CRSDATA!AK293,CRSDATA!AJ293,CRSDATA!P293,CRSDATA!V293)","v":""},{"$f":"CRSDATA!P293","v":0},{"$f":"CRSDATA!J293","v":0},{"$f":"CRSDATA!I293","v":0},{"$f":"IF(LEFT(CRSDATA!N293,2)=\"A0\",\"A00\",IF(LEFT(CRSDATA!N293,3)=\"B02\",\"B02\",IF(LEFT(CRSDATA!N293,3)=\"B03\",\"B03\",IF(CRSDATA!N293=\"B04\",\"C01\",IF(CRSDATA!N293=\"H01\",\"H00\",IF(OR(CRSDATA!N293=\"H02\",CRSDATA!N293=\"H03\",CRSDATA!N293=\"H04\",CRSDATA!N293=\"H05\",CRSDATA!N293=\"H06\"),\"I01\",CRSDATA!N293))))))","v":0},{"$f":"CRSDATA!M293","v":0},{"$f":"IF(CRSDATA!L293=22,\"FA04\",\"\")","v":""},{"$f":"IF(CRSDATA!K293=8,\"FC02\",\"\")","v":""},{"$f":"IF(OR(O293=\"B02\",O293=\"E02\",O293=\"G01\",O293=\"H00\",O293=\"I01\"),2,IF(OR(O293=\"A00\",O293=\"E01\",O293=\"F01\",P293=510,P293=520),1,IF(VLOOKUP(F293,recipient_country!AB:AD,3,FALSE)=\"Part I unallocated by income\",\"\",1)))","v":{"$error":"#N/A"}},{"$f":"CRSDATA!AM293","v":0},{"$f":"CRSDATA!AN293","v":0},{"$f":"CRSDATA!AP293","v":0},{"$f":"CRSDATA!AR293","v":0},{"$f":"CRSDATA!BA293","v":0},null,"",{"$f":"IF(CRSDATA!M293=421,DATEDIF(CRSDATA!B293,CRSDATA!BH293,\"m\"),\"\")","v":""},{"$f":"CRSDATA!AZ293","v":0},{"$f":"CRSDATA!BB293","v":0},{"$f":"CRSDATA!L293","v":0}]
[{"$f":"CRSDATA!A294","v":0},{"$f":"CRSDATA!C294","v":0},{"$f":"CRSDATA!D294","v":0},{"$f":"CRSDATA!F294","v":0},{"$f":"CRSDATA!E294","v":0},{"$f":"IF(CRSDATA!H294=3000,998,CRSDATA!H294)","v":0},{"$f":"CRSDATA!O294","v":0},{"$f":"CRSDATA!U294","v":0},null,{"$f":"IF(CRSDATA!V294=\"\",\"\",CRSDATA!V294)","v":""},{"$f":"key_row(CRSDATA!W294,CRSDATA!X294,CRSDATA!AK294,CRSDATA!AJ294,CRSDATA!P294,CRSDATA!V294)","v":""},{"$f":"CRSDATA!P294","v":0},{"$f":"CRSDATA!J294","v":0},{"$f":"CRSDATA!I294","v":0},{"$f":"IF(LEFT(CRSDATA!N294,2)=\"A0\",\"A00\",IF(LEFT(CRSDATA!N294,3)=\"B02\",\"B02\",IF(LEFT(CRSDATA!N294,3)=\"B03\",\"B03\",IF(CRSDATA!N294=\"B04\",\"C01\",IF(CRSDATA!N294=\"H01\",\"H00\",IF(OR(CRSDATA!N294=\"H02\",CRSDATA!N294=\"H03\",CRSDATA!N294=\"H04\",CRSDATA!N294=\"H05\",CRSDATA!N294=\"H06\"),\"I01\",CRSDATA!N294))))))","v":0},{"$f":"CRSDATA!M294","v":0},{"$f":"IF(CRSDATA!L294=22,\"FA04\",\"\")","v":""},{"$f":"IF(CRSDATA!K294=8,\"FC02\",\"\")","v":""},{"$f":"IF(OR(O294=\"B02\",O294=\"E02\",O294=\"G01\",O294=\"H00\",O294=\"I01\"),2,IF(OR(O294=\"A00\",O294=\"E01\",O294=\"F01\",P294=510,P294=520),1,IF(VLOOKUP(F294,recipient_country!AB:AD,3,FALSE)=\"Part I unallocated by income\",\"\",1)))","v":{"$error":"#N/A"}},{"$f":"CRSDATA!AM294","v":0},{"$f":"CRSDATA!AN294","v":0},{"$f":"CRSDATA!AP294","v":0},{"$f":"CRSDATA!AR294","v":0},{"$f":"CRSDATA!BA294","v":0},null,"",{"$f":"IF(CRSDATA!M294=421,DATEDIF(CRSDATA!B294,CRSDATA!BH294,\"m\"),\"\")","v":""},{"$f":"CRSDATA!AZ294","v":0},{"$f":"CRSDATA!BB294","v":0},{"$f":"CRSDATA!L294","v":0}]
[{"$f":"CRSDATA!A295","v":0},{"$f":"CRSDATA!C295","v":0},{"$f":"CRSDATA!D295","v":0},{"$f":"CRSDATA!F295","v":0},{"$f":"CRSDATA!E295","v":0},{"$f":"IF(CRSDATA!H295=3000,998,CRSDATA!H295)","v":0},{"$f":"CRSDATA!O295","v":0},{"$f":"CRSDATA!U295","v":0},null,{"$f":"IF(CRSDATA!V295=\"\",\"\",CRSDATA!V295)","v":""},{"$f":"key_row(CRSDATA!W295,CRSDATA!X295,CRSDATA!AK295,CRSDATA!AJ295,CRSDATA!P295,CRSDATA!V295)","v":""},{"$f":"CRSDATA!P295","v":0},{"$f":"CRSDATA!J295","v":0},{"$f":"CRSDATA!I295","v":0},{"$f":"IF(LEFT(CRSDATA!N295,2)=\"A0\",\"A00\",IF(LEFT(CRSDATA!N295,3)=\"B02\",\"B02\",IF(LEFT(CRSDATA!N295,3)=\"B03\",\"B03\",IF(CRSDATA!N295=\"B04\",\"C01\",IF(CRSDATA!N295=\"H01\",\"H00\",IF(OR(CRSDATA!N295=\"H02\",CRSDATA!N295=\"H03\",CRSDATA!N295=\"H04\",CRSDATA!N295=\"H05\",CRSDATA!N295=\"H06\"),\"I01\",CRSDATA!N295))))))","v":0},{"$f":"CRSDATA!M295","v":0},{"$f":"IF(CRSDATA!L295=22,\"FA04\",\"\")","v":""},{"$f":"IF(CRSDATA!K295=8,\"FC02\",\"\")","v":""},{"$f":"IF(OR(O295=\"B02\",O295=\"E02\",O295=\"G01\",O295=\"H00\",O295=\"I01\"),2,IF(OR(O295=\"A00\",O295=\"E01\",O295=\"F01\",P295=510,P295=520),1,IF(VLOOKUP(F295,recipient_country!AB:AD,3,FALSE)=\"Part I unallocated by income\",\"\",1)))","v":{"$error":"#N/A"}},{"$f":"CRSDATA!AM295","v":0},{"$f":"CRSDATA!AN295","v":0},{"$f":"CRSDATA!AP295","v":0},{"$f":"CRSDATA!AR295","v":0},{"$f":"CRSDATA!BA295","v":0},null,"",{"$f":"IF(CRSDATA!M295=421,DATEDIF(CRSDATA!B295,CRSDATA!BH295,\"m\"),\"\")","v":""},{"$f":"CRSDATA!AZ295","v":0},{"$f":"CRSDATA!BB295","v":0},{"$f":"CRSDATA!L295","v":0}]
[{"$f":"CRSDATA!A296","v":0},{"$f":"CRSDATA!C296","v":0},{"$f":"CRSDATA!D296","v":0},{"$f":"CRSDATA!F296","v":0},{"$f":"CRSDATA!E296","v":0},{"$f":"IF(CRSDATA!H296=3000,998,CRSDATA!H296)","v":0},{"$f":"CRSDATA!O296","v":0},{"$f":"CRSDATA!U296","v":0},null,{"$f":"IF(CRSDATA!V296=\"\",\"\",CRSDATA!V296)","v":""},{"$f":"key_row(CRSDATA!W296,CRSDATA!X296,CRSDATA!AK296,CRSDATA!AJ296,CRSDATA!P296,CRSDATA!V296)","v":""},{"$f":"CRSDATA!P296","v":0},{"$f":"CRSDATA!J296","v":0},{"$f":"CRSDATA!I296","v":0},{"$f":"IF(LEFT(CRSDATA!N296,2)=\"A0\",\"A00\",IF(LEFT(CRSDATA!N296,3)=\"B02\",\"B02\",IF(LEFT(CRSDATA!N296,3)=\"B03\",\"B03\",IF(CRSDATA!N296=\"B04\",\"C01\",IF(CRSDATA!N296=\"H01\",\"H00\",IF(OR(CRSDATA!N296=\"H02\",CRSDATA!N296=\"H03\",CRSDATA!N296=\"H04\",CRSDATA!N296=\"H05\",CRSDATA!N296=\"H06\"),\"I01\",CRSDATA!N296))))))","v":0},{"$f":"CRSDATA!M296","v":0},{"$f":"IF(CRSDATA!L296=22,\"FA04\",\"\")","v":""},{"$f":"IF(CRSDATA!K296=8,\"FC02\",\"\")","v":""},{"$f":"IF(OR(O296=\"B02\",O296=\"E02\",O296=\"G01\",O296=\"H00\",O296=\"I01\"),2,IF(OR(O296=\"A00\",O296=\"E01\",O296=\"F01\",P296=510,P296=520),1,IF(VLOOKUP(F296,recipient_country!AB:AD,3,FALSE)=\"Part I unallocated by income\",\"\",1)))","v":{"$error":"#N/A"}},{"$f":"CRSDATA!AM296","v":0},{"$f":"CRSDATA!AN296","v":0},{"$f":"CRSDATA!AP296","v":0},{"$f":"CRSDATA!AR296","v":0},{"$f":"CRSDATA!BA296","v":0},null,"",{"$f":"IF(CRSDATA!M296=421,DATEDIF(CRSDATA!B296,CRSDATA!BH296,\"m\"),\"\")","v":""},{"$f":"CRSDATA!AZ296","v":0},{"$f":"CRSDATA!BB296","v":0},{"$f":"CRSDATA!L296","v":0}]
[{"$f":"CRSDATA!A297","v":0},{"$f":"CRSDATA!C297","v":0},{"$f":"CRSDATA!D297","v":0},{"$f":"CRSDATA!F297","v":0},{"$f":"CRSDATA!E297","v":0},{"$f":"IF(CRSDATA!H297=3000,998,CRSDATA!H297)","v":0},{"$f":"CRSDATA!O297","v":0},{"$f":"CRSDATA!U297","v":0},null,{"$f":"IF(CRSDATA!V297=\"\",\"\",CRSDATA!V297)","v":""},{"$f":"key_row(CRSDATA!W297,CRSDATA!X297,CRSDATA!AK297,CRSDATA!AJ297,CRSDATA!P297,CRSDATA!V297)","v":""},{"$f":"CRSDATA!P297","v":0},{"$f":"CRSDATA!J297","v":0},{"$f":"CRSDATA!I297","v":0},{"$f":"IF(LEFT(CRSDATA!N297,2)=\"A0\",\"A00\",IF(LEFT(CRSDATA!N297,3)=\"B02\",\"B02\",IF(LEFT(CRSDATA!N297,3)=\"B03\",\"B03\",IF(CRSDATA!N297=\"B04\",\"C01\",IF(CRSDATA!N297=\"H01\",\"H00\",IF(OR(CRSDATA!N297=\"H02\",CRSDATA!N297=\"H03\",CRSDATA!N297=\"H04\",CRSDATA!N297=\"H05\",CRSDATA!N297=\"H06\"),\"I01\",CRSDATA!N297))))))","v":0},{"$f":"CRSDATA!M297","v":0},{"$f":"IF(CRSDATA!L297=22,\"FA04\",\"\")","v":""},{"$f":"IF(CRSDATA!K297=8,\"FC02\",\"\")","v":""},{"$f":"IF(OR(O297=\"B02\",O297=\"E02\",O297=\"G01\",O297=\"H00\",O297=\"I01\"),2,IF(OR(O297=\"A00\",O297=\"E01\",O297=\"F01\",P297=510,P297=520),1,IF(VLOOKUP(F297,recipient_country!AB:AD,3,FALSE)=\"Part I unallocated by income\",\"\",1)))","v":{"$error":"#N/A"}},{"$f":"CRSDATA!AM297","v":0},{"$f":"CRSDATA!AN297","v":0},{"$f":"CRSDATA!AP297","v":0},{"$f":"CRSDATA!AR297","v":0},{"$f":"CRSDATA!BA297","v":0},null,"",{"$f":"IF(CRSDATA!M297=421,DATEDIF(CRSDATA!B297,CRSDATA!BH297,\"m\"),\"\")","v":""},{"$f":"CRSDATA!AZ297","v":0},{"$f":"CRSDATA!BB297","v":0},{"$f":"CRSDATA!L297","v":0}]
[{"$f":"CRSDATA!A298","v":0},{"$f":"CRSDATA!C298","v":0},{"$f":"CRSDATA!D298","v":0},{"$f":"CRSDATA!F298","v":0},{"$f":"CRSDATA!E298","v":0},{"$f":"IF(CRSDATA!H298=3000,998,CRSDATA!H298)","v":0},{"$f":"CRSDATA!O298","v":0},{"$f":"CRSDATA!U298","v":0},null,{"$f":"IF(CRSDATA!V298=\"\",\"\",CRSDATA!V298)","v":""},{"$f":"key_row(CRSDATA!W298,CRSDATA!X298,CRSDATA!AK298,CRSDATA!AJ298,CRSDATA!P298,CRSDATA!V298)","v":""},{"$f":"CRSDATA!P298","v":0},{"$f":"CRSDATA!J298","v":0},{"$f":"CRSDATA!I298","v":0},{"$f":"IF(LEFT(CRSDATA!N298,2)=\"A0\",\"A00\",IF(LEFT(CRSDATA!N298,3)=\"B02\",\"B02\",IF(LEFT(CRSDATA!N298,3)=\"B03\",\"B03\",IF(CRSDATA!N298=\"B04\",\"C01\",IF(CRSDATA!N298=\"H01\",\"H00\",IF(OR(CRSDATA!N298=\"H02\",CRSDATA!N298=\"H03\",CRSDATA!N298=\"H04\",CRSDATA!N298=\"H05\",CRSDATA!N298=\"H06\"),\"I01\",CRSDATA!N298))))))","v":0},{"$f":"CRSDATA!M298","v":0},{"$f":"IF(CRSDATA!L298=22,\"FA04\",\"\")","v":""},{"$f":"IF(CRSDATA!K298=8,\"FC02\",\"\")","v":""},{"$f":"IF(OR(O298=\"B02\",O298=\"E02\",O298=\"G01\",O298=\"H00\",O298=\"I01\"),2,IF(OR(O298=\"A00\",O298=\"E01\",O298=\"F01\",P298=510,P298=520),1,IF(VLOOKUP(F298,recipient_country!AB:AD,3,FALSE)=\"Part I unallocated by income\",\"\",1)))","v":{"$error":"#N/A"}},{"$f":"CRSDATA!AM298","v":0},{"$f":"CRSDATA!AN298","v":0},{"$f":"CRSDATA!AP298","v":0},{"$f":"CRSDATA!AR298","v":0},{"$f":"CRSDATA!BA298","v":0},null,"",{"$f":"IF(CRSDATA!M298=421,DATEDIF(CRSDATA!B298,CRSDATA!BH298,\"m\"),\"\")","v":""},{"$f":"CRSDATA!AZ298","v":0},{"$f":"CRSDATA!BB298","v":0},{"$f":"CRSDATA!L298","v":0}]
[{"$f":"CRSDATA!A299","v":0},{"$f":"CRSDATA!C299","v":0},{"$f":"CRSDATA!D299","v":0},{"$f":"CRSDATA!F299","v":0},{"$f":"CRSDATA!E299","v":0},{"$f":"IF(CRSDATA!H299=3000,998,CRSDATA!H299)","v":0},{"$f":"CRSDATA!O299","v":0},{"$f":"CRSDATA!U299","v":0},null,{"$f":"IF(CRSDATA!V299=\"\",\"\",CRSDATA!V299)","v":""},{"$f":"key_row(CRSDATA!W299,CRSDATA!X299,CRSDATA!AK299,CRSDATA!AJ299,CRSDATA!P299,CRSDATA!V299)","v":""},{"$f":"CRSDATA!P299","v":0},{"$f":"CRSDATA!J299","v":0},{"$f":"CRSDATA!I299","v":0},{"$f":"IF(LEFT(CRSDATA!N299,2)=\"A0\",\"A00\",IF(LEFT(CRSDATA!N299,3)=\"B02\",\"B02\",IF(LEFT(CRSDATA!N299,3)=\"B03\",\"B03\",IF(CRSDATA!N299=\"B04\",\"C01\",IF(CRSDATA!N299=\"H01\",\"H00\",IF(OR(CRSDATA!N299=\"H02\",CRSDATA!N299=\"H03\",CRSDATA!N299=\"H04\",CRSDATA!N299=\"H05\",CRSDATA!N299=\"H06\"),\"I01\",CRSDATA!N299))))))","v":0},{"$f":"CRSDATA!M299","v":0},{"$f":"IF(CRSDATA!L299=22,\"FA04\",\"\")","v":""},{"$f":"IF(CRSDATA!K299=8,\"FC02\",\"\")","v":""},{"$f":"IF(OR(O299=\"B02\",O299=\"E02\",O299=\"G01\",O299=\"H00\",O299=\"I01\"),2,IF(OR(O299=\"A00\",O299=\"E01\",O299=\"F01\",P299=510,P299=520),1,IF(VLOOKUP(F299,recipient_country!AB:AD,3,FALSE)=\"Part I unallocated by income\",\"\",1)))","v":{"$error":"#N/A"}},{"$f":"CRSDATA!AM299","v":0},{"$f":"CRSDATA!AN299","v":0},{"$f":"CRSDATA!AP299","v":0},{"$f":"CRSDATA!AR299","v":0},{"$f":"CRSDATA!BA299","v":0},null,"",{"$f":"IF(CRSDATA!M299=421,DATEDIF(CRSDATA!B299,CRSDATA!BH299,\"m\"),\"\")","v":""},{"$f":"CRSDATA!AZ299","v":0},{"$f":"CRSDATA!BB299","v":0},{"$f":"CRSDATA!L299","v":0}]
[{"$f":"CRSDATA!A300","v":0},{"$f":"CRSDATA!C300","v":0},{"$f":"CRSDATA!D300","v":0},{"$f":"CRSDATA!F300","v":0},{"$f":"CRSDATA!E300","v":0},{"$f":"IF(CRSDATA!H300=3000,998,CRSDATA!H300)","v":0},{"$f":"CRSDATA!O300","v":0},{"$f":"CRSDATA!U300","v":0},null,{"$f":"IF(CRSDATA!V300=\"\",\"\",CRSDATA!V300)","v":""},{"$f":"key_row(CRSDATA!W300,CRSDATA!X300,CRSDATA!AK300,CRSDATA!AJ300,CRSDATA!P300,CRSDATA!V300)","v":""},{"$f":"CRSDATA!P300","v":0},{"$f":"CRSDATA!J300","v":0},{"$f":"CRSDATA!I300","v":0},{"$f":"IF(LEFT(CRSDATA!N300,2)=\"A0\",\"A00\",IF(LEFT(CRSDATA!N300,3)=\"B02\",\"B02\",IF(LEFT(CRSDATA!N300,3)=\"B03\",\"B03\",IF(CRSDATA!N300=\"B04\",\"C01\",IF(CRSDATA!N300=\"H01\",\"H00\",IF(OR(CRSDATA!N300=\"H02\",CRSDATA!N300=\"H03\",CRSDATA!N300=\"H04\",CRSDATA!N300=\"H05\",CRSDATA!N300=\"H06\"),\"I01\",CRSDATA!N300))))))","v":0},{"$f":"CRSDATA!M300","v":0},{"$f":"IF(CRSDATA!L300=22,\"FA04\",\"\")","v":""},{"$f":"IF(CRSDATA!K300=8,\"FC02\",\"\")","v":""},{"$f":"IF(OR(O300=\"B02\",O300=\"E02\",O300=\"G01\",O300=\"H00\",O300=\"I01\"),2,IF(OR(O300=\"A00\",O300=\"E01\",O300=\"F01\",P300=510,P300=520),1,IF(VLOOKUP(F300,recipient_country!AB:AD,3,FALSE)=\"Part I unallocated by income\",\"\",1)))","v":{"$error":"#N/A"}},{"$f":"CRSDATA!AM300","v":0},{"$f":"CRSDATA!AN300","v":0},{"$f":"CRSDATA!AP300","v":0},{"$f":"CRSDATA!AR300","v":0},{"$f":"CRSDATA!BA300","v":0},null,"",{"$f":"IF(CRSDATA!M300=421,DATEDIF(CRSDATA!B300,CRSDATA!BH300,\"m\"),\"\")","v":""},{"$f":"CRSDATA!AZ300","v":0},{"$f":"CRSDATA!BB300","v":0},{"$f":"CRSDATA!L300","v":0}]

{"sheet":"TOSSDKEEP","index":5,"n_rows":6,"n_cols":32,"rows_kept":6,"cut":false,"hidden":true,"merged":[[0,0,0,4],[0,5,0,17],[0,19,0,23]]}
["A Identification data",null,null,null,null,null,null,null,null,null,null,null,null,null,null,null,null,null,null,"C. Volume data",null,null,null,null,"For in-kind technical co-operation","For loans only",null,"For mobilisation only"]
["1.Reporting year","2.Provider country/institution","3.Provider agency","4.Provider project number","5.TOSSD ID Number","6.TOSSD recipient","7.Project title","8.Description","9.External link","10a.SDG focus","10b. Keywords","11.Sector","12.Channelcode","13.Channel name","14.Modality","15.Financial instrument","16. Financing arrangement","17. Framework of collaboration","18. TOSSD pillar","19. Currency","20.   Amount committed (thousand)","21.   Amount disbursed (thousand)","22.   Reflows to the provider (thousand)","23.Amount mobilised  (thousand)","24. Salary cost (thousand)","25. Concessionality","26.Maturity (in months)","27.Leveraging mechanism","28.Origin of the funds mobilised","For reference: category of flows","Notes","indicator"]
[1,2,3,4,5,6,7,8,9,"10a","10b",11,12,13,14,15,16,17,18,19,20,21,22,23,24,25,26,27,28,null,null,"for information only"]
[{"$f":"CRSDATA!A4","v":0},{"$f":"CRSDATA!C4","v":0},{"$f":"CRSDATA!D4","v":0},{"$f":"CRSDATA!F4","v":0},{"$f":"CRSDATA!E4","v":0},{"$f":"IF(CRSDATA!H4=3000,998,CRSDATA!H4)","v":0},{"$f":"CRSDATA!O4","v":0},{"$f":"CRSDATA!U4","v":0},null,{"$f":"IF(CRSDATA!V4=\"\",\"\",CRSDATA!V4)","v":""},{"$f":"key_row(CRSDATA!W4,CRSDATA!X4,CRSDATA!AK4,CRSDATA!AJ4,CRSDATA!P4,CRSDATA!V4)","v":""},{"$f":"CRSDATA!P4","v":0},{"$f":"CRSDATA!J4","v":0},{"$f":"CRSDATA!I4","v":0},{"$f":"IF(LEFT(CRSDATA!N4,2)=\"A0\",\"A00\",IF(LEFT(CRSDATA!N4,3)=\"B02\",\"B02\",IF(LEFT(CRSDATA!N4,3)=\"B03\",\"B03\",IF(CRSDATA!N4=\"B04\",\"C01\",IF(CRSDATA!N4=\"H01\",\"H00\",IF(OR(CRSDATA!N4=\"H02\",CRSDATA!N4=\"H03\",CRSDATA!N4=\"H04\",CRSDATA!N4=\"H05\",CRSDATA!N4=\"H06\"),\"I01\",CRSDATA!N4))))))","v":0},{"$f":"CRSDATA!M4","v":0},{"$f":"IF(CRSDATA!L4=22,\"FA04\",\"\")","v":""},{"$f":"IF(CRSDATA!K4=8,\"FC02\",\"\")","v":""},{"$f":"IF(OR(O4=\"B02\",O4=\"E02\",O4=\"G01\",O4=\"H00\",O4=\"I01\"),2,IF(OR(O4=\"A00\",O4=\"E01\",O4=\"F01\",P4=510,P4=520),1,IF(VLOOKUP(F4,[3]recipient_country!AB:AD,3,FALSE)=\"Part I unallocated by income\",\"\",1)))","v":{"$error":"#N/A"}},{"$f":"CRSDATA!AM4","v":0},{"$f":"CRSDATA!AN4","v":0},{"$f":"CRSDATA!AP4","v":0},{"$f":"CRSDATA!AR4","v":0},{"$f":"CRSDATA!BA4","v":0},null,{"$f":"IF(Q4=\"FA04\",0,\"\")","v":""},{"$f":"IF(CRSDATA!M4=421,DATEDIF(CRSDATA!B4,CRSDATA!BH4,\"m\"),\"\")","v":""},{"$f":"CRSDATA!AZ4","v":0},{"$f":"CRSDATA!BB4","v":0},{"$f":"CRSDATA!L4","v":0}]
[{"$f":"CRSDATA!A5","v":0},{"$f":"CRSDATA!C5","v":0},{"$f":"CRSDATA!D5","v":0},{"$f":"CRSDATA!F5","v":0},{"$f":"CRSDATA!E5","v":0},{"$f":"IF(CRSDATA!H5=3000,998,CRSDATA!H5)","v":0},{"$f":"CRSDATA!O5","v":0},{"$f":"CRSDATA!U5","v":0},null,{"$f":"IF(CRSDATA!V5=\"\",\"\",CRSDATA!V5)","v":""},{"$f":"key_row(CRSDATA!W5,CRSDATA!X5,CRSDATA!AK5,CRSDATA!AJ5,CRSDATA!P5,CRSDATA!V5)","v":""},{"$f":"CRSDATA!P5","v":0},{"$f":"CRSDATA!J5","v":0},{"$f":"CRSDATA!I5","v":0},{"$f":"IF(LEFT(CRSDATA!N5,2)=\"A0\",\"A00\",IF(LEFT(CRSDATA!N5,3)=\"B02\",\"B02\",IF(LEFT(CRSDATA!N5,3)=\"B03\",\"B03\",IF(CRSDATA!N5=\"B04\",\"C01\",IF(CRSDATA!N5=\"H01\",\"H00\",IF(OR(CRSDATA!N5=\"H02\",CRSDATA!N5=\"H03\",CRSDATA!N5=\"H04\",CRSDATA!N5=\"H05\",CRSDATA!N5=\"H06\"),\"I01\",CRSDATA!N5))))))","v":0},{"$f":"CRSDATA!M5","v":0},{"$f":"IF(CRSDATA!L5=22,\"FA04\",\"\")","v":""},{"$f":"IF(CRSDATA!K5=8,\"FC02\",\"\")","v":""},{"$f":"IF(OR(O5=\"B02\",O5=\"E02\",O5=\"G01\",O5=\"H00\",O5=\"I01\"),2,IF(OR(O5=\"A00\",O5=\"E01\",O5=\"F01\",P5=510,P5=520),1,IF(VLOOKUP(F5,[3]recipient_country!AB:AD,3,FALSE)=\"Part I unallocated by income\",\"\",1)))","v":{"$error":"#N/A"}},{"$f":"CRSDATA!AM5","v":0},{"$f":"CRSDATA!AN5","v":0},{"$f":"CRSDATA!AP5","v":0},{"$f":"CRSDATA!AR5","v":0},{"$f":"CRSDATA!BA5","v":0},null,"",{"$f":"IF(CRSDATA!M5=421,DATEDIF(CRSDATA!B5,CRSDATA!BH5,\"m\"),\"\")","v":""},{"$f":"CRSDATA!AZ5","v":0},{"$f":"CRSDATA!BB5","v":0},{"$f":"CRSDATA!L5","v":0}]
[{"$f":"CRSDATA!A6","v":0},{"$f":"CRSDATA!C6","v":0},{"$f":"CRSDATA!D6","v":0},{"$f":"CRSDATA!F6","v":0},{"$f":"CRSDATA!E6","v":0},{"$f":"IF(CRSDATA!H6=3000,998,CRSDATA!H6)","v":0},{"$f":"CRSDATA!O6","v":0},{"$f":"CRSDATA!U6","v":0},null,{"$f":"IF(CRSDATA!V6=\"\",\"\",CRSDATA!V6)","v":""},{"$f":"key_row(CRSDATA!W6,CRSDATA!X6,CRSDATA!AK6,CRSDATA!AJ6,CRSDATA!P6,CRSDATA!V6)","v":""},{"$f":"CRSDATA!P6","v":0},{"$f":"CRSDATA!J6","v":0},{"$f":"CRSDATA!I6","v":0},{"$f":"IF(LEFT(CRSDATA!N6,2)=\"A0\",\"A00\",IF(LEFT(CRSDATA!N6,3)=\"B02\",\"B02\",IF(LEFT(CRSDATA!N6,3)=\"B03\",\"B03\",IF(CRSDATA!N6=\"B04\",\"C01\",IF(CRSDATA!N6=\"H01\",\"H00\",IF(OR(CRSDATA!N6=\"H02\",CRSDATA!N6=\"H03\",CRSDATA!N6=\"H04\",CRSDATA!N6=\"H05\",CRSDATA!N6=\"H06\"),\"I01\",CRSDATA!N6))))))","v":0},{"$f":"CRSDATA!M6","v":0},{"$f":"IF(CRSDATA!L6=22,\"FA04\",\"\")","v":""},{"$f":"IF(CRSDATA!K6=8,\"FC02\",\"\")","v":""},{"$f":"IF(OR(O6=\"B02\",O6=\"E02\",O6=\"G01\",O6=\"H00\",O6=\"I01\"),2,IF(OR(O6=\"A00\",O6=\"E01\",O6=\"F01\",P6=510,P6=520),1,IF(VLOOKUP(F6,[3]recipient_country!AB:AD,3,FALSE)=\"Part I unallocated by income\",\"\",1)))","v":{"$error":"#N/A"}},{"$f":"CRSDATA!AM6","v":0},{"$f":"CRSDATA!AN6","v":0},{"$f":"CRSDATA!AP6","v":0},{"$f":"CRSDATA!AR6","v":0},{"$f":"CRSDATA!BA6","v":0},null,"",{"$f":"IF(CRSDATA!M6=421,DATEDIF(CRSDATA!B6,CRSDATA!BH6,\"m\"),\"\")","v":""},{"$f":"CRSDATA!AZ6","v":0},{"$f":"CRSDATA!BB6","v":0},{"$f":"CRSDATA!L6","v":0}]

{"sheet":"Mobilisation","index":6,"n_rows":204,"n_cols":46,"rows_kept":204,"cut":false,"hidden":false,"merged":[[2,15,3,15],[1,16,1,19],[2,0,3,0],[2,1,3,1],[2,2,3,2],[2,19,3,19],[2,12,3,12],[2,13,3,13],[2,14,3,14],[2,3,2,11],[0,31,0,45],[2,16,3,16],[2,17,3,17],[2,18,3,18],[2,21,2,22],[2,23,2,24],[2,25,2,27],[1,31,2,45],[2,28,3,28]]}
["CRS DATA",null,null,null,null,null,null,null,null,null,null,null,null,null,null,null,"  ADDITIONAL FIELDS FOR REPORTING ON AMOUNTS MOBILISED (for validation purposes, not dislosed)"]
["IDENTIFICATION AND DESCRIPTIVE DATA FIELDS",null,null,null,null,null,null,null,null,null,null,null,"AMOUNTS MOBILISED (as in the CRS template)",null,null,null,"FIELDS FOR ALL INSTRUMENTS",null,null,null,"INSTRUMENT-SPECIFIC FIELDS",null,null,null,null,"PILOT FIELDS",null,null,null,null,null,"If you delete rows, it is likely to disturb the formulas in these columns. If so, please reproduce (drag) the formulas from top rows down."]
["Reporting year","CRS ID ","Donor project N°","Only if the reported activity cannot be linked to the CRS data, using CRS ID or donor project number:",null,null,null,null,null,null,null,null,"Leveraging mechanism and role/ position","Amounts mobilised from the private sector","Origin of the funds mobilised","CHECK FIELD\n(automatised calculation based on A - S9)","Amounts invested by your institution","Total official funding \n(including your institution)","Private finance before attribution\n(for credit lines: LFI top-up funds)","Project finance SPV flag \n(1=Yes)","Syndicated loans","Investments in CIVs, companies and project finance SPVs",null,"Credit lines only \n(second level of mobilisation)",null,"For TA only",null,null,"Notes"]
[null,null,null,"Recipient code","Project title","Sector / purpose code(s)","SDG focus","Gender equality","Biodiversity","CC mitigation","CC adaptation","Currency",null,null,null,null,null,null,null,null,"Type of arranger","Number of official investors in the riskiest tranche\n(incl. your instituion)","Number of official investors in the mezzanine/senior tranche \n(incl. your institution)","Revolving factor \n(if not available,   enter 1.25)","End-borrowers' equity ","TA flag","Names of other official financiers","Justification of the mobilisation effect and finaning structure description (and useful links)",null,null,null,"Levmech: CODE","LOOKUP ROW","1=Syndicated loan, arranger","2=Syndicated loan, participant","3=Common shares in flat collective investment vehicle","4=Shares in the riskiest tranche of structured collective investment vehicle, first-loss shares and others (e.g. lock-up shares)","5=Shares in the mezzanine/senior tranche of structured CIV","6=Guarantee/insurance ","7=Direct investment in companies, equity","8=Direct investment in companies, mezzanine/senior debt","9=Credit lines","10=Co-financing arrangements"]
[1,5,6,8,15,16,22,24,35,36,37,39,52,53,54,"CHECK","S0","S2","S3","S9","S4","S5","S6","S7","S8","TA1","TA2","TA3",null,null,null,null,1,1,2,3,4,5,6,7,8,9,10]
[null,null,null,null,null,null,null,null,null,null,null,null,null,null,null,{"$f":"IF(Z6=1,\"During this pilot, the final calculation will be suggested by the Secretariat.\",IF(LEN(M6)=0,\"\",HLOOKUP(AF6,$AH$5:$AQ$204,AG6,FALSE)))","v":""},null,null,null,null,{"$f":"IFERROR(IF(M6=\"1=Syndicated loan, arranger\",\"1=Official institution\",IF(M6=1,\"1=Official institution\",\"\")),\"\")","v":""},null,null,null,null,null,null,null,null,null,null,{"$f":"IFERROR(VLOOKUP(M6,AS:AT,2,FALSE),\"\")","v":""},{"$f":"AG5+1","v":2},{"$f":"IF(Q6>R6,\"A cannot be higher than B\",IF(COUNTA(Q6:S6)=0,\"Fill in supplementary fields\",IFERROR(IF(VALUE(LEFT(U6,1))=1,S6/2+(Q6/R6)*(S6/2),IF(VALUE(LEFT(U6,1))=2,\"impossible combination\",\"check not available\")),\"\")))","v":"Fill in supplementary fields"},{"$f":"IF(Q6>R6,\"A cannot be higher than B\",IF(COUNTA(Q6:S6)=0,\"Fill in supplementary fields\",IFERROR(IF(VALUE(LEFT(U6,1))=1,(Q6/R6)*(S6/2),IF(VALUE(LEFT(U6,1))=2,(Q6/R6)*(S6),\"check not available\")),\"\")))","v":"Fill in supplementary fields"},{"$f":"IF(Q6>R6,\"A cannot be higher than B\",IF(COUNTA(V6:W6)=0,\"Fill in supplementary fields\",(S6/2)*(Q6/R6)+(S6/2)*(1/SUM(V6:W6))))","v":"Fill in supplementary fields"},{"$f":"IF(Q6>R6,\"A cannot be higher than B\",IFERROR(IF(COUNTA(V6:W6)=0,\"Fill in supplementary fields\",S6/2)*(Q6/R6)+(S6/2)*(1/V6),\"Fill in supplementary fields\"))","v":"Fill in supplementary fields"},{"$f":"IF(Q6>R6,\"A cannot be higher than B\",IFERROR(IF(COUNTA(V6:W6)=0,\"Fill in supplementary fields\",IF(V6=0,S6/2*(Q6/R6)+S6/2*(1/W6),(S6/2)*(Q6/R6))),\"Fill in supplementary fields\"))","v":"Fill in supplementary fields"},{"$f":"IF(Q6>R6,\"A cannot be higher than B\",IF(COUNTA(Q6:S6)=0,\"Enter exposure values in fields A and B\",(S6)*(Q6/R6)))","v":"Enter exposure values in fields A and B"},{"$f":"IF(Q6>R6,\"A cannot be higher than B\",IFERROR(IF(COUNTA(V6:W6)=0,\"Fill in supplementary fields\",S6/2)*(Q6/R6)+(S6/2)*(1/V6),\"Fill in supplementary fields\"))","v":"Fill in supplementary fields"},{"$f":"IF(Q6>R6,\"A cannot be higher than B\",IFERROR(IF(COUNTA(V6:W6)=0,\"Fill in supplementary fields\",IF(V6=0,S6/2*(Q6/R6)+S6/2*(1/W6),(S6/2)*(Q6/R6))),\"Fill in supplementary fields\"))","v":"Fill in supplementary fields"},{"$f":"IF(Q6>R6,\"A cannot be higher than B\",IF(COUNTA(Q6:S6)=0,\"Fill in supplementary fields\",(Q6/R6)*((S6)+X6*Y6)))","v":"Fill in supplementary fields"},{"$f":"IF(Q6>R6,\"A cannot be higher than B\",IF(COUNTA(Q6:S6)=0,\"Fill in supplementary fields\",(S6)*(Q6/R6)))","v":"Fill in supplementary fields"},".","1=Syndicated loan, arranger",{"$f":"VALUE(LEFT(AS6,1))","v":1}]
[null,null,null,null,null,null,null,null,null,null,null,null,null,null,null,"",null,null,null,null,"",null,null,null,null,null,null,null,null,null,null,"",{"$f":"AG6+1","v":3},{"$f":"IF(Q7>R7,\"A cannot be higher than B\",IF(COUNTA(Q7:S7)=0,\"Fill in supplementary fields\",IFERROR(IF(VALUE(LEFT(U7,1))=1,S7/2+(Q7/R7)*(S7/2),IF(VALUE(LEFT(U7,1))=2,\"impossible combination\",\"check not available\")),\"\")))","v":"Fill in supplementary fields"},{"$f":"IF(Q7>R7,\"A cannot be higher than B\",IF(COUNTA(Q7:S7)=0,\"Fill in supplementary fields\",IFERROR(IF(VALUE(LEFT(U7,1))=1,(Q7/R7)*(S7/2),IF(VALUE(LEFT(U7,1))=2,(Q7/R7)*(S7),\"check not available\")),\"\")))","v":"Fill in supplementary fields"},{"$f":"IF(Q7>R7,\"A cannot be higher than B\",IF(COUNTA(V7:W7)=0,\"Fill in supplementary fields\",(S7/2)*(Q7/R7)+(S7/2)*(1/SUM(V7:W7))))","v":"Fill in supplementary fields"},{"$f":"IF(Q7>R7,\"A cannot be higher than B\",IFERROR(IF(COUNTA(V7:W7)=0,\"Fill in supplementary fields\",S7/2)*(Q7/R7)+(S7/2)*(1/V7),\"Fill in supplementary fields\"))","v":"Fill in supplementary fields"},{"$f":"IF(Q7>R7,\"A cannot be higher than B\",IFERROR(IF(COUNTA(V7:W7)=0,\"Fill in supplementary fields\",IF(V7=0,S7/2*(Q7/R7)+S7/2*(1/W7),(S7/2)*(Q7/R7))),\"Fill in supplementary fields\"))","v":"Fill in supplementary fields"},{"$f":"IF(Q7>R7,\"A cannot be higher than B\",IF(COUNTA(Q7:S7)=0,\"Enter exposure values in fields A and B\",(S7)*(Q7/R7)))","v":"Enter exposure values in fields A and B"},{"$f":"IF(Q7>R7,\"A cannot be higher than B\",IFERROR(IF(COUNTA(V7:W7)=0,\"Fill in supplementary fields\",S7/2)*(Q7/R7)+(S7/2)*(1/V7),\"Fill in supplementary fields\"))","v":"Fill in supplementary fields"},{"$f":"IF(Q7>R7,\"A cannot be higher than B\",IFERROR(IF(COUNTA(V7:W7)=0,\"Fill in supplementary fields\",IF(V7=0,S7/2*(Q7/R7)+S7/2*(1/W7),(S7/2)*(Q7/R7))),\"Fill in supplementary fields\"))","v":"Fill in supplementary fields"},{"$f":"IF(Q7>R7,\"A cannot be higher than B\",IF(COUNTA(Q7:S7)=0,\"Fill in supplementary fields\",(Q7/R7)*((S7)+X7*Y7)))","v":"Fill in supplementary fields"},{"$f":"IF(Q7>R7,\"A cannot be higher than B\",IF(COUNTA(Q7:S7)=0,\"Fill in supplementary fields\",(S7)*(Q7/R7)))","v":"Fill in supplementary fields"},".","2=Syndicated loan, participant",{"$f":"VALUE(LEFT(AS7,1))","v":2}]
[null,null,null,null,null,null,null,null,null,null,null,null,null,null,null,"",null,null,null,null,"",null,null,null,null,null,null,null,null,null,null,"",4,"Fill in supplementary fields","Fill in supplementary fields","Fill in supplementary fields","Fill in supplementary fields","Fill in supplementary fields","Enter exposure values in fields A and B","Fill in supplementary fields","Fill in supplementary fields","Fill in supplementary fields","Fill in supplementary fields",".","3=Common shares in flat collective investment vehicle",3]
[null,null,null,null,null,null,null,null,null,null,null,null,null,null,null,"",null,null,null,null,"",null,null,null,null,null,null,null,null,null,null,"",5,"Fill in supplementary fields","Fill in supplementary fields","Fill in supplementary fields","Fill in supplementary fields","Fill in supplementary fields","Enter exposure values in fields A and B","Fill in supplementary fields","Fill in supplementary fields","Fill in supplementary fields","Fill in supplementary fields",".","4=Shares in the riskiest tranche of structured collective investment vehicle, first-loss shares and others (e.g. lock-up shares)",4]
[null,null,null,null,null,null,null,null,null,null,null,null,null,null,null,"",null,null,null,null,"",null,null,null,null,null,null,null,null,null,null,"",6,"Fill in supplementary fields","Fill in supplementary fields","Fill in supplementary fields","Fill in supplementary fields","Fill in supplementary fields","Enter exposure values in fields A and B","Fill in supplementary fields","Fill in supplementary fields","Fill in supplementary fields","Fill in supplementary fields",".","5=Shares in the mezzanine/senior tranche of structured CIV",5]
[null,null,null,null,null,null,null,null,null,null,null,null,null,null,null,"",null,null,null,null,"",null,null,null,null,null,null,null,null,null,null,"",7,"Fill in supplementary fields","Fill in supplementary fields","Fill in supplementary fields","Fill in supplementary fields","Fill in supplementary fields","Enter exposure values in fields A and B","Fill in supplementary fields","Fill in supplementary fields","Fill in supplementary fields","Fill in supplementary fields",".","6=Guarantee/insurance ",6]
[null,null,null,null,null,null,null,null,null,null,null,null,null,null,null,"",null,null,null,null,"",null,null,null,null,null,null,null,null,null,null,"",8,"Fill in supplementary fields","Fill in supplementary fields","Fill in supplementary fields","Fill in supplementary fields","Fill in supplementary fields","Enter exposure values in fields A and B","Fill in supplementary fields","Fill in supplementary fields","Fill in supplementary fields","Fill in supplementary fields",".","7=Direct investment in companies/SPVs, equity",7]
[null,null,null,null,null,null,null,null,null,null,null,null,null,null,null,"",null,null,null,null,"",null,null,null,null,null,null,null,null,null,null,"",9,"Fill in supplementary fields","Fill in supplementary fields","Fill in supplementary fields","Fill in supplementary fields","Fill in supplementary fields","Enter exposure values in fields A and B","Fill in supplementary fields","Fill in supplementary fields","Fill in supplementary fields","Fill in supplementary fields",".","8=Direct investment in companies/SPVs, mezzanine/senior debt",8]
[null,null,null,null,null,null,null,null,null,null,null,null,null,null,null,"",null,null,null,null,"",null,null,null,null,null,null,null,null,null,null,"",10,"Fill in supplementary fields","Fill in supplementary fields","Fill in supplementary fields","Fill in supplementary fields","Fill in supplementary fields","Enter exposure values in fields A and B","Fill in supplementary fields","Fill in supplementary fields","Fill in supplementary fields","Fill in supplementary fields",".","9=Credit lines",{"$f":"VALUE(LEFT(AS14,1))","v":9}]
[null,null,null,null,null,null,null,null,null,null,null,null,null,null,null,"",null,null,null,null,"",null,null,null,null,null,null,null,null,null,null,"",11,"Fill in supplementary fields","Fill in supplementary fields","Fill in supplementary fields","Fill in supplementary fields","Fill in supplementary fields","Enter exposure values in fields A and B","Fill in supplementary fields","Fill in supplementary fields","Fill in supplementary fields","Fill in supplementary fields",".","10=Simple co-financing arrangements",{"$f":"VALUE(LEFT(AS15,2))","v":10}]
[null,null,null,null,null,null,null,null,null,null,null,null,null,null,null,"",null,null,null,null,"",null,null,null,null,null,null,null,null,null,null,"",12,"Fill in supplementary fields","Fill in supplementary fields","Fill in supplementary fields","Fill in supplementary fields","Fill in supplementary fields","Enter exposure values in fields A and B","Fill in supplementary fields","Fill in supplementary fields","Fill in supplementary fields","Fill in supplementary fields",".",1,1]
[null,null,null,null,null,null,null,null,null,null,null,null,null,null,null,"",null,null,null,null,"",null,null,null,null,null,null,null,null,null,null,"",13,"Fill in supplementary fields","Fill in supplementary fields","Fill in supplementary fields","Fill in supplementary fields","Fill in supplementary fields","Enter exposure values in fields A and B","Fill in supplementary fields","Fill in supplementary fields","Fill in supplementary fields","Fill in supplementary fields",".",2,2]
[null,null,null,null,null,null,null,null,null,null,null,null,null,null,null,"",null,null,null,null,"",null,null,null,null,null,null,null,null,null,null,"",14,"Fill in supplementary fields","Fill in supplementary fields","Fill in supplementary fields","Fill in supplementary fields","Fill in supplementary fields","Enter exposure values in fields A and B","Fill in supplementary fields","Fill in supplementary fields","Fill in supplementary fields","Fill in supplementary fields",".",3,3]
[null,null,null,null,null,null,null,null,null,null,null,null,null,null,null,"",null,null,null,null,"",null,null,null,null,null,null,null,null,null,null,"",15,"Fill in supplementary fields","Fill in supplementary fields","Fill in supplementary fields","Fill in supplementary fields","Fill in supplementary fields","Enter exposure values in fields A and B","Fill in supplementary fields","Fill in supplementary fields","Fill in supplementary fields","Fill in supplementary fields",".",4,4]
[null,null,null,null,null,null,null,null,null,null,null,null,null,null,null,"",null,null,null,null,"",null,null,null,null,null,null,null,null,null,null,"",16,"Fill in supplementary fields","Fill in supplementary fields","Fill in supplementary fields","Fill in supplementary fields","Fill in supplementary fields","Enter exposure values in fields A and B","Fill in supplementary fields","Fill in supplementary fields","Fill in supplementary fields","Fill in supplementary fields",".",5,5]
[null,null,null,null,null,null,null,null,null,null,null,null,null,null,null,"",null,null,null,null,{"$f":"IFERROR(IF(M21=\"1=Syndicated loan, arranger\",\"1=Official institution\",IF(M21=1,\"1=Official institution\",\"\")),\"\")","v":""},null,null,null,null,null,null,null,null,null,null,"",17,"Fill in supplementary fields","Fill in supplementary fields","Fill in supplementary fields","Fill in supplementary fields","Fill in supplementary fields","Enter exposure values in fields A and B","Fill in supplementary fields","Fill in supplementary fields","Fill in supplementary fields","Fill in supplementary fields",".",6,6]
[null,null,null,null,null,null,null,null,null,null,null,null,null,null,null,"",null,null,null,null,"",null,null,null,null,null,null,null,null,null,null,"",18,"Fill in supplementary fields","Fill in supplementary fields","Fill in supplementary fields","Fill in supplementary fields","Fill in supplementary fields","Enter exposure values in fields A and B","Fill in supplementary fields","Fill in supplementary fields","Fill in supplementary fields","Fill in supplementary fields",".",7,7]
[null,null,null,null,null,null,null,null,null,null,null,null,null,null,null,"",null,null,null,null,"",null,null,null,null,null,null,null,null,null,null,"",19,"Fill in supplementary fields","Fill in supplementary fields","Fill in supplementary fields","Fill in supplementary fields","Fill in supplementary fields","Enter exposure values in fields A and B","Fill in supplementary fields","Fill in supplementary fields","Fill in supplementary fields","Fill in supplementary fields",".",8,8]
[null,null,null,null,null,null,null,null,null,null,null,null,null,null,null,"",null,null,null,null,"",null,null,null,null,null,null,null,null,null,null,"",20,"Fill in supplementary fields","Fill in supplementary fields","Fill in supplementary fields","Fill in supplementary fields","Fill in supplementary fields","Enter exposure values in fields A and B","Fill in supplementary fields","Fill in supplementary fields","Fill in supplementary fields","Fill in supplementary fields",".",9,9]
[null,null,null,null,null,null,null,null,null,null,null,null,null,null,null,"",null,null,null,null,"",null,null,null,null,null,null,null,null,null,null,"",21,"Fill in supplementary fields","Fill in supplementary fields","Fill in supplementary fields","Fill in supplementary fields","Fill in supplementary fields","Enter exposure values in fields A and B","Fill in supplementary fields","Fill in supplementary fields","Fill in supplementary fields","Fill in supplementary fields",".",10,10]
[null,null,null,null,null,null,null,null,null,null,null,null,null,null,null,"",null,null,null,null,"",null,null,null,null,null,null,null,null,null,null,"",22,"Fill in supplementary fields","Fill in supplementary fields","Fill in supplementary fields","Fill in supplementary fields","Fill in supplementary fields","Enter exposure values in fields A and B","Fill in supplementary fields","Fill in supplementary fields","Fill in supplementary fields","Fill in supplementary fields","."]
[null,null,null,null,null,null,null,null,null,null,null,null,null,null,null,"",null,null,null,null,"",null,null,null,null,null,null,null,null,null,null,"",23,"Fill in supplementary fields","Fill in supplementary fields","Fill in supplementary fields","Fill in supplementary fields","Fill in supplementary fields","Enter exposure values in fields A and B","Fill in supplementary fields","Fill in supplementary fields","Fill in supplementary fields","Fill in supplementary fields","."]
[null,null,null,null,null,null,null,null,null,null,null,null,null,null,null,"",null,null,null,null,"",null,null,null,null,null,null,null,null,null,null,"",24,"Fill in supplementary fields","Fill in supplementary fields","Fill in supplementary fields","Fill in supplementary fields","Fill in supplementary fields","Enter exposure values in fields A and B","Fill in supplementary fields","Fill in supplementary fields","Fill in supplementary fields","Fill in supplementary fields","."]
[null,null,null,null,null,null,null,null,null,null,null,null,null,null,null,"",null,null,null,null,"",null,null,null,null,null,null,null,null,null,null,"",25,"Fill in supplementary fields","Fill in supplementary fields","Fill in supplementary fields","Fill in supplementary fields","Fill in supplementary fields","Enter exposure values in fields A and B","Fill in supplementary fields","Fill in supplementary fields","Fill in supplementary fields","Fill in supplementary fields","."]
[null,null,null,null,null,null,null,null,null,null,null,null,null,null,null,"",null,null,null,null,"",null,null,null,null,null,null,null,null,null,null,"",26,"Fill in supplementary fields","Fill in supplementary fields","Fill in supplementary fields","Fill in supplementary fields","Fill in supplementary fields","Enter exposure values in fields A and B","Fill in supplementary fields","Fill in supplementary fields","Fill in supplementary fields","Fill in supplementary fields","."]
[null,null,null,null,null,null,null,null,null,null,null,null,null,null,null,"",null,null,null,null,"",null,null,null,null,null,null,null,null,null,null,"",27,"Fill in supplementary fields","Fill in supplementary fields","Fill in supplementary fields","Fill in supplementary fields","Fill in supplementary fields","Enter exposure values in fields A and B","Fill in supplementary fields","Fill in supplementary fields","Fill in supplementary fields","Fill in supplementary fields","."]
[null,null,null,null,null,null,null,null,null,null,null,null,null,null,null,"",null,null,null,null,"",null,null,null,null,null,null,null,null,null,null,"",28,"Fill in supplementary fields","Fill in supplementary fields","Fill in supplementary fields","Fill in supplementary fields","Fill in supplementary fields","Enter exposure values in fields A and B","Fill in supplementary fields","Fill in supplementary fields","Fill in supplementary fields","Fill in supplementary fields","."]
[null,null,null,null,null,null,null,null,null,null,null,null,null,null,null,"",null,null,null,null,"",null,null,null,null,null,null,null,null,null,null,"",29,"Fill in supplementary fields","Fill in supplementary fields","Fill in supplementary fields","Fill in supplementary fields","Fill in supplementary fields","Enter exposure values in fields A and B","Fill in supplementary fields","Fill in supplementary fields","Fill in supplementary fields","Fill in supplementary fields","."]
[null,null,null,null,null,null,null,null,null,null,null,null,null,null,null,"",null,null,null,null,"",null,null,null,null,null,null,null,null,null,null,"",30,"Fill in supplementary fields","Fill in supplementary fields","Fill in supplementary fields","Fill in supplementary fields","Fill in supplementary fields","Enter exposure values in fields A and B","Fill in supplementary fields","Fill in supplementary fields","Fill in supplementary fields","Fill in supplementary fields","."]
[null,null,null,null,null,null,null,null,null,null,null,null,null,null,null,"",null,null,null,null,"",null,null,null,null,null,null,null,null,null,null,"",31,"Fill in supplementary fields","Fill in supplementary fields","Fill in supplementary fields","Fill in supplementary fields","Fill in supplementary fields","Enter exposure values in fields A and B","Fill in supplementary fields","Fill in supplementary fields","Fill in supplementary fields","Fill in supplementary fields","."]
[null,null,null,null,null,null,null,null,null,null,null,null,null,null,null,"",null,null,null,null,"",null,null,null,null,null,null,null,null,null,null,"",32,"Fill in supplementary fields","Fill in supplementary fields","Fill in supplementary fields","Fill in supplementary fields","Fill in supplementary fields","Enter exposure values in fields A and B","Fill in supplementary fields","Fill in supplementary fields","Fill in supplementary fields","Fill in supplementary fields","."]
[null,null,null,null,null,null,null,null,null,null,null,null,null,null,null,"",null,null,null,null,"",null,null,null,null,null,null,null,null,null,null,"",33,"Fill in supplementary fields","Fill in supplementary fields","Fill in supplementary fields","Fill in supplementary fields","Fill in supplementary fields","Enter exposure values in fields A and B","Fill in supplementary fields","Fill in supplementary fields","Fill in supplementary fields","Fill in supplementary fields","."]
[null,null,null,null,null,null,null,null,null,null,null,null,null,null,null,{"$f":"IF(Z38=1,\"During this pilot, the final calculation will be suggested by the Secretariat.\",IF(LEN(M38)=0,\"\",HLOOKUP(AF38,$AH$5:$AQ$204,AG38,FALSE)))","v":""},null,null,null,null,"",null,null,null,null,null,null,null,null,null,null,{"$f":"IFERROR(VLOOKUP(M38,AS:AT,2,FALSE),\"\")","v":""},34,"Fill in supplementary fields","Fill in supplementary fields","Fill in supplementary fields","Fill in supplementary fields","Fill in supplementary fields","Enter exposure values in fields A and B","Fill in supplementary fields","Fill in supplementary fields","Fill in supplementary fields","Fill in supplementary fields","."]
[null,null,null,null,null,null,null,null,null,null,null,null,null,null,null,"",null,null,null,null,"",null,null,null,null,null,null,null,null,null,null,"",35,"Fill in supplementary fields","Fill in supplementary fields","Fill in supplementary fields","Fill in supplementary fields","Fill in supplementary fields","Enter exposure values in fields A and B","Fill in supplementary fields","Fill in supplementary fields","Fill in supplementary fields","Fill in supplementary fields","."]
[null,null,null,null,null,null,null,null,null,null,null,null,null,null,null,"",null,null,null,null,"",null,null,null,null,null,null,null,null,null,null,"",36,"Fill in supplementary fields","Fill in supplementary fields","Fill in supplementary fields","Fill in supplementary fields","Fill in supplementary fields","Enter exposure values in fields A and B","Fill in supplementary fields","Fill in supplementary fields","Fill in supplementary fields","Fill in supplementary fields","."]
[null,null,null,null,null,null,null,null,null,null,null,null,null,null,null,"",null,null,null,null,"",null,null,null,null,null,null,null,null,null,null,"",37,"Fill in supplementary fields","Fill in supplementary fields","Fill in supplementary fields","Fill in supplementary fields","Fill in supplementary fields","Enter exposure values in fields A and B","Fill in supplementary fields","Fill in supplementary fields","Fill in supplementary fields","Fill in supplementary fields","."]
[null,null,null,null,null,null,null,null,null,null,null,null,null,null,null,"",null,null,null,null,"",null,null,null,null,null,null,null,null,null,null,"",38,"Fill in supplementary fields","Fill in supplementary fields","Fill in supplementary fields","Fill in supplementary fields","Fill in supplementary fields","Enter exposure values in fields A and B","Fill in supplementary fields","Fill in supplementary fields","Fill in supplementary fields","Fill in supplementary fields","."]
[null,null,null,null,null,null,null,null,null,null,null,null,null,null,null,"",null,null,null,null,"",null,null,null,null,null,null,null,null,null,null,"",39,"Fill in supplementary fields","Fill in supplementary fields","Fill in supplementary fields","Fill in supplementary fields","Fill in supplementary fields","Enter exposure values in fields A and B","Fill in supplementary fields","Fill in supplementary fields","Fill in supplementary fields","Fill in supplementary fields","."]
[null,null,null,null,null,null,null,null,null,null,null,null,null,null,null,"",null,null,null,null,"",null,null,null,null,null,null,null,null,null,null,"",40,"Fill in supplementary fields","Fill in supplementary fields","Fill in supplementary fields","Fill in supplementary fields","Fill in supplementary fields","Enter exposure values in fields A and B","Fill in supplementary fields","Fill in supplementary fields","Fill in supplementary fields","Fill in supplementary fields","."]
[null,null,null,null,null,null,null,null,null,null,null,null,null,null,null,"",null,null,null,null,"",null,null,null,null,null,null,null,null,null,null,"",41,"Fill in supplementary fields","Fill in supplementary fields","Fill in supplementary fields","Fill in supplementary fields","Fill in supplementary fields","Enter exposure values in fields A and B","Fill in supplementary fields","Fill in supplementary fields","Fill in supplementary fields","Fill in supplementary fields","."]
[null,null,null,null,null,null,null,null,null,null,null,null,null,null,null,"",null,null,null,null,"",null,null,null,null,null,null,null,null,null,null,"",42,"Fill in supplementary fields","Fill in supplementary fields","Fill in supplementary fields","Fill in supplementary fields","Fill in supplementary fields","Enter exposure values in fields A and B","Fill in supplementary fields","Fill in supplementary fields","Fill in supplementary fields","Fill in supplementary fields","."]
[null,null,null,null,null,null,null,null,null,null,null,null,null,null,null,"",null,null,null,null,"",null,null,null,null,null,null,null,null,null,null,"",43,"Fill in supplementary fields","Fill in supplementary fields","Fill in supplementary fields","Fill in supplementary fields","Fill in supplementary fields","Enter exposure values in fields A and B","Fill in supplementary fields","Fill in supplementary fields","Fill in supplementary fields","Fill in supplementary fields","."]
[null,null,null,null,null,null,null,null,null,null,null,null,null,null,null,"",null,null,null,null,"",null,null,null,null,null,null,null,null,null,null,"",44,"Fill in supplementary fields","Fill in supplementary fields","Fill in supplementary fields","Fill in supplementary fields","Fill in supplementary fields","Enter exposure values in fields A and B","Fill in supplementary fields","Fill in supplementary fields","Fill in supplementary fields","Fill in supplementary fields","."]
[null,null,null,null,null,null,null,null,null,null,null,null,null,null,null,"",null,null,null,null,"",null,null,null,null,null,null,null,null,null,null,"",45,"Fill in supplementary fields","Fill in supplementary fields","Fill in supplementary fields","Fill in supplementary fields","Fill in supplementary fields","Enter exposure values in fields A and B","Fill in supplementary fields","Fill in supplementary fields","Fill in supplementary fields","Fill in supplementary fields","."]
[null,null,null,null,null,null,null,null,null,null,null,null,null,null,null,"",null,null,null,null,"",null,null,null,null,null,null,null,null,null,null,"",46,"Fill in supplementary fields","Fill in supplementary fields","Fill in supplementary fields","Fill in supplementary fields","Fill in supplementary fields","Enter exposure values in fields A and B","Fill in supplementary fields","Fill in supplementary fields","Fill in supplementary fields","Fill in supplementary fields","."]
[null,null,null,null,null,null,null,null,null,null,null,null,null,null,null,"",null,null,null,null,"",null,null,null,null,null,null,null,null,null,null,"",47,"Fill in supplementary fields","Fill in supplementary fields","Fill in supplementary fields","Fill in supplementary fields","Fill in supplementary fields","Enter exposure values in fields A and B","Fill in supplementary fields","Fill in supplementary fields","Fill in supplementary fields","Fill in supplementary fields","."]
[null,null,null,null,null,null,null,null,null,null,null,null,null,null,null,"",null,null,null,null,"",null,null,null,null,null,null,null,null,null,null,"",48,"Fill in supplementary fields","Fill in supplementary fields","Fill in supplementary fields","Fill in supplementary fields","Fill in supplementary fields","Enter exposure values in fields A and B","Fill in supplementary fields","Fill in supplementary fields","Fill in supplementary fields","Fill in supplementary fields","."]
[null,null,null,null,null,null,null,null,null,null,null,null,null,null,null,"",null,null,null,null,"",null,null,null,null,null,null,null,null,null,null,"",49,"Fill in supplementary fields","Fill in supplementary fields","Fill in supplementary fields","Fill in supplementary fields","Fill in supplementary fields","Enter exposure values in fields A and B","Fill in supplementary fields","Fill in supplementary fields","Fill in supplementary fields","Fill in supplementary fields","."]
[null,null,null,null,null,null,null,null,null,null,null,null,null,null,null,"",null,null,null,null,"",null,null,null,null,null,null,null,null,null,null,"",50,"Fill in supplementary fields","Fill in supplementary fields","Fill in supplementary fields","Fill in supplementary fields","Fill in supplementary fields","Enter exposure values in fields A and B","Fill in supplementary fields","Fill in supplementary fields","Fill in supplementary fields","Fill in supplementary fields","."]
[null,null,null,null,null,null,null,null,null,null,null,null,null,null,null,"",null,null,null,null,"",null,null,null,null,null,null,null,null,null,null,"",51,"Fill in supplementary fields","Fill in supplementary fields","Fill in supplementary fields","Fill in supplementary fields","Fill in supplementary fields","Enter exposure values in fields A and B","Fill in supplementary fields","Fill in supplementary fields","Fill in supplementary fields","Fill in supplementary fields","."]
[null,null,null,null,null,null,null,null,null,null,null,null,null,null,null,"",null,null,null,null,"",null,null,null,null,null,null,null,null,null,null,"",52,"Fill in supplementary fields","Fill in supplementary fields","Fill in supplementary fields","Fill in supplementary fields","Fill in supplementary fields","Enter exposure values in fields A and B","Fill in supplementary fields","Fill in supplementary fields","Fill in supplementary fields","Fill in supplementary fields","."]
[null,null,null,null,null,null,null,null,null,null,null,null,null,null,null,"",null,null,null,null,"",null,null,null,null,null,null,null,null,null,null,"",53,"Fill in supplementary fields","Fill in supplementary fields","Fill in supplementary fields","Fill in supplementary fields","Fill in supplementary fields","Enter exposure values in fields A and B","Fill in supplementary fields","Fill in supplementary fields","Fill in supplementary fields","Fill in supplementary fields","."]
[null,null,null,null,null,null,null,null,null,null,null,null,null,null,null,"",null,null,null,null,"",null,null,null,null,null,null,null,null,null,null,"",54,"Fill in supplementary fields","Fill in supplementary fields","Fill in supplementary fields","Fill in supplementary fields","Fill in supplementary fields","Enter exposure values in fields A and B","Fill in supplementary fields","Fill in supplementary fields","Fill in supplementary fields","Fill in supplementary fields","."]
[null,null,null,null,null,null,null,null,null,null,null,null,null,null,null,"",null,null,null,null,"",null,null,null,null,null,null,null,null,null,null,"",55,"Fill in supplementary fields","Fill in supplementary fields","Fill in supplementary fields","Fill in supplementary fields","Fill in supplementary fields","Enter exposure values in fields A and B","Fill in supplementary fields","Fill in supplementary fields","Fill in supplementary fields","Fill in supplementary fields","."]
[null,null,null,null,null,null,null,null,null,null,null,null,null,null,null,"",null,null,null,null,"",null,null,null,null,null,null,null,null,null,null,"",56,"Fill in supplementary fields","Fill in supplementary fields","Fill in supplementary fields","Fill in supplementary fields","Fill in supplementary fields","Enter exposure values in fields A and B","Fill in supplementary fields","Fill in supplementary fields","Fill in supplementary fields","Fill in supplementary fields","."]
[null,null,null,null,null,null,null,null,null,null,null,null,null,null,null,"",null,null,null,null,"",null,null,null,null,null,null,null,null,null,null,"",57,"Fill in supplementary fields","Fill in supplementary fields","Fill in supplementary fields","Fill in supplementary fields","Fill in supplementary fields","Enter exposure values in fields A and B","Fill in supplementary fields","Fill in supplementary fields","Fill in supplementary fields","Fill in supplementary fields","."]
[null,null,null,null,null,null,null,null,null,null,null,null,null,null,null,"",null,null,null,null,"",null,null,null,null,null,null,null,null,null,null,"",58,"Fill in supplementary fields","Fill in supplementary fields","Fill in supplementary fields","Fill in supplementary fields","Fill in supplementary fields","Enter exposure values in fields A and B","Fill in supplementary fields","Fill in supplementary fields","Fill in supplementary fields","Fill in supplementary fields","."]
[null,null,null,null,null,null,null,null,null,null,null,null,null,null,null,"",null,null,null,null,"",null,null,null,null,null,null,null,null,null,null,"",59,"Fill in supplementary fields","Fill in supplementary fields","Fill in supplementary fields","Fill in supplementary fields","Fill in supplementary fields","Enter exposure values in fields A and B","Fill in supplementary fields","Fill in supplementary fields","Fill in supplementary fields","Fill in supplementary fields","."]
[null,null,null,null,null,null,null,null,null,null,null,null,null,null,null,"",null,null,null,null,"",null,null,null,null,null,null,null,null,null,null,"",60,"Fill in supplementary fields","Fill in supplementary fields","Fill in supplementary fields","Fill in supplementary fields","Fill in supplementary fields","Enter exposure values in fields A and B","Fill in supplementary fields","Fill in supplementary fields","Fill in supplementary fields","Fill in supplementary fields","."]
[null,null,null,null,null,null,null,null,null,null,null,null,null,null,null,"",null,null,null,null,"",null,null,null,null,null,null,null,null,null,null,"",61,"Fill in supplementary fields","Fill in supplementary fields","Fill in supplementary fields","Fill in supplementary fields","Fill in supplementary fields","Enter exposure values in fields A and B","Fill in supplementary fields","Fill in supplementary fields","Fill in supplementary fields","Fill in supplementary fields","."]
[null,null,null,null,null,null,null,null,null,null,null,null,null,null,null,"",null,null,null,null,"",null,null,null,null,null,null,null,null,null,null,"",62,"Fill in supplementary fields","Fill in supplementary fields","Fill in supplementary fields","Fill in supplementary fields","Fill in supplementary fields","Enter exposure values in fields A and B","Fill in supplementary fields","Fill in supplementary fields","Fill in supplementary fields","Fill in supplementary fields","."]
[null,null,null,null,null,null,null,null,null,null,null,null,null,null,null,"",null,null,null,null,"",null,null,null,null,null,null,null,null,null,null,"",63,"Fill in supplementary fields","Fill in supplementary fields","Fill in supplementary fields","Fill in supplementary fields","Fill in supplementary fields","Enter exposure values in fields A and B","Fill in supplementary fields","Fill in supplementary fields","Fill in supplementary fields","Fill in supplementary fields","."]
[null,null,null,null,null,null,null,null,null,null,null,null,null,null,null,"",null,null,null,null,"",null,null,null,null,null,null,null,null,null,null,"",64,"Fill in supplementary fields","Fill in supplementary fields","Fill in supplementary fields","Fill in supplementary fields","Fill in supplementary fields","Enter exposure values in fields A and B","Fill in supplementary fields","Fill in supplementary fields","Fill in supplementary fields","Fill in supplementary fields","."]
[null,null,null,null,null,null,null,null,null,null,null,null,null,null,null,"",null,null,null,null,"",null,null,null,null,null,null,null,null,null,null,"",65,"Fill in supplementary fields","Fill in supplementary fields","Fill in supplementary fields","Fill in supplementary fields","Fill in supplementary fields","Enter exposure values in fields A and B","Fill in supplementary fields","Fill in supplementary fields","Fill in supplementary fields","Fill in supplementary fields","."]
[null,null,null,null,null,null,null,null,null,null,null,null,null,null,null,{"$f":"IF(Z70=1,\"During this pilot, the final calculation will be suggested by the Secretariat.\",IF(LEN(M70)=0,\"\",HLOOKUP(AF70,$AH$5:$AQ$204,AG70,FALSE)))","v":""},null,null,null,null,"",null,null,null,null,null,null,null,null,null,null,{"$f":"IFERROR(VLOOKUP(M70,AS:AT,2,FALSE),\"\")","v":""},66,"Fill in supplementary fields","Fill in supplementary fields","Fill in supplementary fields","Fill in supplementary fields","Fill in supplementary fields","Enter exposure values in fields A and B","Fill in supplementary fields","Fill in supplementary fields","Fill in supplementary fields","Fill in supplementary fields","."]
[null,null,null,null,null,null,null,null,null,null,null,null,null,null,null,"",null,null,null,null,"",null,null,null,null,null,null,null,null,null,null,"",{"$f":"AG70+1","v":67},{"$f":"IF(Q71>R71,\"A cannot be higher than B\",IF(COUNTA(Q71:S71)=0,\"Fill in supplementary fields\",IFERROR(IF(VALUE(LEFT(U71,1))=1,S71/2+(Q71/R71)*(S71/2),IF(VALUE(LEFT(U71,1))=2,\"impossible combination\",\"check not available\")),\"\")))","v":"Fill in supplementary fields"},{"$f":"IF(Q71>R71,\"A cannot be higher than B\",IF(COUNTA(Q71:S71)=0,\"Fill in supplementary fields\",IFERROR(IF(VALUE(LEFT(U71,1))=1,(Q71/R71)*(S71/2),IF(VALUE(LEFT(U71,1))=2,(Q71/R71)*(S71),\"check not available\")),\"\")))","v":"Fill in supplementary fields"},{"$f":"IF(Q71>R71,\"A cannot be higher than B\",IF(COUNTA(V71:W71)=0,\"Fill in supplementary fields\",(S71/2)*(Q71/R71)+(S71/2)*(1/SUM(V71:W71))))","v":"Fill in supplementary fields"},{"$f":"IF(Q71>R71,\"A cannot be higher than B\",IFERROR(IF(COUNTA(V71:W71)=0,\"Fill in supplementary fields\",S71/2)*(Q71/R71)+(S71/2)*(1/V71),\"Fill in supplementary fields\"))","v":"Fill in supplementary fields"},{"$f":"IF(Q71>R71,\"A cannot be higher than B\",IFERROR(IF(COUNTA(V71:W71)=0,\"Fill in supplementary fields\",IF(V71=0,S71/2*(Q71/R71)+S71/2*(1/W71),(S71/2)*(Q71/R71))),\"Fill in supplementary fields\"))","v":"Fill in supplementary fields"},{"$f":"IF(Q71>R71,\"A cannot be higher than B\",IF(COUNTA(Q71:S71)=0,\"Enter exposure values in fields A and B\",(S71)*(Q71/R71)))","v":"Enter exposure values in fields A and B"},{"$f":"IF(Q71>R71,\"A cannot be higher than B\",IFERROR(IF(COUNTA(V71:W71)=0,\"Fill in supplementary fields\",S71/2)*(Q71/R71)+(S71/2)*(1/V71),\"Fill in supplementary fields\"))","v":"Fill in supplementary fields"},{"$f":"IF(Q71>R71,\"A cannot be higher than B\",IFERROR(IF(COUNTA(V71:W71)=0,\"Fill in supplementary fields\",IF(V71=0,S71/2*(Q71/R71)+S71/2*(1/W71),(S71/2)*(Q71/R71))),\"Fill in supplementary fields\"))","v":"Fill in supplementary fields"},{"$f":"IF(Q71>R71,\"A cannot be higher than B\",IF(COUNTA(Q71:S71)=0,\"Fill in supplementary fields\",(Q71/R71)*((S71)+X71*Y71)))","v":"Fill in supplementary fields"},{"$f":"IF(Q71>R71,\"A cannot be higher than B\",IF(COUNTA(Q71:S71)=0,\"Fill in supplementary fields\",(S71)*(Q71/R71)))","v":"Fill in supplementary fields"},"."]
[null,null,null,null,null,null,null,null,null,null,null,null,null,null,null,"",null,null,null,null,"",null,null,null,null,null,null,null,null,null,null,"",68,"Fill in supplementary fields","Fill in supplementary fields","Fill in supplementary fields","Fill in supplementary fields","Fill in supplementary fields","Enter exposure values in fields A and B","Fill in supplementary fields","Fill in supplementary fields","Fill in supplementary fields","Fill in supplementary fields","."]
[null,null,null,null,null,null,null,null,null,null,null,null,null,null,null,"",null,null,null,null,"",null,null,null,null,null,null,null,null,null,null,"",69,"Fill in supplementary fields","Fill in supplementary fields","Fill in supplementary fields","Fill in supplementary fields","Fill in supplementary fields","Enter exposure values in fields A and B","Fill in supplementary fields","Fill in supplementary fields","Fill in supplementary fields","Fill in supplementary fields","."]
[null,null,null,null,null,null,null,null,null,null,null,null,null,null,null,"",null,null,null,null,"",null,null,null,null,null,null,null,null,null,null,"",70,"Fill in supplementary fields","Fill in supplementary fields","Fill in supplementary fields","Fill in supplementary fields","Fill in supplementary fields","Enter exposure values in fields A and B","Fill in supplementary fields","Fill in supplementary fields","Fill in supplementary fields","Fill in supplementary fields","."]
[null,null,null,null,null,null,null,null,null,null,null,null,null,null,null,"",null,null,null,null,"",null,null,null,null,null,null,null,null,null,null,"",71,"Fill in supplementary fields","Fill in supplementary fields","Fill in supplementary fields","Fill in supplementary fields","Fill in supplementary fields","Enter exposure values in fields A and B","Fill in supplementary fields","Fill in supplementary fields","Fill in supplementary fields","Fill in supplementary fields","."]
[null,null,null,null,null,null,null,null,null,null,null,null,null,null,null,"",null,null,null,null,"",null,null,null,null,null,null,null,null,null,null,"",72,"Fill in supplementary fields","Fill in supplementary fields","Fill in supplementary fields","Fill in supplementary fields","Fill in supplementary fields","Enter exposure values in fields A and B","Fill in supplementary fields","Fill in supplementary fields","Fill in supplementary fields","Fill in supplementary fields","."]
[null,null,null,null,null,null,null,null,null,null,null,null,null,null,null,"",null,null,null,null,"",null,null,null,null,null,null,null,null,null,null,"",73,"Fill in supplementary fields","Fill in supplementary fields","Fill in supplementary fields","Fill in supplementary fields","Fill in supplementary fields","Enter exposure values in fields A and B","Fill in supplementary fields","Fill in supplementary fields","Fill in supplementary fields","Fill in supplementary fields","."]
[null,null,null,null,null,null,null,null,null,null,null,null,null,null,null,"",null,null,null,null,"",null,null,null,null,null,null,null,null,null,null,"",74,"Fill in supplementary fields","Fill in supplementary fields","Fill in supplementary fields","Fill in supplementary fields","Fill in supplementary fields","Enter exposure values in fields A and B","Fill in supplementary fields","Fill in supplementary fields","Fill in supplementary fields","Fill in supplementary fields","."]
[null,null,null,null,null,null,null,null,null,null,null,null,null,null,null,"",null,null,null,null,"",null,null,null,null,null,null,null,null,null,null,"",75,"Fill in supplementary fields","Fill in supplementary fields","Fill in supplementary fields","Fill in supplementary fields","Fill in supplementary fields","Enter exposure values in fields A and B","Fill in supplementary fields","Fill in supplementary fields","Fill in supplementary fields","Fill in supplementary fields","."]
[null,null,null,null,null,null,null,null,null,null,null,null,null,null,null,"",null,null,null,null,"",null,null,null,null,null,null,null,null,null,null,"",76,"Fill in supplementary fields","Fill in supplementary fields","Fill in supplementary fields","Fill in supplementary fields","Fill in supplementary fields","Enter exposure values in fields A and B","Fill in supplementary fields","Fill in supplementary fields","Fill in supplementary fields","Fill in supplementary fields","."]
[null,null,null,null,null,null,null,null,null,null,null,null,null,null,null,"",null,null,null,null,{"$f":"IFERROR(IF(M81=\"1=Syndicated loan, arranger\",\"1=Official institution\",IF(M81=1,\"1=Official institution\",\"\")),\"\")","v":""},null,null,null,null,null,null,null,null,null,null,"",77,"Fill in supplementary fields","Fill in supplementary fields","Fill in supplementary fields","Fill in supplementary fields","Fill in supplementary fields","Enter exposure values in fields A and B","Fill in supplementary fields","Fill in supplementary fields","Fill in supplementary fields","Fill in supplementary fields","."]
[null,null,null,null,null,null,null,null,null,null,null,null,null,null,null,"",null,null,null,null,"",null,null,null,null,null,null,null,null,null,null,"",78,"Fill in supplementary fields","Fill in supplementary fields","Fill in supplementary fields","Fill in supplementary fields","Fill in supplementary fields","Enter exposure values in fields A and B","Fill in supplementary fields","Fill in supplementary fields","Fill in supplementary fields","Fill in supplementary fields","."]
[null,null,null,null,null,null,null,null,null,null,null,null,null,null,null,"",null,null,null,null,"",null,null,null,null,null,null,null,null,null,null,"",79,"Fill in supplementary fields","Fill in supplementary fields","Fill in supplementary fields","Fill in supplementary fields","Fill in supplementary fields","Enter exposure values in fields A and B","Fill in supplementary fields","Fill in supplementary fields","Fill in supplementary fields","Fill in supplementary fields","."]
[null,null,null,null,null,null,null,null,null,null,null,null,null,null,null,"",null,null,null,null,"",null,null,null,null,null,null,null,null,null,null,"",80,"Fill in supplementary fields","Fill in supplementary fields","Fill in supplementary fields","Fill in supplementary fields","Fill in supplementary fields","Enter exposure values in fields A and B","Fill in supplementary fields","Fill in supplementary fields","Fill in supplementary fields","Fill in supplementary fields","."]
[null,null,null,null,null,null,null,null,null,null,null,null,null,null,null,"",null,null,null,null,"",null,null,null,null,null,null,null,null,null,null,"",81,"Fill in supplementary fields","Fill in supplementary fields","Fill in supplementary fields","Fill in supplementary fields","Fill in supplementary fields","Enter exposure values in fields A and B","Fill in supplementary fields","Fill in supplementary fields","Fill in supplementary fields","Fill in supplementary fields","."]
[null,null,null,null,null,null,null,null,null,null,null,null,null,null,null,"",null,null,null,null,"",null,null,null,null,null,null,null,null,null,null,"",82,"Fill in supplementary fields","Fill in supplementary fields","Fill in supplementary fields","Fill in supplementary fields","Fill in supplementary fields","Enter exposure values in fields A and B","Fill in supplementary fields","Fill in supplementary fields","Fill in supplementary fields","Fill in supplementary fields","."]
[null,null,null,null,null,null,null,null,null,null,null,null,null,null,null,"",null,null,null,null,"",null,null,null,null,null,null,null,null,null,null,"",83,"Fill in supplementary fields","Fill in supplementary fields","Fill in supplementary fields","Fill in supplementary fields","Fill in supplementary fields","Enter exposure values in fields A and B","Fill in supplementary fields","Fill in supplementary fields","Fill in supplementary fields","Fill in supplementary fields","."]
[null,null,null,null,null,null,null,null,null,null,null,null,null,null,null,"",null,null,null,null,"",null,null,null,null,null,null,null,null,null,null,"",84,"Fill in supplementary fields","Fill in supplementary fields","Fill in supplementary fields","Fill in supplementary fields","Fill in supplementary fields","Enter exposure values in fields A and B","Fill in supplementary fields","Fill in supplementary fields","Fill in supplementary fields","Fill in supplementary fields","."]
[null,null,null,null,null,null,null,null,null,null,null,null,null,null,null,"",null,null,null,null,"",null,null,null,null,null,null,null,null,null,null,"",85,"Fill in supplementary fields","Fill in supplementary fields","Fill in supplementary fields","Fill in supplementary fields","Fill in supplementary fields","Enter exposure values in fields A and B","Fill in supplementary fields","Fill in supplementary fields","Fill in supplementary fields","Fill in supplementary fields","."]
[null,null,null,null,null,null,null,null,null,null,null,null,null,null,null,"",null,null,null,null,"",null,null,null,null,null,null,null,null,null,null,"",86,"Fill in supplementary fields","Fill in supplementary fields","Fill in supplementary fields","Fill in supplementary fields","Fill in supplementary fields","Enter exposure values in fields A and B","Fill in supplementary fields","Fill in supplementary fields","Fill in supplementary fields","Fill in supplementary fields","."]
[null,null,null,null,null,null,null,null,null,null,null,null,null,null,null,"",null,null,null,null,"",null,null,null,null,null,null,null,null,null,null,"",87,"Fill in supplementary fields","Fill in supplementary fields","Fill in supplementary fields","Fill in supplementary fields","Fill in supplementary fields","Enter exposure values in fields A and B","Fill in supplementary fields","Fill in supplementary fields","Fill in supplementary fields","Fill in supplementary fields","."]
[null,null,null,null,null,null,null,null,null,null,null,null,null,null,null,"",null,null,null,null,"",null,null,null,null,null,null,null,null,null,null,"",88,"Fill in supplementary fields","Fill in supplementary fields","Fill in supplementary fields","Fill in supplementary fields","Fill in supplementary fields","Enter exposure values in fields A and B","Fill in supplementary fields","Fill in supplementary fields","Fill in supplementary fields","Fill in supplementary fields","."]
[null,null,null,null,null,null,null,null,null,null,null,null,null,null,null,"",null,null,null,null,"",null,null,null,null,null,null,null,null,null,null,"",89,"Fill in supplementary fields","Fill in supplementary fields","Fill in supplementary fields","Fill in supplementary fields","Fill in supplementary fields","Enter exposure values in fields A and B","Fill in supplementary fields","Fill in supplementary fields","Fill in supplementary fields","Fill in supplementary fields","."]
[null,null,null,null,null,null,null,null,null,null,null,null,null,null,null,"",null,null,null,null,"",null,null,null,null,null,null,null,null,null,null,"",90,"Fill in supplementary fields","Fill in supplementary fields","Fill in supplementary fields","Fill in supplementary fields","Fill in supplementary fields","Enter exposure values in fields A and B","Fill in supplementary fields","Fill in supplementary fields","Fill in supplementary fields","Fill in supplementary fields","."]
[null,null,null,null,null,null,null,null,null,null,null,null,null,null,null,"",null,null,null,null,"",null,null,null,null,null,null,null,null,null,null,"",91,"Fill in supplementary fields","Fill in supplementary fields","Fill in supplementary fields","Fill in supplementary fields","Fill in supplementary fields","Enter exposure values in fields A and B","Fill in supplementary fields","Fill in supplementary fields","Fill in supplementary fields","Fill in supplementary fields","."]
[null,null,null,null,null,null,null,null,null,null,null,null,null,null,null,"",null,null,null,null,"",null,null,null,null,null,null,null,null,null,null,"",92,"Fill in supplementary fields","Fill in supplementary fields","Fill in supplementary fields","Fill in supplementary fields","Fill in supplementary fields","Enter exposure values in fields A and B","Fill in supplementary fields","Fill in supplementary fields","Fill in supplementary fields","Fill in supplementary fields","."]
[null,null,null,null,null,null,null,null,null,null,null,null,null,null,null,"",null,null,null,null,"",null,null,null,null,null,null,null,null,null,null,"",93,"Fill in supplementary fields","Fill in supplementary fields","Fill in supplementary fields","Fill in supplementary fields","Fill in supplementary fields","Enter exposure values in fields A and B","Fill in supplementary fields","Fill in supplementary fields","Fill in supplementary fields","Fill in supplementary fields","."]
[null,null,null,null,null,null,null,null,null,null,null,null,null,null,null,"",null,null,null,null,"",null,null,null,null,null,null,null,null,null,null,"",94,"Fill in supplementary fields","Fill in supplementary fields","Fill in supplementary fields","Fill in supplementary fields","Fill in supplementary fields","Enter exposure values in fields A and B","Fill in supplementary fields","Fill in supplementary fields","Fill in supplementary fields","Fill in supplementary fields","."]
[null,null,null,null,null,null,null,null,null,null,null,null,null,null,null,"",null,null,null,null,"",null,null,null,null,null,null,null,null,null,null,"",95,"Fill in supplementary fields","Fill in supplementary fields","Fill in supplementary fields","Fill in supplementary fields","Fill in supplementary fields","Enter exposure values in fields A and B","Fill in supplementary fields","Fill in supplementary fields","Fill in supplementary fields","Fill in supplementary fields","."]
[null,null,null,null,null,null,null,null,null,null,null,null,null,null,null,"",null,null,null,null,"",null,null,null,null,null,null,null,null,null,null,"",96,"Fill in supplementary fields","Fill in supplementary fields","Fill in supplementary fields","Fill in supplementary fields","Fill in supplementary fields","Enter exposure values in fields A and B","Fill in supplementary fields","Fill in supplementary fields","Fill in supplementary fields","Fill in supplementary fields","."]
[null,null,null,null,null,null,null,null,null,null,null,null,null,null,null,"",null,null,null,null,"",null,null,null,null,null,null,null,null,null,null,"",97,"Fill in supplementary fields","Fill in supplementary fields","Fill in supplementary fields","Fill in supplementary fields","Fill in supplementary fields","Enter exposure values in fields A and B","Fill in supplementary fields","Fill in supplementary fields","Fill in supplementary fields","Fill in supplementary fields","."]
[null,null,null,null,null,null,null,null,null,null,null,null,null,null,null,{"$f":"IF(Z102=1,\"During this pilot, the final calculation will be suggested by the Secretariat.\",IF(LEN(M102)=0,\"\",HLOOKUP(AF102,$AH$5:$AQ$204,AG102,FALSE)))","v":""},null,null,null,null,"",null,null,null,null,null,null,null,null,null,null,{"$f":"IFERROR(VLOOKUP(M102,AS:AT,2,FALSE),\"\")","v":""},98,"Fill in supplementary fields","Fill in supplementary fields","Fill in supplementary fields","Fill in supplementary fields","Fill in supplementary fields","Enter exposure values in fields A and B","Fill in supplementary fields","Fill in supplementary fields","Fill in supplementary fields","Fill in supplementary fields","."]
[null,null,null,null,null,null,null,null,null,null,null,null,null,null,null,"",null,null,null,null,"",null,null,null,null,null,null,null,null,null,null,"",99,"Fill in supplementary fields","Fill in supplementary fields","Fill in supplementary fields","Fill in supplementary fields","Fill in supplementary fields","Enter exposure values in fields A and B","Fill in supplementary fields","Fill in supplementary fields","Fill in supplementary fields","Fill in supplementary fields","."]
[null,null,null,null,null,null,null,null,null,null,null,null,null,null,null,"",null,null,null,null,"",null,null,null,null,null,null,null,null,null,null,"",100,"Fill in supplementary fields","Fill in supplementary fields","Fill in supplementary fields","Fill in supplementary fields","Fill in supplementary fields","Enter exposure values in fields A and B","Fill in supplementary fields","Fill in supplementary fields","Fill in supplementary fields","Fill in supplementary fields","."]
[null,null,null,null,null,null,null,null,null,null,null,null,null,null,null,"",null,null,null,null,"",null,null,null,null,null,null,null,null,null,null,"",101,"Fill in supplementary fields","Fill in supplementary fields","Fill in supplementary fields","Fill in supplementary fields","Fill in supplementary fields","Enter exposure values in fields A and B","Fill in supplementary fields","Fill in supplementary fields","Fill in supplementary fields","Fill in supplementary fields","."]
[null,null,null,null,null,null,null,null,null,null,null,null,null,null,null,"",null,null,null,null,"",null,null,null,null,null,null,null,null,null,null,"",102,"Fill in supplementary fields","Fill in supplementary fields","Fill in supplementary fields","Fill in supplementary fields","Fill in supplementary fields","Enter exposure values in fields A and B","Fill in supplementary fields","Fill in supplementary fields","Fill in supplementary fields","Fill in supplementary fields","."]
[null,null,null,null,null,null,null,null,null,null,null,null,null,null,null,"",null,null,null,null,"",null,null,null,null,null,null,null,null,null,null,"",103,"Fill in supplementary fields","Fill in supplementary fields","Fill in supplementary fields","Fill in supplementary fields","Fill in supplementary fields","Enter exposure values in fields A and B","Fill in supplementary fields","Fill in supplementary fields","Fill in supplementary fields","Fill in supplementary fields","."]
[null,null,null,null,null,null,null,null,null,null,null,null,null,null,null,"",null,null,null,null,"",null,null,null,null,null,null,null,null,null,null,"",104,"Fill in supplementary fields","Fill in supplementary fields","Fill in supplementary fields","Fill in supplementary fields","Fill in supplementary fields","Enter exposure values in fields A and B","Fill in supplementary fields","Fill in supplementary fields","Fill in supplementary fields","Fill in supplementary fields","."]
[null,null,null,null,null,null,null,null,null,null,null,null,null,null,null,"",null,null,null,null,"",null,null,null,null,null,null,null,null,null,null,"",105,"Fill in supplementary fields","Fill in supplementary fields","Fill in supplementary fields","Fill in supplementary fields","Fill in supplementary fields","Enter exposure values in fields A and B","Fill in supplementary fields","Fill in supplementary fields","Fill in supplementary fields","Fill in supplementary fields","."]
[null,null,null,null,null,null,null,null,null,null,null,null,null,null,null,"",null,null,null,null,"",null,null,null,null,null,null,null,null,null,null,"",106,"Fill in supplementary fields","Fill in supplementary fields","Fill in supplementary fields","Fill in supplementary fields","Fill in supplementary fields","Enter exposure values in fields A and B","Fill in supplementary fields","Fill in supplementary fields","Fill in supplementary fields","Fill in supplementary fields","."]
[null,null,null,null,null,null,null,null,null,null,null,null,null,null,null,"",null,null,null,null,"",null,null,null,null,null,null,null,null,null,null,"",107,"Fill in supplementary fields","Fill in supplementary fields","Fill in supplementary fields","Fill in supplementary fields","Fill in supplementary fields","Enter exposure values in fields A and B","Fill in supplementary fields","Fill in supplementary fields","Fill in supplementary fields","Fill in supplementary fields","."]
[null,null,null,null,null,null,null,null,null,null,null,null,null,null,null,"",null,null,null,null,"",null,null,null,null,null,null,null,null,null,null,"",108,"Fill in supplementary fields","Fill in supplementary fields","Fill in supplementary fields","Fill in supplementary fields","Fill in supplementary fields","Enter exposure values in fields A and B","Fill in supplementary fields","Fill in supplementary fields","Fill in supplementary fields","Fill in supplementary fields","."]
[null,null,null,null,null,null,null,null,null,null,null,null,null,null,null,"",null,null,null,null,"",null,null,null,null,null,null,null,null,null,null,"",109,"Fill in supplementary fields","Fill in supplementary fields","Fill in supplementary fields","Fill in supplementary fields","Fill in supplementary fields","Enter exposure values in fields A and B","Fill in supplementary fields","Fill in supplementary fields","Fill in supplementary fields","Fill in supplementary fields","."]
[null,null,null,null,null,null,null,null,null,null,null,null,null,null,null,"",null,null,null,null,"",null,null,null,null,null,null,null,null,null,null,"",110,"Fill in supplementary fields","Fill in supplementary fields","Fill in supplementary fields","Fill in supplementary fields","Fill in supplementary fields","Enter exposure values in fields A and B","Fill in supplementary fields","Fill in supplementary fields","Fill in supplementary fields","Fill in supplementary fields","."]
[null,null,null,null,null,null,null,null,null,null,null,null,null,null,null,"",null,null,null,null,"",null,null,null,null,null,null,null,null,null,null,"",111,"Fill in supplementary fields","Fill in supplementary fields","Fill in supplementary fields","Fill in supplementary fields","Fill in supplementary fields","Enter exposure values in fields A and B","Fill in supplementary fields","Fill in supplementary fields","Fill in supplementary fields","Fill in supplementary fields","."]
[null,null,null,null,null,null,null,null,null,null,null,null,null,null,null,"",null,null,null,null,"",null,null,null,null,null,null,null,null,null,null,"",112,"Fill in supplementary fields","Fill in supplementary fields","Fill in supplementary fields","Fill in supplementary fields","Fill in supplementary fields","Enter exposure values in fields A and B","Fill in supplementary fields","Fill in supplementary fields","Fill in supplementary fields","Fill in supplementary fields","."]
[null,null,null,null,null,null,null,null,null,null,null,null,null,null,null,"",null,null,null,null,"",null,null,null,null,null,null,null,null,null,null,"",113,"Fill in supplementary fields","Fill in supplementary fields","Fill in supplementary fields","Fill in supplementary fields","Fill in supplementary fields","Enter exposure values in fields A and B","Fill in supplementary fields","Fill in supplementary fields","Fill in supplementary fields","Fill in supplementary fields","."]
[null,null,null,null,null,null,null,null,null,null,null,null,null,null,null,"",null,null,null,null,"",null,null,null,null,null,null,null,null,null,null,"",114,"Fill in supplementary fields","Fill in supplementary fields","Fill in supplementary fields","Fill in supplementary fields","Fill in supplementary fields","Enter exposure values in fields A and B","Fill in supplementary fields","Fill in supplementary fields","Fill in supplementary fields","Fill in supplementary fields","."]
[null,null,null,null,null,null,null,null,null,null,null,null,null,null,null,"",null,null,null,null,"",null,null,null,null,null,null,null,null,null,null,"",115,"Fill in supplementary fields","Fill in supplementary fields","Fill in supplementary fields","Fill in supplementary fields","Fill in supplementary fields","Enter exposure values in fields A and B","Fill in supplementary fields","Fill in supplementary fields","Fill in supplementary fields","Fill in supplementary fields","."]
[null,null,null,null,null,null,null,null,null,null,null,null,null,null,null,"",null,null,null,null,"",null,null,null,null,null,null,null,null,null,null,"",116,"Fill in supplementary fields","Fill in supplementary fields","Fill in supplementary fields","Fill in supplementary fields","Fill in supplementary fields","Enter exposure values in fields A and B","Fill in supplementary fields","Fill in supplementary fields","Fill in supplementary fields","Fill in supplementary fields","."]
[null,null,null,null,null,null,null,null,null,null,null,null,null,null,null,"",null,null,null,null,"",null,null,null,null,null,null,null,null,null,null,"",117,"Fill in supplementary fields","Fill in supplementary fields","Fill in supplementary fields","Fill in supplementary fields","Fill in supplementary fields","Enter exposure values in fields A and B","Fill in supplementary fields","Fill in supplementary fields","Fill in supplementary fields","Fill in supplementary fields","."]
[null,null,null,null,null,null,null,null,null,null,null,null,null,null,null,"",null,null,null,null,"",null,null,null,null,null,null,null,null,null,null,"",118,"Fill in supplementary fields","Fill in supplementary fields","Fill in supplementary fields","Fill in supplementary fields","Fill in supplementary fields","Enter exposure values in fields A and B","Fill in supplementary fields","Fill in supplementary fields","Fill in supplementary fields","Fill in supplementary fields","."]
[null,null,null,null,null,null,null,null,null,null,null,null,null,null,null,"",null,null,null,null,"",null,null,null,null,null,null,null,null,null,null,"",119,"Fill in supplementary fields","Fill in supplementary fields","Fill in supplementary fields","Fill in supplementary fields","Fill in supplementary fields","Enter exposure values in fields A and B","Fill in supplementary fields","Fill in supplementary fields","Fill in supplementary fields","Fill in supplementary fields","."]
[null,null,null,null,null,null,null,null,null,null,null,null,null,null,null,"",null,null,null,null,"",null,null,null,null,null,null,null,null,null,null,"",120,"Fill in supplementary fields","Fill in supplementary fields","Fill in supplementary fields","Fill in supplementary fields","Fill in supplementary fields","Enter exposure values in fields A and B","Fill in supplementary fields","Fill in supplementary fields","Fill in supplementary fields","Fill in supplementary fields","."]
[null,null,null,null,null,null,null,null,null,null,null,null,null,null,null,"",null,null,null,null,"",null,null,null,null,null,null,null,null,null,null,"",121,"Fill in supplementary fields","Fill in supplementary fields","Fill in supplementary fields","Fill in supplementary fields","Fill in supplementary fields","Enter exposure values in fields A and B","Fill in supplementary fields","Fill in supplementary fields","Fill in supplementary fields","Fill in supplementary fields","."]
[null,null,null,null,null,null,null,null,null,null,null,null,null,null,null,"",null,null,null,null,"",null,null,null,null,null,null,null,null,null,null,"",122,"Fill in supplementary fields","Fill in supplementary fields","Fill in supplementary fields","Fill in supplementary fields","Fill in supplementary fields","Enter exposure values in fields A and B","Fill in supplementary fields","Fill in supplementary fields","Fill in supplementary fields","Fill in supplementary fields","."]
[null,null,null,null,null,null,null,null,null,null,null,null,null,null,null,"",null,null,null,null,"",null,null,null,null,null,null,null,null,null,null,"",123,"Fill in supplementary fields","Fill in supplementary fields","Fill in supplementary fields","Fill in supplementary fields","Fill in supplementary fields","Enter exposure values in fields A and B","Fill in supplementary fields","Fill in supplementary fields","Fill in supplementary fields","Fill in supplementary fields","."]
[null,null,null,null,null,null,null,null,null,null,null,null,null,null,null,"",null,null,null,null,"",null,null,null,null,null,null,null,null,null,null,"",124,"Fill in supplementary fields","Fill in supplementary fields","Fill in supplementary fields","Fill in supplementary fields","Fill in supplementary fields","Enter exposure values in fields A and B","Fill in supplementary fields","Fill in supplementary fields","Fill in supplementary fields","Fill in supplementary fields","."]
[null,null,null,null,null,null,null,null,null,null,null,null,null,null,null,"",null,null,null,null,"",null,null,null,null,null,null,null,null,null,null,"",125,"Fill in supplementary fields","Fill in supplementary fields","Fill in supplementary fields","Fill in supplementary fields","Fill in supplementary fields","Enter exposure values in fields A and B","Fill in supplementary fields","Fill in supplementary fields","Fill in supplementary fields","Fill in supplementary fields","."]
[null,null,null,null,null,null,null,null,null,null,null,null,null,null,null,"",null,null,null,null,"",null,null,null,null,null,null,null,null,null,null,"",126,"Fill in supplementary fields","Fill in supplementary fields","Fill in supplementary fields","Fill in supplementary fields","Fill in supplementary fields","Enter exposure values in fields A and B","Fill in supplementary fields","Fill in supplementary fields","Fill in supplementary fields","Fill in supplementary fields","."]
[null,null,null,null,null,null,null,null,null,null,null,null,null,null,null,"",null,null,null,null,"",null,null,null,null,null,null,null,null,null,null,"",127,"Fill in supplementary fields","Fill in supplementary fields","Fill in supplementary fields","Fill in supplementary fields","Fill in supplementary fields","Enter exposure values in fields A and B","Fill in supplementary fields","Fill in supplementary fields","Fill in supplementary fields","Fill in supplementary fields","."]
[null,null,null,null,null,null,null,null,null,null,null,null,null,null,null,"",null,null,null,null,"",null,null,null,null,null,null,null,null,null,null,"",128,"Fill in supplementary fields","Fill in supplementary fields","Fill in supplementary fields","Fill in supplementary fields","Fill in supplementary fields","Enter exposure values in fields A and B","Fill in supplementary fields","Fill in supplementary fields","Fill in supplementary fields","Fill in supplementary fields","."]
[null,null,null,null,null,null,null,null,null,null,null,null,null,null,null,"",null,null,null,null,"",null,null,null,null,null,null,null,null,null,null,"",129,"Fill in supplementary fields","Fill in supplementary fields","Fill in supplementary fields","Fill in supplementary fields","Fill in supplementary fields","Enter exposure values in fields A and B","Fill in supplementary fields","Fill in supplementary fields","Fill in supplementary fields","Fill in supplementary fields","."]
[null,null,null,null,null,null,null,null,null,null,null,null,null,null,null,{"$f":"IF(Z134=1,\"During this pilot, the final calculation will be suggested by the Secretariat.\",IF(LEN(M134)=0,\"\",HLOOKUP(AF134,$AH$5:$AQ$204,AG134,FALSE)))","v":""},null,null,null,null,"",null,null,null,null,null,null,null,null,null,null,{"$f":"IFERROR(VLOOKUP(M134,AS:AT,2,FALSE),\"\")","v":""},130,"Fill in supplementary fields","Fill in supplementary fields","Fill in supplementary fields","Fill in supplementary fields","Fill in supplementary fields","Enter exposure values in fields A and B","Fill in supplementary fields","Fill in supplementary fields","Fill in supplementary fields","Fill in supplementary fields","."]
[null,null,null,null,null,null,null,null,null,null,null,null,null,null,null,"",null,null,null,null,"",null,null,null,null,null,null,null,null,null,null,"",{"$f":"AG134+1","v":131},{"$f":"IF(Q135>R135,\"A cannot be higher than B\",IF(COUNTA(Q135:S135)=0,\"Fill in supplementary fields\",IFERROR(IF(VALUE(LEFT(U135,1))=1,S135/2+(Q135/R135)*(S135/2),IF(VALUE(LEFT(U135,1))=2,\"impossible combination\",\"check not available\")),\"\")))","v":"Fill in supplementary fields"},{"$f":"IF(Q135>R135,\"A cannot be higher than B\",IF(COUNTA(Q135:S135)=0,\"Fill in supplementary fields\",IFERROR(IF(VALUE(LEFT(U135,1))=1,(Q135/R135)*(S135/2),IF(VALUE(LEFT(U135,1))=2,(Q135/R135)*(S135),\"check not available\")),\"\")))","v":"Fill in supplementary fields"},{"$f":"IF(Q135>R135,\"A cannot be higher than B\",IF(COUNTA(V135:W135)=0,\"Fill in supplementary fields\",(S135/2)*(Q135/R135)+(S135/2)*(1/SUM(V135:W135))))","v":"Fill in supplementary fields"},{"$f":"IF(Q135>R135,\"A cannot be higher than B\",IFERROR(IF(COUNTA(V135:W135)=0,\"Fill in supplementary fields\",S135/2)*(Q135/R135)+(S135/2)*(1/V135),\"Fill in supplementary fields\"))","v":"Fill in supplementary fields"},{"$f":"IF(Q135>R135,\"A cannot be higher than B\",IFERROR(IF(COUNTA(V135:W135)=0,\"Fill in supplementary fields\",IF(V135=0,S135/2*(Q135/R135)+S135/2*(1/W135),(S135/2)*(Q135/R135))),\"Fill in supplementary fields\"))","v":"Fill in supplementary fields"},{"$f":"IF(Q135>R135,\"A cannot be higher than B\",IF(COUNTA(Q135:S135)=0,\"Enter exposure values in fields A and B\",(S135)*(Q135/R135)))","v":"Enter exposure values in fields A and B"},{"$f":"IF(Q135>R135,\"A cannot be higher than B\",IFERROR(IF(COUNTA(V135:W135)=0,\"Fill in supplementary fields\",S135/2)*(Q135/R135)+(S135/2)*(1/V135),\"Fill in supplementary fields\"))","v":"Fill in supplementary fields"},{"$f":"IF(Q135>R135,\"A cannot be higher than B\",IFERROR(IF(COUNTA(V135:W135)=0,\"Fill in supplementary fields\",IF(V135=0,S135/2*(Q135/R135)+S135/2*(1/W135),(S135/2)*(Q135/R135))),\"Fill in supplementary fields\"))","v":"Fill in supplementary fields"},{"$f":"IF(Q135>R135,\"A cannot be higher than B\",IF(COUNTA(Q135:S135)=0,\"Fill in supplementary fields\",(Q135/R135)*((S135)+X135*Y135)))","v":"Fill in supplementary fields"},{"$f":"IF(Q135>R135,\"A cannot be higher than B\",IF(COUNTA(Q135:S135)=0,\"Fill in supplementary fields\",(S135)*(Q135/R135)))","v":"Fill in supplementary fields"},"."]
[null,null,null,null,null,null,null,null,null,null,null,null,null,null,null,"",null,null,null,null,"",null,null,null,null,null,null,null,null,null,null,"",132,"Fill in supplementary fields","Fill in supplementary fields","Fill in supplementary fields","Fill in supplementary fields","Fill in supplementary fields","Enter exposure values in fields A and B","Fill in supplementary fields","Fill in supplementary fields","Fill in supplementary fields","Fill in supplementary fields","."]
[null,null,null,null,null,null,null,null,null,null,null,null,null,null,null,"",null,null,null,null,"",null,null,null,null,null,null,null,null,null,null,"",133,"Fill in supplementary fields","Fill in supplementary fields","Fill in supplementary fields","Fill in supplementary fields","Fill in supplementary fields","Enter exposure values in fields A and B","Fill in supplementary fields","Fill in supplementary fields","Fill in supplementary fields","Fill in supplementary fields","."]
[null,null,null,null,null,null,null,null,null,null,null,null,null,null,null,"",null,null,null,null,"",null,null,null,null,null,null,null,null,null,null,"",134,"Fill in supplementary fields","Fill in supplementary fields","Fill in supplementary fields","Fill in supplementary fields","Fill in supplementary fields","Enter exposure values in fields A and B","Fill in supplementary fields","Fill in supplementary fields","Fill in supplementary fields","Fill in supplementary fields","."]
[null,null,null,null,null,null,null,null,null,null,null,null,null,null,null,"",null,null,null,null,"",null,null,null,null,null,null,null,null,null,null,"",135,"Fill in supplementary fields","Fill in supplementary fields","Fill in supplementary fields","Fill in supplementary fields","Fill in supplementary fields","Enter exposure values in fields A and B","Fill in supplementary fields","Fill in supplementary fields","Fill in supplementary fields","Fill in supplementary fields","."]
[null,null,null,null,null,null,null,null,null,null,null,null,null,null,null,"",null,null,null,null,"",null,null,null,null,null,null,null,null,null,null,"",136,"Fill in supplementary fields","Fill in supplementary fields","Fill in supplementary fields","Fill in supplementary fields","Fill in supplementary fields","Enter exposure values in fields A and B","Fill in supplementary fields","Fill in supplementary fields","Fill in supplementary fields","Fill in supplementary fields","."]
[null,null,null,null,null,null,null,null,null,null,null,null,null,null,null,"",null,null,null,null,"",null,null,null,null,null,null,null,null,null,null,"",137,"Fill in supplementary fields","Fill in supplementary fields","Fill in supplementary fields","Fill in supplementary fields","Fill in supplementary fields","Enter exposure values in fields A and B","Fill in supplementary fields","Fill in supplementary fields","Fill in supplementary fields","Fill in supplementary fields","."]
[null,null,null,null,null,null,null,null,null,null,null,null,null,null,null,"",null,null,null,null,"",null,null,null,null,null,null,null,null,null,null,"",138,"Fill in supplementary fields","Fill in supplementary fields","Fill in supplementary fields","Fill in supplementary fields","Fill in supplementary fields","Enter exposure values in fields A and B","Fill in supplementary fields","Fill in supplementary fields","Fill in supplementary fields","Fill in supplementary fields","."]
[null,null,null,null,null,null,null,null,null,null,null,null,null,null,null,"",null,null,null,null,"",null,null,null,null,null,null,null,null,null,null,"",139,"Fill in supplementary fields","Fill in supplementary fields","Fill in supplementary fields","Fill in supplementary fields","Fill in supplementary fields","Enter exposure values in fields A and B","Fill in supplementary fields","Fill in supplementary fields","Fill in supplementary fields","Fill in supplementary fields","."]
[null,null,null,null,null,null,null,null,null,null,null,null,null,null,null,"",null,null,null,null,"",null,null,null,null,null,null,null,null,null,null,"",140,"Fill in supplementary fields","Fill in supplementary fields","Fill in supplementary fields","Fill in supplementary fields","Fill in supplementary fields","Enter exposure values in fields A and B","Fill in supplementary fields","Fill in supplementary fields","Fill in supplementary fields","Fill in supplementary fields","."]
[null,null,null,null,null,null,null,null,null,null,null,null,null,null,null,"",null,null,null,null,{"$f":"IFERROR(IF(M145=\"1=Syndicated loan, arranger\",\"1=Official institution\",IF(M145=1,\"1=Official institution\",\"\")),\"\")","v":""},null,null,null,null,null,null,null,null,null,null,"",141,"Fill in supplementary fields","Fill in supplementary fields","Fill in supplementary fields","Fill in supplementary fields","Fill in supplementary fields","Enter exposure values in fields A and B","Fill in supplementary fields","Fill in supplementary fields","Fill in supplementary fields","Fill in supplementary fields","."]
[null,null,null,null,null,null,null,null,null,null,null,null,null,null,null,"",null,null,null,null,"",null,null,null,null,null,null,null,null,null,null,"",142,"Fill in supplementary fields","Fill in supplementary fields","Fill in supplementary fields","Fill in supplementary fields","Fill in supplementary fields","Enter exposure values in fields A and B","Fill in supplementary fields","Fill in supplementary fields","Fill in supplementary fields","Fill in supplementary fields","."]
[null,null,null,null,null,null,null,null,null,null,null,null,null,null,null,"",null,null,null,null,"",null,null,null,null,null,null,null,null,null,null,"",143,"Fill in supplementary fields","Fill in supplementary fields","Fill in supplementary fields","Fill in supplementary fields","Fill in supplementary fields","Enter exposure values in fields A and B","Fill in supplementary fields","Fill in supplementary fields","Fill in supplementary fields","Fill in supplementary fields","."]
[null,null,null,null,null,null,null,null,null,null,null,null,null,null,null,"",null,null,null,null,"",null,null,null,null,null,null,null,null,null,null,"",144,"Fill in supplementary fields","Fill in supplementary fields","Fill in supplementary fields","Fill in supplementary fields","Fill in supplementary fields","Enter exposure values in fields A and B","Fill in supplementary fields","Fill in supplementary fields","Fill in supplementary fields","Fill in supplementary fields","."]
[null,null,null,null,null,null,null,null,null,null,null,null,null,null,null,"",null,null,null,null,"",null,null,null,null,null,null,null,null,null,null,"",145,"Fill in supplementary fields","Fill in supplementary fields","Fill in supplementary fields","Fill in supplementary fields","Fill in supplementary fields","Enter exposure values in fields A and B","Fill in supplementary fields","Fill in supplementary fields","Fill in supplementary fields","Fill in supplementary fields","."]
[null,null,null,null,null,null,null,null,null,null,null,null,null,null,null,"",null,null,null,null,"",null,null,null,null,null,null,null,null,null,null,"",146,"Fill in supplementary fields","Fill in supplementary fields","Fill in supplementary fields","Fill in supplementary fields","Fill in supplementary fields","Enter exposure values in fields A and B","Fill in supplementary fields","Fill in supplementary fields","Fill in supplementary fields","Fill in supplementary fields","."]
[null,null,null,null,null,null,null,null,null,null,null,null,null,null,null,"",null,null,null,null,"",null,null,null,null,null,null,null,null,null,null,"",147,"Fill in supplementary fields","Fill in supplementary fields","Fill in supplementary fields","Fill in supplementary fields","Fill in supplementary fields","Enter exposure values in fields A and B","Fill in supplementary fields","Fill in supplementary fields","Fill in supplementary fields","Fill in supplementary fields","."]
[null,null,null,null,null,null,null,null,null,null,null,null,null,null,null,"",null,null,null,null,"",null,null,null,null,null,null,null,null,null,null,"",148,"Fill in supplementary fields","Fill in supplementary fields","Fill in supplementary fields","Fill in supplementary fields","Fill in supplementary fields","Enter exposure values in fields A and B","Fill in supplementary fields","Fill in supplementary fields","Fill in supplementary fields","Fill in supplementary fields","."]
[null,null,null,null,null,null,null,null,null,null,null,null,null,null,null,"",null,null,null,null,"",null,null,null,null,null,null,null,null,null,null,"",149,"Fill in supplementary fields","Fill in supplementary fields","Fill in supplementary fields","Fill in supplementary fields","Fill in supplementary fields","Enter exposure values in fields A and B","Fill in supplementary fields","Fill in supplementary fields","Fill in supplementary fields","Fill in supplementary fields","."]
[null,null,null,null,null,null,null,null,null,null,null,null,null,null,null,"",null,null,null,null,"",null,null,null,null,null,null,null,null,null,null,"",150,"Fill in supplementary fields","Fill in supplementary fields","Fill in supplementary fields","Fill in supplementary fields","Fill in supplementary fields","Enter exposure values in fields A and B","Fill in supplementary fields","Fill in supplementary fields","Fill in supplementary fields","Fill in supplementary fields","."]
[null,null,null,null,null,null,null,null,null,null,null,null,null,null,null,"",null,null,null,null,"",null,null,null,null,null,null,null,null,null,null,"",151,"Fill in supplementary fields","Fill in supplementary fields","Fill in supplementary fields","Fill in supplementary fields","Fill in supplementary fields","Enter exposure values in fields A and B","Fill in supplementary fields","Fill in supplementary fields","Fill in supplementary fields","Fill in supplementary fields","."]
[null,null,null,null,null,null,null,null,null,null,null,null,null,null,null,"",null,null,null,null,"",null,null,null,null,null,null,null,null,null,null,"",152,"Fill in supplementary fields","Fill in supplementary fields","Fill in supplementary fields","Fill in supplementary fields","Fill in supplementary fields","Enter exposure values in fields A and B","Fill in supplementary fields","Fill in supplementary fields","Fill in supplementary fields","Fill in supplementary fields","."]
[null,null,null,null,null,null,null,null,null,null,null,null,null,null,null,"",null,null,null,null,"",null,null,null,null,null,null,null,null,null,null,"",153,"Fill in supplementary fields","Fill in supplementary fields","Fill in supplementary fields","Fill in supplementary fields","Fill in supplementary fields","Enter exposure values in fields A and B","Fill in supplementary fields","Fill in supplementary fields","Fill in supplementary fields","Fill in supplementary fields","."]
[null,null,null,null,null,null,null,null,null,null,null,null,null,null,null,"",null,null,null,null,"",null,null,null,null,null,null,null,null,null,null,"",154,"Fill in supplementary fields","Fill in supplementary fields","Fill in supplementary fields","Fill in supplementary fields","Fill in supplementary fields","Enter exposure values in fields A and B","Fill in supplementary fields","Fill in supplementary fields","Fill in supplementary fields","Fill in supplementary fields","."]
[null,null,null,null,null,null,null,null,null,null,null,null,null,null,null,"",null,null,null,null,"",null,null,null,null,null,null,null,null,null,null,"",155,"Fill in supplementary fields","Fill in supplementary fields","Fill in supplementary fields","Fill in supplementary fields","Fill in supplementary fields","Enter exposure values in fields A and B","Fill in supplementary fields","Fill in supplementary fields","Fill in supplementary fields","Fill in supplementary fields","."]
[null,null,null,null,null,null,null,null,null,null,null,null,null,null,null,"",null,null,null,null,"",null,null,null,null,null,null,null,null,null,null,"",156,"Fill in supplementary fields","Fill in supplementary fields","Fill in supplementary fields","Fill in supplementary fields","Fill in supplementary fields","Enter exposure values in fields A and B","Fill in supplementary fields","Fill in supplementary fields","Fill in supplementary fields","Fill in supplementary fields","."]
[null,null,null,null,null,null,null,null,null,null,null,null,null,null,null,"",null,null,null,null,"",null,null,null,null,null,null,null,null,null,null,"",157,"Fill in supplementary fields","Fill in supplementary fields","Fill in supplementary fields","Fill in supplementary fields","Fill in supplementary fields","Enter exposure values in fields A and B","Fill in supplementary fields","Fill in supplementary fields","Fill in supplementary fields","Fill in supplementary fields","."]
[null,null,null,null,null,null,null,null,null,null,null,null,null,null,null,"",null,null,null,null,"",null,null,null,null,null,null,null,null,null,null,"",158,"Fill in supplementary fields","Fill in supplementary fields","Fill in supplementary fields","Fill in supplementary fields","Fill in supplementary fields","Enter exposure values in fields A and B","Fill in supplementary fields","Fill in supplementary fields","Fill in supplementary fields","Fill in supplementary fields","."]
[null,null,null,null,null,null,null,null,null,null,null,null,null,null,null,"",null,null,null,null,"",null,null,null,null,null,null,null,null,null,null,"",159,"Fill in supplementary fields","Fill in supplementary fields","Fill in supplementary fields","Fill in supplementary fields","Fill in supplementary fields","Enter exposure values in fields A and B","Fill in supplementary fields","Fill in supplementary fields","Fill in supplementary fields","Fill in supplementary fields","."]
[null,null,null,null,null,null,null,null,null,null,null,null,null,null,null,"",null,null,null,null,"",null,null,null,null,null,null,null,null,null,null,"",160,"Fill in supplementary fields","Fill in supplementary fields","Fill in supplementary fields","Fill in supplementary fields","Fill in supplementary fields","Enter exposure values in fields A and B","Fill in supplementary fields","Fill in supplementary fields","Fill in supplementary fields","Fill in supplementary fields","."]
[null,null,null,null,null,null,null,null,null,null,null,null,null,null,null,"",null,null,null,null,"",null,null,null,null,null,null,null,null,null,null,"",161,"Fill in supplementary fields","Fill in supplementary fields","Fill in supplementary fields","Fill in supplementary fields","Fill in supplementary fields","Enter exposure values in fields A and B","Fill in supplementary fields","Fill in supplementary fields","Fill in supplementary fields","Fill in supplementary fields","."]
[null,null,null,null,null,null,null,null,null,null,null,null,null,null,null,{"$f":"IF(Z166=1,\"During this pilot, the final calculation will be suggested by the Secretariat.\",IF(LEN(M166)=0,\"\",HLOOKUP(AF166,$AH$5:$AQ$204,AG166,FALSE)))","v":""},null,null,null,null,"",null,null,null,null,null,null,null,null,null,null,{"$f":"IFERROR(VLOOKUP(M166,AS:AT,2,FALSE),\"\")","v":""},162,"Fill in supplementary fields","Fill in supplementary fields","Fill in supplementary fields","Fill in supplementary fields","Fill in supplementary fields","Enter exposure values in fields A and B","Fill in supplementary fields","Fill in supplementary fields","Fill in supplementary fields","Fill in supplementary fields","."]
[null,null,null,null,null,null,null,null,null,null,null,null,null,null,null,"",null,null,null,null,"",null,null,null,null,null,null,null,null,null,null,"",163,"Fill in supplementary fields","Fill in supplementary fields","Fill in supplementary fields","Fill in supplementary fields","Fill in supplementary fields","Enter exposure values in fields A and B","Fill in supplementary fields","Fill in supplementary fields","Fill in supplementary fields","Fill in supplementary fields","."]
[null,null,null,null,null,null,null,null,null,null,null,null,null,null,null,"",null,null,null,null,"",null,null,null,null,null,null,null,null,null,null,"",164,"Fill in supplementary fields","Fill in supplementary fields","Fill in supplementary fields","Fill in supplementary fields","Fill in supplementary fields","Enter exposure values in fields A and B","Fill in supplementary fields","Fill in supplementary fields","Fill in supplementary fields","Fill in supplementary fields","."]
[null,null,null,null,null,null,null,null,null,null,null,null,null,null,null,"",null,null,null,null,"",null,null,null,null,null,null,null,null,null,null,"",165,"Fill in supplementary fields","Fill in supplementary fields","Fill in supplementary fields","Fill in supplementary fields","Fill in supplementary fields","Enter exposure values in fields A and B","Fill in supplementary fields","Fill in supplementary fields","Fill in supplementary fields","Fill in supplementary fields","."]
[null,null,null,null,null,null,null,null,null,null,null,null,null,null,null,"",null,null,null,null,"",null,null,null,null,null,null,null,null,null,null,"",166,"Fill in supplementary fields","Fill in supplementary fields","Fill in supplementary fields","Fill in supplementary fields","Fill in supplementary fields","Enter exposure values in fields A and B","Fill in supplementary fields","Fill in supplementary fields","Fill in supplementary fields","Fill in supplementary fields","."]
[null,null,null,null,null,null,null,null,null,null,null,null,null,null,null,"",null,null,null,null,"",null,null,null,null,null,null,null,null,null,null,"",167,"Fill in supplementary fields","Fill in supplementary fields","Fill in supplementary fields","Fill in supplementary fields","Fill in supplementary fields","Enter exposure values in fields A and B","Fill in supplementary fields","Fill in supplementary fields","Fill in supplementary fields","Fill in supplementary fields","."]
[null,null,null,null,null,null,null,null,null,null,null,null,null,null,null,"",null,null,null,null,"",null,null,null,null,null,null,null,null,null,null,"",168,"Fill in supplementary fields","Fill in supplementary fields","Fill in supplementary fields","Fill in supplementary fields","Fill in supplementary fields","Enter exposure values in fields A and B","Fill in supplementary fields","Fill in supplementary fields","Fill in supplementary fields","Fill in supplementary fields","."]
[null,null,null,null,null,null,null,null,null,null,null,null,null,null,null,"",null,null,null,null,"",null,null,null,null,null,null,null,null,null,null,"",169,"Fill in supplementary fields","Fill in supplementary fields","Fill in supplementary fields","Fill in supplementary fields","Fill in supplementary fields","Enter exposure values in fields A and B","Fill in supplementary fields","Fill in supplementary fields","Fill in supplementary fields","Fill in supplementary fields","."]
[null,null,null,null,null,null,null,null,null,null,null,null,null,null,null,"",null,null,null,null,"",null,null,null,null,null,null,null,null,null,null,"",170,"Fill in supplementary fields","Fill in supplementary fields","Fill in supplementary fields","Fill in supplementary fields","Fill in supplementary fields","Enter exposure values in fields A and B","Fill in supplementary fields","Fill in supplementary fields","Fill in supplementary fields","Fill in supplementary fields","."]
[null,null,null,null,null,null,null,null,null,null,null,null,null,null,null,"",null,null,null,null,"",null,null,null,null,null,null,null,null,null,null,"",171,"Fill in supplementary fields","Fill in supplementary fields","Fill in supplementary fields","Fill in supplementary fields","Fill in supplementary fields","Enter exposure values in fields A and B","Fill in supplementary fields","Fill in supplementary fields","Fill in supplementary fields","Fill in supplementary fields","."]
[null,null,null,null,null,null,null,null,null,null,null,null,null,null,null,"",null,null,null,null,"",null,null,null,null,null,null,null,null,null,null,"",172,"Fill in supplementary fields","Fill in supplementary fields","Fill in supplementary fields","Fill in supplementary fields","Fill in supplementary fields","Enter exposure values in fields A and B","Fill in supplementary fields","Fill in supplementary fields","Fill in supplementary fields","Fill in supplementary fields","."]
[null,null,null,null,null,null,null,null,null,null,null,null,null,null,null,"",null,null,null,null,"",null,null,null,null,null,null,null,null,null,null,"",173,"Fill in supplementary fields","Fill in supplementary fields","Fill in supplementary fields","Fill in supplementary fields","Fill in supplementary fields","Enter exposure values in fields A and B","Fill in supplementary fields","Fill in supplementary fields","Fill in supplementary fields","Fill in supplementary fields","."]
[null,null,null,null,null,null,null,null,null,null,null,null,null,null,null,"",null,null,null,null,"",null,null,null,null,null,null,null,null,null,null,"",174,"Fill in supplementary fields","Fill in supplementary fields","Fill in supplementary fields","Fill in supplementary fields","Fill in supplementary fields","Enter exposure values in fields A and B","Fill in supplementary fields","Fill in supplementary fields","Fill in supplementary fields","Fill in supplementary fields","."]
[null,null,null,null,null,null,null,null,null,null,null,null,null,null,null,"",null,null,null,null,"",null,null,null,null,null,null,null,null,null,null,"",175,"Fill in supplementary fields","Fill in supplementary fields","Fill in supplementary fields","Fill in supplementary fields","Fill in supplementary fields","Enter exposure values in fields A and B","Fill in supplementary fields","Fill in supplementary fields","Fill in supplementary fields","Fill in supplementary fields","."]
[null,null,null,null,null,null,null,null,null,null,null,null,null,null,null,"",null,null,null,null,"",null,null,null,null,null,null,null,null,null,null,"",176,"Fill in supplementary fields","Fill in supplementary fields","Fill in supplementary fields","Fill in supplementary fields","Fill in supplementary fields","Enter exposure values in fields A and B","Fill in supplementary fields","Fill in supplementary fields","Fill in supplementary fields","Fill in supplementary fields","."]
[null,null,null,null,null,null,null,null,null,null,null,null,null,null,null,"",null,null,null,null,"",null,null,null,null,null,null,null,null,null,null,"",177,"Fill in supplementary fields","Fill in supplementary fields","Fill in supplementary fields","Fill in supplementary fields","Fill in supplementary fields","Enter exposure values in fields A and B","Fill in supplementary fields","Fill in supplementary fields","Fill in supplementary fields","Fill in supplementary fields","."]
[null,null,null,null,null,null,null,null,null,null,null,null,null,null,null,"",null,null,null,null,"",null,null,null,null,null,null,null,null,null,null,"",178,"Fill in supplementary fields","Fill in supplementary fields","Fill in supplementary fields","Fill in supplementary fields","Fill in supplementary fields","Enter exposure values in fields A and B","Fill in supplementary fields","Fill in supplementary fields","Fill in supplementary fields","Fill in supplementary fields","."]
[null,null,null,null,null,null,null,null,null,null,null,null,null,null,null,"",null,null,null,null,"",null,null,null,null,null,null,null,null,null,null,"",179,"Fill in supplementary fields","Fill in supplementary fields","Fill in supplementary fields","Fill in supplementary fields","Fill in supplementary fields","Enter exposure values in fields A and B","Fill in supplementary fields","Fill in supplementary fields","Fill in supplementary fields","Fill in supplementary fields","."]
[null,null,null,null,null,null,null,null,null,null,null,null,null,null,null,"",null,null,null,null,"",null,null,null,null,null,null,null,null,null,null,"",180,"Fill in supplementary fields","Fill in supplementary fields","Fill in supplementary fields","Fill in supplementary fields","Fill in supplementary fields","Enter exposure values in fields A and B","Fill in supplementary fields","Fill in supplementary fields","Fill in supplementary fields","Fill in supplementary fields","."]
[null,null,null,null,null,null,null,null,null,null,null,null,null,null,null,"",null,null,null,null,"",null,null,null,null,null,null,null,null,null,null,"",181,"Fill in supplementary fields","Fill in supplementary fields","Fill in supplementary fields","Fill in supplementary fields","Fill in supplementary fields","Enter exposure values in fields A and B","Fill in supplementary fields","Fill in supplementary fields","Fill in supplementary fields","Fill in supplementary fields","."]
[null,null,null,null,null,null,null,null,null,null,null,null,null,null,null,"",null,null,null,null,"",null,null,null,null,null,null,null,null,null,null,"",182,"Fill in supplementary fields","Fill in supplementary fields","Fill in supplementary fields","Fill in supplementary fields","Fill in supplementary fields","Enter exposure values in fields A and B","Fill in supplementary fields","Fill in supplementary fields","Fill in supplementary fields","Fill in supplementary fields","."]
[null,null,null,null,null,null,null,null,null,null,null,null,null,null,null,"",null,null,null,null,"",null,null,null,null,null,null,null,null,null,null,"",183,"Fill in supplementary fields","Fill in supplementary fields","Fill in supplementary fields","Fill in supplementary fields","Fill in supplementary fields","Enter exposure values in fields A and B","Fill in supplementary fields","Fill in supplementary fields","Fill in supplementary fields","Fill in supplementary fields","."]
[null,null,null,null,null,null,null,null,null,null,null,null,null,null,null,"",null,null,null,null,"",null,null,null,null,null,null,null,null,null,null,"",184,"Fill in supplementary fields","Fill in supplementary fields","Fill in supplementary fields","Fill in supplementary fields","Fill in supplementary fields","Enter exposure values in fields A and B","Fill in supplementary fields","Fill in supplementary fields","Fill in supplementary fields","Fill in supplementary fields","."]
[null,null,null,null,null,null,null,null,null,null,null,null,null,null,null,"",null,null,null,null,"",null,null,null,null,null,null,null,null,null,null,"",185,"Fill in supplementary fields","Fill in supplementary fields","Fill in supplementary fields","Fill in supplementary fields","Fill in supplementary fields","Enter exposure values in fields A and B","Fill in supplementary fields","Fill in supplementary fields","Fill in supplementary fields","Fill in supplementary fields","."]
[null,null,null,null,null,null,null,null,null,null,null,null,null,null,null,"",null,null,null,null,"",null,null,null,null,null,null,null,null,null,null,"",186,"Fill in supplementary fields","Fill in supplementary fields","Fill in supplementary fields","Fill in supplementary fields","Fill in supplementary fields","Enter exposure values in fields A and B","Fill in supplementary fields","Fill in supplementary fields","Fill in supplementary fields","Fill in supplementary fields","."]
[null,null,null,null,null,null,null,null,null,null,null,null,null,null,null,"",null,null,null,null,"",null,null,null,null,null,null,null,null,null,null,"",187,"Fill in supplementary fields","Fill in supplementary fields","Fill in supplementary fields","Fill in supplementary fields","Fill in supplementary fields","Enter exposure values in fields A and B","Fill in supplementary fields","Fill in supplementary fields","Fill in supplementary fields","Fill in supplementary fields","."]
[null,null,null,null,null,null,null,null,null,null,null,null,null,null,null,"",null,null,null,null,"",null,null,null,null,null,null,null,null,null,null,"",188,"Fill in supplementary fields","Fill in supplementary fields","Fill in supplementary fields","Fill in supplementary fields","Fill in supplementary fields","Enter exposure values in fields A and B","Fill in supplementary fields","Fill in supplementary fields","Fill in supplementary fields","Fill in supplementary fields","."]
[null,null,null,null,null,null,null,null,null,null,null,null,null,null,null,"",null,null,null,null,"",null,null,null,null,null,null,null,null,null,null,"",189,"Fill in supplementary fields","Fill in supplementary fields","Fill in supplementary fields","Fill in supplementary fields","Fill in supplementary fields","Enter exposure values in fields A and B","Fill in supplementary fields","Fill in supplementary fields","Fill in supplementary fields","Fill in supplementary fields","."]
[null,null,null,null,null,null,null,null,null,null,null,null,null,null,null,"",null,null,null,null,"",null,null,null,null,null,null,null,null,null,null,"",190,"Fill in supplementary fields","Fill in supplementary fields","Fill in supplementary fields","Fill in supplementary fields","Fill in supplementary fields","Enter exposure values in fields A and B","Fill in supplementary fields","Fill in supplementary fields","Fill in supplementary fields","Fill in supplementary fields","."]
[null,null,null,null,null,null,null,null,null,null,null,null,null,null,null,"",null,null,null,null,"",null,null,null,null,null,null,null,null,null,null,"",191,"Fill in supplementary fields","Fill in supplementary fields","Fill in supplementary fields","Fill in supplementary fields","Fill in supplementary fields","Enter exposure values in fields A and B","Fill in supplementary fields","Fill in supplementary fields","Fill in supplementary fields","Fill in supplementary fields","."]
[null,null,null,null,null,null,null,null,null,null,null,null,null,null,null,"",null,null,null,null,"",null,null,null,null,null,null,null,null,null,null,"",192,"Fill in supplementary fields","Fill in supplementary fields","Fill in supplementary fields","Fill in supplementary fields","Fill in supplementary fields","Enter exposure values in fields A and B","Fill in supplementary fields","Fill in supplementary fields","Fill in supplementary fields","Fill in supplementary fields","."]
[null,null,null,null,null,null,null,null,null,null,null,null,null,null,null,"",null,null,null,null,"",null,null,null,null,null,null,null,null,null,null,"",193,"Fill in supplementary fields","Fill in supplementary fields","Fill in supplementary fields","Fill in supplementary fields","Fill in supplementary fields","Enter exposure values in fields A and B","Fill in supplementary fields","Fill in supplementary fields","Fill in supplementary fields","Fill in supplementary fields","."]
[null,null,null,null,null,null,null,null,null,null,null,null,null,null,null,{"$f":"IF(Z198=1,\"During this pilot, the final calculation will be suggested by the Secretariat.\",IF(LEN(M198)=0,\"\",HLOOKUP(AF198,$AH$5:$AQ$204,AG198,FALSE)))","v":""},null,null,null,null,"",null,null,null,null,null,null,null,null,null,null,{"$f":"IFERROR(VLOOKUP(M198,AS:AT,2,FALSE),\"\")","v":""},194,"Fill in supplementary fields","Fill in supplementary fields","Fill in supplementary fields","Fill in supplementary fields","Fill in supplementary fields","Enter exposure values in fields A and B","Fill in supplementary fields","Fill in supplementary fields","Fill in supplementary fields","Fill in supplementary fields","."]
[null,null,null,null,null,null,null,null,null,null,null,null,null,null,null,"",null,null,null,null,"",null,null,null,null,null,null,null,null,null,null,"",{"$f":"AG198+1","v":195},{"$f":"IF(Q199>R199,\"A cannot be higher than B\",IF(COUNTA(Q199:S199)=0,\"Fill in supplementary fields\",IFERROR(IF(VALUE(LEFT(U199,1))=1,S199/2+(Q199/R199)*(S199/2),IF(VALUE(LEFT(U199,1))=2,\"impossible combination\",\"check not available\")),\"\")))","v":"Fill in supplementary fields"},{"$f":"IF(Q199>R199,\"A cannot be higher than B\",IF(COUNTA(Q199:S199)=0,\"Fill in supplementary fields\",IFERROR(IF(VALUE(LEFT(U199,1))=1,(Q199/R199)*(S199/2),IF(VALUE(LEFT(U199,1))=2,(Q199/R199)*(S199),\"check not available\")),\"\")))","v":"Fill in supplementary fields"},{"$f":"IF(Q199>R199,\"A cannot be higher than B\",IF(COUNTA(V199:W199)=0,\"Fill in supplementary fields\",(S199/2)*(Q199/R199)+(S199/2)*(1/SUM(V199:W199))))","v":"Fill in supplementary fields"},{"$f":"IF(Q199>R199,\"A cannot be higher than B\",IFERROR(IF(COUNTA(V199:W199)=0,\"Fill in supplementary fields\",S199/2)*(Q199/R199)+(S199/2)*(1/V199),\"Fill in supplementary fields\"))","v":"Fill in supplementary fields"},{"$f":"IF(Q199>R199,\"A cannot be higher than B\",IFERROR(IF(COUNTA(V199:W199)=0,\"Fill in supplementary fields\",IF(V199=0,S199/2*(Q199/R199)+S199/2*(1/W199),(S199/2)*(Q199/R199))),\"Fill in supplementary fields\"))","v":"Fill in supplementary fields"},{"$f":"IF(Q199>R199,\"A cannot be higher than B\",IF(COUNTA(Q199:S199)=0,\"Enter exposure values in fields A and B\",(S199)*(Q199/R199)))","v":"Enter exposure values in fields A and B"},{"$f":"IF(Q199>R199,\"A cannot be higher than B\",IFERROR(IF(COUNTA(V199:W199)=0,\"Fill in supplementary fields\",S199/2)*(Q199/R199)+(S199/2)*(1/V199),\"Fill in supplementary fields\"))","v":"Fill in supplementary fields"},{"$f":"IF(Q199>R199,\"A cannot be higher than B\",IFERROR(IF(COUNTA(V199:W199)=0,\"Fill in supplementary fields\",IF(V199=0,S199/2*(Q199/R199)+S199/2*(1/W199),(S199/2)*(Q199/R199))),\"Fill in supplementary fields\"))","v":"Fill in supplementary fields"},{"$f":"IF(Q199>R199,\"A cannot be higher than B\",IF(COUNTA(Q199:S199)=0,\"Fill in supplementary fields\",(Q199/R199)*((S199)+X199*Y199)))","v":"Fill in supplementary fields"},{"$f":"IF(Q199>R199,\"A cannot be higher than B\",IF(COUNTA(Q199:S199)=0,\"Fill in supplementary fields\",(S199)*(Q199/R199)))","v":"Fill in supplementary fields"},"."]
[null,null,null,null,null,null,null,null,null,null,null,null,null,null,null,"",null,null,null,null,"",null,null,null,null,null,null,null,null,null,null,"",196,"Fill in supplementary fields","Fill in supplementary fields","Fill in supplementary fields","Fill in supplementary fields","Fill in supplementary fields","Enter exposure values in fields A and B","Fill in supplementary fields","Fill in supplementary fields","Fill in supplementary fields","Fill in supplementary fields","."]
[null,null,null,null,null,null,null,null,null,null,null,null,null,null,null,"",null,null,null,null,"",null,null,null,null,null,null,null,null,null,null,"",197,"Fill in supplementary fields","Fill in supplementary fields","Fill in supplementary fields","Fill in supplementary fields","Fill in supplementary fields","Enter exposure values in fields A and B","Fill in supplementary fields","Fill in supplementary fields","Fill in supplementary fields","Fill in supplementary fields","."]
[null,null,null,null,null,null,null,null,null,null,null,null,null,null,null,"",null,null,null,null,"",null,null,null,null,null,null,null,null,null,null,"",198,"Fill in supplementary fields","Fill in supplementary fields","Fill in supplementary fields","Fill in supplementary fields","Fill in supplementary fields","Enter exposure values in fields A and B","Fill in supplementary fields","Fill in supplementary fields","Fill in supplementary fields","Fill in supplementary fields","."]
[null,null,null,null,null,null,null,null,null,null,null,null,null,null,null,"",null,null,null,null,"",null,null,null,null,null,null,null,null,null,null,"",199,{"$f":"IF(Q203>R203,\"A cannot be higher than B\",IF(COUNTA(Q203:S203)=0,\"Fill in supplementary fields\",IFERROR(IF(VALUE(LEFT(U203,1))=1,S203/2+(Q203/R203)*(S203/2),IF(VALUE(LEFT(U203,1))=2,\"impossible combination\",\"check not available\")),\"\")))","v":"Fill in supplementary fields"},{"$f":"IF(Q203>R203,\"A cannot be higher than B\",IF(COUNTA(Q203:S203)=0,\"Fill in supplementary fields\",IFERROR(IF(VALUE(LEFT(U203,1))=1,(Q203/R203)*(S203/2),IF(VALUE(LEFT(U203,1))=2,(Q203/R203)*(S203),\"check not available\")),\"\")))","v":"Fill in supplementary fields"},{"$f":"IF(Q203>R203,\"A cannot be higher than B\",IF(COUNTA(V203:W203)=0,\"Fill in supplementary fields\",(S203/2)*(Q203/R203)+(S203/2)*(1/SUM(V203:W203))))","v":"Fill in supplementary fields"},{"$f":"IF(Q203>R203,\"A cannot be higher than B\",IFERROR(IF(COUNTA(V203:W203)=0,\"Fill in supplementary fields\",S203/2)*(Q203/R203)+(S203/2)*(1/V203),\"Fill in supplementary fields\"))","v":"Fill in supplementary fields"},{"$f":"IF(Q203>R203,\"A cannot be higher than B\",IFERROR(IF(COUNTA(V203:W203)=0,\"Fill in supplementary fields\",IF(V203=0,S203/2*(Q203/R203)+S203/2*(1/W203),(S203/2)*(Q203/R203))),\"Fill in supplementary fields\"))","v":"Fill in supplementary fields"},{"$f":"IF(Q203>R203,\"A cannot be higher than B\",IF(COUNTA(Q203:S203)=0,\"Enter exposure values in fields A and B\",(S203)*(Q203/R203)))","v":"Enter exposure values in fields A and B"},{"$f":"IF(Q203>R203,\"A cannot be higher than B\",IFERROR(IF(COUNTA(V203:W203)=0,\"Fill in supplementary fields\",S203/2)*(Q203/R203)+(S203/2)*(1/V203),\"Fill in supplementary fields\"))","v":"Fill in supplementary fields"},{"$f":"IF(Q203>R203,\"A cannot be higher than B\",IFERROR(IF(COUNTA(V203:W203)=0,\"Fill in supplementary fields\",IF(V203=0,S203/2*(Q203/R203)+S203/2*(1/W203),(S203/2)*(Q203/R203))),\"Fill in supplementary fields\"))","v":"Fill in supplementary fields"},{"$f":"IF(Q203>R203,\"A cannot be higher than B\",IF(COUNTA(Q203:S203)=0,\"Fill in supplementary fields\",(Q203/R203)*((S203)+X203*Y203)))","v":"Fill in supplementary fields"},{"$f":"IF(Q203>R203,\"A cannot be higher than B\",IF(COUNTA(Q203:S203)=0,\"Fill in supplementary fields\",(S203)*(Q203/R203)))","v":"Fill in supplementary fields"},"."]
[null,null,null,null,null,null,null,null,null,null,null,null,null,null,null,"",null,null,null,null,null,null,null,null,null,null,null,null,null,null,null,"",200,"Fill in supplementary fields","Fill in supplementary fields","Fill in supplementary fields","Fill in supplementary fields","Fill in supplementary fields","Enter exposure values in fields A and B","Fill in supplementary fields","Fill in supplementary fields","Fill in supplementary fields","Fill in supplementary fields","."]

{"sheet":"Validation table","index":7,"n_rows":66,"n_cols":11,"rows_kept":66,"cut":false,"hidden":false,"merged":[]}
["Validation table for CRS++",null,null,null,null,null,null,null,null,"Reporting country:","???"]
["DISBURSEMENTS AND COMMITMENTS OF OFFICIAL AND PRIVATE FLOWS",null,null,null,null,null,null,null,null,"Period:",2023]
["2024 edition",null,null,null,null,null,null,null,null,"Date:","???"]
[]
[null,null,1121,1122,1120,1131,1130,1140,1151,1152,1150]
[null,null,"D I S B U R S E M E N T S",null,null,null,null,null,"COMMITMENTS"]
["Million US dollars",null,"-------- Amounts Extended --------",null,null,"Recoveries","Amounts received","Net\nAmounts",null,null,"Total commitments"]
[null,null,null,null,null,"(-)","(-)"]
[null,null,"Grants (1)","Non grants","Total amounts extended","Grants (2)","Non grants",null,"Grants (1)","Non grants"]
["I. BILATERAL FLOWS",null,"/","/","/","/","/","/","/","/","/"]
["I. A. Geographical distribution",null,"/","/","/","/","/","/","/","/","/"]
["I.A.1 Bilateral ODA (tables DAC 2a and 3a)","1015",{"$f":"SUM(C13:C18)","v":0},{"$f":"SUM(D13:D18)","v":0},{"$f":"C12+D12","v":0},{"$f":"SUM(F13:F18)","v":0},{"$f":"SUM(G13:G18)","v":0},{"$f":"E12+F12+G12","v":0},{"$f":"SUM(I13:I18)","v":0},{"$f":"SUM(J13:J18)","v":0},{"$f":"I12+J12","v":0}]
["1.1 Europe","10001",null,null,{"$f":"C13+D13","v":0},null,null,{"$f":"E13+F13+G13","v":0},null,null,{"$f":"I13+J13","v":0}]
["1.2 Africa","10002",null,null,0,null,null,0,null,null,0]
["1.3 America","10003",null,null,0,null,null,0,null,null,0]
["1.4 Asia","10004",null,null,0,null,null,0,null,null,0]
["1.5 Oceania","10005",null,null,0,null,null,0,null,null,0]
["1.6 Bilateral unallocated","10998",null,null,0,null,null,{"$f":"E18+F18+G18","v":0},null,null,0]
["Memo:  Interest received on loans (3)","10209","/","/","/","/",null,"/","/","/","/"]
["I.A.2. PSI flows (from table DAC 2b)","3400",{"$f":"SUM(C21:C26)","v":0},{"$f":"SUM(D21:D26)","v":0},{"$f":"C20+D20","v":0},{"$f":"SUM(F21:F26)","v":0},0,{"$f":"E20+F20+G20","v":0},{"$f":"SUM(I21:I26)","v":0},0,{"$f":"I20+J20","v":0}]
["2.1 Europe","34001",null,null,0,null,null,0,null,null,0]
["2.2 Africa","34002",null,null,0,null,null,0,null,null,0]
["2.3 America","34003",null,null,0,null,null,0,null,null,0]
["2.4 Asia","34004",null,null,0,null,null,0,null,null,0]
["2.5 Oceania","34005",null,null,0,null,null,0,null,null,0]
["2.6 Bilateral unallocated","34998",null,null,0,null,null,0,null,null,0]
["I.A.3. Bilateral OOF (from table DAC 2b)","210",{"$f":"SUM(C28:C33)","v":0},{"$f":"SUM(D28:D33)","v":0},{"$f":"C27+D27","v":0},0,0,0,0,0,{"$f":"I27+J27","v":0}]
["2.1 Europe","20001",null,null,0,null,null,0,null,null,0]
["2.2 Africa","20002",null,null,0,null,null,0,null,null,0]
["2.3 America","20003",null,null,0,null,null,0,null,null,0]
["2.4 Asia","20004",null,null,0,null,null,0,null,null,0]
["2.5 Oceania","20005",null,null,0,null,null,0,null,null,0]
["2.6 Bilateral unallocated","20998",null,null,0,null,null,0,null,null,0]
["I.A.4. Officially Supported export credits (from table DAC 2b)","30000",{"$f":"SUM(C35:C40)","v":0},{"$f":"SUM(D35:D40)","v":0},0,{"$f":"SUM(F35:F40)","v":0},{"$f":"SUM(G35:G40)","v":0},0,{"$f":"SUM(I35:I40)","v":0},{"$f":"SUM(J35:J40)","v":0},0]
["3.1 Europe","30001",null,null,0,null,null,0,null,null,0]
["3.2 Africa","30002",null,null,0,null,null,0,null,null,0]
["3.3 America","30003",null,null,0,null,null,0,null,null,0]
["3.4 Asia","30004",null,null,0,null,null,0,null,null,0]
["3.5 Oceania","30005",null,null,0,null,null,0,null,null,0]
["3.6 Bilateral unallocated","30998",null,null,0,null,null,0,null,null,0]
["I.A.5. Bilateral private flows (table DAC 4)","3320",{"$f":"SUM(C42:C47)","v":0},{"$f":"SUM(D42:D47)","v":0},{"$f":"C41+D41","v":0},{"$f":"SUM(F42:F47)","v":0},{"$f":"SUM(G42:G47)","v":0},0,"/","/","/"]
["4.1 Europe","40001",null,null,0,null,null,0,"/","/","/"]
["4.2 Africa","40002",null,null,0,null,null,0,"/","/","/"]
["4.3 America","40003",null,null,0,null,null,0,"/","/","/"]
["4.4 Asia","40004",null,null,0,null,null,0,"/","/","/"]
["4.5 Oceania","40005",null,null,0,null,null,0,"/","/","/"]
["4.6 Bilateral unallocated","40998",null,null,0,null,null,0,"/","/","/"]
["I.B. Sectoral distribution of bilateral ODA (table DAC 5)","5000",{"$f":"C49+C50","v":0},{"$f":"D49+D50","v":0},0,"/","/",{"$f":"E48","v":0},0,0,{"$f":"I48+J48","v":0}]
["Sector allocable","5450",null,null,0,"/","/",0,null,null,{"$f":"I49+J49","v":0}]
["Non sector allocable","5999",null,null,0,"/","/",0,null,null,0]
["Memo:    Developmental food aid","5520",null,null,0,"/","/",0,null,null,0]
["Humanitarian aid","5700",null,null,0,"/","/",0,null,null,0]
["              Relief food aid","5762",null,null,0,"/","/",0,null,null,0]
[]
["Memo: ODA components of associated financing packages","1990",null,null,{"$f":"C55+D55","v":0},null,null,{"$f":"E55+F55+G55","v":0},null,null,0]
[]
["II. MULTILATERAL ODA FLOWS (tables DAC 2a and 3a)","2000",{"$f":"C58+C59","v":0},{"$f":"D60","v":0},{"$f":"C57+D57","v":0},{"$f":"F58+F59","v":0},{"$f":"G60","v":0},{"$f":"E57+F57+G57","v":0},{"$f":"I58+I59","v":0},{"$f":"J60","v":0},{"$f":"I57+J57","v":0}]
["1. Grants","2201",null,"/",{"$f":"C58","v":0},null,"/",{"$f":"E58+F58","v":0},null,"/",{"$f":"I58","v":0}]
["2. Capital Subscriptions (deposit basis)","2210",null,"/",{"$f":"C59","v":0},null,"/",{"$f":"E59+F59","v":0},null,"/",{"$f":"I59","v":0}]
["3. Loans","2218","/",null,{"$f":"D60","v":0},"/",null,{"$f":"E60+G60","v":0},"/",null,{"$f":"J60","v":0}]
["Memo:  Capital subscriptions on an encashment basis","2211",null,"/",{"$f":"C61","v":0},"/","/",{"$f":"E61","v":0},"/","/","/"]
["        Interest received on loans","2209","/","/","/","/",null,"/","/","/","/"]
[]
["(1) Also includes capital subscriptions to multilateral agencies."]
["(2) Also includes recoveries on capital subscriptions."]
["(3) Does not include offsetting entries for forgiven interest."]

{"sheet":"type_of_finance","index":8,"n_rows":46,"n_cols":4,"rows_kept":46,"cut":false,"hidden":true,"merged":[]}
["Finance_T","NameE","NameF"]
[110,"Standard grant","Dons ordinaires"]
[210,"Interest subsidy","Bonification d'intérêt"]
[310,"Capital subscription on deposit basis","Souscriptions au capital sur la base des dépôt"]
[311,"Capital subscription on encashment basis","Souscriptions au capital sur la base des encaissements "]
[421,"Standard loan","Prêt ordinaire"]
[422,"Reimbursable grant ","Don remboursable"]
[423,"Bonds","Obligations"]
[424,"Asset-backed securities ","Titres adossés à des actifs"]
[425,"Other debt securities","Autres actifs de dette"]
[431,"Subordinated loan ","Prêt subordonné"]
[432,"Preferred equity ","Action privilégiée"]
[433,"Other hybrid instruments ","Autres instruments hybrides"]
[510,"Common equity","Action ordinaire"]
[520,"Shares in collective investment vehicles ","Parts dans des organismes collectifs d'investissement"]
[530,"Reinvested earnings","Bénéfices réinvestis"]
[610,"Debt forgiveness:  ODA claims (P)","Annulation/conversion de la dette : créance APD (P)"]
[611,"Debt forgiveness: ODA claims (I)","Annulation/conversion de la dette : créance APD (I)"]
[612,"Debt forgiveness: OOF claims (P)","Annulation/conversion de la dette : créance AASP (P)"]
[613,"Debt forgiveness: OOF claims (I)","Annulation/conversion de la dette : créance AASP (I)"]
[614,"Debt forgiveness:  Private claims (P)","Annulation/conversion de la dette : créance du secteur privé (P)"]
[615,"Debt forgiveness:  Private claims (I)","Annulation/conversion de la dette : créance du secteur privé (I)"]
[616,"Debt forgiveness: OOF claims (DSR)","Annulation/conversion de la dette : créance AASP (DSR)"]
[617,"Debt forgiveness:  Private claims (DSR)","Annulation/conversion de la dette : créance du secteur privé (DSR)"]
[618,"Debt forgiveness: Other","Annulation/conversion de la dette : autre"]
[620,"Debt rescheduling: ODA claims (P)","Rééchelonnement de la dette : créance APD (P)"]
[621,"Debt rescheduling: ODA claims (I)","Rééchelonnement de la dette : créance APD (I)"]
[622,"Debt rescheduling: OOF claims (P)","Rééchelonnement de la dette : créance AASP (P)"]
[623,"Debt rescheduling: OOF claims (I)","Rééchelonnement de la dette : créance AASP (I)"]
[624,"Debt rescheduling:  Private claims (P)","Rééchelonnement de la dette : créance du secteur privé (P)"]
[625,"Debt rescheduling:  Private claims (I)","Rééchelonnement de la dette : créance du secteur privé (I)"]
[626,"Debt rescheduling: OOF claims (DSR)","Rééchelonnement de la dette : créance AASP (RSD)"]
[627,"Debt rescheduling:  Private claims (DSR)","Rééchelonnement de la dette : créance du secteur privé (RSD)"]
[630,"Debt rescheduling: OOF claim (DSR – original loan principal) ","Rééchelonnement de la dette : créance AASP (RSD – principal du prêt d’origine)"]
[631,"Debt rescheduling: OOF claim (DSR – original loan interest)","Rééchelonnement de la dette : créance AASP (RSD – intérêts du prêt d’origine)"]
[632,"Debt rescheduling: Private claim (DSR – original loan principal)","Rééchelonnement de la dette : créance du secteur privé (RSD – principal du prêt d’origine)"]
[633,"Debt forgiveness/conversion: export credit claims (P)","Annulation/conversion de la dette : créance de crédit à l'exportation (P)"]
[634,"Debt forgiveness/conversion:  export credit claims (I)","Annulation/conversion de la dette : créance de crédit à l'exportation (I)"]
[635,"Debt forgiveness:  export credit claims (DSR)","Annulation de la dette : créance de crédit à l'exportation (DSR)"]
[636,"Debt rescheduling:  export credit claims (P)","Rééchelonnement de la dette : créance de crédit à  l'exportation (P)"]
[637,"Debt rescheduling:  export credit claims (I)","Rééchelonnement de la dette : créance de crédit à  l'exportation (I)"]
[638,"Debt rescheduling:  export credit claims (DSR)","Rééchelonnement de la dette : créance de crédit à  l'exportation (DSR)"]
[639,"Debt rescheduling:  export credit claim (DSR – original loan principal)","Rééchelonnement de la dette : créance de crédit à  l'exportation (DSR - principal du prêt originel)"]
[1100,"Guarantees/insurance ","Garanties/assurances"]
[2100,"Direct provider spending",null,"TOSSD specific code "]
[3100,"Subsidies and similar transfers",null,"TOSSD specific code "]

{"sheet":"tossd codelist","index":9,"n_rows":20,"n_cols":3,"rows_kept":20,"cut":false,"hidden":true,"merged":[]}
["code","name","Description"]
["FA01","BLENDED FINANCE","The strategic use of development finance for the mobilisation of additional finance towards sustainable development."]
["FA02","ISLAMIC FINANCE","Sharia-compliant finance (the Islamic finance instruments are included in the financial instruments classification in the relevant categories)."]
["FA03","CO-FINANCING ARRANGEMENTS INVOLVING RECIPIENT COUNTERPART FUNDS","The co-financing by the recipient country public institutions."]
["FA04","OFFICIALLY-SUPPORTED EXPORT CREDITS","Credits extended by government-owned or controlled specialised export-financing agencies or institutions (ECAs) for commercial purposes to finance a specific purchase of goods or services from within the creditor country. They include both official direct export credits (i.e. loans extended by ECAs to facilitate exports to developing countries) and officially-guaranteed/insured export credits (i.e. loans extended by the private sector, but guaranteed/insured by ECAs to finance an export transaction)."]
[]
[]
[]
[]
["code","name","Description"]
["FC01","SOUTH-SOUTH CO-OPERATION","A broad framework of collaboration among countries of the South in the political, economic, social, cultural, environmental and technical domains. Involving two or more TOSSD-eligible countries, it can take place on a bilateral, regional, intraregional or interregional basis. TOSSD-eligible countries share knowledge, skills, expertise and resources to meet their development goals through concerted efforts."]
["FC02","TRIANGULAR CO-OPERATION","A multi-country partnership involving partners with the following roles:\no The beneficiary partner that requests support to tackle a specific development challenge.\no The pivotal partner that has proven experience in tackling the issue, and shares its resources, knowledge and expertise to help others do the same. \no The facilitating partner that helps connect the partners, supporting the collaboration financially and technically."]
[]
[]
[]
[]
[]
["code","name","Description"]
[1,"Pillar I","Cross border resources extended to TOSSD-eligible countries in support of sustainable development."]
[2,"Pillar II","Regional and global expenditures (that do not involve cross border flows to TOSSD eligible countries) to support the provision of international public goods, promote development enablers and address global challenges."]

{"sheet":"type_of_aid","index":10,"n_rows":63,"n_cols":2,"rows_kept":63,"cut":false,"hidden":true,"merged":[]}
["Aid_T","Aid_T_Description_E"]
["A01","General budget support"]
["A02","Sector budget support"]
["B01","Core support to NGOs, other private bodies, PPPs and research institutes"]
["B02","Core contributions to multilateral institutions"]
["B021","Core contributions to multilateral institutions"]
["B022","Core contributions to global funds"]
["B03","Contributions to specific-purpose programmes and funds managed by international organisations (multilateral, INGO)"]
["B031","Contributions to multi-donor/multi-entity funding mechanisms"]
["B032","Contributions to multi-donor/single-entity funding mechanisms"]
["B033","Contributions to single-donor funding mechanisms and contributions earmarked for a specific funding window or geographical location"]
["B04","Basket funds/pooled funding"]
["B05","PSI intra-governmental transfers"]
["C01","Project-type interventions"]
["D01","Donor country personnel"]
["D02","Other technical assistance"]
["E01","Scholarships/training in donor country"]
["E02","Imputed student costs"]
["F01","Debt relief"]
["G01","Administrative costs not included elsewhere"]
["H01","Development awareness"]
["H02","Refugees/asylum seekers in donor countries"]
["H03","Asylum-seekers ultimately accepted"]
["H04","Asylum-seekers ultimately rejected"]
["H05","Recognised refugees"]
["H06","Refugees and asylum seekers in other provider countries"]
[]
[]
[]
[]
["TOSSD specific codes"]
["Aid_T","Aid_T_Description_E"]
["A00","Budget support"]
["B01","Core support to NGOs, other private bodies, PPPs and research institutes"]
["B02","Core contributions to multilateral institutions"]
["B02a","Assessed contributions to multilateral institutions"]
["B02b","Voluntary core contributions to multilateral institutions"]
["B03","Contributions to specific-purpose programmes and funds managed by international organisations (multilateral, INGO)"]
["B04","Basket funds/pooled funding"]
["C01","Projects"]
["D01","In-kind technical co-operation experts"]
["D02","Other technical co-operation"]
["E01","Scholarships/training in donor country"]
["E02","Imputed student costs"]
["F01","Debt relief - principal (original loan previously recorded in TOSSD)"]
["F02","Debt relief - principal (original loan not recorded in TOSSD)"]
["F03","Debt relief - interest"]
["G01","Administrative costs not included elsewhere"]
["H00","Expenditures in the provider country"]
["I01","Support to refugees/protected persons in the provider country (up to 12 months of their stay) "]
["I02","Support to refugees/protected persons in the provider country (beyond the 12-month period)"]
["I05","Support to refugees/protected persons/migrants for their integration in the economy of provider countries"]
["K02","RESEARCH AND DEVELOPMENT (R&D)"]
[]
[]
["not indic"]
["F01"]
["F02"]
["F03"]
["G01"]
["I01"]
["I02"]
["I05"]

{"sheet":"donor_agency","index":11,"n_rows":451,"n_cols":11,"rows_kept":451,"cut":false,"hidden":true,"merged":[]}
["DonorCode","DonorNameE","DonorNameF","AgencyCode","AgencyNameE","AgencyNameF","AcronymE","AcronymF","AgencyType"]
[1,"Austria","Autriche",1,"Federal Ministry of Finance","Ministère fédéral des finances","BMF","BMF",1,null,"OB 2022 Script "]
[1,"Austria","Autriche",2,"Various ministries","Ministères divers","MIN","MIN",2,null,"Select  "]
[1,"Austria","Autriche",3,"Federal Government of Austria","Gouvernement fédéral d'Autriche","BReg","BReg",2,null,"A.DonorCode, D.DonorNameE, D.DonorNameF,  "]
[1,"Austria","Autriche",4,"Oesterreichische Kontrollbank AG","Oesterreichische Kontrollbank AG","OeKB","OeKB",4,null,"A.AgencyCode, A.AgencyNameE, A.AgencyNameF, A.AcronymE, A.AcronymF, "]
[1,"Austria","Autriche",5,"Federal Ministry for European and International Affairs","Ministère fédéral des Affaires européennes et internationales","BMEIA","BMEIA",1,null,"A.AgencyType "]
[1,"Austria","Autriche",6,"Provincial governments, local communities","Administrations provinciales, communautés locales","Reg","Reg",3]
[1,"Austria","Autriche",7,"Federal Chancellery","Federal Chancellery","BKA","BKA",2,null,"from "]
[1,"Austria","Autriche",8,"Austrian Development Agency","Agence autrichienne de développement","ADA","ADA",1,null,"DCD_Prod.DCD.LookupDonorAgency A"]
[1,"Austria","Autriche",9,"FM of Education, Science and Research","Ministère fédéral de l'Education, des Sciences et de la Recherche","BMBWF","BMBWF",2,null,"inner join "]
[1,"Austria","Autriche",10,"Federal Ministry of Agriculture, Regions and Tourism","Ministère fédéral de l'Agriculture, des Régions et du Tourisme","BMLRT","BMLRT",2,null,"DCD_Prod.DCD.LookupDonor D"]
[1,"Austria","Autriche",11,"FM of Defense","Ministère fédéral de la défense","BMLV","BMLV",2,null,"on D.DonorCode = A.DonorCode"]
[1,"Austria","Autriche",12,"Ministry of Interior","Ministère de l'intérieur","BMI","BMI",2]
[1,"Austria","Autriche",13,"Austrian Development Bank","Banque de développement de l'Autriche","OeEB","OeEB",5,null,"where "]
[1,"Austria","Autriche",14,"Ministry for Education, Arts and Culture","Ministère Fédéral de l'Education, des Arts et de la Culture","BM:UKK","BM:UKK",99,null,"isnull(A.Dissemination,3) <> 0"]
[1,"Austria","Autriche",15,"Ministry for Science, Research and Economy","Ministère de la science, de la recherche et de l'économie","BMWFW","BMWFW",99,null,"and D.DonorCode in (Select DonorCode from DCD_Prod.DCD.DonorGroup where groupid in (20005,21600))"]
[1,"Austria","Autriche",16,"Federal Ministry of Education and Women's Affairs","Ministère fédéral de l'éducation et des affaires des femmes","BMBF","BMBF",99]
[1,"Austria","Autriche",17,"Federal Ministry of Climate Action, Environment, Energy, Mobility, Innovation and Technology","Ministère fédéral de l'Action climatique, de l'Environnement, de l'Energie, de l'Innovation et de la Technologie","BMK","BMK",2]
[1,"Austria","Autriche",98,"Other Public Bodies","Autres agences publiques","OPB","AAP",99]
[1,"Austria","Autriche",99,"Miscellaneous","Divers","MISC","MISC",2]
[2,"Belgium","Belgique",10,"Directorate General for Co-operation and Development","Direction générale pour la coopération et le développement","DGCD","DGCD",1]
[2,"Belgium","Belgique",20,"Official Federal Service of Foreign Affaires (excl. DGCD)","Service public fédéral des affaires étrangères (hors. DGCD)","SPAE","SPAE",2]
[2,"Belgium","Belgique",22,"Belgian Investment Company for Developing Countries","Société belge d'Investissement pour les Pays en Développement","BIO","BIO",5]
[2,"Belgium","Belgique",30,"Official Federal Service of Finance","Service public fédéral des finances","SPFF","SPFF",2]
[2,"Belgium","Belgique",31,"Ducroire National Office","Office national du Ducroire","OND","OND",4]
[2,"Belgium","Belgique",39,"Other Official Federal Services","Autres services publics fédéraux","ASPF","ASPF",2]
[2,"Belgium","Belgique",60,"provinces/municipalities","provinces/municipalités","LOC","LOC",2]
[2,"Belgium","Belgique",70,"Flanders Official Regional Ministries","Ministères régionaux publics des Flandres","MPRF","MPRF",3]
[2,"Belgium","Belgique",80,"Walloon Official Regional Ministries","Ministères régionaux publics de Wallonie","MPRW","MPRW",3]
[2,"Belgium","Belgique",91,"Brussels Official Regional Ministries","Ministères régionaux publics de Bruxelles","MPRB","MPRB",3]
[2,"Belgium","Belgique",94,"German speaking Official Regional Ministries","Ministères régionaux publics de langue allemande","MPRG","MPRG",3]
[2,"Belgium","Belgique",99,"Miscellaneous","Divers","MISC","MISC",2]
[3,"Denmark","Danemark",1,"Ministry of Foreign Affairs","Ministère des affaires étrangères","MFA","MAE",1]
[3,"Denmark","Danemark",2,"Danish International Development Agency ","Danish International Development Agency ","DANIDA","DANIDA",1]
[3,"Denmark","Danemark",3,"Investment Fund For Developing Countries","IFU","IFU","IFU",5]
[3,"Denmark","Danemark",4,"Other ministries","Autres ministères","NULL","NULL",2]
[3,"Denmark","Danemark",5,"Ministry for Immigration, Integration and Housing","Ministère de l'immigration, de l'intégration et du logement","UIBM","UIBM",2]
[3,"Denmark","Danemark",72,"Eksport Kredit Fonden","EKR","EKR","EKR",4]
[3,"Denmark","Danemark",99,"Miscellaneous","Divers","MISC","MISC",2]
[4,"France","France",1,"Government","Gouvernement","GOV","GOUV",99]
[4,"France","France",2,"MINEFI/NATEXIS","MINEFI/NATEXIS","MINEFI/NATEXIS","MINEFI/NATEXIS",99]
[4,"France","France",3,"French Development Agency","Agence française de développement","AFD","AFD",1]
[4,"France","France",6,"Ministry of Foreign Affairs","Ministère des affaires étrangères","MAE","MAE",1]
[4,"France","France",7,"MAE/FSP","MAE/FSP","MAE/FSP","MAE/FSP",99]
[4,"France","France",8,"COOP DECENTRAL/MAE","COOP DECENTRAL","COOP DECENTRAL","COOP DECENTRAL",99]
[4,"France","France",9,"MAE/COOP","MAE/COOP","MAE/COOP","MAE/COOP",99]
[4,"France","France",10,"Ministry of Economy, Finance and Industry","Ministère de l'économie, des finances et de l'industrie","MINEFI","MINEFI",2]
[4,"France","France",12,"Ministry of Interior","Ministère de l'intérieur","INT","INT",2]
[4,"France","France",13,"Ministry of Agriculture","Ministère de l'agriculture","AGRI","AGRI",2]
[4,"France","France",14,"Ministry of Defence","Ministère de la défense","DEF","DEF",2]
[4,"France","France",15,"Interdepartmental","Interministériel","InterMin","InterMin",2]
[4,"France","France",16,"Other Ministries","Autres Ministère","NULL","NULL",2]
[4,"France","France",17,"Ministry of Education, Higher education and Research","MEN/EDUC-NATIONALE","MEN","MEN",2]
[4,"France","France",30,"MIN/EQUIPEMENT","MIN/EQUIPEMENT","MIN/EQUIPEMENT","MIN/EQUIPEMENT",99]
[4,"France","France",35,"MIN/TRANSPORTS","MIN/TRANSPORTS","MIN/TRANSPORTS","MIN/TRANSPORTS",99]
[4,"France","France",36,"MIN/SANTE","MIN/SANTE","MIN/SANTE","MIN/SANTE",99]
[4,"France","France",37,"MIN/TRAVAIL","MIN/TRAVAIL","MIN/TRAVAIL","MIN/TRAVAIL",99]
[4,"France","France",42,"MINEFI/BDF","MINEFI/BDF","MINEFI/BDF","MINEFI/BDF",99]
[4,"France","France",43,"Coface","Coface","Coface","Coface",4]
[4,"France","France",44,"Proparco","Proparco","Proparco","Proparco",5]
[4,"France","France",45,"STOA","STOA","STOA","STOA",5]
[4,"France","France",46,"CIRAD","Centre de coopération internationale en recherche agronomique pour le développement","CIRAD","CIRAD",2]
[4,"France","France",47,"IRD","Institut de recherche pour le développement","CIRAD","CIRAD",2]
[4,"France","France",91,"TRESOR","TRESOR","TRESOR","TRESOR",99]
[4,"France","France",92,"SEU","SEU","SEU","SEU",99]
[4,"France","France",93,"PTT","PTT","PTT","PTT",99]
[4,"France","France",94,"ORTF","ORTF","ORTF","ORTF",99]
[4,"France","France",99,"Miscellaneous","Divers","MISC","MISC",2]
[5,"Germany","Allemagne",1,"Federal Ministry for Economic Cooperation and Development","Ministère fédéral de la coopération économique et du développement","BMZ","BMZ",2]
[5,"Germany","Allemagne",2,"KfW Bankengruppe (KfW banking group)","KfW Bankengruppe (groupe bancaire KfW)","KfW","KfW",1]
[5,"Germany","Allemagne",4,"Deutsche Investitions- und Entwicklungsgesellschaft mbH (German Investment and Development Company)","Deutsche Investitions- und Entwicklungsgesellschaft mbH (Société allemande d’investissement et de développement)","DEG","DEG",5]
[5,"Germany","Allemagne",5,"Federal Ministry of Finance","Ministère fédéral des finances","BMF","BMF",2]
[5,"Germany","Allemagne",7,"Federal Foreign Office","Ministère fédéral des affaires étrangères","FFO","FFO",2]
[5,"Germany","Allemagne",9,"Federal Ministry for the Enviroment, Nature Conservation, Nuclear Safety and Consumer Protection","Ministère fédéral de l'Environnement, de la protection de la nature, de la sûreté nucléaire et de la protection des consommateurs","BMUV","BMUV",2]
[5,"Germany","Allemagne",12,"Federal States and Local Governments","Etats fédéraux et collectivités territoriales","L G","L G",3]
[5,"Germany","Allemagne",14,"Federal Institutions","Institutions fédérales","Fed.Inst.","Fed.Inst.",2]
[5,"Germany","Allemagne",16,"Federal Ministries","Ministères fédéraux","Fed.Min.","Fed.Min.",2]
[5,"Germany","Allemagne",17,"Foundations/Societies/Misc. (non federal)","Fondations/Sociétés/Divers (non fédéral)","Found","Found",2]
[5,"Germany","Allemagne",34,"Euler Hermes Aktiengesellschaft","Euler Hermes Aktiengesellschaft","Euler Hermes","Euler Hermes",4]
[5,"Germany","Allemagne",52,"Deutsche Gesellschaft für Internationale Zusammenarbeit (GIZ) GmbH","Deutsche Gesellschaft für Internationale Zusammenarbeit (GIZ) GmbH","GIZ","GIZ",1]
[5,"Germany","Allemagne",60,"Federal Ministry of the Interior and Community","Ministère fédéral de l’intérieur et du territoire","BMI","BMI",2]
[5,"Germany","Allemagne",61,"Federal Ministry of Justice","Ministère fédéral de la justice","BMJ","BMJ",2]
[5,"Germany","Allemagne",62,"Federal Ministry for Economic Affairs and Climate Action","Ministère fédéral de l'économie et de la protection du climat","BMWK","BMWK",2]
[5,"Germany","Allemagne",63,"Federal Ministry of Food and Agriculture","Ministère fédéral de l'alimentation et de l'agriculture","BMEL","BMEL",2]
[5,"Germany","Allemagne",64,"Federal Ministry of Defence","Ministère fédéral de la défense","BMVg","BMVg",2]
[5,"Germany","Allemagne",65,"Federal Ministry for Family Affairs, Senior Citizens, Women and Youth","Ministère fédéral de la famille, des personnes âgées, de la femme et de la jeunesse","BMFSFJ","BMFSFJ",2]
[5,"Germany","Allemagne",66,"Federal Ministry of Health","Ministère fédéral de la santé","BMG","BMG",2]
[5,"Germany","Allemagne",67,"Federal Ministry for Digital and Transport","Ministère fédéral du numérique et des transports","BMDV","BMDV",2]
[5,"Germany","Allemagne",68,"Federal Ministry of Education and Research","Ministère fédéral de l'éducation et de la recherche","BMBF","BMBF",2]
[5,"Germany","Allemagne",69,"Federal Government Commissioner for Culture and the Media","Délégué du gouvernement fédéral à la culture et aux médias","BKM","BKM",2]
[5,"Germany","Allemagne",70,"German Bundestag","Bundestag allemand","Bundestag","Bundestag",2]
[5,"Germany","Allemagne",71,"Federal Ministry of Labour and Social Affairs","Ministère fédéral du travail et des affaires sociales","BMAS","BMAS",2]
[5,"Germany","Allemagne",72,"Federal Ministry for Housing, Urban Development and Building","Ministère fédéral du logement, du développement urbain et de la construction","BMWSB","BMWSB",99]
[5,"Germany","Allemagne",80,"Land Schleswig-Holstein","Land de Schleswig-Holstein","Schleswig-Holstein","Schleswig-Holstein",3]
[5,"Germany","Allemagne",81,"Free and Hanseatic City of Hamburg","Ville libre et hanséatique de Hambourg","Hamburg","Hamburg",3]
[5,"Germany","Allemagne",82,"Land Lower-Saxony","Land de Basse-Saxe","Niedersachsen","Niedersachsen",3]
[5,"Germany","Allemagne",83,"Free Hanseatic City of Bremen","Ville libre hanséatique de Brême","Bremen","Bremen",3]
[5,"Germany","Allemagne",84,"Land North Rhine-Westphalia","Land de Rhénanie du Nord-Westphalie","Nordrhein-Westfalen","Nordrhein-Westfalen",3]
[5,"Germany","Allemagne",85,"Land Hesse","Land de Hesse","Hessen","Hessen",3]
[5,"Germany","Allemagne",86,"Land Rhineland-Palatinate","Land de Rhénanie-Palatinat","Rheinland-Pfalz","Rheinland-Pfalz",3]
[5,"Germany","Allemagne",87,"Land Baden-Württemberg","Land de Bade-Wurtemberg","Baden-Württemberg","Baden-Württemberg",3]
[5,"Germany","Allemagne",88,"Free State of Bavaria","Etat libre de Bavière","Bayern","Bayern",3]
[5,"Germany","Allemagne",89,"Land Saarland","Sarre","Saarland","Saarland",3]
[5,"Germany","Allemagne",90,"Land Berlin","Land de Berlin","Berlin","Berlin",3]
[5,"Germany","Allemagne",91,"Land Brandenburg","Land de Brandebourg","Brandenburg","Brandenburg",3]
[5,"Germany","Allemagne",92,"Land Mecklenburg-Western Pomerania","Land de Mecklembourg-Poméranie occidentale","Mecklenburg-Vorpommern","Mecklenburg-Vorpommern",3]
[5,"Germany","Allemagne",93,"Land Saxony-Anhalt","Land de Saxe-Anhalt","Sachsen-Anhalt","Sachsen-Anhalt",3]
[5,"Germany","Allemagne",94,"Free State of Saxony","Etat libre de Saxe","Sachsen","Sachsen",3]
[5,"Germany","Allemagne",95,"Free State of Thuringia","Etat libre de Thuringe","Thüringen","Thüringen",3]
[5,"Germany","Allemagne",99,"Miscellaneous","Divers","MISC","MISC",2]
[6,"Italy","Italie",1,"MGI","MGI","MGI","MGI",99]
[6,"Italy","Italie",2,"Agenzia Erogazioni Per l'Agricoltura","Agenzia Erogazioni Per l'Agricoltura","AGEA","AGEA",2]
[6,"Italy","Italie",3,"OGPI","OGPI","OGPI","OGPI",99]
[6,"Italy","Italie",4,"Agenzia italiana per la cooperazione allo sviluppo","Agenzia italiana per la cooperazione allo sviluppo","AICS","AICS",1]
[6,"Italy","Italie",5,"MC","MC","MC","MC",99]
[6,"Italy","Italie",7,"Central administration","Administration centrale","CA","CA",2]
[6,"Italy","Italie",8,"Local administration","Administration locale","LA","LA",3]
[6,"Italy","Italie",9,"Artigiancassa","Artigiancassa","Art.","Art.",2]
[6,"Italy","Italie",10,"Earmarked fiscal flows to NGOs & religious organisations","Flux fiscaux pré-affectés aux ONG et organisations religieuses","NULL","NULL",2]
[6,"Italy","Italie",11,"Public universities, research institutes and Italian red cross","Universités, institutions de recherche publiques et croix rouge italienne","NULL","NULL",2]
[6,"Italy","Italie",12,"Ministry of Foreign Affairs and International Cooperation","Ministère des affaires étrangères et de la coopération internationale","MAECI","MAECI",2]
[6,"Italy","Italie",13,"Ministry of Economy and Finance","Ministère de l'économie et des finances","MEF","MEF",2]
[6,"Italy","Italie",14,"Italian Society for Enterprises Abroad","Societa italiana per le Imprese all'Estero","SIMEST","SIMEST",5]
[6,"Italy","Italie",15,"Ministry of the Environment and Protection of Land and Sea","Ministère de l'environnement, de la protection du territoire et de la mer","MATTM","MATTM",2]
[6,"Italy","Italie",16,"Cassa Depositi e Prestiti","Cassa Depositi e Prestiti","CDP","CDP",5]
[6,"Italy","Italie",17,"Third Party funds administered by CDP","Fonds de tiers administrés par la CDP","NULL","NULL",2]
[6,"Italy","Italie",74,"Sezione Speciale per l'Assicurazione del Credito all'Esportazione","Sezione Speciale per l'Assicurazione del Credito all'Esportazione","SACE","SACE",4]
[6,"Italy","Italie",99,"Miscellaneous","Divers","MISC","MISC",2]
[7,"Netherlands","Pays-Bas",1,"Ministry of Foreign Affairs of the Netherlands","Ministère des affaires étrangères des Pays-Bas","MFA","MAE",1]
[7,"Netherlands","Pays-Bas",3,"NG","NG","NG","NG",99]
[7,"Netherlands","Pays-Bas",4,"NLD Gov. through NLD Inv Bank for Developing Countries","Gouv hollandais à travers la banque hollandaise d'inv pour les pays en dvmt","NIO/FMO","NIO/FMO",2]
[7,"Netherlands","Pays-Bas",5,"FMO","FMO","FMO","FMO",5]
[7,"Netherlands","Pays-Bas",6,"Ministry for Justice and Security","Ministère de la justice et de la sécurité","JenV","JenV",2]
[7,"Netherlands","Pays-Bas",33,"NCM Credit Management Worldwide","NCM Credit Management Worldwide","NCM","NCM",4]
[7,"Netherlands","Pays-Bas",99,"Miscellaneous","Divers","MISC","MISC",2]
[8,"Norway","Norvège",1,"Norwegian Agency for Development Co-operation","Agence norvégienne de coopération pour le développement","NORAD","NORAD",1]
[8,"Norway","Norvège",4,"Ministry of Foreign Affairs","Ministère des affaires étrangères","MFA","MAE",1]
[8,"Norway","Norvège",7,"Innovation Norway","Innovation Norway","IN","IN",2]
[8,"Norway","Norvège",8,"NORFUND","NORFUND","NORFUND","NORFUND",5]
[8,"Norway","Norvège",9,"Norwegian Agency for Exchange Cooperation","Agence norvégienne de coopération pour les échanges","FK","FK",2]
[8,"Norway","Norvège",10,"Office of the Auditor General","Office of the Auditor General","OAG","OAG",2]
[8,"Norway","Norvège",11,"Ministry of Defence","Ministère de la défense","DEF","DEF",2]
[8,"Norway","Norvège",12,"Ministry of Climate and Environment","Ministère du climat et de l'environnement","ENV","ENV",2]
[8,"Norway","Norvège",13,"Ministry of Finance","Ministère des finances","FIN","FIN",2]
[8,"Norway","Norvège",14,"Ministry of Education and Research","Ministère de l'éducation et de la recherche ","KD","KD",2]
[8,"Norway","Norvège",15,"Ministry of Children and Families","Ministère des familles et des enfants","BFD","BFD",2]
[8,"Norway","Norvège",16,"Ministry of Justice and Public Security","Ministère de la justice et de la sécurité publique","JD","JD",2]
[8,"Norway","Norvège",17,"Ministry of Labour and Social Inclusion","Ministère du travail et de l'inclusion sociale","AID ","AID ",2]
[8,"Norway","Norvège",18,"Ministry of Health and Care Services","Ministère de la santé et des services de soins ","HOD","HOD",2]
[8,"Norway","Norvège",71,"Garantiinstituttet for eksportkreditt","Garantiinstituttet for Eksportkreditt","GIEK","GIEK",4]
[8,"Norway","Norvège",99,"Miscellaneous","Divers","MISC","MISC",2]
[9,"Portugal","Portugal",1,"Portuguese Government","Gouvernement portugais","GP","GP",1]
[9,"Portugal","Portugal",2,"Camões-Institute for Cooperation and Language","Camões-Institut pour la coopération et la langue","CICL","CICL",1]
[9,"Portugal","Portugal",3,"Municipalities","Municipalités","MUNIC","MUNIC",3]
[9,"Portugal","Portugal",4,"SOFID Sociedade para o Financiamento do Desenvolvimento","SOFID Société pour le financement du développement","SOFID Society for Development Financ","SOFID Society for Development Financ",5]
[9,"Portugal","Portugal",71,"Conselho de garantias financeiras","Conselho de garantias financeiras","COSEC","COSEC",4]
[9,"Portugal","Portugal",99,"Miscellaneous","Divers","MISC","MISC",2]
[10,"Sweden","Suède",1,"SIDA","SIDA","SIDA","SIDA",99]
[10,"Sweden","Suède",2,"Ministry of Foreign Affairs","Ministère des affaires étrangères","MFA","MAE",2]
[10,"Sweden","Suède",3,"SG","SG","SG","SG",99]
[10,"Sweden","Suède",4,"SAREC","SAREC","SAREC","SAREC",99]
[10,"Sweden","Suède",5,"BITS","BITS","BITS","BITS",99]
[10,"Sweden","Suède",6,"Swedish International Development Authority","Administration suédoise de développement international","Sida","Sida",1]
[10,"Sweden","Suède",11,"Ministry of the Environment","Ministry of the Environment","ENV","ENV",99]
[10,"Sweden","Suède",20,"Folke Bernadotte Academy","Folke Bernadotte Academy","NULL","NULL",99]
[10,"Sweden","Suède",21,"The Nordic Africa Institute","The Nordic Africa Institute","NULL","NULL",99]
[10,"Sweden","Suède",22,"SwedFund","SwedFund","SwedFund","SwedFund",5]
[10,"Sweden","Suède",23,"Swedish Civil Contingencies Agency","Swedish Civil Contingencies Agency","NULL","NULL",99]
[10,"Sweden","Suède",24,"Swedish Institute","Swedish Institute","NULL","NULL",99]
[10,"Sweden","Suède",25,"Swedish Prison and Probation Service","Swedish Prison and Probation Service","NULL","NULL",99]
[10,"Sweden","Suède",27,"Swedish National Audit Office","Swedish National Audit Office","NULL","NULL",99]
[10,"Sweden","Suède",28,"Swedish Radiation Safety Authority","Swedish Radiation Safety Authority","NULL","NULL",99]
[10,"Sweden","Suède",29,"The Swedish Research Council","The Swedish Research Council","NULL","NULL",99]
[10,"Sweden","Suède",30,"Swedish Council for Higher Education","Swedish Council for Higher Education","NULL","NULL",99]
[10,"Sweden","Suède",31,"Swedish Prosecution Authority","Swedish Prosecution Authority","NULL","NULL",99]
[10,"Sweden","Suède",32,"Swedish National Courts Administration","Swedish National Courts Administration","NULL","NULL",99]
[10,"Sweden","Suède",36,"Swedish Police Authority","Swedish Police Authority","NULL","NULL",99]
[10,"Sweden","Suède",37,"Swedish Consumer Agency","Swedish Consumer Agency","NULL","NULL",99]
[10,"Sweden","Suède",38,"Swedish National Debt Office","Swedish National Debt Office","NULL","NULL",99]
[10,"Sweden","Suède",39,"National Board of Trade","Bureau national du commerce","NULL","NULL",99]
[10,"Sweden","Suède",71,"Swedish Export Credits Guarantee Board","Comité suédois de garantie de crédits à l'exportation","EKN","EKN",4]
[10,"Sweden","Suède",80,"Statistics Sweden","Statistics Sweden","NULL","NULL",99]
[10,"Sweden","Suède",99,"Miscellaneous","Divers","MISC","MISC",2]
[11,"Switzerland","Suisse",1,"Federal Administration (various departments)","Administration fédérale (divers départements)","FA","FA",2]
[11,"Switzerland","Suisse",4,"Swiss Agency for Development and Co-operation","Direction du développement et de la coopération","SDC","SDC",1]
[11,"Switzerland","Suisse",5,"State Secretariat for Economic Affairs","Secrétariat d'Etat à l'économie","Seco","Seco",2]
[11,"Switzerland","Suisse",6,"Federal Department of Foreign Affairs","Département fédéral des affaires étrangères","FDFA","FDFA",2]
[11,"Switzerland","Suisse",7,"State Secretariat for Education, Research and Innovation","Secrétariat d'Etat à la formation, à la recherche et à l'innovation","SEFRI","SEFRI",2]
[11,"Switzerland","Suisse",8,"State Secretariat for Migration","Secrétariat d'Etat aux migrations","SEM","SEM",2]
[11,"Switzerland","Suisse",9,"Federal Department for Defence, Civil Protection and Sports","Dép. fédéral de la défense, de la protection de la population et des sports","DDPS","DDPS",2]
[11,"Switzerland","Suisse",10,"Federal Office for the Environment","Office fédéral de l'environnement","FOEN","FOEN",2]
[11,"Switzerland","Suisse",11,"Cantons and municipalities","Cantons et communes","MUNIC","MUNIC",3]
[11,"Switzerland","Suisse",22,"Swiss Investment Fund for Emerging Markets","SIFEM","SIFEM","SIFEM",5]
[11,"Switzerland","Suisse",99,"Miscellaneous","Divers","MISC","MISC",2]
[12,"United Kingdom","Royaume-Uni",1,"Department for International Development","Département pour le développement international","DFID","DFID",1]
[12,"United Kingdom","Royaume-Uni",2,"British International Investment","British International Investment","BII","BII",5]
[12,"United Kingdom","Royaume-Uni",3,"Foreign & Commonwealth Office","Foreign & Commonwealth Office","FCO","FCO",2]
[12,"United Kingdom","Royaume-Uni",4,"Department of Energy and Climate Change","Département de l'énergie et du changement climatique","DECC","DECC",2]
[12,"United Kingdom","Royaume-Uni",5,"Export Credit Guarantee Department","Département de garantie de crédits à l'exportation","ECGD","ECGD",4]
[12,"United Kingdom","Royaume-Uni",6,"Home Office","Home Office","HO","HO",2]
[12,"United Kingdom","Royaume-Uni",7,"Department for Environment Food and Rural Affairs","Département pour l'environnement, l'alimentation et les affaires rurales","DEFRA","DEFRA",2]
[12,"United Kingdom","Royaume-Uni",8,"Ministry of Defence","Ministère de la Défense","MOD","MOD",2]
[12,"United Kingdom","Royaume-Uni",9,"Department for Work and Pensions","Department for Work and Pensions","DWP","DWP",2]
[12,"United Kingdom","Royaume-Uni",10,"Department of Health  and Social Care","Ministère de la santé et de la protection sociale","DHSC","DHSC",2]
[12,"United Kingdom","Royaume-Uni",11,"Department for Business, Innovation and Skills","Département des affaires de l'innovation et des compétences","BIS","BIS",2]
[12,"United Kingdom","Royaume-Uni",12,"Department for Culture, Media and Sports","Département de la Culture des Médias et du Sport","DCMS","DCMS",2]
[12,"United Kingdom","Royaume-Uni",13,"Prosperity Fund","Fonds prospérité","PF","PF",2]
[12,"United Kingdom","Royaume-Uni",14,"Conflict stability and security fund","Fonds de stabilisation des conflits et pour la sécurité","CSSF","CSSF",2]
[12,"United Kingdom","Royaume-Uni",15,"HM Revenue and Customs","Administration fiscale et douanière","HMRC","HMRC",2]
[12,"United Kingdom","Royaume-Uni",16,"Department for Business, Energy and Industrial Strategy","Département des affaires, de l'énergie et de la stratégie industrielle","BEIS","BEIS",2]
[12,"United Kingdom","Royaume-Uni",17,"Foreign, Commonwealth and Development Office","Foreign, Commonwealth and Development Office","FCDO","FCDO",1]
[12,"United Kingdom","Royaume-Uni",21,"Scottish Government","Gouvernement Ecossais","SG","SG",3]
[12,"United Kingdom","Royaume-Uni",22,"Welsh Assembly Government","Assemblée Gouvernementale Galloise","WAG","WAG",3]
[12,"United Kingdom","Royaume-Uni",23,"FSD Africa (FSDA)","FSD Africa (FSDA)","FSDA","FSDA",5]
[12,"United Kingdom","Royaume-Uni",24,"Department for Education","Département pour l'éducation","DfE","DfE",2]
[12,"United Kingdom","Royaume-Uni",25,"Mobilising Finance for Forests","Mobiliser des financements pour les forêts","MFF","MFF",5]
[12,"United Kingdom","Royaume-Uni",26,"UK-India Tech Start-up Fund","Fonds UK-Inde pour la création d'entreprises technologiques","NULL","NULL",5]
[12,"United Kingdom","Royaume-Uni",27,"Department for Levelling Up, Housing and Communities","Département de l'Égalité des chances, du Logement et des Communautés","DLUHC",null,2]
[12,"United Kingdom","Royaume-Uni",28,"Innovative Ventures and Technologies for Development","Entreprises et technologies innovantes pour développement","INVENT","INVENT",5]
[12,"United Kingdom","Royaume-Uni",29,"Mobilising Institutional Capital Through Listed Product Structures","Mobilising Institutional Capital Through Listed Product Structures","MOBILIST","MOBILIST",5]
[12,"United Kingdom","Royaume-Uni",30,"UK Climate Investments","UK Climate Investments","UKCI","UKCI",5]
[12,"United Kingdom","Royaume-Uni",99,"Miscellaneous","Divers","MISC","MISC",2]
[18,"Finland","Finlande",1,"Finnish Government","Gouvernement finlandais","FG","FG",2]
[18,"Finland","Finlande",2,"FinnFund","FinnFund","FF","FF",5]
[18,"Finland","Finlande",3,"Ministry of Foreign Affairs","Ministère des affaires étrangères","MFA","MAE",1]
[18,"Finland","Finlande",4,"Other Ministries","Other Ministries","NULL","NULL",2]
[18,"Finland","Finlande",72,"FinnVera","FinnVera","FinnVera","FinnVera",4]
[18,"Finland","Finlande",99,"Miscellaneous","Divers","MISC","MISC",2]
[20,"Iceland","Islande",1,"Ministry of Foreign Affairs","Ministère des affaires étrangères","MFA","MAE",1]
[20,"Iceland","Islande",2,"ICEIDA","ICEIDA","ICEIDA","ICEIDA",1]
[20,"Iceland","Islande",3,"ICRU","ICRU","ICRU","ICRU",2]
[20,"Iceland","Islande",4,"Ministry of Finance","Ministère des finances","FIN","FIN",2]
[20,"Iceland","Islande",99,"Miscellaneous","Divers","MISC","MISC",2]
[21,"Ireland","Irlande",1,"Department of Foreign Affairs","Département des affaires étrangères","DFA","DFA",1]
[21,"Ireland","Irlande",2,"Department of Finance","Département des Finances","FIN","FIN",2]
[21,"Ireland","Irlande",3,"Department of Agriculture, Food and the Marine","Department of Agriculture, Food and the Marine","DAFM","DAFM",2]
[21,"Ireland","Irlande",99,"Miscellaneous","Divers","MISC","MISC",99]
[22,"Luxembourg","Luxembourg",1,"Lux-Development","Lux-Development","LuxDev","LuxDev",2]
[22,"Luxembourg","Luxembourg",2,"Ministry of Foreign and European Affairs","Ministère des Affaires étrangères et européennes","MFEA","MAEE",1]
[22,"Luxembourg","Luxembourg",3,"Ministry of Finance","Ministère des Finances","MFIN","MFIN",2]
[22,"Luxembourg","Luxembourg",4,"Ministry of Culture","Ministère de la Culture","MCULT","MCULT",2]
[22,"Luxembourg","Luxembourg",5,"Ministry of Health","Ministère de la Santé","MSAN","MSAN",2]
[22,"Luxembourg","Luxembourg",22,"Ducroire Office","Bureau de Ducroire","ODL","ODL",4]
[22,"Luxembourg","Luxembourg",99,"Miscellaneous","Divers","MISC","MISC",2]
[40,"Greece","Grèce",1,"Ministry of the Interior","Ministère de l'intérieur","INT","INT",2]
[40,"Greece","Grèce",2,"Ministry of Finance","Ministère des finances","MF","MF",2]
[40,"Greece","Grèce",3,"Ministry of Foreign Affairs","Ministère des affaires étrangères","MFA","MAE",1]
[40,"Greece","Grèce",4,"Ministry of National Defense","Ministère de la défense nationale","MND","MND",2]
[40,"Greece","Grèce",5,"Ministry of Development, Competitiveness & Shipping","Ministère du développement, de la compétitivité et de la navigation","MDCS","MDCS",2]
[40,"Greece","Grèce",6,"Ministry of the Environment, Energy & Climate Change","Ministère de l'environnement, de l'énergie et du changement climatique","MEECC","MEECC",2]
[40,"Greece","Grèce",7,"Ministry of Education, Life Long Learning & Religions","Ministère de l'éducation de la formation continue et des religions","MELLLR","MELLLR",2]
[40,"Greece","Grèce",8,"Ministry of Infrastructure, Transport and Networks","Ministère des infrastructures, des transports et des réseaux","MITN","MITN",2]
[40,"Greece","Grèce",9,"Ministry of Employment & Social Security","Ministère de l'emploi et de la sécurité sociale","MESS","MESS",2]
[40,"Greece","Grèce",10,"Ministry of Health & Social Solidarity","Ministère de la santé et de la solidarité sociale","MHSS","MHSS",2]
[40,"Greece","Grèce",11,"Ministry of Agricultural Development & Food","Ministère du développement agricole et de l'alimentation","MADF","MADF",2]
[40,"Greece","Grèce",12,"Ministry of Justice, Transparency & Human Rights","Ministère de la Justice, de la transparence et des droits humains","MJTHR","MJTHR",2]
[40,"Greece","Grèce",13,"Ministry of Citizen Protection","Ministère de la protection des citoyens","MCP","MCP",2]
[40,"Greece","Grèce",14,"Ministry of Culture & Tourism","Ministère de la culture et du tourisme","MCT","MCT",2]
[40,"Greece","Grèce",15,"Municipalities","Municipalités","LA","LA",3]
[40,"Greece","Grèce",99,"Miscellaneous","Divers","MISC","MISC",2]
[50,"Spain","Espagne",1,"Instituto de Credito Oficial","Instituto de Credito Oficial","ICO","ICO",1]
[50,"Spain","Espagne",2,"Compania Espanola de Seguros de Credito a la Exportacion","Compania Espanola de Seguros de Credito a la Exportación","CESCE","CESCE",4]
[50,"Spain","Espagne",4,"Ministry of Agriculture, Fisheries, and Food","Ministère de l'agriculture, pêche et alimentation","AGR","AGR",2]
[50,"Spain","Espagne",5,"Ministry of Foreign Affairs and Co-operation","Ministère des affaires étrangères et cooperation","MFA","MAE",1]
[50,"Spain","Espagne",6,"Ministry of Economy and Business","Ministère de l'économie et des affaires","ECON","ECON",2]
[50,"Spain","Espagne",7,"Ministry of Education, Culture and Sports","Ministère de l'éducation, de la culture et des sports","EDUC","EDUC",2]
[50,"Spain","Espagne",8,"Ministry of Public Works","Ministère des travaux publics","MPW","MPW",2]
[50,"Spain","Espagne",9,"Ministry of Industry and Energy","Ministère de l'industrie et de l'énergie","MIE","MIE",2]
[50,"Spain","Espagne",10,"Ministry of the Environment and Rural and Marine Environs","Ministère de l'environnement","MARM","MARM",2]
[50,"Spain","Espagne",11,"Ministry of Health","Ministère de la santé","MOH","MOH",2]
[50,"Spain","Espagne",12,"Ministry of Labour, Migration and Social Security","Ministère de l'emploi, la migration et la securité sociale","EMP","EMP",2]
[50,"Spain","Espagne",13,"Ministry of Interior","Ministère de l'intérieur","INT","INT",2]
[50,"Spain","Espagne",14,"Ministry of Finance","Ministère des finances","FIN","FIN",2]
[50,"Spain","Espagne",15,"Autonomous Governments","Gouvernements autonomes","AG","AG",3]
[50,"Spain","Espagne",16,"Municipalities","Municipalités","MUNIC","MUNIC",3]
[50,"Spain","Espagne",18,"Ministry of Science and Technology","Ministère des sciences et de la technologie","MST","MST",2]
[50,"Spain","Espagne",19,"Ministry of Defense","Ministère de la défense","DEF","DEF",2]
[50,"Spain","Espagne",20,"Public Universities","Public Universities","UNIV","UNIV",2]
[50,"Spain","Espagne",21,"Spanish Agency for International Development Co-operation","Spanish Agency for International Development Co-operation","AECID","AECID",2]
[50,"Spain","Espagne",22,"Others ministries","Autres ministères","NULL","NULL",2]
[50,"Spain","Espagne",30,"Comunidad Autónoma de Andalucía","Comunidad Autónoma de Andalucía","NULL","NULL",3]
[50,"Spain","Espagne",31,"Comunidad Autónoma de Aragón","Comunidad Autónoma de Aragón","NULL","NULL",3]
[50,"Spain","Espagne",32,"Comunidad Autónoma del Principado de Asturias","Comunidad Autónoma del Principado de Asturias","NULL","NULL",3]
[50,"Spain","Espagne",33,"Comunidad Autónoma de las Illes Balears","Comunidad Autónoma de las Illes Balears","NULL","NULL",3]
[50,"Spain","Espagne",34,"Comunidad Autónoma de Canarias","Comunidad Autónoma de Canarias","NULL","NULL",3]
[50,"Spain","Espagne",35,"Comunidad Autónoma de Cantabria","Comunidad Autónoma de Cantabria","NULL","NULL",3]
[50,"Spain","Espagne",36,"Comunidad de Castilla y León","Comunidad de Castilla y León","NULL","NULL",3]
[50,"Spain","Espagne",37,"Comunidad Autónoma de Castilla-La Mancha","Comunidad Autónoma de Castilla-La Mancha","NULL","NULL",3]
[50,"Spain","Espagne",38,"Comunidad Autónoma de Cataluña","Comunidad Autónoma de Cataluña","NULL","NULL",3]
[50,"Spain","Espagne",39,"Comunidad Valenciana","Comunidad Valenciana","NULL","NULL",3]
[50,"Spain","Espagne",40,"Comunidad Autónoma de Extremadura","Comunidad Autónoma de Extremadura","NULL","NULL",3]
[50,"Spain","Espagne",41,"Comunidad Autónoma de Galicia","Comunidad Autónoma de Galicia","NULL","NULL",3]
[50,"Spain","Espagne",42,"Comunidad de Madrid","Comunidad de Madrid","NULL","NULL",3]
[50,"Spain","Espagne",43,"Comunidad Autónoma de la Región de Murcia","Comunidad Autónoma de la Región de Murcia","NULL","NULL",3]
[50,"Spain","Espagne",44,"Comunidad Foral de Navarra","Comunidad Foral de Navarra","NULL","NULL",3]
[50,"Spain","Espagne",45,"Comunidad Autónoma del País Vasco o de Euskadi","Comunidad Autónoma del País Vasco o de Euskadi","NULL","NULL",3]
[50,"Spain","Espagne",46,"Comunidad Autónoma de La Rioja","Comunidad Autónoma de La Rioja","NULL","NULL",3]
[50,"Spain","Espagne",47,"Ciudad de Ceuta","Ciudad de Ceuta","NULL","NULL",3]
[50,"Spain","Espagne",48,"Ciudad de Melilla","Ciudad de Melilla","NULL","NULL",3]
[50,"Spain","Espagne",59,"Compañía Española de Financiación del Desarrollo","Compañía Española de Financiación del Desarrollo","COFIDES","COFIDES",5]
[50,"Spain","Espagne",99,"Miscellaneous","Divers","MISC","MISC",2]
[61,"Slovenia","Slovénie",1,"Ministry of Finance","Ministère des finances","FIN","FIN",1]
[61,"Slovenia","Slovénie",2,"Ministry of Foreign and European Affairs","Ministère des affaires étrangères et européennes","MFA","MAE",1]
[61,"Slovenia","Slovénie",3,"Ministry of the Interior","Ministère de l'intérieur","INT","INT",2]
[61,"Slovenia","Slovénie",4,"Ministry of Defence","Ministère de la défense","DEF","DEF",2]
[61,"Slovenia","Slovénie",5,"Ministry of the Environment, Climate and Energy","Ministère de l'environnement, du climat et de l'énergie","ENV ","ENV ",2]
[61,"Slovenia","Slovénie",6,"Ministry of Higher Education, Science and Innovation","Ministère de l’enseignement supérieur, des sciences et de l'innovation","EDU","EDU",2]
[61,"Slovenia","Slovénie",7,"Ministry of the Economy, Tourism and Sport","Ministère de l'economie, du tourisme et des sports","ECO","ECO",2]
[61,"Slovenia","Slovénie",99,"Miscellaneous","Divers","MISC","MISC",99]
[68,"Czechia","Tchéquie",1,"Czech Development Agency","Czech Development Agency","CZDA","CZDA",1]
[68,"Czechia","Tchéquie",2,"Ministry of Foreign Affairs","Ministère des affaires étrangères","MFA","MAE",2]
[68,"Czechia","Tchéquie",3,"Ministry of Finance","Ministère des finances","FIN","FIN",2]
[68,"Czechia","Tchéquie",4,"Ministry of Education, Youth, Sports","Ministry of Education, Youth, Sports","MŠMT","MŠMT",2]
[68,"Czechia","Tchéquie",5,"Ministry of Interior","Ministère de l'intérieur","INT","INT",2]
[68,"Czechia","Tchéquie",6,"Police","Police","NULL","NULL",2]
[68,"Czechia","Tchéquie",7,"Ministry of Defence","Ministère de la Défense","DEF","DEF",2]
[68,"Czechia","Tchéquie",8,"Ministry of Health","Ministère de la santé","MoH","MoH",2]
[68,"Czechia","Tchéquie",9,"Ministry of Industry and Trade","Ministry of Industry and Trade","MIT","MIT",2]
[68,"Czechia","Tchéquie",10,"Czech National Bank","Czech National Bank","CNB","CNB",2]
[68,"Czechia","Tchéquie",11,"Ministry of Justice","Ministry of Justice","JUSTICE","JUSTICE",2]
[68,"Czechia","Tchéquie",12,"Ministry of Labour and Social Affairs","Ministry of Labour and Social Affairs","MOLSA","NULL",2]
[68,"Czechia","Tchéquie",13,"Universities","Universities","NULL","NULL",2]
[68,"Czechia","Tchéquie",14,"Regional Governments and Municipalities","Regional Governments and Municipalities","GOV","GOUV",3]
[68,"Czechia","Tchéquie",15,"Ministry of Environment","Ministry of Environment","ENV","ENV",2]
[68,"Czechia","Tchéquie",16,"State Office for Nuclear Saftey","State Office for Nuclear Saftey","SÚJB","SÚJB",2]
[68,"Czechia","Tchéquie",17,"Czech Export Bank","Czech Export Bank","CEB","CEB",4]
[68,"Czechia","Tchéquie",18,"EGAP","EGAP","EGAP","EGAP",2]
[68,"Czechia","Tchéquie",19,"Ministry of Agriculture","Ministry of Agriculture","AGRI","AGRI",2]
[68,"Czechia","Tchéquie",20,"Ministry of Regional Development","Ministry of Regional Development","MMR","MMR",2]
[68,"Czechia","Tchéquie",99,"Miscellaneous","Divers","MISC","MISC",99]
[69,"Slovak Republic","République slovaque",1,"Ministry of Foreign and European Affairs (MZVaEZ)","Ministry of Foreign and European Affairs (MZVaEZ)","MZVaEZ","MZVaEZ",2]
[69,"Slovak Republic","République slovaque",2,"Slovak Agency for International Deve (SAMRS)","Slovak Agency for International Deve (SAMRS)","SAMRS","SAMRS",1]
[69,"Slovak Republic","République slovaque",3,"Ministry of Finance","Ministère des finances","FIN","FIN",1]
[69,"Slovak Republic","République slovaque",4,"Ministry of Education, Science, Rese (MSVVS)","Ministry of Education, Science, Rese (MSVVS)","MSVVS","MSVVS",2]
[69,"Slovak Republic","République slovaque",5,"Ministry of Interior","Ministère de l'intérieur","INT","INT",2]
[69,"Slovak Republic","République slovaque",18,"Other ministries","Other ministries","NULL","NULL",2]
[69,"Slovak Republic","République slovaque",30,"Local and Regional governments","Local and Regional governments","VUC","VUC",3]
[69,"Slovak Republic","République slovaque",50,"Export-Import bank","Export-Import bank","EXIM","EXIM",4]
[69,"Slovak Republic","République slovaque",99,"Miscellaneous","Divers","MISC","MISC",99]
[75,"Hungary","Hongrie",1,"Ministry of Finance","Ministère des finances","MF","MF",1]
[75,"Hungary","Hongrie",2,"Ministry of Foreign Affairs and Trade","Ministère des affaires étrangères et du commerce","MinTrade","MinTrade",1]
[75,"Hungary","Hongrie",3,"Office of Immigration and Nationality","Bureau de l'immigration et de la nationalité","BIN","BIN",2]
[75,"Hungary","Hongrie",4,"Ministry of Interior","Ministère de l'intérieur","INT","INT",2]
[75,"Hungary","Hongrie",5,"Ministry of Human Capacities","Ministère des capacités humaines","MCH","MCH",2]
[75,"Hungary","Hongrie",6,"Ministry of Defence","Ministère de la défense","DEF","DEF",2]
[75,"Hungary","Hongrie",7,"Ministry of Agriculture","Ministère de l'agriculture","AGRI","AGRI",2]
[75,"Hungary","Hongrie",8,"Ministry of Justice","Ministère de la justice","JUSTICE","JUSTICE",2]
[75,"Hungary","Hongrie",9,"Ministry for Innovation and Technology","Ministère de l'innovation et de la technologie","NULL","NULL",2]
[75,"Hungary","Hongrie",10,"Prime Minister's Office","Bureau du Premier ministre","NULL","NULL",2]
[75,"Hungary","Hongrie",21,"Hungarian Export Import Bank PLC","Hungarian Export Import Bank PLC","EXIM","EXIM",4]
[75,"Hungary","Hongrie",99,"Miscellaneous","Divers","MISC","MISC",99]
[76,"Poland","Pologne",1,"Ministry of Foreign Affairs","Ministère des affaires étrangères","MFA","MAE",1]
[76,"Poland","Pologne",2,"Ministry of Education and Science","Ministry of Education and Science","MSHE","MSHE",2]
[76,"Poland","Pologne",3,"Ministry of Interior and Administration","Ministry of Interior and Administration","INT","INT",2]
[76,"Poland","Pologne",4,"Ministry of Culture, National Heritage and Sport","Ministry of Culture, National Heritage and Sport","MCNHS","MCNHS",2]
[76,"Poland","Pologne",5,"Ministry of Finance","Ministère des finances","FIN","FIN",2]
[76,"Poland","Pologne",6,"Ministry of Climate and Environment","Ministry of Climate and Environment","ENV","ENV",2]
[76,"Poland","Pologne",99,"Miscellaneous","Divers","MISC","MISC",99]
[82,"Estonia","Estonie",1,"Ministry of Foreign Affairs","Ministère des affaires étrangères","MFA","MAE",99]
[82,"Estonia","Estonie",2,"Other Ministries","Autre ministères","NULL","NULL",99]
[82,"Estonia","Estonie",3,"Other Public Sector Institutions","Autres institutions du secteur public","NULL","NULL",99]
[82,"Estonia","Estonie",4,"Local Authorites","Authorités locales","NULL","NULL",99]
[84,"Lithuania","Lituanie",1,"Government of the Republic of Lithuania","Gouvernement de la Lithuanie","GOV","GOUV",1]
[84,"Lithuania","Lituanie",2,"Ministry of Foreign Affairs","Ministère des affaires étrangères","MFA","MAE",1]
[84,"Lithuania","Lituanie",3,"Ministry of National Defense","Ministère de la défense nationale","DEF","DEF",2]
[84,"Lithuania","Lituanie",4,"Ministry of Environment","Ministère de l'environnement","ENV","ENV",2]
[84,"Lithuania","Lituanie",5,"Ministry of Finance","Ministère des finances","FIN","FIN",2]
[84,"Lithuania","Lituanie",6,"Ministry of Economy","Ministère de l'économie","ECON","ECON",2]
[84,"Lithuania","Lituanie",7,"Ministry of Education and Science","Ministère de l'éducation et de la science","EDUC","EDUC",2]
[84,"Lithuania","Lituanie",8,"Ministry of Transport and Communications","Ministère des transports et des communications","NULL","NULL",2]
[84,"Lithuania","Lituanie",9,"Ministry of Energy","Ministère de l'énergie","NULL","NULL",2]
[84,"Lithuania","Lituanie",10,"Ministry of Health","Ministère de la santé","MoH","MoH",2]
[84,"Lithuania","Lituanie",11,"Ministry of Agriculture","Ministère de l'agriculture","AGRI","AGRI",2]
[84,"Lithuania","Lituanie",12,"Ministry of the Interior","Ministère de l'intérieure","INT","INT",2]
[84,"Lithuania","Lituanie",13,"Ministry of Social Security and Labour","Ministère de la sécurité sociale et du travail","NULL","NULL",2]
[84,"Lithuania","Lituanie",14,"Ministry of Justice","Ministry of Justice","JUSTICE","JUSTICE",2]
[84,"Lithuania","Lituanie",15,"Ministry of Culture","Ministère de la Culture","NULL","NULL",2]
[84,"Lithuania","Lituanie",20,"Governments and Agencies and Other public institutions and Agencies","Autres institutions publiques","NULL","NULL",2]
[84,"Lithuania","Lituanie",30,"Local Authorities","Autorités locales","NULL","NULL",3]
[301,"Canada","Canada",1,"Canadian International Development Agency","Agence canadienne de développement international","CIDA","CIDA",1]
[301,"Canada","Canada",2,"International Development Research Centre","Centre de recherche pour le développement international","IDRC","IDRC",2]
[301,"Canada","Canada",3,"Global Affairs Canada","Affaires Mondiales Canada","GAC","GAC",2]
[301,"Canada","Canada",4,"Department of Finance Canada","Département des Finances","FIN","FIN",2]
[301,"Canada","Canada",6,"Foreign Affairs and International Trade Canada","Affaires étrangères et du Commerce international Canada","DFAIT","DFAIT",2]
[301,"Canada","Canada",7,"Department of National Defence","Ministère de la Défense Nationale","DND","MDN",2]
[301,"Canada","Canada",8,"Royal Canadian Mounted Police of Canada","Gendarmerie Royale du Canada","RCMP","RCMP",2]
[301,"Canada","Canada",9,"Provincial Governments and municipalities","Gouvernements provinciaux et municipalités","GOV","GOUV",3]
[301,"Canada","Canada",10,"Immigration, Refugees and Citizenship Canada","Immigration, Refugés et Citoyenneté Canada","IRCC","IRCC",99]
[301,"Canada","Canada",11,"Environment and Climate Change Canada","Environment et Changement Climatique Canada","ECCC","ECCC",99]
[301,"Canada","Canada",22,"FinDev Canada","FinDev Canada","FinDev","FinDev",5]
[301,"Canada","Canada",31,"Export Development Canada","Exportation et développement Canada","EDC","EDC",4]
[301,"Canada","Canada",99,"Miscellaneous","Divers","MISC","MISC",2]
[302,"United States","Etats-Unis",1,"Agency for International Development","Agence de développement international","AID","AID",1]
[302,"United States","Etats-Unis",2,"Department of Agriculture","Département de l'agriculture","AGR","AGR",2]
[302,"United States","Etats-Unis",6,"Department of the Treasury","Département du trésor","DTRE","DTRE",2]
[302,"United States","Etats-Unis",7,"Department of Defense","Département de la défense","DOD","DOD",2]
[302,"United States","Etats-Unis",9,"Department of the Interior","Department of the Interior","INT","INT",2]
[302,"United States","Etats-Unis",10,"Peace Corps","Volontaires du développement (« Peace Corps »)","PEACE","PEACE",2]
[302,"United States","Etats-Unis",11,"State Department","Département d'état","STATE","STATE",2]
[302,"United States","Etats-Unis",12,"Trade and Development Agency","Agence du commerce et du développement","TDA","TDA",2]
[302,"United States","Etats-Unis",13,"African Development Foundation","Fondation pour le développement africain","ADF","ADF",2]
[302,"United States","Etats-Unis",14,"Department of Health and Human Services","Department of Health and Human Services","HHS","HHS",2]
[302,"United States","Etats-Unis",15,"Department of Justice","Department of Justice","JUSTICE","JUSTICE",2]
[302,"United States","Etats-Unis",16,"Department of Commerce","Department of Commerce","COMMERCE","COMMERCE",2]
[302,"United States","Etats-Unis",17,"Department of Labor","Département du travail","LABOR","LABOR",2]
[302,"United States","Etats-Unis",18,"Millennium Challenge Corporation","Millennium Challenge Corporation","MCC","MCC",1]
[302,"United States","Etats-Unis",19,"Department of Homeland Security","Department of Homeland Security","DHS","DHS",2]
[302,"United States","Etats-Unis",20,"Department of Energy","Department of Energy","DOE","DOE",2]
[302,"United States","Etats-Unis",21,"Inter-American Development Foundation","Inter-American Development Foundation","IADF","IADF",1]
[302,"United States","Etats-Unis",22,"Overseas Private Investment Corporation","Overseas Private Investment Corporation","OPIC","OPIC",5]
[302,"United States","Etats-Unis",23,"Federal Trade Commission","Federal Trade Commission","FTC","FTC",2]
[302,"United States","Etats-Unis",26,"Department of Transportation","Department of Transportation","DOT","DOT",2]
[302,"United States","Etats-Unis",28,"Open World Leadership Center","Open World Leadership Center","LIC","LIC",2]
[302,"United States","Etats-Unis",31,"Export Import Bank","Banque d'import/export","EXIM","EXIM",4]
[302,"United States","Etats-Unis",32,"Environmental Protection Agency","Environmental Protection Agency","EPA","EPA",2]
[302,"United States","Etats-Unis",34,"International Development Finance Corporation","International Development Finance Corporation","DFC","DFC",5]
[302,"United States","Etats-Unis",40,"Private flows","Private flows","PRIVATE","PRIVATE",2]
[302,"United States","Etats-Unis",99,"Miscellaneous","Divers","MISC","MISC",2]
[701,"Japan","Japon",1,"Ministry of Agriculture, Forestry and Fisheries","Ministère de l'agriculture, de la sylviculture et de la pêche","MAFF","MAFF",2]
[701,"Japan","Japon",2,"Ministry of Foreign Affairs","Ministère des affaires étrangères","MOFA","MOFA",1]
[701,"Japan","Japon",4,"EXIM BANK","EXIM BANK","EXIM BANK","EXIM BANK",99]
[701,"Japan","Japon",5,"OECF","OECF","OECF","OECF",99]
[701,"Japan","Japon",6,"FOOD AID","FOOD AID","FOOD AID","FOOD AID",99]
[701,"Japan","Japon",7,"Overseas Fishery Co-operation Foundation","Bureau de coopération d'outre-mer pour la pêche","OFCF","OFCF",2]
[701,"Japan","Japon",8,"Japanese International Co-operation Agency","Agence japonaise de coopération internationale","JICA","JICA",1]
[701,"Japan","Japon",10,"Japan Overseas Development Co-operation","Agence japonaise de coopération outre-mer","JODC","JODC",2]
[701,"Japan","Japon",11,"Japan Bank for International Co-operation","Banque japonaise pour la coopération internationale","JBIC","JBIC",4]
[701,"Japan","Japon",12,"Other Ministries","Autres ministères","Oth. MIN","Oth. MIN",2]
[701,"Japan","Japon",13,"Public Corporations","Corporations publiques","PC","PC",2]
[701,"Japan","Japon",14,"Prefectures","Préfectures","PRF","PRF",3]
[701,"Japan","Japon",15,"Ordinance-designed Cities","Villes désignées par ordonnance","ODC","ODC",3]
[701,"Japan","Japon",71,"Nippon Export and Investment Insurance","Assurance Nippone Exports et investissements","NEXI","NEXI",4]
[701,"Japan","Japon",99,"Miscellaneous","Divers","MISC","MISC",2]
[742,"Korea","Corée",1,"Ministry of Strategy and Finance","Ministry of Strategy and Finance","MOSF","MOSF",1]
[742,"Korea","Corée",2,"Export-Import Bank of Korea","Export-Import Bank of Korea","KEXIM","KEXIM",1]
[742,"Korea","Corée",3,"Ministry of Foreign Affairs and Trade","Ministry of Foreign Affairs and Trade","MOFAT","MOFAT",1]
[742,"Korea","Corée",4,"Korea International Cooperation Agency","Korea International Cooperation Agency","KOICA","KOICA",1]
[742,"Korea","Corée",99,"Miscellaneous","Divers","MISC","MISC",99]
[801,"Australia","Australie",2,"Attorney-General","Attorney-General","AG","AG",2]
[801,"Australia","Australie",5,"Australian Government","Gouvernement australien","GOV","GOUV",1]
[801,"Australia","Australie",72,"Export Finance and Insurance Corporation","Corporation de financement et d'assurance des exportations","EFIC","EFIC",4]
[801,"Australia","Australie",99,"Miscellaneous","Divers","MISC","MISC",2]
[820,"New Zealand","Nouvelle-Zélande",1,"Ministry of Foreign Affairs and Trade","Ministère des affaires étrangères et du commerce","NZG","NZG",2]
[820,"New Zealand","Nouvelle-Zélande",2,"New Zealand International Aid and Development Agency","Agence néozélandaise d'aide et de développement international","NZAid","NZAid",1]
[820,"New Zealand","Nouvelle-Zélande",99,"Miscellaneous","Divers","MISC","MISC",2]
[918,"EU Institutions","Institutions de l'UE",1,"European Commission","Commission européenne","EC","EC",1]
[918,"EU Institutions","Institutions de l'UE",2,"European Development Fund","Fonds européen de développement","EDF","EDF",1]
[918,"EU Institutions","Institutions de l'UE",3,"European Investment Bank","Banque européenne d'investissement","EIB","EIB",2]
[918,"EU Institutions","Institutions de l'UE",4,"Humanitarian Aid Office of the European Commission","Bureau d'aide humanitaire de la Commission européenne","ECHO","ECHO",2]
[918,"EU Institutions","Institutions de l'UE",5,"Macro-Financial Assistance","Assistance macrofinancière","MFA","AMF",2]
[918,"EU Institutions","Institutions de l'UE",99,"Miscellaneous","Divers","MISC","MISC",2]

{"sheet":"Type of blended finance","index":12,"n_rows":5,"n_cols":2,"rows_kept":5,"cut":false,"hidden":true,"merged":[]}
["Type of blended finance"]
[1,"Concessional blended finance as a part of an associated "]
[2,"Concessional blended finance, others"]
[3,"Blended finance through leveraging instruments at project level"]
[4,"Blended finance through funds and facilities"]

{"sheet":"Mobilisation codes","index":13,"n_rows":26,"n_cols":13,"rows_kept":26,"cut":false,"hidden":true,"merged":[[6,1,6,9],[6,12,6,20]]}
["Leveraging mechanism and role / position",null,null,null,null,null,null,null,null,null,null,"Mécanisme de levier et son rôle / sa position"]
[]
[]
[1,"Syndicated loan, arranger",null,null,null,null,null,null,null,null,null,1,"prêt syndiqué, arrangeur"]
[2,"Syndicated loan, participant",null,null,null,null,null,null,null,null,null,2,"prêt syndiqué, participant"]
[3,"Common share in flat collective investment vehicle",null,null,null,null,null,null,null,null,null,3,"action ordinaire dans un organisme de placement collectif simple"]
[4,"Shares in the riskiest tranche of structured collective investment vehicle, first loss share and other (e.g. lock up share)",null,null,null,null,null,null,null,null,null,4,"action dans la tranche la plus risquée d'un organisme de placement collectif structuré, position de première perte et autres (par ex. action bloquée)"]
[5,"Guarantee/insurance",null,null,null,null,null,null,null,null,null,5,"garantie/assurance"]
[6,"Guarantee/insurance"]
[7,"Direct investment in companies/SPVs, equity"]
[8,"Direct investment in companies/SPVs, mezzanine/senior debt"]
[9,"Credit lines"]
[10,"Simple co-financing"]
[]
[]
[]
[]
[]
[]
["Origin of the funds mobilised",null,null,null,null,null,null,null,null,null,null,"Origine des fonds mobilisés"]
[]
[1,"provider country",null,null,null,null,null,null,null,null,null,1,"pays donneur"]
[2,"recipient country",null,null,null,null,null,null,null,null,null,2,"pays bénéficiaire"]
[3,"third High income OECD country",null,null,null,null,null,null,null,null,null,3,"pays tiers à haut revenu/pays de l'OCDE "]
[4,"third developing country",null,null,null,null,null,null,null,null,null,4,"pays tiers en développement"]
[5,"multiple origins"]

{"sheet":"MOB_validation","index":14,"n_rows":11,"n_cols":5,"rows_kept":11,"cut":false,"hidden":true,"merged":[]}
["Leveraging mechanism and role/position","Origin of the funds mobilised","Project finance SPV flag \n(1=Yes)","Type of arranger","Methodology applied for calculation in field 23"]
["1=Syndicated loan, arranger","1=Provider country",1,"1=Official institution","OECD"]
["2=Syndicated loan, participant","2=Recipient country ",null,"2=Private institution","MDB"]
["3=Common shares in flat collective investment vehicle","3=Third high income/OECD country"]
["4=Shares in the riskiest tranche of structured collective investment vehicle, first-loss shares and others (e.g. lock-up shares)","4=Other third country"]
["5=Shares in the mezzanine/senior tranche of structured CIV","5=Other/multiple origins "]
["6=Guarantee/insurance "]
["7=Direct investment in companies/SPVs, equity"]
["8=Direct investment in companies/SPVs, mezzanine/senior debt"]
["9=Credit lines"]
["10=Simple co-financing arrangements"]

{"sheet":"PSI","index":15,"n_rows":36,"n_cols":9,"rows_kept":36,"cut":false,"hidden":true,"merged":[]}
["Private Sector Instrument Flag",null,null,null,null,"scaseGroup","Discount rate"]
[null,null,null,null,null,60110016,10,"421;423;4221","Pchannel 6"]
["flag","name_e",null,null,null,60110018,7.5]
[1,"PSI ODA under the institutional approach",null,null,null,60110019,6.1]
[2,"PSI ODA instrument approach",null,null,null,60210016,13,"510;520;4222","Pchannel <>4"]
[3,"Non ODA PSI",null,null,null,60210018,10.5]
[4,"Details of PSI activities that are reported under the institutional approach",null,null,null,60210019,9.1]
[null,null,null,null,null,60310016,11.5,"431;432","Pchannel <>4"]
[10,"Capital increases counted in ODA / Decapitalisations or dividends paid to the government counted in ODA",null,null,null,60310018,9]
[20,"Grant equivalents of individual PSI activities counted in ODA",null,null,null,60310019,7.6]
[21,"20 ex-ante method",null,null,null,60410016,6,"1101;1102","Pchannel 6"]
[22,"20 ex-post method",null,null,null,60410018,3.5]
[30,"PSI for which GEq is not calculated",null,null,null,60410019,2.1]
[40,"Grant equivalents of individual PSI activities for memorandum",null,null,null,60510016,5,"1101;1102","Pchannel 1"]
[41,"40 ex-ante method",null,null,null,60510018,3]
[42,"40 ex-post mehod",null,null,null,60510019,2]
[50,"Capital increases for memorandum",null,null,null,60610016,7.5,"1103;1104","Pchannel <>4"]
[null,null,null,null,null,60610018,5]
[null,null,null,null,null,60610019,3.6]
[null,null,null,null,null,60710016,9,"1105;1106;1107","Pchannel <>4"]
["Private Sector Instrument additionality",null,null,null,null,60710018,6.5]
[null,null,null,null,null,60710019,5.0999999999999996]
[]
["add_type","name_e"]
[1,"financial additionality"]
[2,"value additionality"]
[3,"financial and value additionality"]
[]
[11,"Targets underserved geographies"]
[12,"Targets underserved sectors or segments"]
[13,"Conveys investment terms unavailable on the market"]
[14,"Mobilises private finance"]
[21,"Mitigates non-financial risks"]
[22,"Promotes pro-development business models"]
[23,"Promotes knowledge transfer and generation"]
[99,"Other, please specify"]

{"sheet":"Marker","index":16,"n_rows":18,"n_cols":2,"rows_kept":18,"cut":false,"hidden":true,"merged":[[16,1,16,9]]}
["Policy objectives: Gender equality, Aid to environment, PD/GG, Trade development, RMNCH"]
["Rio markers: Biodiversity, Climate change - mitigation, Climate change - adaptation, Desertification"]
[]
[2,"principal objective"]
[1,"significant objective"]
[0,"not targeted"]
[null,"not screened"]
[]
[]
[]
[]
[]
[]
["Flags"]
[]
[1,"significant objective"]
[0,"Negligible or no funding is targeted to RMNCH activities/results. RMNCH is not an objective of the project/programme"]
[null,"not screened"]

{"sheet":"Currency","index":17,"n_rows":78,"n_cols":5,"rows_kept":78,"cut":false,"hidden":true,"merged":[]}
["CurrencyCode","isoCode","CurrencyNameE","CurrencyNameF","Notes"]
[0,null,"DAC indicators","indicateurs CAD","NULL"]
[1,"ATS","Austrian schilling","Schilling autrichien","Replaced by Euro on 1/1/1999"]
[2,"BEF","Belgian franc","Franc belge","Replaced by Euro on 1/1/1999"]
[3,"DKK","Danish krone","Couronne danoise","NULL"]
[4,"FRF","French franc","Franc français","Replaced by Euro on 1/1/1999"]
[5,"DEM","Deutsche mark","Deutsche mark","Replaced by Euro on 1/1/1999"]
[6,"ITL","Italian lira","Lire italienne","Replaced by Euro on 1/1/1999"]
[7,"NLG","Dutch guilder","Florin néerlandais","Replaced by Euro on 1/1/1999"]
[8,"NOK","Norwegian krone","Couronne norvégienne","NULL"]
[9,"PTE","Portuguese escudo","Escudo portugais","Replaced by Euro on 1/1/1999"]
[10,"SEK","Swedish krona","Couronne suedoise","NULL"]
[11,"CHF","Swiss franc","Franc suisse","NULL"]
[12,"GBP","Pound sterling","Livre sterling","NULL"]
[18,"FIM","Finnish markka","Mark finlandais","Replaced by Euro on 1/1/1999"]
[20,"ISK","Icelandic króna","Couronne islandaise","NULL"]
[21,"IEP","Irish pound","Livre irlandaise","Replaced by Euro on 1/1/1999"]
[22,"LUF","Luxembourg franc","Franc luxembourgeois","Replaced by Euro on 1/1/1999"]
[30,"CYP","Cypriot pound","Livre chypriote","Replaced by Euro on 1/1/2008"]
[40,"GRD","Greek drachma","Drachme grecque","Replaced by Euro on 1/1/2001"]
[45,"MLT","Maltese lira","Lire maltaise","Replaced by Euro on 1/1/2008"]
[50,"ESP","Spanish peseta","Peseta espagnole","Replaced by Euro on 1/1/1999"]
[55,"TRY","Turkish lira","Livre turque","NULL"]
[61,"SIT","Slovenian tolar","Tolar slovène","Replaced by Euro on 1/1/2007"]
[62,"HRV","Croatian kuna","Kuna croate","NULL"]
[68,"CZK","Czech koruna","Couronne tchèque","NULL"]
[69,"SKK","Slovak koruna","Couronne slovaque","Replaced by Euro on 1/1/2009"]
[70,"CHF","Swiss franc","Franc suisse","NULL"]
[72,"BGN","Bulgarian lev","Lev bulgare","NULL"]
[75,"HUF","Hungarian forint","Forint hongrois","NULL"]
[76,"PLN","Polish zloty","Zloty polonais","NULL"]
[77,"RON","Romanian leu","Leu roumain","NULL"]
[82,"EEK","Estonian kroon","Couronne estonienne","Replaced by Euro on 1/1/2011"]
[83,"LVL","Latvian lats","Lats letton","Replaced by Euro on 1/1/2014"]
[84,"LTL","Lithuanian litas","Litas lituanien","Replaced by Euro on 1/1/2015"]
[87,"RUB","Russian ruble","Rouble russe","NULL"]
[130,"DZD","Algerian dinar","Dinar algérien","NULL"]
[133,"LYD","Libyan dinar","Dinar libyen","NULL"]
[218,"ZAR","South African rand","Rand sud-africain","NULL"]
[241,"GHS","Ghanaian cedi","Cédi ghanéen","NULL"]
[243,"GNF","Guinean franc","Franc guinéen","NULL"]
[252,"MGA","Malagasy ariary","Ariary malgache","Malagasy franc (ISO-4217:MGF) replaced by Malagasy ariary (ISO-4217:MGA) on 1/1/2005"]
[256,"MRO","Mauritanian ouguiya","Ouguiya mauritanien","NULL"]
[261,"NGN","Naira","Naira","NULL"]
[274,"DJF","Djiboutian franc","Franc djibouti","NULL"]
[301,"CAD","Canadian dollar","Dollar canadien","NULL"]
[302,"USD","United States dollar","Dollar américain","NULL"]
[358,"MXN","Mexican peso","Peso mexicain","(ISO-4217:MXN) ISO-4217 code MXP was replaced after the 1993 revaluation"]
[425,"ARS","Argentine peso","Peso argentin","NULL"]
[431,"BRL","Brazilian real","Réal brésilien","NULL"]
[540,"IRR","Iranian rial ","Rial iranien","NULL"]
[543,"IQD","Iraqi dinar","Dinar irakien","NULL"]
[546,"ILS","Israeli new shekel","Nouveau shekel israélien","(ISO-4217:ILS) The Israeli new shekel has been in use since 1 January 1986"]
[552,"KWD","Kuwaiti dinar","Dinar koweïtien","NULL"]
[558,"OMR","Omani rial","Rial omanais","NULL"]
[561,"QAR","Qatari riyal","Riyal qatarien","NULL"]
[566,"SAR","Saudi riyal","Riyal saoudien","NULL"]
[576,"AED","UAE dirham","Dirham des ÉAU","NULL"]
[611,"AZN","Azerbaijani manat","Manat azerbaïdjanais","NULL"]
[613,"KZT","Kazakhstani tenge","Tenge kazakh","NULL"]
[645,"INR","Indian rupee","Roupie indienne","NULL"]
[701,"JPY","Japanese yen","Yen japonais","NULL"]
[730,"CNY","Chinese yuan","Yuan chinois","NULL"]
[732,"TWD","New Taiwan dollar","Nouveau dollar de Taïwan","NULL"]
[735,"HKD","Hong Kong dollar","Dollar de Hong Kong","NULL"]
[738,"IDR","Indonesian rupiah","Roupie indonésienne","NULL"]
[742,"KRW","South Korean won","Won sud-coréen","NULL"]
[751,"MYR","Malaysian ringgit","Ringgit malaisien","NULL"]
[755,"PHP","Philippine peso","Peso philippin","NULL"]
[761,"SGD","Singapore dollar","Dollar de Singapour","NULL"]
[764,"THB","Thai baht","Baht thaïlandais","NULL"]
[765,"USD","United States dollar","Dollar américain","Timor-Leste (uses USD)"]
[801,"AUD","Australian dollar","Dollar australien","NULL"]
[820,"NZD","New Zealand dollar","Dollar néo-zélandais","NULL"]
[854,"VUV","Vanuatu vatu","Vanuatu vatu","NULL"]
[914,"UA","Unit of Account","Unité de compte","NULL"]
[918,"EUR","Euro","Euro","NULL"]
[943,"XDR","Special Drawing Rights","Droits de tirage spéciaux","NULL"]

{"sheet":"IncomeGroup","index":18,"n_rows":5652,"n_cols":14,"rows_kept":5652,"cut":false,"hidden":true,"merged":[]}
["RecipientCode","Year","YrRecip","GroupID","IncomeGroupPSI","IncomeGroupPSI"]
[45,1996,199645,10019,"UMICs","UMICs"]
[55,1996,199655,10018,"LMICs","LMICs",null,null,null,null,null,null,"AS:"]
[61,1996,199661,10019,"UMICs","UMICs",null,null,null,null,null,null,"select recipientcode, year, groupid, groupname"]
[62,1996,199662,10019,"UMICs","UMICs",null,null,null,null,null,null," from [DCD].[RecipientGroupYr] "]
[63,1996,199663,10018,"LMICs","LMICs",null,null,null,null,null,null,"inner join [DCD].[LookupGroup] on [DCD].[LookupGroup].groupid = [DCD].[RecipientGroupYr].groupid"]
[64,1996,199664,10017,"Other LICs","Other LICs",null,null,null,null,null,null,"where year = 2020 and [DCD].[RecipientGroupYr].groupid in (10016, 10017, 10018, 10019, 10024, 10025) and recipientcode < 1000"]
[66,1996,199666,10018,"LMICs","LMICs"]
[71,1996,199671,10017,"Other LICs","Other LICs"]
[88,1996,199688,10024,"Part I unallocated by income","UMICs",null,null,null,null,null,null,"OB 2022","(Modified MB 20221117)"]
[89,1996,199689,10024,"Part I unallocated by income","UMICs"]
[105,1996,1996105,10025,"MADCTs","MADCTs",null,null,null,null,null,null,"SELECT "]
[110,1996,1996110,10024,"Part I unallocated by income","Part I unallocated by income",null,null,null,null,null,null,"RG.[RecipientCode], "]
[130,1996,1996130,10018,"LMICs","LMICs",null,null,null,null,null,null,"RG.[Year], "]
[133,1996,1996133,10019,"UMICs","UMICs",null,null,null,null,null,null,"-- YrRecip field is required for VLOOKUP function:"]
[136,1996,1996136,10018,"LMICs","LMICs",null,null,null,null,null,null,"YrRecip = CONCAT(RG.[Year],RG.[RecipientCode]),"]
[139,1996,1996139,10018,"LMICs","LMICs",null,null,null,null,null,null,"RG.[GroupID], "]
[142,1996,1996142,10018,"LMICs","LMICs",null,null,null,null,null,null,"LG.[DisplayNameE] AS IncomeGroup "]
[189,1996,1996189,10024,"Part I unallocated by income","LMICs"]
[212,1996,1996212,10024,"Part I unallocated by income","Part I unallocated by income",null,null,null,null,null,null,"FROM [DCDstat].[DCD].[RecipientGroupYr] RG"]
[218,1996,1996218,10019,"UMICs","UMICs",null,null,null,null,null,null,"INNER JOIN [DCDstat].[DCD].[LookupGroup] LG"]
[220,1996,1996220,10024,"Part I unallocated by income","Part I unallocated by income",null,null,null,null,null,null,"ON RG.[GroupID] = LG.[GroupID]"]
[225,1996,1996225,10016,"LDCs","LDCs"]
[227,1996,1996227,10018,"LMICs","LMICs",null,null,null,null,null,null,"WHERE "]
[228,1996,1996228,10016,"LDCs","LDCs",null,null,null,null,null,null,"--RG.[Year]  = 2021"]
[229,1996,1996229,10017,"Other LICs","Other LICs",null,null,null,null,null,null,"RG.[Year] >= 1996"]
[230,1996,1996230,10016,"LDCs","LDCs",null,null,null,null,null,null,"AND RG.[GroupID] IN (10016,10017,10018,10019,10024,10025)"]
[231,1996,1996231,10016,"LDCs","LDCs",null,null,null,null,null,null,"AND ( RG.[RecipientCode] < 1000"]
[232,1996,1996232,10016,"LDCs","LDCs",null,null,null,null,null,null,"        OR RG.[RecipientCode] IN (1027,1028,1029,1030,1031,1032,1033,1034,1035) )"]
[233,1996,1996233,10016,"LDCs","LDCs"]
[234,1996,1996234,10017,"Other LICs","Other LICs",null,null,null,null,null,null,"ORDER BY RG.[Year], RG.[RecipientCode]"]
[235,1996,1996235,10016,"LDCs","LDCs"]
[236,1996,1996236,10016,"LDCs","LDCs"]
[237,1996,1996237,10024,"Part I unallocated by income","Part I unallocated by income"]
[238,1996,1996238,10016,"LDCs","LDCs"]
[239,1996,1996239,10019,"UMICs","UMICs"]
[240,1996,1996240,10016,"LDCs","LDCs"]
[241,1996,1996241,10017,"Other LICs","Other LICs"]
[243,1996,1996243,10016,"LDCs","LDCs"]
[244,1996,1996244,10016,"LDCs","LDCs"]
[245,1996,1996245,10016,"LDCs","LDCs"]
[247,1996,1996247,10017,"Other LICs","Other LICs"]
[248,1996,1996248,10017,"Other LICs","Other LICs"]
[249,1996,1996249,10016,"LDCs","LDCs"]
[251,1996,1996251,10016,"LDCs","LDCs"]
[252,1996,1996252,10016,"LDCs","LDCs"]
[253,1996,1996253,10016,"LDCs","LDCs"]
[255,1996,1996255,10016,"LDCs","LDCs"]
[256,1996,1996256,10016,"LDCs","LDCs"]
[257,1996,1996257,10019,"UMICs","UMICs"]
[258,1996,1996258,10019,"UMICs","UMICs"]
[259,1996,1996259,10016,"LDCs","LDCs"]
[260,1996,1996260,10016,"LDCs","LDCs"]
[261,1996,1996261,10017,"Other LICs","Other LICs"]
[265,1996,1996265,10017,"Other LICs","Other LICs"]
[266,1996,1996266,10016,"LDCs","LDCs"]
[268,1996,1996268,10016,"LDCs","LDCs"]
[269,1996,1996269,10017,"Other LICs","Other LICs"]
[270,1996,1996270,10019,"UMICs","UMICs"]
[271,1996,1996271,10016,"LDCs","LDCs"]
[272,1996,1996272,10016,"LDCs","LDCs"]
[273,1996,1996273,10016,"LDCs","LDCs"]
[274,1996,1996274,10016,"LDCs","LDCs"]
[275,1996,1996275,10018,"LMICs","LMICs"]
[276,1996,1996276,10019,"UMICs","UMICs"]
[278,1996,1996278,10016,"LDCs","LDCs"]
[280,1996,1996280,10018,"LMICs","LMICs"]
[282,1996,1996282,10016,"LDCs","LDCs"]
[283,1996,1996283,10016,"LDCs","LDCs"]
[285,1996,1996285,10016,"LDCs","LDCs"]
[287,1996,1996287,10016,"LDCs","LDCs"]
[288,1996,1996288,10016,"LDCs","LDCs"]
[289,1996,1996289,10024,"Part I unallocated by income","LDCs"]
[298,1996,1996298,10024,"Part I unallocated by income","LDCs"]
[328,1996,1996328,10025,"MADCTs","MADCTs"]
[329,1996,1996329,10019,"UMICs","UMICs"]
[336,1996,1996336,10018,"LMICs","LMICs"]
[338,1996,1996338,10018,"LMICs","LMICs"]
[340,1996,1996340,10018,"LMICs","LMICs"]
[342,1996,1996342,10018,"LMICs","LMICs"]
[347,1996,1996347,10018,"LMICs","LMICs"]
[349,1996,1996349,10016,"LDCs","LDCs"]
[351,1996,1996351,10017,"Other LICs","Other LICs"]
[352,1996,1996352,10018,"LMICs","LMICs"]
[354,1996,1996354,10018,"LMICs","LMICs"]
[358,1996,1996358,10019,"UMICs","UMICs"]
[364,1996,1996364,10017,"Other LICs","Other LICs"]
[366,1996,1996366,10018,"LMICs","LMICs"]
[375,1996,1996375,10019,"UMICs","UMICs"]
[376,1996,1996376,10019,"UMICs","UMICs"]
[377,1996,1996377,10019,"UMICs","UMICs"]
[378,1996,1996378,10018,"LMICs","LMICs"]
[381,1996,1996381,10018,"LMICs","LMICs"]
[382,1996,1996382,10019,"UMICs","UMICs"]
[383,1996,1996383,10019,"UMICs","UMICs"]
[384,1996,1996384,10018,"LMICs","LMICs"]
[385,1996,1996385,10019,"UMICs","UMICs"]
[387,1996,1996387,10019,"UMICs","UMICs"]
[389,1996,1996389,10024,"Part I unallocated by income","UMICs"]
[425,1996,1996425,10019,"UMICs","UMICs"]
[428,1996,1996428,10018,"LMICs","LMICs"]
[431,1996,1996431,10019,"UMICs","UMICs"]
[434,1996,1996434,10019,"UMICs","UMICs"]
[437,1996,1996437,10018,"LMICs","LMICs"]
[440,1996,1996440,10018,"LMICs","LMICs"]
[446,1996,1996446,10017,"Other LICs","Other LICs"]
[451,1996,1996451,10018,"LMICs","LMICs"]
[454,1996,1996454,10018,"LMICs","LMICs"]
[457,1996,1996457,10018,"LMICs","LMICs"]
[460,1996,1996460,10019,"UMICs","UMICs"]
[463,1996,1996463,10018,"LMICs","LMICs"]
[489,1996,1996489,10024,"Part I unallocated by income","UMICs"]
[498,1996,1996498,10024,"Part I unallocated by income","UMICs"]
[530,1996,1996530,10019,"UMICs","UMICs"]
[540,1996,1996540,10018,"LMICs","LMICs"]
[543,1996,1996543,10018,"LMICs","LMICs"]
[549,1996,1996549,10018,"LMICs","LMICs"]
[550,1996,1996550,10018,"LMICs","LMICs"]
[552,1996,1996552,10025,"MADCTs","MADCTs"]
[555,1996,1996555,10018,"LMICs","LMICs"]
[558,1996,1996558,10019,"UMICs","UMICs"]
[561,1996,1996561,10025,"MADCTs","MADCTs"]
[566,1996,1996566,10019,"UMICs","UMICs"]
[573,1996,1996573,10018,"LMICs","LMICs"]
[576,1996,1996576,10025,"MADCTs","MADCTs"]
[580,1996,1996580,10016,"LDCs","LDCs"]
[589,1996,1996589,10024,"Part I unallocated by income","UMICs"]
[610,1996,1996610,10017,"Other LICs","Other LICs"]
[611,1996,1996611,10017,"Other LICs","Other LICs"]
[612,1996,1996612,10017,"Other LICs","Other LICs"]
[613,1996,1996613,10018,"LMICs","LMICs"]
[614,1996,1996614,10017,"Other LICs","Other LICs"]
[615,1996,1996615,10017,"Other LICs","Other LICs"]
[616,1996,1996616,10018,"LMICs","LMICs"]
[617,1996,1996617,10018,"LMICs","LMICs"]
[619,1996,1996619,10024,"Part I unallocated by income","UMICs"]
[625,1996,1996625,10016,"LDCs","LDCs"]
[630,1996,1996630,10016,"LDCs","LDCs"]
[635,1996,1996635,10016,"LDCs","LDCs"]
[640,1996,1996640,10017,"Other LICs","Other LICs"]
[645,1996,1996645,10017,"Other LICs","Other LICs"]
[650,1996,1996650,10024,"Part I unallocated by income","Part I unallocated by income"]
[655,1996,1996655,10016,"LDCs","LDCs"]
[660,1996,1996660,10016,"LDCs","LDCs"]
[665,1996,1996665,10017,"Other LICs","Other LICs"]
[666,1996,1996666,10016,"LDCs","LDCs"]
[679,1996,1996679,10024,"Part I unallocated by income","LDCs"]
[689,1996,1996689,10024,"Part I unallocated by income","UMICs"]
[725,1996,1996725,10025,"MADCTs","MADCTs"]
[728,1996,1996728,10016,"LDCs","LDCs"]
[730,1996,1996730,10017,"Other LICs","Other LICs"]
[738,1996,1996738,10018,"LMICs","LMICs"]
[740,1996,1996740,10018,"LMICs","LMICs"]
[745,1996,1996745,10016,"LDCs","LDCs"]
[751,1996,1996751,10019,"UMICs","UMICs"]
[752,1996,1996752,10024,"Part I unallocated by income","Part I unallocated by income"]
[753,1996,1996753,10017,"Other LICs","Other LICs"]
[755,1996,1996755,10018,"LMICs","LMICs"]
[761,1996,1996761,10025,"MADCTs","MADCTs"]
[764,1996,1996764,10018,"LMICs","LMICs"]
[765,1996,1996765,10018,"LMICs","LMICs"]
[769,1996,1996769,10017,"Other LICs","Other LICs"]
[789,1996,1996789,10024,"Part I unallocated by income","LMICs"]
[798,1996,1996798,10024,"Part I unallocated by income","UMICs"]
[831,1996,1996831,10019,"UMICs","UMICs"]
[832,1996,1996832,10018,"LMICs","LMICs"]
[836,1996,1996836,10016,"LDCs","LDCs"]
[845,1996,1996845,10019,"UMICs","UMICs"]
[854,1996,1996854,10016,"LDCs","LDCs"]
[856,1996,1996856,10018,"LMICs","LMICs"]
[859,1996,1996859,10018,"LMICs","LMICs"]
[860,1996,1996860,10018,"LMICs","LMICs"]
[861,1996,1996861,10018,"LMICs","LMICs"]
[862,1996,1996862,10018,"LMICs","LMICs"]
[866,1996,1996866,10016,"LDCs","LDCs"]
[868,1996,1996868,10018,"LMICs","LMICs"]
[870,1996,1996870,10018,"LMICs","LMICs"]
[872,1996,1996872,10016,"LDCs","LDCs"]
[876,1996,1996876,10018,"LMICs","LMICs"]
[880,1996,1996880,10016,"LDCs","LDCs"]
[889,1996,1996889,10024,"Part I unallocated by income","UMICs"]
[998,1996,1996998,10024,"Part I unallocated by income","UMICs"]
[1031,1996,19961031,10024,"Part I unallocated by income","UMICs"]
[30,1997,199730,10025,"MADCTs","MADCTs"]
[45,1997,199745,10019,"UMICs","UMICs"]
[55,1997,199755,10018,"LMICs","LMICs"]
[61,1997,199761,10019,"UMICs","UMICs"]
[62,1997,199762,10019,"UMICs","UMICs"]
[63,1997,199763,10018,"LMICs","LMICs"]
[64,1997,199764,10017,"Other LICs","Other LICs"]
[66,1997,199766,10018,"LMICs","LMICs"]
[71,1997,199771,10017,"Other LICs","Other LICs"]
[88,1997,199788,10024,"Part I unallocated by income","UMICs"]
[89,1997,199789,10024,"Part I unallocated by income","UMICs"]
[93,1997,199793,10018,"LMICs","LMICs"]
[105,1997,1997105,10025,"MADCTs","MADCTs"]
[110,1997,1997110,10024,"Part I unallocated by income","Part I unallocated by income"]
[130,1997,1997130,10018,"LMICs","LMICs"]
[133,1997,1997133,10019,"UMICs","UMICs"]
[136,1997,1997136,10018,"LMICs","LMICs"]
[139,1997,1997139,10018,"LMICs","LMICs"]
[142,1997,1997142,10018,"LMICs","LMICs"]
[189,1997,1997189,10024,"Part I unallocated by income","LMICs"]
[212,1997,1997212,10024,"Part I unallocated by income","Part I unallocated by income"]
[218,1997,1997218,10019,"UMICs","UMICs"]
[220,1997,1997220,10024,"Part I unallocated by income","Part I unallocated by income"]
[225,1997,1997225,10016,"LDCs","LDCs"]
[227,1997,1997227,10018,"LMICs","LMICs"]
[228,1997,1997228,10016,"LDCs","LDCs"]
[229,1997,1997229,10017,"Other LICs","Other LICs"]
[230,1997,1997230,10016,"LDCs","LDCs"]
[231,1997,1997231,10016,"LDCs","LDCs"]
[232,1997,1997232,10016,"LDCs","LDCs"]
[233,1997,1997233,10016,"LDCs","LDCs"]
[234,1997,1997234,10017,"Other LICs","Other LICs"]
[235,1997,1997235,10016,"LDCs","LDCs"]
[236,1997,1997236,10016,"LDCs","LDCs"]
[237,1997,1997237,10024,"Part I unallocated by income","Part I unallocated by income"]
[238,1997,1997238,10016,"LDCs","LDCs"]
[239,1997,1997239,10019,"UMICs","UMICs"]
[240,1997,1997240,10016,"LDCs","LDCs"]
[241,1997,1997241,10017,"Other LICs","Other LICs"]
[243,1997,1997243,10016,"LDCs","LDCs"]
[244,1997,1997244,10016,"LDCs","LDCs"]
[245,1997,1997245,10016,"LDCs","LDCs"]
[247,1997,1997247,10017,"Other LICs","Other LICs"]
[248,1997,1997248,10017,"Other LICs","Other LICs"]
[249,1997,1997249,10016,"LDCs","LDCs"]
[251,1997,1997251,10016,"LDCs","LDCs"]
[252,1997,1997252,10016,"LDCs","LDCs"]
[253,1997,1997253,10016,"LDCs","LDCs"]
[255,1997,1997255,10016,"LDCs","LDCs"]
[256,1997,1997256,10016,"LDCs","LDCs"]
[257,1997,1997257,10019,"UMICs","UMICs"]
[258,1997,1997258,10019,"UMICs","UMICs"]
[259,1997,1997259,10016,"LDCs","LDCs"]
[260,1997,1997260,10016,"LDCs","LDCs"]
[261,1997,1997261,10017,"Other LICs","Other LICs"]
[265,1997,1997265,10017,"Other LICs","Other LICs"]
[266,1997,1997266,10016,"LDCs","LDCs"]
[268,1997,1997268,10016,"LDCs","LDCs"]
[269,1997,1997269,10017,"Other LICs","Other LICs"]
[270,1997,1997270,10019,"UMICs","UMICs"]
[271,1997,1997271,10016,"LDCs","LDCs"]
[272,1997,1997272,10016,"LDCs","LDCs"]
[273,1997,1997273,10016,"LDCs","LDCs"]
[274,1997,1997274,10016,"LDCs","LDCs"]
[275,1997,1997275,10018,"LMICs","LMICs"]
[276,1997,1997276,10019,"UMICs","UMICs"]
[278,1997,1997278,10016,"LDCs","LDCs"]
[280,1997,1997280,10018,"LMICs","LMICs"]
[282,1997,1997282,10016,"LDCs","LDCs"]
[283,1997,1997283,10016,"LDCs","LDCs"]
[285,1997,1997285,10016,"LDCs","LDCs"]
[287,1997,1997287,10016,"LDCs","LDCs"]
[288,1997,1997288,10016,"LDCs","LDCs"]
[289,1997,1997289,10024,"Part I unallocated by income","LDCs"]
[298,1997,1997298,10024,"Part I unallocated by income","LDCs"]
[328,1997,1997328,10025,"MADCTs","MADCTs"]
[329,1997,1997329,10019,"UMICs","UMICs"]
[331,1997,1997331,10025,"MADCTs","MADCTs"]
[336,1997,1997336,10018,"LMICs","LMICs"]
[338,1997,1997338,10018,"LMICs","LMICs"]
[340,1997,1997340,10018,"LMICs","LMICs"]
[342,1997,1997342,10018,"LMICs","LMICs"]
[347,1997,1997347,10018,"LMICs","LMICs"]
[349,1997,1997349,10016,"LDCs","LDCs"]
[351,1997,1997351,10017,"Other LICs","Other LICs"]
[352,1997,1997352,10018,"LMICs","LMICs"]
[354,1997,1997354,10018,"LMICs","LMICs"]
[358,1997,1997358,10019,"UMICs","UMICs"]
[364,1997,1997364,10017,"Other LICs","Other LICs"]
[366,1997,1997366,10018,"LMICs","LMICs"]
[375,1997,1997375,10019,"UMICs","UMICs"]
[376,1997,1997376,10019,"UMICs","UMICs"]
[377,1997,1997377,10019,"UMICs","UMICs"]
[378,1997,1997378,10018,"LMICs","LMICs"]
[381,1997,1997381,10018,"LMICs","LMICs"]
[382,1997,1997382,10019,"UMICs","UMICs"]
[383,1997,1997383,10019,"UMICs","UMICs"]
[384,1997,1997384,10018,"LMICs","LMICs"]
[385,1997,1997385,10019,"UMICs","UMICs"]
[386,1997,1997386,10025,"MADCTs","MADCTs"]
[387,1997,1997387,10019,"UMICs","UMICs"]
[389,1997,1997389,10024,"Part I unallocated by income","UMICs"]
[425,1997,1997425,10019,"UMICs","UMICs"]
[428,1997,1997428,10018,"LMICs","LMICs"]
[431,1997,1997431,10019,"UMICs","UMICs"]
[434,1997,1997434,10019,"UMICs","UMICs"]
[437,1997,1997437,10018,"LMICs","LMICs"]
[440,1997,1997440,10018,"LMICs","LMICs"]
[443,1997,1997443,10025,"MADCTs","MADCTs"]
[446,1997,1997446,10017,"Other LICs","Other LICs"]
[451,1997,1997451,10018,"LMICs","LMICs"]
[454,1997,1997454,10018,"LMICs","LMICs"]
[457,1997,1997457,10018,"LMICs","LMICs"]
[460,1997,1997460,10019,"UMICs","UMICs"]
[463,1997,1997463,10018,"LMICs","LMICs"]
[489,1997,1997489,10024,"Part I unallocated by income","UMICs"]
[498,1997,1997498,10024,"Part I unallocated by income","UMICs"]
[530,1997,1997530,10019,"UMICs","UMICs"]
[540,1997,1997540,10018,"LMICs","LMICs"]
[543,1997,1997543,10018,"LMICs","LMICs"]
[546,1997,1997546,10025,"MADCTs","MADCTs"]
[549,1997,1997549,10018,"LMICs","LMICs"]
[550,1997,1997550,10018,"LMICs","LMICs"]
[552,1997,1997552,10025,"MADCTs","MADCTs"]
[555,1997,1997555,10018,"LMICs","LMICs"]
[558,1997,1997558,10019,"UMICs","UMICs"]
[561,1997,1997561,10025,"MADCTs","MADCTs"]
[566,1997,1997566,10019,"UMICs","UMICs"]
[573,1997,1997573,10018,"LMICs","LMICs"]
[576,1997,1997576,10025,"MADCTs","MADCTs"]
[580,1997,1997580,10016,"LDCs","LDCs"]
[589,1997,1997589,10024,"Part I unallocated by income","UMICs"]
[610,1997,1997610,10017,"Other LICs","Other LICs"]
[611,1997,1997611,10017,"Other LICs","Other LICs"]
[612,1997,1997612,10017,"Other LICs","Other LICs"]
[613,1997,1997613,10018,"LMICs","LMICs"]
[614,1997,1997614,10017,"Other LICs","Other LICs"]
[615,1997,1997615,10017,"Other LICs","Other LICs"]
[616,1997,1997616,10018,"LMICs","LMICs"]
[617,1997,1997617,10018,"LMICs","LMICs"]
[619,1997,1997619,10024,"Part I unallocated by income","UMICs"]
[625,1997,1997625,10016,"LDCs","LDCs"]
[630,1997,1997630,10016,"LDCs","LDCs"]
[635,1997,1997635,10016,"LDCs","LDCs"]
[640,1997,1997640,10017,"Other LICs","Other LICs"]
[645,1997,1997645,10017,"Other LICs","Other LICs"]
[650,1997,1997650,10024,"Part I unallocated by income","Part I unallocated by income"]
[655,1997,1997655,10016,"LDCs","LDCs"]
[660,1997,1997660,10016,"LDCs","LDCs"]
[665,1997,1997665,10017,"Other LICs","Other LICs"]
[666,1997,1997666,10016,"LDCs","LDCs"]
[679,1997,1997679,10024,"Part I unallocated by income","LDCs"]
[689,1997,1997689,10024,"Part I unallocated by income","UMICs"]
[725,1997,1997725,10025,"MADCTs","MADCTs"]
[728,1997,1997728,10016,"LDCs","LDCs"]
[730,1997,1997730,10017,"Other LICs","Other LICs"]
[732,1997,1997732,10025,"MADCTs","MADCTs"]
[735,1997,1997735,10025,"MADCTs","MADCTs"]
[738,1997,1997738,10018,"LMICs","LMICs"]
[740,1997,1997740,10018,"LMICs","LMICs"]
[745,1997,1997745,10016,"LDCs","LDCs"]
[751,1997,1997751,10019,"UMICs","UMICs"]
[752,1997,1997752,10024,"Part I unallocated by income","Part I unallocated by income"]
[753,1997,1997753,10017,"Other LICs","Other LICs"]
[755,1997,1997755,10018,"LMICs","LMICs"]
[761,1997,1997761,10025,"MADCTs","MADCTs"]
[764,1997,1997764,10018,"LMICs","LMICs"]
[765,1997,1997765,10018,"LMICs","LMICs"]
[769,1997,1997769,10017,"Other LICs","Other LICs"]
[789,1997,1997789,10024,"Part I unallocated by income","LMICs"]
[798,1997,1997798,10024,"Part I unallocated by income","UMICs"]
[831,1997,1997831,10019,"UMICs","UMICs"]
[832,1997,1997832,10018,"LMICs","LMICs"]
[836,1997,1997836,10016,"LDCs","LDCs"]
[845,1997,1997845,10019,"UMICs","UMICs"]
[854,1997,1997854,10016,"LDCs","LDCs"]
[856,1997,1997856,10018,"LMICs","LMICs"]
[859,1997,1997859,10018,"LMICs","LMICs"]
[860,1997,1997860,10018,"LMICs","LMICs"]
[861,1997,1997861,10018,"LMICs","LMICs"]
[862,1997,1997862,10018,"LMICs","LMICs"]
[866,1997,1997866,10016,"LDCs","LDCs"]
[868,1997,1997868,10018,"LMICs","LMICs"]
[870,1997,1997870,10018,"LMICs","LMICs"]
[872,1997,1997872,10016,"LDCs","LDCs"]
[876,1997,1997876,10018,"LMICs","LMICs"]
[880,1997,1997880,10016,"LDCs","LDCs"]
[889,1997,1997889,10024,"Part I unallocated by income","UMICs"]
[998,1997,1997998,10024,"Part I unallocated by income","UMICs"]
[1031,1997,19971031,10024,"Part I unallocated by income","UMICs"]
[30,1998,199830,10025,"MADCTs","MADCTs"]
[45,1998,199845,10019,"UMICs","UMICs"]
[55,1998,199855,10018,"LMICs","LMICs"]
[61,1998,199861,10019,"UMICs","UMICs"]
[62,1998,199862,10019,"UMICs","UMICs"]
[63,1998,199863,10018,"LMICs","LMICs"]
[64,1998,199864,10017,"Other LICs","Other LICs"]
[66,1998,199866,10018,"LMICs","LMICs"]
[71,1998,199871,10017,"Other LICs","Other LICs"]
[88,1998,199888,10024,"Part I unallocated by income","UMICs"]
[89,1998,199889,10024,"Part I unallocated by income","UMICs"]
[93,1998,199893,10018,"LMICs","LMICs"]
[105,1998,1998105,10025,"MADCTs","MADCTs"]
[110,1998,1998110,10024,"Part I unallocated by income","Part I unallocated by income"]
[130,1998,1998130,10018,"LMICs","LMICs"]
[133,1998,1998133,10019,"UMICs","UMICs"]
[136,1998,1998136,10018,"LMICs","LMICs"]
[139,1998,1998139,10018,"LMICs","LMICs"]
[142,1998,1998142,10018,"LMICs","LMICs"]
[189,1998,1998189,10024,"Part I unallocated by income","LMICs"]
[212,1998,1998212,10024,"Part I unallocated by income","Part I unallocated by income"]
[218,1998,1998218,10019,"UMICs","UMICs"]
[220,1998,1998220,10024,"Part I unallocated by income","Part I unallocated by income"]
[225,1998,1998225,10016,"LDCs","LDCs"]
[227,1998,1998227,10018,"LMICs","LMICs"]
[228,1998,1998228,10016,"LDCs","LDCs"]
[229,1998,1998229,10017,"Other LICs","Other LICs"]
[230,1998,1998230,10016,"LDCs","LDCs"]
[231,1998,1998231,10016,"LDCs","LDCs"]
[232,1998,1998232,10016,"LDCs","LDCs"]
[233,1998,1998233,10016,"LDCs","LDCs"]
[234,1998,1998234,10017,"Other LICs","Other LICs"]
[235,1998,1998235,10016,"LDCs","LDCs"]
[236,1998,1998236,10016,"LDCs","LDCs"]
[237,1998,1998237,10024,"Part I unallocated by income","Part I unallocated by income"]
[238,1998,1998238,10016,"LDCs","LDCs"]
[239,1998,1998239,10019,"UMICs","UMICs"]
[240,1998,1998240,10016,"LDCs","LDCs"]
[241,1998,1998241,10017,"Other LICs","Other LICs"]
[243,1998,1998243,10016,"LDCs","LDCs"]
[244,1998,1998244,10016,"LDCs","LDCs"]
[245,1998,1998245,10016,"LDCs","LDCs"]
[247,1998,1998247,10017,"Other LICs","Other LICs"]
[248,1998,1998248,10017,"Other LICs","Other LICs"]
[249,1998,1998249,10016,"LDCs","LDCs"]
[251,1998,1998251,10016,"LDCs","LDCs"]
[252,1998,1998252,10016,"LDCs","LDCs"]
[253,1998,1998253,10016,"LDCs","LDCs"]
[255,1998,1998255,10016,"LDCs","LDCs"]
[256,1998,1998256,10016,"LDCs","LDCs"]
[257,1998,1998257,10019,"UMICs","UMICs"]
[258,1998,1998258,10019,"UMICs","UMICs"]
[259,1998,1998259,10016,"LDCs","LDCs"]
[260,1998,1998260,10016,"LDCs","LDCs"]
[261,1998,1998261,10017,"Other LICs","Other LICs"]
[265,1998,1998265,10017,"Other LICs","Other LICs"]
[266,1998,1998266,10016,"LDCs","LDCs"]
[268,1998,1998268,10016,"LDCs","LDCs"]
[269,1998,1998269,10017,"Other LICs","Other LICs"]
[270,1998,1998270,10019,"UMICs","UMICs"]
[271,1998,1998271,10016,"LDCs","LDCs"]
[272,1998,1998272,10016,"LDCs","LDCs"]
[273,1998,1998273,10016,"LDCs","LDCs"]
[274,1998,1998274,10016,"LDCs","LDCs"]
[275,1998,1998275,10018,"LMICs","LMICs"]
[276,1998,1998276,10019,"UMICs","UMICs"]
[278,1998,1998278,10016,"LDCs","LDCs"]
[280,1998,1998280,10018,"LMICs","LMICs"]
[282,1998,1998282,10016,"LDCs","LDCs"]
[283,1998,1998283,10016,"LDCs","LDCs"]
[285,1998,1998285,10016,"LDCs","LDCs"]
[287,1998,1998287,10016,"LDCs","LDCs"]
[288,1998,1998288,10016,"LDCs","LDCs"]
[289,1998,1998289,10024,"Part I unallocated by income","LDCs"]
[298,1998,1998298,10024,"Part I unallocated by income","LDCs"]
[328,1998,1998328,10025,"MADCTs","MADCTs"]
[329,1998,1998329,10019,"UMICs","UMICs"]
[331,1998,1998331,10025,"MADCTs","MADCTs"]
[336,1998,1998336,10018,"LMICs","LMICs"]
[338,1998,1998338,10018,"LMICs","LMICs"]
[340,1998,1998340,10018,"LMICs","LMICs"]
[342,1998,1998342,10018,"LMICs","LMICs"]
[347,1998,1998347,10018,"LMICs","LMICs"]
[349,1998,1998349,10016,"LDCs","LDCs"]
[351,1998,1998351,10017,"Other LICs","Other LICs"]
[352,1998,1998352,10018,"LMICs","LMICs"]
[354,1998,1998354,10018,"LMICs","LMICs"]
[358,1998,1998358,10019,"UMICs","UMICs"]
[364,1998,1998364,10017,"Other LICs","Other LICs"]
[366,1998,1998366,10018,"LMICs","LMICs"]
[375,1998,1998375,10019,"UMICs","UMICs"]
[376,1998,1998376,10019,"UMICs","UMICs"]
[377,1998,1998377,10019,"UMICs","UMICs"]
[378,1998,1998378,10018,"LMICs","LMICs"]
[381,1998,1998381,10018,"LMICs","LMICs"]
[382,1998,1998382,10019,"UMICs","UMICs"]
[383,1998,1998383,10019,"UMICs","UMICs"]
[384,1998,1998384,10018,"LMICs","LMICs"]
[385,1998,1998385,10019,"UMICs","UMICs"]
[386,1998,1998386,10025,"MADCTs","MADCTs"]
[387,1998,1998387,10019,"UMICs","UMICs"]
[389,1998,1998389,10024,"Part I unallocated by income","UMICs"]
[425,1998,1998425,10019,"UMICs","UMICs"]
[428,1998,1998428,10018,"LMICs","LMICs"]
[431,1998,1998431,10019,"UMICs","UMICs"]
[434,1998,1998434,10019,"UMICs","UMICs"]
[437,1998,1998437,10018,"LMICs","LMICs"]
[440,1998,1998440,10018,"LMICs","LMICs"]
[443,1998,1998443,10025,"MADCTs","MADCTs"]
[446,1998,1998446,10017,"Other LICs","Other LICs"]
[451,1998,1998451,10018,"LMICs","LMICs"]
[454,1998,1998454,10018,"LMICs","LMICs"]
[457,1998,1998457,10018,"LMICs","LMICs"]
[460,1998,1998460,10019,"UMICs","UMICs"]
[463,1998,1998463,10018,"LMICs","LMICs"]
[489,1998,1998489,10024,"Part I unallocated by income","UMICs"]
[498,1998,1998498,10024,"Part I unallocated by income","UMICs"]
[530,1998,1998530,10019,"UMICs","UMICs"]
[540,1998,1998540,10018,"LMICs","LMICs"]
[543,1998,1998543,10018,"LMICs","LMICs"]
[546,1998,1998546,10025,"MADCTs","MADCTs"]
[549,1998,1998549,10018,"LMICs","LMICs"]
[550,1998,1998550,10018,"LMICs","LMICs"]
[552,1998,1998552,10025,"MADCTs","MADCTs"]
[555,1998,1998555,10018,"LMICs","LMICs"]
[558,1998,1998558,10019,"UMICs","UMICs"]
[561,1998,1998561,10025,"MADCTs","MADCTs"]
[566,1998,1998566,10019,"UMICs","UMICs"]
[573,1998,1998573,10018,"LMICs","LMICs"]
[576,1998,1998576,10025,"MADCTs","MADCTs"]
[580,1998,1998580,10016,"LDCs","LDCs"]
[589,1998,1998589,10024,"Part I unallocated by income","UMICs"]
[610,1998,1998610,10017,"Other LICs","Other LICs"]
[611,1998,1998611,10017,"Other LICs","Other LICs"]
[612,1998,1998612,10017,"Other LICs","Other LICs"]
[613,1998,1998613,10018,"LMICs","LMICs"]
[614,1998,1998614,10017,"Other LICs","Other LICs"]
[615,1998,1998615,10017,"Other LICs","Other LICs"]
[616,1998,1998616,10018,"LMICs","LMICs"]
[617,1998,1998617,10018,"LMICs","LMICs"]
[619,1998,1998619,10024,"Part I unallocated by income","UMICs"]
[625,1998,1998625,10016,"LDCs","LDCs"]
[630,1998,1998630,10016,"LDCs","LDCs"]
[635,1998,1998635,10016,"LDCs","LDCs"]
[640,1998,1998640,10017,"Other LICs","Other LICs"]
[645,1998,1998645,10017,"Other LICs","Other LICs"]
[650,1998,1998650,10024,"Part I unallocated by income","Part I unallocated by income"]
[655,1998,1998655,10016,"LDCs","LDCs"]
[660,1998,1998660,10016,"LDCs","LDCs"]
[665,1998,1998665,10017,"Other LICs","Other LICs"]
[666,1998,1998666,10016,"LDCs","LDCs"]
[679,1998,1998679,10024,"Part I unallocated by income","LDCs"]
[689,1998,1998689,10024,"Part I unallocated by income","UMICs"]
[725,1998,1998725,10025,"MADCTs","MADCTs"]
[728,1998,1998728,10016,"LDCs","LDCs"]
[730,1998,1998730,10017,"Other LICs","Other LICs"]
[732,1998,1998732,10025,"MADCTs","MADCTs"]
[735,1998,1998735,10025,"MADCTs","MADCTs"]
[738,1998,1998738,10018,"LMICs","LMICs"]
[740,1998,1998740,10018,"LMICs","LMICs"]
[745,1998,1998745,10016,"LDCs","LDCs"]
[751,1998,1998751,10019,"UMICs","UMICs"]
[752,1998,1998752,10024,"Part I unallocated by income","Part I unallocated by income"]
[753,1998,1998753,10017,"Other LICs","Other LICs"]
[755,1998,1998755,10018,"LMICs","LMICs"]
[761,1998,1998761,10025,"MADCTs","MADCTs"]
[764,1998,1998764,10018,"LMICs","LMICs"]
[765,1998,1998765,10018,"LMICs","LMICs"]
[769,1998,1998769,10017,"Other LICs","Other LICs"]
[789,1998,1998789,10024,"Part I unallocated by income","LMICs"]
[798,1998,1998798,10024,"Part I unallocated by income","UMICs"]
[831,1998,1998831,10019,"UMICs","UMICs"]
[832,1998,1998832,10018,"LMICs","LMICs"]
[836,1998,1998836,10016,"LDCs","LDCs"]
[845,1998,1998845,10019,"UMICs","UMICs"]
[854,1998,1998854,10016,"LDCs","LDCs"]
[856,1998,1998856,10018,"LMICs","LMICs"]
[859,1998,1998859,10018,"LMICs","LMICs"]
[860,1998,1998860,10018,"LMICs","LMICs"]
[861,1998,1998861,10018,"LMICs","LMICs"]
[862,1998,1998862,10018,"LMICs","LMICs"]
[866,1998,1998866,10016,"LDCs","LDCs"]
[868,1998,1998868,10018,"LMICs","LMICs"]
[870,1998,1998870,10018,"LMICs","LMICs"]
[872,1998,1998872,10016,"LDCs","LDCs"]
[876,1998,1998876,10018,"LMICs","LMICs"]
[880,1998,1998880,10016,"LDCs","LDCs"]
[889,1998,1998889,10024,"Part I unallocated by income","UMICs"]
[998,1998,1998998,10024,"Part I unallocated by income","UMICs"]
[1031,1998,19981031,10024,"Part I unallocated by income","UMICs"]
[30,1999,199930,10025,"MADCTs","MADCTs"]
[45,1999,199945,10019,"UMICs","UMICs"]
[55,1999,199955,10018,"LMICs","LMICs"]
[61,1999,199961,10019,"UMICs","UMICs"]
[62,1999,199962,10019,"UMICs","UMICs"]
[63,1999,199963,10018,"LMICs","LMICs"]
[64,1999,199964,10017,"Other LICs","Other LICs"]
[65,1999,199965,10018,"LMICs","LMICs"]
[66,1999,199966,10018,"LMICs","LMICs"]
[71,1999,199971,10017,"Other LICs","Other LICs"]
[88,1999,199988,10024,"Part I unallocated by income","UMICs"]
[89,1999,199989,10024,"Part I unallocated by income","UMICs"]
[93,1999,199993,10018,"LMICs","LMICs"]
[105,1999,1999105,10025,"MADCTs","MADCTs"]
[110,1999,1999110,10024,"Part I unallocated by income","Part I unallocated by income"]
[130,1999,1999130,10018,"LMICs","LMICs"]
[133,1999,1999133,10019,"UMICs","UMICs"]
[136,1999,1999136,10018,"LMICs","LMICs"]
[139,1999,1999139,10018,"LMICs","LMICs"]
[142,1999,1999142,10018,"LMICs","LMICs"]
[189,1999,1999189,10024,"Part I unallocated by income","LMICs"]
[212,1999,1999212,10024,"Part I unallocated by income","Part I unallocated by income"]
[218,1999,1999218,10019,"UMICs","UMICs"]
[220,1999,1999220,10024,"Part I unallocated by income","Part I unallocated by income"]
[225,1999,1999225,10016,"LDCs","LDCs"]
[227,1999,1999227,10018,"LMICs","LMICs"]
[228,1999,1999228,10016,"LDCs","LDCs"]
[229,1999,1999229,10017,"Other LICs","Other LICs"]
[230,1999,1999230,10016,"LDCs","LDCs"]
[231,1999,1999231,10016,"LDCs","LDCs"]
[232,1999,1999232,10016,"LDCs","LDCs"]
[233,1999,1999233,10016,"LDCs","LDCs"]
[234,1999,1999234,10017,"Other LICs","Other LICs"]
[235,1999,1999235,10016,"LDCs","LDCs"]
[236,1999,1999236,10016,"LDCs","LDCs"]
[237,1999,1999237,10024,"Part I unallocated by income","Part I unallocated by income"]
[238,1999,1999238,10016,"LDCs","LDCs"]
[239,1999,1999239,10019,"UMICs","UMICs"]
[240,1999,1999240,10016,"LDCs","LDCs"]
[241,1999,1999241,10017,"Other LICs","Other LICs"]
[243,1999,1999243,10016,"LDCs","LDCs"]
[244,1999,1999244,10016,"LDCs","LDCs"]
[245,1999,1999245,10016,"LDCs","LDCs"]
[247,1999,1999247,10017,"Other LICs","Other LICs"]
[248,1999,1999248,10017,"Other LICs","Other LICs"]
[249,1999,1999249,10016,"LDCs","LDCs"]
[251,1999,1999251,10016,"LDCs","LDCs"]
[252,1999,1999252,10016,"LDCs","LDCs"]
[253,1999,1999253,10016,"LDCs","LDCs"]
[255,1999,1999255,10016,"LDCs","LDCs"]
[256,1999,1999256,10016,"LDCs","LDCs"]
[257,1999,1999257,10019,"UMICs","UMICs"]
[258,1999,1999258,10019,"UMICs","UMICs"]
[259,1999,1999259,10016,"LDCs","LDCs"]
[260,1999,1999260,10016,"LDCs","LDCs"]
[261,1999,1999261,10017,"Other LICs","Other LICs"]
[265,1999,1999265,10017,"Other LICs","Other LICs"]
[266,1999,1999266,10016,"LDCs","LDCs"]
[268,1999,1999268,10016,"LDCs","LDCs"]
[269,1999,1999269,10017,"Other LICs","Other LICs"]
[270,1999,1999270,10019,"UMICs","UMICs"]
[271,1999,1999271,10016,"LDCs","LDCs"]
[272,1999,1999272,10016,"LDCs","LDCs"]
[273,1999,1999273,10016,"LDCs","LDCs"]
[274,1999,1999274,10016,"LDCs","LDCs"]
[275,1999,1999275,10018,"LMICs","LMICs"]
[276,1999,1999276,10019,"UMICs","UMICs"]
[278,1999,1999278,10016,"LDCs","LDCs"]
[280,1999,1999280,10018,"LMICs","LMICs"]
[282,1999,1999282,10016,"LDCs","LDCs"]
[283,1999,1999283,10016,"LDCs","LDCs"]
[285,1999,1999285,10016,"LDCs","LDCs"]
[287,1999,1999287,10016,"LDCs","LDCs"]
[288,1999,1999288,10016,"LDCs","LDCs"]
[289,1999,1999289,10024,"Part I unallocated by income","LDCs"]
[298,1999,1999298,10024,"Part I unallocated by income","LDCs"]
[328,1999,1999328,10025,"MADCTs","MADCTs"]
[329,1999,1999329,10019,"UMICs","UMICs"]
[331,1999,1999331,10025,"MADCTs","MADCTs"]
[336,1999,1999336,10018,"LMICs","LMICs"]
[338,1999,1999338,10018,"LMICs","LMICs"]
[340,1999,1999340,10018,"LMICs","LMICs"]
[342,1999,1999342,10018,"LMICs","LMICs"]
[347,1999,1999347,10018,"LMICs","LMICs"]
[349,1999,1999349,10016,"LDCs","LDCs"]
[351,1999,1999351,10017,"Other LICs","Other LICs"]
[352,1999,1999352,10018,"LMICs","LMICs"]
[354,1999,1999354,10018,"LMICs","LMICs"]
[358,1999,1999358,10019,"UMICs","UMICs"]
[364,1999,1999364,10017,"Other LICs","Other LICs"]
[366,1999,1999366,10018,"LMICs","LMICs"]
[375,1999,1999375,10019,"UMICs","UMICs"]
[376,1999,1999376,10019,"UMICs","UMICs"]
[377,1999,1999377,10019,"UMICs","UMICs"]
[378,1999,1999378,10018,"LMICs","LMICs"]
[381,1999,1999381,10018,"LMICs","LMICs"]
[382,1999,1999382,10019,"UMICs","UMICs"]
[383,1999,1999383,10019,"UMICs","UMICs"]
[384,1999,1999384,10018,"LMICs","LMICs"]
[385,1999,1999385,10019,"UMICs","UMICs"]
[386,1999,1999386,10025,"MADCTs","MADCTs"]
[387,1999,1999387,10019,"UMICs","UMICs"]
[389,1999,1999389,10024,"Part I unallocated by income","UMICs"]
[425,1999,1999425,10019,"UMICs","UMICs"]
[428,1999,1999428,10018,"LMICs","LMICs"]
[431,1999,1999431,10019,"UMICs","UMICs"]
[434,1999,1999434,10019,"UMICs","UMICs"]
[437,1999,1999437,10018,"LMICs","LMICs"]
[440,1999,1999440,10018,"LMICs","LMICs"]
[443,1999,1999443,10025,"MADCTs","MADCTs"]
[446,1999,1999446,10017,"Other LICs","Other LICs"]
[451,1999,1999451,10018,"LMICs","LMICs"]
[454,1999,1999454,10018,"LMICs","LMICs"]
[457,1999,1999457,10018,"LMICs","LMICs"]
[460,1999,1999460,10019,"UMICs","UMICs"]
[463,1999,1999463,10018,"LMICs","LMICs"]
[489,1999,1999489,10024,"Part I unallocated by income","UMICs"]
[498,1999,1999498,10024,"Part I unallocated by income","UMICs"]
[530,1999,1999530,10019,"UMICs","UMICs"]
[540,1999,1999540,10018,"LMICs","LMICs"]
[543,1999,1999543,10018,"LMICs","LMICs"]
[546,1999,1999546,10025,"MADCTs","MADCTs"]
[549,1999,1999549,10018,"LMICs","LMICs"]
[550,1999,1999550,10018,"LMICs","LMICs"]
[552,1999,1999552,10025,"MADCTs","MADCTs"]
[555,1999,1999555,10018,"LMICs","LMICs"]
[558,1999,1999558,10019,"UMICs","UMICs"]
[561,1999,1999561,10025,"MADCTs","MADCTs"]
[566,1999,1999566,10019,"UMICs","UMICs"]
[573,1999,1999573,10018,"LMICs","LMICs"]
[576,1999,1999576,10025,"MADCTs","MADCTs"]
[580,1999,1999580,10016,"LDCs","LDCs"]
[589,1999,1999589,10024,"Part I unallocated by income","UMICs"]
[610,1999,1999610,10017,"Other LICs","Other LICs"]
[611,1999,1999611,10017,"Other LICs","Other LICs"]
[612,1999,1999612,10017,"Other LICs","Other LICs"]
[613,1999,1999613,10018,"LMICs","LMICs"]
[614,1999,1999614,10017,"Other LICs","Other LICs"]
[615,1999,1999615,10017,"Other LICs","Other LICs"]
[616,1999,1999616,10018,"LMICs","LMICs"]
[617,1999,1999617,10018,"LMICs","LMICs"]
[619,1999,1999619,10024,"Part I unallocated by income","UMICs"]
[625,1999,1999625,10016,"LDCs","LDCs"]
[630,1999,1999630,10016,"LDCs","LDCs"]
[635,1999,1999635,10016,"LDCs","LDCs"]
[640,1999,1999640,10017,"Other LICs","Other LICs"]
[645,1999,1999645,10017,"Other LICs","Other LICs"]
[650,1999,1999650,10024,"Part I unallocated by income","Part I unallocated by income"]
[655,1999,1999655,10016,"LDCs","LDCs"]
[660,1999,1999660,10016,"LDCs","LDCs"]
[665,1999,1999665,10017,"Other LICs","Other LICs"]
[666,1999,1999666,10016,"LDCs","LDCs"]
[679,1999,1999679,10024,"Part I unallocated by income","LDCs"]
[689,1999,1999689,10024,"Part I unallocated by income","UMICs"]
[725,1999,1999725,10025,"MADCTs","MADCTs"]
[728,1999,1999728,10016,"LDCs","LDCs"]
[730,1999,1999730,10017,"Other LICs","Other LICs"]
[732,1999,1999732,10025,"MADCTs","MADCTs"]
[735,1999,1999735,10025,"MADCTs","MADCTs"]
[738,1999,1999738,10018,"LMICs","LMICs"]
[740,1999,1999740,10018,"LMICs","LMICs"]
[745,1999,1999745,10016,"LDCs","LDCs"]
[751,1999,1999751,10019,"UMICs","UMICs"]
[752,1999,1999752,10024,"Part I unallocated by income","Part I unallocated by income"]
[753,1999,1999753,10017,"Other LICs","Other LICs"]
[755,1999,1999755,10018,"LMICs","LMICs"]
[761,1999,1999761,10025,"MADCTs","MADCTs"]
[764,1999,1999764,10018,"LMICs","LMICs"]
[765,1999,1999765,10018,"LMICs","LMICs"]
[769,1999,1999769,10017,"Other LICs","Other LICs"]
[789,1999,1999789,10024,"Part I unallocated by income","LMICs"]
[798,1999,1999798,10024,"Part I unallocated by income","UMICs"]
[831,1999,1999831,10019,"UMICs","UMICs"]
[832,1999,1999832,10018,"LMICs","LMICs"]
[836,1999,1999836,10016,"LDCs","LDCs"]
[845,1999,1999845,10019,"UMICs","UMICs"]
[854,1999,1999854,10016,"LDCs","LDCs"]
[856,1999,1999856,10018,"LMICs","LMICs"]
[859,1999,1999859,10018,"LMICs","LMICs"]
[860,1999,1999860,10018,"LMICs","LMICs"]
[861,1999,1999861,10018,"LMICs","LMICs"]
[862,1999,1999862,10018,"LMICs","LMICs"]
[866,1999,1999866,10016,"LDCs","LDCs"]
[868,1999,1999868,10018,"LMICs","LMICs"]
[870,1999,1999870,10018,"LMICs","LMICs"]
[872,1999,1999872,10016,"LDCs","LDCs"]
[876,1999,1999876,10018,"LMICs","LMICs"]
[880,1999,1999880,10016,"LDCs","LDCs"]
[889,1999,1999889,10024,"Part I unallocated by income","UMICs"]
[998,1999,1999998,10024,"Part I unallocated by income","UMICs"]
[1031,1999,19991031,10024,"Part I unallocated by income","UMICs"]
[30,2000,200030,10025,"MADCTs","MADCTs"]
[35,2000,200035,10025,"MADCTs","MADCTs"]
[55,2000,200055,10019,"UMICs","UMICs"]
[62,2000,200062,10019,"UMICs","UMICs"]
[63,2000,200063,10018,"LMICs","LMICs"]
[64,2000,200064,10018,"LMICs","LMICs"]
[65,2000,200065,10018,"LMICs","LMICs"]
[66,2000,200066,10018,"LMICs","LMICs"]
[71,2000,200071,10018,"LMICs","LMICs"]
[88,2000,200088,10024,"Part I unallocated by income","UMICs"]
[89,2000,200089,10024,"Part I unallocated by income","UMICs"]
[93,2000,200093,10017,"Other LICs","Other LICs"]
[105,2000,2000105,10025,"MADCTs","MADCTs"]
[110,2000,2000110,10024,"Part I unallocated by income","Part I unallocated by income"]
[130,2000,2000130,10018,"LMICs","LMICs"]
[133,2000,2000133,10025,"MADCTs","MADCTs"]
[136,2000,2000136,10018,"LMICs","LMICs"]
[139,2000,2000139,10018,"LMICs","LMICs"]
[142,2000,2000142,10018,"LMICs","LMICs"]
[189,2000,2000189,10024,"Part I unallocated by income","LMICs"]
[212,2000,2000212,10024,"Part I unallocated by income","Part I unallocated by income"]
[218,2000,2000218,10018,"LMICs","LMICs"]
[220,2000,2000220,10024,"Part I unallocated by income","Part I unallocated by income"]
[225,2000,2000225,10016,"LDCs","LDCs"]
[227,2000,2000227,10019,"UMICs","UMICs"]
[228,2000,2000228,10016,"LDCs","LDCs"]
[229,2000,2000229,10017,"Other LICs","Other LICs"]
[230,2000,2000230,10016,"LDCs","LDCs"]
[231,2000,2000231,10016,"LDCs","LDCs"]
[232,2000,2000232,10016,"LDCs","LDCs"]
[233,2000,2000233,10016,"LDCs","LDCs"]
[234,2000,2000234,10017,"Other LICs","Other LICs"]
[235,2000,2000235,10016,"LDCs","LDCs"]
[236,2000,2000236,10016,"LDCs","LDCs"]
[237,2000,2000237,10024,"Part I unallocated by income","Part I unallocated by income"]
[238,2000,2000238,10016,"LDCs","LDCs"]
[239,2000,2000239,10019,"UMICs","UMICs"]
[240,2000,2000240,10016,"LDCs","LDCs"]
[241,2000,2000241,10017,"Other LICs","Other LICs"]
[243,2000,2000243,10016,"LDCs","LDCs"]
[244,2000,2000244,10016,"LDCs","LDCs"]
[245,2000,2000245,10016,"LDCs","LDCs"]
[247,2000,2000247,10017,"Other LICs","Other LICs"]
[248,2000,2000248,10017,"Other LICs","Other LICs"]
[249,2000,2000249,10016,"LDCs","LDCs"]
[251,2000,2000251,10016,"LDCs","LDCs"]
[252,2000,2000252,10016,"LDCs","LDCs"]
[253,2000,2000253,10016,"LDCs","LDCs"]
[255,2000,2000255,10016,"LDCs","LDCs"]
[256,2000,2000256,10016,"LDCs","LDCs"]
[257,2000,2000257,10019,"UMICs","UMICs"]
[258,2000,2000258,10019,"UMICs","UMICs"]
[259,2000,2000259,10016,"LDCs","LDCs"]
[260,2000,2000260,10016,"LDCs","LDCs"]
[261,2000,2000261,10017,"Other LICs","Other LICs"]
[265,2000,2000265,10017,"Other LICs","Other LICs"]
[266,2000,2000266,10016,"LDCs","LDCs"]
[268,2000,2000268,10016,"LDCs","LDCs"]
[269,2000,2000269,10017,"Other LICs","Other LICs"]
[270,2000,2000270,10019,"UMICs","UMICs"]
[271,2000,2000271,10016,"LDCs","LDCs"]
[272,2000,2000272,10016,"LDCs","LDCs"]
[273,2000,2000273,10016,"LDCs","LDCs"]
[274,2000,2000274,10016,"LDCs","LDCs"]
[275,2000,2000275,10018,"LMICs","LMICs"]
[276,2000,2000276,10019,"UMICs","UMICs"]
[278,2000,2000278,10016,"LDCs","LDCs"]
[280,2000,2000280,10018,"LMICs","LMICs"]
[282,2000,2000282,10016,"LDCs","LDCs"]
[283,2000,2000283,10016,"LDCs","LDCs"]
[285,2000,2000285,10016,"LDCs","LDCs"]
[287,2000,2000287,10016,"LDCs","LDCs"]
[288,2000,2000288,10016,"LDCs","LDCs"]
[289,2000,2000289,10024,"Part I unallocated by income","LDCs"]
[298,2000,2000298,10024,"Part I unallocated by income","LDCs"]
[328,2000,2000328,10025,"MADCTs","MADCTs"]
[329,2000,2000329,10019,"UMICs","UMICs"]
[331,2000,2000331,10025,"MADCTs","MADCTs"]
[336,2000,2000336,10018,"LMICs","LMICs"]
[338,2000,2000338,10018,"LMICs","LMICs"]
[340,2000,2000340,10018,"LMICs","LMICs"]
[342,2000,2000342,10018,"LMICs","LMICs"]
[347,2000,2000347,10018,"LMICs","LMICs"]
[349,2000,2000349,10016,"LDCs","LDCs"]
[351,2000,2000351,10017,"Other LICs","Other LICs"]
[352,2000,2000352,10018,"LMICs","LMICs"]
[354,2000,2000354,10018,"LMICs","LMICs"]
[358,2000,2000358,10019,"UMICs","UMICs"]
[361,2000,2000361,10025,"MADCTs","MADCTs"]
[364,2000,2000364,10017,"Other LICs","Other LICs"]
[366,2000,2000366,10019,"UMICs","UMICs"]
[373,2000,2000373,10025,"MADCTs","MADCTs"]
[375,2000,2000375,10019,"UMICs","UMICs"]
[376,2000,2000376,10019,"UMICs","UMICs"]
[377,2000,2000377,10019,"UMICs","UMICs"]
[378,2000,2000378,10018,"LMICs","LMICs"]
[381,2000,2000381,10019,"UMICs","UMICs"]
[382,2000,2000382,10019,"UMICs","UMICs"]
[383,2000,2000383,10019,"UMICs","UMICs"]
[384,2000,2000384,10018,"LMICs","LMICs"]
[385,2000,2000385,10019,"UMICs","UMICs"]
[386,2000,2000386,10025,"MADCTs","MADCTs"]
[387,2000,2000387,10019,"UMICs","UMICs"]
[388,2000,2000388,10025,"MADCTs","MADCTs"]
[389,2000,2000389,10024,"Part I unallocated by income","UMICs"]
[425,2000,2000425,10019,"UMICs","UMICs"]
[428,2000,2000428,10018,"LMICs","LMICs"]
[431,2000,2000431,10019,"UMICs","UMICs"]
[434,2000,2000434,10019,"UMICs","UMICs"]
[437,2000,2000437,10018,"LMICs","LMICs"]
[440,2000,2000440,10018,"LMICs","LMICs"]
[443,2000,2000443,10025,"MADCTs","MADCTs"]
[446,2000,2000446,10018,"LMICs","LMICs"]
[451,2000,2000451,10018,"LMICs","LMICs"]
[454,2000,2000454,10018,"LMICs","LMICs"]
[457,2000,2000457,10018,"LMICs","LMICs"]
[460,2000,2000460,10019,"UMICs","UMICs"]
[463,2000,2000463,10019,"UMICs","UMICs"]
[489,2000,2000489,10024,"Part I unallocated by income","UMICs"]
[498,2000,2000498,10024,"Part I unallocated by income","UMICs"]
[530,2000,2000530,10019,"UMICs","UMICs"]
[540,2000,2000540,10018,"LMICs","LMICs"]
[543,2000,2000543,10018,"LMICs","LMICs"]
[546,2000,2000546,10025,"MADCTs","MADCTs"]
[549,2000,2000549,10018,"LMICs","LMICs"]
[550,2000,2000550,10018,"LMICs","LMICs"]
[552,2000,2000552,10025,"MADCTs","MADCTs"]
[555,2000,2000555,10019,"UMICs","UMICs"]
[558,2000,2000558,10019,"UMICs","UMICs"]
[561,2000,2000561,10025,"MADCTs","MADCTs"]
[566,2000,2000566,10019,"UMICs","UMICs"]
[573,2000,2000573,10018,"LMICs","LMICs"]
[576,2000,2000576,10025,"MADCTs","MADCTs"]
[580,2000,2000580,10016,"LDCs","LDCs"]
[589,2000,2000589,10024,"Part I unallocated by income","UMICs"]
[610,2000,2000610,10017,"Other LICs","Other LICs"]
[611,2000,2000611,10017,"Other LICs","Other LICs"]
[612,2000,2000612,10018,"LMICs","LMICs"]
[613,2000,2000613,10018,"LMICs","LMICs"]
[614,2000,2000614,10017,"Other LICs","Other LICs"]
[615,2000,2000615,10017,"Other LICs","Other LICs"]
[616,2000,2000616,10017,"Other LICs","Other LICs"]
[617,2000,2000617,10018,"LMICs","LMICs"]
[619,2000,2000619,10024,"Part I unallocated by income","UMICs"]
[625,2000,2000625,10016,"LDCs","LDCs"]
[630,2000,2000630,10016,"LDCs","LDCs"]
[635,2000,2000635,10016,"LDCs","LDCs"]
[640,2000,2000640,10018,"LMICs","LMICs"]
[645,2000,2000645,10017,"Other LICs","Other LICs"]
[650,2000,2000650,10024,"Part I unallocated by income","Part I unallocated by income"]
[655,2000,2000655,10016,"LDCs","LDCs"]
[660,2000,2000660,10016,"LDCs","LDCs"]
[665,2000,2000665,10017,"Other LICs","Other LICs"]
[666,2000,2000666,10016,"LDCs","LDCs"]
[679,2000,2000679,10024,"Part I unallocated by income","LDCs"]
[689,2000,2000689,10024,"Part I unallocated by income","UMICs"]
[725,2000,2000725,10025,"MADCTs","MADCTs"]
[728,2000,2000728,10016,"LDCs","LDCs"]
[730,2000,2000730,10017,"Other LICs","Other LICs"]
[732,2000,2000732,10025,"MADCTs","MADCTs"]
[735,2000,2000735,10025,"MADCTs","MADCTs"]
[738,2000,2000738,10017,"Other LICs","Other LICs"]
[740,2000,2000740,10017,"Other LICs","Other LICs"]
[742,2000,2000742,10025,"MADCTs","MADCTs"]
[745,2000,2000745,10016,"LDCs","LDCs"]
[748,2000,2000748,10025,"MADCTs","MADCTs"]
[751,2000,2000751,10019,"UMICs","UMICs"]
[752,2000,2000752,10024,"Part I unallocated by income","Part I unallocated by income"]
[753,2000,2000753,10017,"Other LICs","Other LICs"]
[755,2000,2000755,10018,"LMICs","LMICs"]
[761,2000,2000761,10025,"MADCTs","MADCTs"]
[764,2000,2000764,10018,"LMICs","LMICs"]
[765,2000,2000765,10017,"Other LICs","Other LICs"]
[769,2000,2000769,10017,"Other LICs","Other LICs"]
[789,2000,2000789,10024,"Part I unallocated by income","LMICs"]
[798,2000,2000798,10024,"Part I unallocated by income","UMICs"]
[831,2000,2000831,10019,"UMICs","UMICs"]
[832,2000,2000832,10018,"LMICs","LMICs"]
[836,2000,2000836,10016,"LDCs","LDCs"]
[840,2000,2000840,10025,"MADCTs","MADCTs"]
[845,2000,2000845,10019,"UMICs","UMICs"]
[850,2000,2000850,10025,"MADCTs","MADCTs"]
[854,2000,2000854,10016,"LDCs","LDCs"]
[856,2000,2000856,10018,"LMICs","LMICs"]
[858,2000,2000858,10025,"MADCTs","MADCTs"]
[859,2000,2000859,10018,"LMICs","LMICs"]
[860,2000,2000860,10018,"LMICs","LMICs"]
[861,2000,2000861,10019,"UMICs","UMICs"]
[862,2000,2000862,10018,"LMICs","LMICs"]
[866,2000,2000866,10016,"LDCs","LDCs"]
[868,2000,2000868,10018,"LMICs","LMICs"]
[870,2000,2000870,10018,"LMICs","LMICs"]
[872,2000,2000872,10016,"LDCs","LDCs"]
[876,2000,2000876,10018,"LMICs","LMICs"]
[880,2000,2000880,10016,"LDCs","LDCs"]
[889,2000,2000889,10024,"Part I unallocated by income","UMICs"]
[998,2000,2000998,10024,"Part I unallocated by income","UMICs"]
[1031,2000,20001031,10024,"Part I unallocated by income","UMICs"]
[30,2001,200130,10025,"MADCTs","MADCTs"]
[35,2001,200135,10025,"MADCTs","MADCTs"]
[55,2001,200155,10019,"UMICs","UMICs"]
[62,2001,200162,10019,"UMICs","UMICs"]
[63,2001,200163,10018,"LMICs","LMICs"]
[64,2001,200164,10018,"LMICs","LMICs"]
[65,2001,200165,10018,"LMICs","LMICs"]
[66,2001,200166,10018,"LMICs","LMICs"]
[71,2001,200171,10018,"LMICs","LMICs"]
[88,2001,200188,10024,"Part I unallocated by income","UMICs"]
[89,2001,200189,10024,"Part I unallocated by income","UMICs"]
[93,2001,200193,10017,"Other LICs","Other LICs"]
[105,2001,2001105,10025,"MADCTs","MADCTs"]
[110,2001,2001110,10024,"Part I unallocated by income","Part I unallocated by income"]
[130,2001,2001130,10018,"LMICs","LMICs"]
[133,2001,2001133,10025,"MADCTs","MADCTs"]
[136,2001,2001136,10018,"LMICs","LMICs"]
[139,2001,2001139,10018,"LMICs","LMICs"]
[142,2001,2001142,10018,"LMICs","LMICs"]
[189,2001,2001189,10024,"Part I unallocated by income","LMICs"]
[212,2001,2001212,10024,"Part I unallocated by income","Part I unallocated by income"]
[218,2001,2001218,10018,"LMICs","LMICs"]
[220,2001,2001220,10024,"Part I unallocated by income","Part I unallocated by income"]
[225,2001,2001225,10016,"LDCs","LDCs"]
[227,2001,2001227,10019,"UMICs","UMICs"]
[228,2001,2001228,10016,"LDCs","LDCs"]
[229,2001,2001229,10017,"Other LICs","Other LICs"]
[230,2001,2001230,10016,"LDCs","LDCs"]
[231,2001,2001231,10016,"LDCs","LDCs"]
[232,2001,2001232,10016,"LDCs","LDCs"]
[233,2001,2001233,10016,"LDCs","LDCs"]
[234,2001,2001234,10017,"Other LICs","Other LICs"]
[235,2001,2001235,10016,"LDCs","LDCs"]
[236,2001,2001236,10016,"LDCs","LDCs"]
[237,2001,2001237,10024,"Part I unallocated by income","Part I unallocated by income"]
[238,2001,2001238,10016,"LDCs","LDCs"]
[239,2001,2001239,10019,"UMICs","UMICs"]
[240,2001,2001240,10016,"LDCs","LDCs"]
[241,2001,2001241,10017,"Other LICs","Other LICs"]
[243,2001,2001243,10016,"LDCs","LDCs"]
[244,2001,2001244,10016,"LDCs","LDCs"]
[245,2001,2001245,10016,"LDCs","LDCs"]
[247,2001,2001247,10017,"Other LICs","Other LICs"]
[248,2001,2001248,10017,"Other LICs","Other LICs"]
[249,2001,2001249,10016,"LDCs","LDCs"]
[251,2001,2001251,10016,"LDCs","LDCs"]
[252,2001,2001252,10016,"LDCs","LDCs"]
[253,2001,2001253,10016,"LDCs","LDCs"]
[255,2001,2001255,10016,"LDCs","LDCs"]
[256,2001,2001256,10016,"LDCs","LDCs"]
[257,2001,2001257,10019,"UMICs","UMICs"]
[258,2001,2001258,10019,"UMICs","UMICs"]
[259,2001,2001259,10016,"LDCs","LDCs"]
[260,2001,2001260,10016,"LDCs","LDCs"]
[261,2001,2001261,10017,"Other LICs","Other LICs"]
[265,2001,2001265,10017,"Other LICs","Other LICs"]
[266,2001,2001266,10016,"LDCs","LDCs"]
[268,2001,2001268,10016,"LDCs","LDCs"]
[269,2001,2001269,10016,"LDCs","LDCs"]
[270,2001,2001270,10019,"UMICs","UMICs"]
[271,2001,2001271,10016,"LDCs","LDCs"]
[272,2001,2001272,10016,"LDCs","LDCs"]
[273,2001,2001273,10016,"LDCs","LDCs"]
[274,2001,2001274,10016,"LDCs","LDCs"]
[275,2001,2001275,10018,"LMICs","LMICs"]
[276,2001,2001276,10019,"UMICs","UMICs"]
[278,2001,2001278,10016,"LDCs","LDCs"]
[280,2001,2001280,10018,"LMICs","LMICs"]
[282,2001,2001282,10016,"LDCs","LDCs"]
[283,2001,2001283,10016,"LDCs","LDCs"]
[285,2001,2001285,10016,"LDCs","LDCs"]
[287,2001,2001287,10016,"LDCs","LDCs"]
[288,2001,2001288,10016,"LDCs","LDCs"]
[289,2001,2001289,10024,"Part I unallocated by income","LDCs"]
[298,2001,2001298,10024,"Part I unallocated by income","LDCs"]
[328,2001,2001328,10025,"MADCTs","MADCTs"]
[329,2001,2001329,10019,"UMICs","UMICs"]
[331,2001,2001331,10025,"MADCTs","MADCTs"]
[336,2001,2001336,10018,"LMICs","LMICs"]
[338,2001,2001338,10018,"LMICs","LMICs"]
[340,2001,2001340,10018,"LMICs","LMICs"]
[342,2001,2001342,10018,"LMICs","LMICs"]
[347,2001,2001347,10018,"LMICs","LMICs"]
[349,2001,2001349,10016,"LDCs","LDCs"]
[351,2001,2001351,10017,"Other LICs","Other LICs"]
[352,2001,2001352,10018,"LMICs","LMICs"]
[354,2001,2001354,10018,"LMICs","LMICs"]
[358,2001,2001358,10019,"UMICs","UMICs"]
[361,2001,2001361,10025,"MADCTs","MADCTs"]
[364,2001,2001364,10017,"Other LICs","Other LICs"]
[366,2001,2001366,10019,"UMICs","UMICs"]
[373,2001,2001373,10025,"MADCTs","MADCTs"]
[375,2001,2001375,10019,"UMICs","UMICs"]
[376,2001,2001376,10019,"UMICs","UMICs"]
[377,2001,2001377,10019,"UMICs","UMICs"]
[378,2001,2001378,10018,"LMICs","LMICs"]
[381,2001,2001381,10019,"UMICs","UMICs"]
[382,2001,2001382,10019,"UMICs","UMICs"]
[383,2001,2001383,10019,"UMICs","UMICs"]
[384,2001,2001384,10018,"LMICs","LMICs"]
[385,2001,2001385,10019,"UMICs","UMICs"]
[386,2001,2001386,10025,"MADCTs","MADCTs"]
[387,2001,2001387,10019,"UMICs","UMICs"]
[388,2001,2001388,10025,"MADCTs","MADCTs"]
[389,2001,2001389,10024,"Part I unallocated by income","UMICs"]
[425,2001,2001425,10019,"UMICs","UMICs"]
[428,2001,2001428,10018,"LMICs","LMICs"]
[431,2001,2001431,10019,"UMICs","UMICs"]
[434,2001,2001434,10019,"UMICs","UMICs"]
[437,2001,2001437,10018,"LMICs","LMICs"]
[440,2001,2001440,10018,"LMICs","LMICs"]
[443,2001,2001443,10025,"MADCTs","MADCTs"]
[446,2001,2001446,10018,"LMICs","LMICs"]
[451,2001,2001451,10018,"LMICs","LMICs"]
[454,2001,2001454,10018,"LMICs","LMICs"]
[457,2001,2001457,10018,"LMICs","LMICs"]
[460,2001,2001460,10019,"UMICs","UMICs"]
[463,2001,2001463,10019,"UMICs","UMICs"]
[489,2001,2001489,10024,"Part I unallocated by income","UMICs"]
[498,2001,2001498,10024,"Part I unallocated by income","UMICs"]
[530,2001,2001530,10019,"UMICs","UMICs"]
[540,2001,2001540,10018,"LMICs","LMICs"]
[543,2001,2001543,10018,"LMICs","LMICs"]
[546,2001,2001546,10025,"MADCTs","MADCTs"]
[549,2001,2001549,10018,"LMICs","LMICs"]
[550,2001,2001550,10018,"LMICs","LMICs"]
[552,2001,2001552,10025,"MADCTs","MADCTs"]
[555,2001,2001555,10019,"UMICs","UMICs"]
[558,2001,2001558,10019,"UMICs","UMICs"]
[561,2001,2001561,10025,"MADCTs","MADCTs"]
[566,2001,2001566,10019,"UMICs","UMICs"]
[573,2001,2001573,10018,"LMICs","LMICs"]
[576,2001,2001576,10025,"MADCTs","MADCTs"]
[580,2001,2001580,10016,"LDCs","LDCs"]
[589,2001,2001589,10024,"Part I unallocated by income","UMICs"]
[610,2001,2001610,10017,"Other LICs","Other LICs"]
[611,2001,2001611,10017,"Other LICs","Other LICs"]
[612,2001,2001612,10018,"LMICs","LMICs"]
[613,2001,2001613,10018,"LMICs","LMICs"]
[614,2001,2001614,10017,"Other LICs","Other LICs"]
[615,2001,2001615,10017,"Other LICs","Other LICs"]
[616,2001,2001616,10017,"Other LICs","Other LICs"]
[617,2001,2001617,10018,"LMICs","LMICs"]
[619,2001,2001619,10024,"Part I unallocated by income","UMICs"]
[625,2001,2001625,10016,"LDCs","LDCs"]
[630,2001,2001630,10016,"LDCs","LDCs"]
[635,2001,2001635,10016,"LDCs","LDCs"]
[640,2001,2001640,10018,"LMICs","LMICs"]
[645,2001,2001645,10017,"Other LICs","Other LICs"]
[650,2001,2001650,10024,"Part I unallocated by income","Part I unallocated by income"]
[655,2001,2001655,10016,"LDCs","LDCs"]
[660,2001,2001660,10016,"LDCs","LDCs"]
[665,2001,2001665,10017,"Other LICs","Other LICs"]
[666,2001,2001666,10016,"LDCs","LDCs"]
[679,2001,2001679,10024,"Part I unallocated by income","LDCs"]
[689,2001,2001689,10024,"Part I unallocated by income","UMICs"]
[725,2001,2001725,10025,"MADCTs","MADCTs"]
[728,2001,2001728,10016,"LDCs","LDCs"]
[730,2001,2001730,10017,"Other LICs","Other LICs"]
[732,2001,2001732,10025,"MADCTs","MADCTs"]
[735,2001,2001735,10025,"MADCTs","MADCTs"]
[738,2001,2001738,10017,"Other LICs","Other LICs"]
[740,2001,2001740,10017,"Other LICs","Other LICs"]
[742,2001,2001742,10025,"MADCTs","MADCTs"]
[745,2001,2001745,10016,"LDCs","LDCs"]
[748,2001,2001748,10025,"MADCTs","MADCTs"]
[751,2001,2001751,10019,"UMICs","UMICs"]
[752,2001,2001752,10024,"Part I unallocated by income","Part I unallocated by income"]
[753,2001,2001753,10017,"Other LICs","Other LICs"]
[755,2001,2001755,10018,"LMICs","LMICs"]
[761,2001,2001761,10025,"MADCTs","MADCTs"]
[764,2001,2001764,10018,"LMICs","LMICs"]
[765,2001,2001765,10017,"Other LICs","Other LICs"]
[769,2001,2001769,10017,"Other LICs","Other LICs"]
[789,2001,2001789,10024,"Part I unallocated by income","LMICs"]
[798,2001,2001798,10024,"Part I unallocated by income","UMICs"]
[831,2001,2001831,10019,"UMICs","UMICs"]
[832,2001,2001832,10018,"LMICs","LMICs"]
[836,2001,2001836,10016,"LDCs","LDCs"]
[840,2001,2001840,10025,"MADCTs","MADCTs"]
[845,2001,2001845,10019,"UMICs","UMICs"]
[850,2001,2001850,10025,"MADCTs","MADCTs"]
[854,2001,2001854,10016,"LDCs","LDCs"]
[856,2001,2001856,10018,"LMICs","LMICs"]
[858,2001,2001858,10025,"MADCTs","MADCTs"]
[859,2001,2001859,10018,"LMICs","LMICs"]
[860,2001,2001860,10018,"LMICs","LMICs"]
[861,2001,2001861,10019,"UMICs","UMICs"]
[862,2001,2001862,10018,"LMICs","LMICs"]
[866,2001,2001866,10016,"LDCs","LDCs"]
[868,2001,2001868,10018,"LMICs","LMICs"]
[870,2001,2001870,10018,"LMICs","LMICs"]
[872,2001,2001872,10016,"LDCs","LDCs"]
[876,2001,2001876,10018,"LMICs","LMICs"]
[880,2001,2001880,10016,"LDCs","LDCs"]
[889,2001,2001889,10024,"Part I unallocated by income","UMICs"]
[998,2001,2001998,10024,"Part I unallocated by income","UMICs"]
[1031,2001,20011031,10024,"Part I unallocated by income","UMICs"]
[30,2002,200230,10025,"MADCTs","MADCTs"]
[35,2002,200235,10025,"MADCTs","MADCTs"]
[55,2002,200255,10019,"UMICs","UMICs"]
[62,2002,200262,10019,"UMICs","UMICs"]
[63,2002,200263,10018,"LMICs","LMICs"]
[64,2002,200264,10018,"LMICs","LMICs"]
[65,2002,200265,10018,"LMICs","LMICs"]
[66,2002,200266,10018,"LMICs","LMICs"]
[71,2002,200271,10018,"LMICs","LMICs"]
[88,2002,200288,10024,"Part I unallocated by income","UMICs"]
[89,2002,200289,10024,"Part I unallocated by income","UMICs"]
[93,2002,200293,10017,"Other LICs","Other LICs"]
[105,2002,2002105,10025,"MADCTs","MADCTs"]
[110,2002,2002110,10024,"Part I unallocated by income","Part I unallocated by income"]
[130,2002,2002130,10018,"LMICs","LMICs"]
[133,2002,2002133,10025,"MADCTs","MADCTs"]
[136,2002,2002136,10018,"LMICs","LMICs"]
[139,2002,2002139,10018,"LMICs","LMICs"]
[142,2002,2002142,10018,"LMICs","LMICs"]
[189,2002,2002189,10024,"Part I unallocated by income","LMICs"]
[212,2002,2002212,10024,"Part I unallocated by income","Part I unallocated by income"]
[218,2002,2002218,10018,"LMICs","LMICs"]
[220,2002,2002220,10024,"Part I unallocated by income","Part I unallocated by income"]
[225,2002,2002225,10016,"LDCs","LDCs"]
[227,2002,2002227,10019,"UMICs","UMICs"]
[228,2002,2002228,10016,"LDCs","LDCs"]
[229,2002,2002229,10017,"Other LICs","Other LICs"]
[230,2002,2002230,10016,"LDCs","LDCs"]
[231,2002,2002231,10016,"LDCs","LDCs"]
[232,2002,2002232,10016,"LDCs","LDCs"]
[233,2002,2002233,10016,"LDCs","LDCs"]
[234,2002,2002234,10017,"Other LICs","Other LICs"]
[235,2002,2002235,10016,"LDCs","LDCs"]
[236,2002,2002236,10016,"LDCs","LDCs"]
[237,2002,2002237,10024,"Part I unallocated by income","Part I unallocated by income"]
[238,2002,2002238,10016,"LDCs","LDCs"]
[239,2002,2002239,10019,"UMICs","UMICs"]
[240,2002,2002240,10016,"LDCs","LDCs"]
[241,2002,2002241,10017,"Other LICs","Other LICs"]
[243,2002,2002243,10016,"LDCs","LDCs"]
[244,2002,2002244,10016,"LDCs","LDCs"]
[245,2002,2002245,10016,"LDCs","LDCs"]
[247,2002,2002247,10017,"Other LICs","Other LICs"]
[248,2002,2002248,10017,"Other LICs","Other LICs"]
[249,2002,2002249,10016,"LDCs","LDCs"]
[251,2002,2002251,10016,"LDCs","LDCs"]
[252,2002,2002252,10016,"LDCs","LDCs"]
[253,2002,2002253,10016,"LDCs","LDCs"]
[255,2002,2002255,10016,"LDCs","LDCs"]
[256,2002,2002256,10016,"LDCs","LDCs"]
[257,2002,2002257,10019,"UMICs","UMICs"]
[258,2002,2002258,10019,"UMICs","UMICs"]
[259,2002,2002259,10016,"LDCs","LDCs"]
[260,2002,2002260,10016,"LDCs","LDCs"]
[261,2002,2002261,10017,"Other LICs","Other LICs"]
[265,2002,2002265,10017,"Other LICs","Other LICs"]
[266,2002,2002266,10016,"LDCs","LDCs"]
[268,2002,2002268,10016,"LDCs","LDCs"]
[269,2002,2002269,10016,"LDCs","LDCs"]
[270,2002,2002270,10019,"UMICs","UMICs"]
[271,2002,2002271,10016,"LDCs","LDCs"]
[272,2002,2002272,10016,"LDCs","LDCs"]
[273,2002,2002273,10016,"LDCs","LDCs"]
[274,2002,2002274,10016,"LDCs","LDCs"]
[275,2002,2002275,10018,"LMICs","LMICs"]
[276,2002,2002276,10019,"UMICs","UMICs"]
[278,2002,2002278,10016,"LDCs","LDCs"]
[280,2002,2002280,10018,"LMICs","LMICs"]
[282,2002,2002282,10016,"LDCs","LDCs"]
[283,2002,2002283,10016,"LDCs","LDCs"]
[285,2002,2002285,10016,"LDCs","LDCs"]
[287,2002,2002287,10016,"LDCs","LDCs"]
[288,2002,2002288,10016,"LDCs","LDCs"]
[289,2002,2002289,10024,"Part I unallocated by income","LDCs"]
[298,2002,2002298,10024,"Part I unallocated by income","LDCs"]
[328,2002,2002328,10025,"MADCTs","MADCTs"]
[329,2002,2002329,10019,"UMICs","UMICs"]
[331,2002,2002331,10025,"MADCTs","MADCTs"]
[336,2002,2002336,10018,"LMICs","LMICs"]
[338,2002,2002338,10018,"LMICs","LMICs"]
[340,2002,2002340,10018,"LMICs","LMICs"]
[342,2002,2002342,10018,"LMICs","LMICs"]
[347,2002,2002347,10018,"LMICs","LMICs"]
[349,2002,2002349,10016,"LDCs","LDCs"]
[351,2002,2002351,10017,"Other LICs","Other LICs"]
[352,2002,2002352,10018,"LMICs","LMICs"]
[354,2002,2002354,10018,"LMICs","LMICs"]
[358,2002,2002358,10019,"UMICs","UMICs"]
[361,2002,2002361,10025,"MADCTs","MADCTs"]
[364,2002,2002364,10017,"Other LICs","Other LICs"]
[366,2002,2002366,10019,"UMICs","UMICs"]
[373,2002,2002373,10025,"MADCTs","MADCTs"]
[375,2002,2002375,10019,"UMICs","UMICs"]
[376,2002,2002376,10019,"UMICs","UMICs"]
[377,2002,2002377,10019,"UMICs","UMICs"]
[378,2002,2002378,10018,"LMICs","LMICs"]
[381,2002,2002381,10019,"UMICs","UMICs"]
[382,2002,2002382,10019,"UMICs","UMICs"]
[383,2002,2002383,10019,"UMICs","UMICs"]
[384,2002,2002384,10018,"LMICs","LMICs"]
[385,2002,2002385,10019,"UMICs","UMICs"]
[386,2002,2002386,10025,"MADCTs","MADCTs"]
[387,2002,2002387,10019,"UMICs","UMICs"]
[388,2002,2002388,10025,"MADCTs","MADCTs"]
[389,2002,2002389,10024,"Part I unallocated by income","UMICs"]
[425,2002,2002425,10019,"UMICs","UMICs"]
[428,2002,2002428,10018,"LMICs","LMICs"]
[431,2002,2002431,10019,"UMICs","UMICs"]
[434,2002,2002434,10019,"UMICs","UMICs"]
[437,2002,2002437,10018,"LMICs","LMICs"]
[440,2002,2002440,10018,"LMICs","LMICs"]
[443,2002,2002443,10025,"MADCTs","MADCTs"]
[446,2002,2002446,10018,"LMICs","LMICs"]
[451,2002,2002451,10018,"LMICs","LMICs"]
[454,2002,2002454,10018,"LMICs","LMICs"]
[457,2002,2002457,10018,"LMICs","LMICs"]
[460,2002,2002460,10019,"UMICs","UMICs"]
[463,2002,2002463,10019,"UMICs","UMICs"]
[489,2002,2002489,10024,"Part I unallocated by income","UMICs"]
[498,2002,2002498,10024,"Part I unallocated by income","UMICs"]
[530,2002,2002530,10019,"UMICs","UMICs"]
[540,2002,2002540,10018,"LMICs","LMICs"]
[543,2002,2002543,10018,"LMICs","LMICs"]
[546,2002,2002546,10025,"MADCTs","MADCTs"]
[549,2002,2002549,10018,"LMICs","LMICs"]
[550,2002,2002550,10018,"LMICs","LMICs"]
[552,2002,2002552,10025,"MADCTs","MADCTs"]
[555,2002,2002555,10019,"UMICs","UMICs"]
[558,2002,2002558,10019,"UMICs","UMICs"]
[561,2002,2002561,10025,"MADCTs","MADCTs"]
[566,2002,2002566,10019,"UMICs","UMICs"]
[573,2002,2002573,10018,"LMICs","LMICs"]
[576,2002,2002576,10025,"MADCTs","MADCTs"]
[580,2002,2002580,10016,"LDCs","LDCs"]
[589,2002,2002589,10024,"Part I unallocated by income","UMICs"]
[610,2002,2002610,10017,"Other LICs","Other LICs"]
[611,2002,2002611,10017,"Other LICs","Other LICs"]
[612,2002,2002612,10018,"LMICs","LMICs"]
[613,2002,2002613,10018,"LMICs","LMICs"]
[614,2002,2002614,10017,"Other LICs","Other LICs"]
[615,2002,2002615,10017,"Other LICs","Other LICs"]
[616,2002,2002616,10017,"Other LICs","Other LICs"]
[617,2002,2002617,10018,"LMICs","LMICs"]
[619,2002,2002619,10024,"Part I unallocated by income","UMICs"]
[625,2002,2002625,10016,"LDCs","LDCs"]
[630,2002,2002630,10016,"LDCs","LDCs"]
[635,2002,2002635,10016,"LDCs","LDCs"]
[640,2002,2002640,10018,"LMICs","LMICs"]
[645,2002,2002645,10017,"Other LICs","Other LICs"]
[650,2002,2002650,10024,"Part I unallocated by income","Part I unallocated by income"]
[655,2002,2002655,10016,"LDCs","LDCs"]
[660,2002,2002660,10016,"LDCs","LDCs"]
[665,2002,2002665,10017,"Other LICs","Other LICs"]
[666,2002,2002666,10016,"LDCs","LDCs"]
[679,2002,2002679,10024,"Part I unallocated by income","LDCs"]
[689,2002,2002689,10024,"Part I unallocated by income","UMICs"]
[725,2002,2002725,10025,"MADCTs","MADCTs"]
[728,2002,2002728,10016,"LDCs","LDCs"]
[730,2002,2002730,10017,"Other LICs","Other LICs"]
[732,2002,2002732,10025,"MADCTs","MADCTs"]
[735,2002,2002735,10025,"MADCTs","MADCTs"]
[738,2002,2002738,10017,"Other LICs","Other LICs"]
[740,2002,2002740,10017,"Other LICs","Other LICs"]
[742,2002,2002742,10025,"MADCTs","MADCTs"]
[745,2002,2002745,10016,"LDCs","LDCs"]
[748,2002,2002748,10025,"MADCTs","MADCTs"]
[751,2002,2002751,10019,"UMICs","UMICs"]
[752,2002,2002752,10024,"Part I unallocated by income","Part I unallocated by income"]
[753,2002,2002753,10017,"Other LICs","Other LICs"]
[755,2002,2002755,10018,"LMICs","LMICs"]
[761,2002,2002761,10025,"MADCTs","MADCTs"]
[764,2002,2002764,10018,"LMICs","LMICs"]
[765,2002,2002765,10017,"Other LICs","Other LICs"]
[769,2002,2002769,10017,"Other LICs","Other LICs"]
[789,2002,2002789,10024,"Part I unallocated by income","LMICs"]
[798,2002,2002798,10024,"Part I unallocated by income","UMICs"]
[831,2002,2002831,10019,"UMICs","UMICs"]
[832,2002,2002832,10018,"LMICs","LMICs"]
[836,2002,2002836,10016,"LDCs","LDCs"]
[840,2002,2002840,10025,"MADCTs","MADCTs"]
[845,2002,2002845,10019,"UMICs","UMICs"]
[850,2002,2002850,10025,"MADCTs","MADCTs"]
[854,2002,2002854,10016,"LDCs","LDCs"]
[856,2002,2002856,10018,"LMICs","LMICs"]
[858,2002,2002858,10025,"MADCTs","MADCTs"]
[859,2002,2002859,10018,"LMICs","LMICs"]
[860,2002,2002860,10018,"LMICs","LMICs"]
[861,2002,2002861,10019,"UMICs","UMICs"]
[862,2002,2002862,10018,"LMICs","LMICs"]
[866,2002,2002866,10016,"LDCs","LDCs"]
[868,2002,2002868,10018,"LMICs","LMICs"]
[870,2002,2002870,10018,"LMICs","LMICs"]
[872,2002,2002872,10016,"LDCs","LDCs"]
[876,2002,2002876,10018,"LMICs","LMICs"]
[880,2002,2002880,10016,"LDCs","LDCs"]
[889,2002,2002889,10024,"Part I unallocated by income","UMICs"]
[998,2002,2002998,10024,"Part I unallocated by income","UMICs"]
[1031,2002,20021031,10024,"Part I unallocated by income","UMICs"]
[30,2003,200330,10025,"MADCTs","MADCTs"]
[35,2003,200335,10025,"MADCTs","MADCTs"]
[45,2003,200345,10025,"MADCTs","MADCTs"]
[55,2003,200355,10018,"LMICs","LMICs"]
[61,2003,200361,10025,"MADCTs","MADCTs"]
[62,2003,200362,10019,"UMICs","UMICs"]
[63,2003,200363,10018,"LMICs","LMICs"]
[64,2003,200364,10018,"LMICs","LMICs"]
[65,2003,200365,10018,"LMICs","LMICs"]
[66,2003,200366,10018,"LMICs","LMICs"]
[71,2003,200371,10018,"LMICs","LMICs"]
[88,2003,200388,10024,"Part I unallocated by income","UMICs"]
[89,2003,200389,10024,"Part I unallocated by income","UMICs"]
[93,2003,200393,10017,"Other LICs","Other LICs"]
[105,2003,2003105,10025,"MADCTs","MADCTs"]
[110,2003,2003110,10024,"Part I unallocated by income","Part I unallocated by income"]
[130,2003,2003130,10018,"LMICs","LMICs"]
[133,2003,2003133,10025,"MADCTs","MADCTs"]
[136,2003,2003136,10018,"LMICs","LMICs"]
[139,2003,2003139,10018,"LMICs","LMICs"]
[142,2003,2003142,10018,"LMICs","LMICs"]
[189,2003,2003189,10024,"Part I unallocated by income","LMICs"]
[212,2003,2003212,10024,"Part I unallocated by income","Part I unallocated by income"]
[218,2003,2003218,10018,"LMICs","LMICs"]
[220,2003,2003220,10024,"Part I unallocated by income","Part I unallocated by income"]
[225,2003,2003225,10016,"LDCs","LDCs"]
[227,2003,2003227,10019,"UMICs","UMICs"]
[228,2003,2003228,10016,"LDCs","LDCs"]
[229,2003,2003229,10017,"Other LICs","Other LICs"]
[230,2003,2003230,10016,"LDCs","LDCs"]
[231,2003,2003231,10016,"LDCs","LDCs"]
[232,2003,2003232,10016,"LDCs","LDCs"]
[233,2003,2003233,10016,"LDCs","LDCs"]
[234,2003,2003234,10017,"Other LICs","Other LICs"]
[235,2003,2003235,10016,"LDCs","LDCs"]
[236,2003,2003236,10016,"LDCs","LDCs"]
[237,2003,2003237,10024,"Part I unallocated by income","Part I unallocated by income"]
[238,2003,2003238,10016,"LDCs","LDCs"]
[239,2003,2003239,10019,"UMICs","UMICs"]
[240,2003,2003240,10016,"LDCs","LDCs"]
[241,2003,2003241,10017,"Other LICs","Other LICs"]
[243,2003,2003243,10016,"LDCs","LDCs"]
[244,2003,2003244,10016,"LDCs","LDCs"]
[245,2003,2003245,10016,"LDCs","LDCs"]
[247,2003,2003247,10017,"Other LICs","Other LICs"]
[248,2003,2003248,10017,"Other LICs","Other LICs"]
[249,2003,2003249,10016,"LDCs","LDCs"]
[251,2003,2003251,10016,"LDCs","LDCs"]
[252,2003,2003252,10016,"LDCs","LDCs"]
[253,2003,2003253,10016,"LDCs","LDCs"]
[255,2003,2003255,10016,"LDCs","LDCs"]
[256,2003,2003256,10016,"LDCs","LDCs"]
[257,2003,2003257,10019,"UMICs","UMICs"]
[258,2003,2003258,10019,"UMICs","UMICs"]
[259,2003,2003259,10016,"LDCs","LDCs"]
[260,2003,2003260,10016,"LDCs","LDCs"]
[261,2003,2003261,10017,"Other LICs","Other LICs"]
[265,2003,2003265,10017,"Other LICs","Other LICs"]
[266,2003,2003266,10016,"LDCs","LDCs"]
[268,2003,2003268,10016,"LDCs","LDCs"]
[269,2003,2003269,10016,"LDCs","LDCs"]
[270,2003,2003270,10019,"UMICs","UMICs"]
[271,2003,2003271,10016,"LDCs","LDCs"]
[272,2003,2003272,10016,"LDCs","LDCs"]
[273,2003,2003273,10016,"LDCs","LDCs"]
[274,2003,2003274,10016,"LDCs","LDCs"]
[275,2003,2003275,10018,"LMICs","LMICs"]
[276,2003,2003276,10019,"UMICs","UMICs"]
[278,2003,2003278,10016,"LDCs","LDCs"]
[280,2003,2003280,10018,"LMICs","LMICs"]
[282,2003,2003282,10016,"LDCs","LDCs"]
[283,2003,2003283,10016,"LDCs","LDCs"]
[285,2003,2003285,10016,"LDCs","LDCs"]
[287,2003,2003287,10016,"LDCs","LDCs"]
[288,2003,2003288,10016,"LDCs","LDCs"]
[289,2003,2003289,10024,"Part I unallocated by income","LDCs"]
[298,2003,2003298,10024,"Part I unallocated by income","LDCs"]
[328,2003,2003328,10025,"MADCTs","MADCTs"]
[329,2003,2003329,10019,"UMICs","UMICs"]
[331,2003,2003331,10025,"MADCTs","MADCTs"]
[336,2003,2003336,10019,"UMICs","UMICs"]
[338,2003,2003338,10018,"LMICs","LMICs"]
[340,2003,2003340,10018,"LMICs","LMICs"]
[342,2003,2003342,10018,"LMICs","LMICs"]
[347,2003,2003347,10018,"LMICs","LMICs"]
[349,2003,2003349,10016,"LDCs","LDCs"]
[351,2003,2003351,10018,"LMICs","LMICs"]
[352,2003,2003352,10018,"LMICs","LMICs"]
[354,2003,2003354,10018,"LMICs","LMICs"]
[358,2003,2003358,10019,"UMICs","UMICs"]
[361,2003,2003361,10025,"MADCTs","MADCTs"]
[364,2003,2003364,10017,"Other LICs","Other LICs"]
[366,2003,2003366,10019,"UMICs","UMICs"]
[373,2003,2003373,10025,"MADCTs","MADCTs"]
[375,2003,2003375,10019,"UMICs","UMICs"]
[376,2003,2003376,10019,"UMICs","UMICs"]
[377,2003,2003377,10019,"UMICs","UMICs"]
[378,2003,2003378,10019,"UMICs","UMICs"]
[381,2003,2003381,10019,"UMICs","UMICs"]
[382,2003,2003382,10019,"UMICs","UMICs"]
[383,2003,2003383,10019,"UMICs","UMICs"]
[384,2003,2003384,10018,"LMICs","LMICs"]
[385,2003,2003385,10019,"UMICs","UMICs"]
[386,2003,2003386,10025,"MADCTs","MADCTs"]
[387,2003,2003387,10019,"UMICs","UMICs"]
[388,2003,2003388,10025,"MADCTs","MADCTs"]
[389,2003,2003389,10024,"Part I unallocated by income","UMICs"]
[425,2003,2003425,10019,"UMICs","UMICs"]
[428,2003,2003428,10018,"LMICs","LMICs"]
[431,2003,2003431,10019,"UMICs","UMICs"]
[434,2003,2003434,10019,"UMICs","UMICs"]
[437,2003,2003437,10018,"LMICs","LMICs"]
[440,2003,2003440,10018,"LMICs","LMICs"]
[443,2003,2003443,10025,"MADCTs","MADCTs"]
[446,2003,2003446,10018,"LMICs","LMICs"]
[451,2003,2003451,10018,"LMICs","LMICs"]
[454,2003,2003454,10018,"LMICs","LMICs"]
[457,2003,2003457,10018,"LMICs","LMICs"]
[460,2003,2003460,10019,"UMICs","UMICs"]
[463,2003,2003463,10019,"UMICs","UMICs"]
[489,2003,2003489,10024,"Part I unallocated by income","UMICs"]
[498,2003,2003498,10024,"Part I unallocated by income","UMICs"]
[540,2003,2003540,10018,"LMICs","LMICs"]
[543,2003,2003543,10018,"LMICs","LMICs"]
[546,2003,2003546,10025,"MADCTs","MADCTs"]
[549,2003,2003549,10018,"LMICs","LMICs"]
[550,2003,2003550,10018,"LMICs","LMICs"]
[552,2003,2003552,10025,"MADCTs","MADCTs"]
[555,2003,2003555,10019,"UMICs","UMICs"]
[558,2003,2003558,10019,"UMICs","UMICs"]
[561,2003,2003561,10025,"MADCTs","MADCTs"]
[566,2003,2003566,10019,"UMICs","UMICs"]
[573,2003,2003573,10018,"LMICs","LMICs"]
[576,2003,2003576,10025,"MADCTs","MADCTs"]
[580,2003,2003580,10016,"LDCs","LDCs"]
[589,2003,2003589,10024,"Part I unallocated by income","UMICs"]
[610,2003,2003610,10017,"Other LICs","Other LICs"]
[611,2003,2003611,10017,"Other LICs","Other LICs"]
[612,2003,2003612,10017,"Other LICs","Other LICs"]
[613,2003,2003613,10018,"LMICs","LMICs"]
[614,2003,2003614,10017,"Other LICs","Other LICs"]
[615,2003,2003615,10017,"Other LICs","Other LICs"]
[616,2003,2003616,10018,"LMICs","LMICs"]
[617,2003,2003617,10017,"Other LICs","Other LICs"]
[619,2003,2003619,10024,"Part I unallocated by income","UMICs"]
[625,2003,2003625,10016,"LDCs","LDCs"]
[630,2003,2003630,10016,"LDCs","LDCs"]
[635,2003,2003635,10016,"LDCs","LDCs"]
[640,2003,2003640,10018,"LMICs","LMICs"]
[645,2003,2003645,10017,"Other LICs","Other LICs"]
[650,2003,2003650,10024,"Part I unallocated by income","Part I unallocated by income"]
[655,2003,2003655,10016,"LDCs","LDCs"]
[660,2003,2003660,10016,"LDCs","LDCs"]
[665,2003,2003665,10017,"Other LICs","Other LICs"]
[666,2003,2003666,10016,"LDCs","LDCs"]
[679,2003,2003679,10024,"Part I unallocated by income","LDCs"]
[689,2003,2003689,10024,"Part I unallocated by income","UMICs"]
[725,2003,2003725,10025,"MADCTs","MADCTs"]
[728,2003,2003728,10016,"LDCs","LDCs"]
[730,2003,2003730,10018,"LMICs","LMICs"]
[732,2003,2003732,10025,"MADCTs","MADCTs"]
[735,2003,2003735,10025,"MADCTs","MADCTs"]
[738,2003,2003738,10017,"Other LICs","Other LICs"]
[740,2003,2003740,10017,"Other LICs","Other LICs"]
[742,2003,2003742,10025,"MADCTs","MADCTs"]
[745,2003,2003745,10016,"LDCs","LDCs"]
[748,2003,2003748,10025,"MADCTs","MADCTs"]
[751,2003,2003751,10019,"UMICs","UMICs"]
[752,2003,2003752,10024,"Part I unallocated by income","Part I unallocated by income"]
[753,2003,2003753,10017,"Other LICs","Other LICs"]
[755,2003,2003755,10018,"LMICs","LMICs"]
[761,2003,2003761,10025,"MADCTs","MADCTs"]
[764,2003,2003764,10018,"LMICs","LMICs"]
[765,2003,2003765,10016,"LDCs","LDCs"]
[769,2003,2003769,10017,"Other LICs","Other LICs"]
[789,2003,2003789,10024,"Part I unallocated by income","LMICs"]
[798,2003,2003798,10024,"Part I unallocated by income","UMICs"]
[831,2003,2003831,10019,"UMICs","UMICs"]
[832,2003,2003832,10018,"LMICs","LMICs"]
[836,2003,2003836,10016,"LDCs","LDCs"]
[840,2003,2003840,10025,"MADCTs","MADCTs"]
[845,2003,2003845,10019,"UMICs","UMICs"]
[850,2003,2003850,10025,"MADCTs","MADCTs"]
[854,2003,2003854,10016,"LDCs","LDCs"]
[856,2003,2003856,10018,"LMICs","LMICs"]
[858,2003,2003858,10025,"MADCTs","MADCTs"]
[859,2003,2003859,10018,"LMICs","LMICs"]
[860,2003,2003860,10018,"LMICs","LMICs"]
[861,2003,2003861,10019,"UMICs","UMICs"]
[862,2003,2003862,10017,"Other LICs","Other LICs"]
[866,2003,2003866,10016,"LDCs","LDCs"]
[868,2003,2003868,10018,"LMICs","LMICs"]
[870,2003,2003870,10018,"LMICs","LMICs"]
[872,2003,2003872,10016,"LDCs","LDCs"]
[876,2003,2003876,10018,"LMICs","LMICs"]
[880,2003,2003880,10016,"LDCs","LDCs"]
[889,2003,2003889,10024,"Part I unallocated by income","UMICs"]
[998,2003,2003998,10024,"Part I unallocated by income","UMICs"]
[1031,2003,20031031,10024,"Part I unallocated by income","UMICs"]
[30,2004,200430,10025,"MADCTs","MADCTs"]
[35,2004,200435,10025,"MADCTs","MADCTs"]
[45,2004,200445,10025,"MADCTs","MADCTs"]
[55,2004,200455,10018,"LMICs","LMICs"]
[61,2004,200461,10025,"MADCTs","MADCTs"]
[62,2004,200462,10019,"UMICs","UMICs"]
[63,2004,200463,10018,"LMICs","LMICs"]
[64,2004,200464,10018,"LMICs","LMICs"]
[65,2004,200465,10018,"LMICs","LMICs"]
[66,2004,200466,10018,"LMICs","LMICs"]
[71,2004,200471,10018,"LMICs","LMICs"]
[88,2004,200488,10024,"Part I unallocated by income","UMICs"]
[89,2004,200489,10024,"Part I unallocated by income","UMICs"]
[93,2004,200493,10017,"Other LICs","Other LICs"]
[105,2004,2004105,10025,"MADCTs","MADCTs"]
[110,2004,2004110,10024,"Part I unallocated by income","Part I unallocated by income"]
[130,2004,2004130,10018,"LMICs","LMICs"]
[133,2004,2004133,10025,"MADCTs","MADCTs"]
[136,2004,2004136,10018,"LMICs","LMICs"]
[139,2004,2004139,10018,"LMICs","LMICs"]
[142,2004,2004142,10018,"LMICs","LMICs"]
[189,2004,2004189,10024,"Part I unallocated by income","LMICs"]
[212,2004,2004212,10024,"Part I unallocated by income","Part I unallocated by income"]
[218,2004,2004218,10018,"LMICs","LMICs"]
[220,2004,2004220,10024,"Part I unallocated by income","Part I unallocated by income"]
[225,2004,2004225,10016,"LDCs","LDCs"]
[227,2004,2004227,10019,"UMICs","UMICs"]
[228,2004,2004228,10016,"LDCs","LDCs"]
[229,2004,2004229,10017,"Other LICs","Other LICs"]
[230,2004,2004230,10016,"LDCs","LDCs"]
[231,2004,2004231,10016,"LDCs","LDCs"]
[232,2004,2004232,10016,"LDCs","LDCs"]
[233,2004,2004233,10016,"LDCs","LDCs"]
[234,2004,2004234,10017,"Other LICs","Other LICs"]
[235,2004,2004235,10016,"LDCs","LDCs"]
[236,2004,2004236,10016,"LDCs","LDCs"]
[237,2004,2004237,10024,"Part I unallocated by income","Part I unallocated by income"]
[238,2004,2004238,10016,"LDCs","LDCs"]
[239,2004,2004239,10019,"UMICs","UMICs"]
[240,2004,2004240,10016,"LDCs","LDCs"]
[241,2004,2004241,10017,"Other LICs","Other LICs"]
[243,2004,2004243,10016,"LDCs","LDCs"]
[244,2004,2004244,10016,"LDCs","LDCs"]
[245,2004,2004245,10016,"LDCs","LDCs"]
[247,2004,2004247,10017,"Other LICs","Other LICs"]
[248,2004,2004248,10017,"Other LICs","Other LICs"]
[249,2004,2004249,10016,"LDCs","LDCs"]
[251,2004,2004251,10016,"LDCs","LDCs"]
[252,2004,2004252,10016,"LDCs","LDCs"]
[253,2004,2004253,10016,"LDCs","LDCs"]
[255,2004,2004255,10016,"LDCs","LDCs"]
[256,2004,2004256,10016,"LDCs","LDCs"]
[257,2004,2004257,10019,"UMICs","UMICs"]
[258,2004,2004258,10019,"UMICs","UMICs"]
[259,2004,2004259,10016,"LDCs","LDCs"]
[260,2004,2004260,10016,"LDCs","LDCs"]
[261,2004,2004261,10017,"Other LICs","Other LICs"]
[265,2004,2004265,10017,"Other LICs","Other LICs"]
[266,2004,2004266,10016,"LDCs","LDCs"]
[268,2004,2004268,10016,"LDCs","LDCs"]
[269,2004,2004269,10016,"LDCs","LDCs"]
[270,2004,2004270,10019,"UMICs","UMICs"]
[271,2004,2004271,10016,"LDCs","LDCs"]
[272,2004,2004272,10016,"LDCs","LDCs"]
[273,2004,2004273,10016,"LDCs","LDCs"]
[274,2004,2004274,10016,"LDCs","LDCs"]
[275,2004,2004275,10018,"LMICs","LMICs"]
[276,2004,2004276,10019,"UMICs","UMICs"]
[278,2004,2004278,10016,"LDCs","LDCs"]
[280,2004,2004280,10018,"LMICs","LMICs"]
[282,2004,2004282,10016,"LDCs","LDCs"]
[283,2004,2004283,10016,"LDCs","LDCs"]
[285,2004,2004285,10016,"LDCs","LDCs"]
[287,2004,2004287,10016,"LDCs","LDCs"]
[288,2004,2004288,10016,"LDCs","LDCs"]
[289,2004,2004289,10024,"Part I unallocated by income","LDCs"]
[298,2004,2004298,10024,"Part I unallocated by income","LDCs"]
[328,2004,2004328,10025,"MADCTs","MADCTs"]
[329,2004,2004329,10019,"UMICs","UMICs"]
[331,2004,2004331,10025,"MADCTs","MADCTs"]
[336,2004,2004336,10019,"UMICs","UMICs"]
[338,2004,2004338,10018,"LMICs","LMICs"]
[340,2004,2004340,10018,"LMICs","LMICs"]
[342,2004,2004342,10018,"LMICs","LMICs"]
[347,2004,2004347,10018,"LMICs","LMICs"]
[349,2004,2004349,10016,"LDCs","LDCs"]
[351,2004,2004351,10018,"LMICs","LMICs"]
[352,2004,2004352,10018,"LMICs","LMICs"]
[354,2004,2004354,10018,"LMICs","LMICs"]
[358,2004,2004358,10019,"UMICs","UMICs"]
[361,2004,2004361,10025,"MADCTs","MADCTs"]
[364,2004,2004364,10017,"Other LICs","Other LICs"]
[366,2004,2004366,10019,"UMICs","UMICs"]
[373,2004,2004373,10025,"MADCTs","MADCTs"]
[375,2004,2004375,10019,"UMICs","UMICs"]
[376,2004,2004376,10019,"UMICs","UMICs"]
[377,2004,2004377,10019,"UMICs","UMICs"]
[378,2004,2004378,10019,"UMICs","UMICs"]
[381,2004,2004381,10019,"UMICs","UMICs"]
[382,2004,2004382,10019,"UMICs","UMICs"]
[383,2004,2004383,10019,"UMICs","UMICs"]
[384,2004,2004384,10018,"LMICs","LMICs"]
[385,2004,2004385,10019,"UMICs","UMICs"]
[386,2004,2004386,10025,"MADCTs","MADCTs"]
[387,2004,2004387,10019,"UMICs","UMICs"]
[388,2004,2004388,10025,"MADCTs","MADCTs"]
[389,2004,2004389,10024,"Part I unallocated by income","UMICs"]
[425,2004,2004425,10019,"UMICs","UMICs"]
[428,2004,2004428,10018,"LMICs","LMICs"]
[431,2004,2004431,10019,"UMICs","UMICs"]
[434,2004,2004434,10019,"UMICs","UMICs"]
[437,2004,2004437,10018,"LMICs","LMICs"]
[440,2004,2004440,10018,"LMICs","LMICs"]
[443,2004,2004443,10025,"MADCTs","MADCTs"]
[446,2004,2004446,10018,"LMICs","LMICs"]
[451,2004,2004451,10018,"LMICs","LMICs"]
[454,2004,2004454,10018,"LMICs","LMICs"]
[457,2004,2004457,10018,"LMICs","LMICs"]
[460,2004,2004460,10019,"UMICs","UMICs"]
[463,2004,2004463,10019,"UMICs","UMICs"]
[489,2004,2004489,10024,"Part I unallocated by income","UMICs"]
[498,2004,2004498,10024,"Part I unallocated by income","UMICs"]
[540,2004,2004540,10018,"LMICs","LMICs"]
[543,2004,2004543,10018,"LMICs","LMICs"]
[546,2004,2004546,10025,"MADCTs","MADCTs"]
[549,2004,2004549,10018,"LMICs","LMICs"]
[550,2004,2004550,10018,"LMICs","LMICs"]
[552,2004,2004552,10025,"MADCTs","MADCTs"]
[555,2004,2004555,10019,"UMICs","UMICs"]
[558,2004,2004558,10019,"UMICs","UMICs"]
[561,2004,2004561,10025,"MADCTs","MADCTs"]
[566,2004,2004566,10019,"UMICs","UMICs"]
[573,2004,2004573,10018,"LMICs","LMICs"]
[576,2004,2004576,10025,"MADCTs","MADCTs"]
[580,2004,2004580,10016,"LDCs","LDCs"]
[589,2004,2004589,10024,"Part I unallocated by income","UMICs"]
[610,2004,2004610,10017,"Other LICs","Other LICs"]
[611,2004,2004611,10017,"Other LICs","Other LICs"]
[612,2004,2004612,10017,"Other LICs","Other LICs"]
[613,2004,2004613,10018,"LMICs","LMICs"]
[614,2004,2004614,10017,"Other LICs","Other LICs"]
[615,2004,2004615,10017,"Other LICs","Other LICs"]
[616,2004,2004616,10018,"LMICs","LMICs"]
[617,2004,2004617,10017,"Other LICs","Other LICs"]
[619,2004,2004619,10024,"Part I unallocated by income","UMICs"]
[625,2004,2004625,10016,"LDCs","LDCs"]
[630,2004,2004630,10016,"LDCs","LDCs"]
[635,2004,2004635,10016,"LDCs","LDCs"]
[640,2004,2004640,10018,"LMICs","LMICs"]
[645,2004,2004645,10017,"Other LICs","Other LICs"]
[650,2004,2004650,10024,"Part I unallocated by income","Part I unallocated by income"]
[655,2004,2004655,10016,"LDCs","LDCs"]
[660,2004,2004660,10016,"LDCs","LDCs"]
[665,2004,2004665,10017,"Other LICs","Other LICs"]
[666,2004,2004666,10016,"LDCs","LDCs"]
[679,2004,2004679,10024,"Part I unallocated by income","LDCs"]
[689,2004,2004689,10024,"Part I unallocated by income","UMICs"]
[725,2004,2004725,10025,"MADCTs","MADCTs"]
[728,2004,2004728,10016,"LDCs","LDCs"]
[730,2004,2004730,10018,"LMICs","LMICs"]
[732,2004,2004732,10025,"MADCTs","MADCTs"]
[735,2004,2004735,10025,"MADCTs","MADCTs"]
[738,2004,2004738,10017,"Other LICs","Other LICs"]
[740,2004,2004740,10017,"Other LICs","Other LICs"]
[742,2004,2004742,10025,"MADCTs","MADCTs"]
[745,2004,2004745,10016,"LDCs","LDCs"]
[748,2004,2004748,10025,"MADCTs","MADCTs"]
[751,2004,2004751,10019,"UMICs","UMICs"]
[752,2004,2004752,10024,"Part I unallocated by income","Part I unallocated by income"]
[753,2004,2004753,10017,"Other LICs","Other LICs"]
[755,2004,2004755,10018,"LMICs","LMICs"]
[761,2004,2004761,10025,"MADCTs","MADCTs"]
[764,2004,2004764,10018,"LMICs","LMICs"]
[765,2004,2004765,10016,"LDCs","LDCs"]
[769,2004,2004769,10017,"Other LICs","Other LICs"]
[789,2004,2004789,10024,"Part I unallocated by income","LMICs"]
[798,2004,2004798,10024,"Part I unallocated by income","UMICs"]
[831,2004,2004831,10019,"UMICs","UMICs"]
[832,2004,2004832,10018,"LMICs","LMICs"]
[836,2004,2004836,10016,"LDCs","LDCs"]
[840,2004,2004840,10025,"MADCTs","MADCTs"]
[845,2004,2004845,10019,"UMICs","UMICs"]
[850,2004,2004850,10025,"MADCTs","MADCTs"]
[854,2004,2004854,10016,"LDCs","LDCs"]
[856,2004,2004856,10018,"LMICs","LMICs"]
[858,2004,2004858,10025,"MADCTs","MADCTs"]
[859,2004,2004859,10018,"LMICs","LMICs"]
[860,2004,2004860,10018,"LMICs","LMICs"]
[861,2004,2004861,10019,"UMICs","UMICs"]
[862,2004,2004862,10017,"Other LICs","Other LICs"]
[866,2004,2004866,10016,"LDCs","LDCs"]
[868,2004,2004868,10018,"LMICs","LMICs"]
[870,2004,2004870,10018,"LMICs","LMICs"]
[872,2004,2004872,10016,"LDCs","LDCs"]
[876,2004,2004876,10018,"LMICs","LMICs"]
[880,2004,2004880,10016,"LDCs","LDCs"]
[889,2004,2004889,10024,"Part I unallocated by income","UMICs"]
[998,2004,2004998,10024,"Part I unallocated by income","UMICs"]
[1031,2004,20041031,10024,"Part I unallocated by income","UMICs"]
[30,2005,200530,10025,"MADCTs","MADCTs"]
[35,2005,200535,10025,"MADCTs","MADCTs"]
[45,2005,200545,10025,"MADCTs","MADCTs"]
[55,2005,200555,10019,"UMICs","UMICs"]
[61,2005,200561,10025,"MADCTs","MADCTs"]
[62,2005,200562,10019,"UMICs","UMICs"]
[63,2005,200563,10018,"LMICs","LMICs"]
[64,2005,200564,10018,"LMICs","LMICs"]
[65,2005,200565,10018,"LMICs","LMICs"]
[66,2005,200566,10018,"LMICs","LMICs"]
[71,2005,200571,10018,"LMICs","LMICs"]
[85,2005,200585,10018,"LMICs","LMICs"]
[86,2005,200586,10018,"LMICs","LMICs"]
[88,2005,200588,10024,"Part I unallocated by income","UMICs"]
[89,2005,200589,10024,"Part I unallocated by income","UMICs"]
[93,2005,200593,10017,"Other LICs","Other LICs"]
[105,2005,2005105,10025,"MADCTs","MADCTs"]
[110,2005,2005110,10024,"Part I unallocated by income","Part I unallocated by income"]
[130,2005,2005130,10018,"LMICs","LMICs"]
[133,2005,2005133,10019,"UMICs","UMICs"]
[136,2005,2005136,10018,"LMICs","LMICs"]
[139,2005,2005139,10018,"LMICs","LMICs"]
[142,2005,2005142,10018,"LMICs","LMICs"]
[189,2005,2005189,10024,"Part I unallocated by income","LMICs"]
[212,2005,2005212,10024,"Part I unallocated by income","Part I unallocated by income"]
[218,2005,2005218,10019,"UMICs","UMICs"]
[220,2005,2005220,10024,"Part I unallocated by income","Part I unallocated by income"]
[225,2005,2005225,10016,"LDCs","LDCs"]
[227,2005,2005227,10019,"UMICs","UMICs"]
[228,2005,2005228,10016,"LDCs","LDCs"]
[229,2005,2005229,10017,"Other LICs","Other LICs"]
[230,2005,2005230,10016,"LDCs","LDCs"]
[231,2005,2005231,10016,"LDCs","LDCs"]
[232,2005,2005232,10016,"LDCs","LDCs"]
[233,2005,2005233,10016,"LDCs","LDCs"]
[234,2005,2005234,10017,"Other LICs","Other LICs"]
[235,2005,2005235,10016,"LDCs","LDCs"]
[236,2005,2005236,10016,"LDCs","LDCs"]
[237,2005,2005237,10024,"Part I unallocated by income","Part I unallocated by income"]
[238,2005,2005238,10016,"LDCs","LDCs"]
[239,2005,2005239,10019,"UMICs","UMICs"]
[240,2005,2005240,10016,"LDCs","LDCs"]
[241,2005,2005241,10017,"Other LICs","Other LICs"]
[243,2005,2005243,10016,"LDCs","LDCs"]
[244,2005,2005244,10016,"LDCs","LDCs"]
[245,2005,2005245,10016,"LDCs","LDCs"]
[247,2005,2005247,10017,"Other LICs","Other LICs"]
[248,2005,2005248,10017,"Other LICs","Other LICs"]
[249,2005,2005249,10016,"LDCs","LDCs"]
[251,2005,2005251,10016,"LDCs","LDCs"]
[252,2005,2005252,10016,"LDCs","LDCs"]
[253,2005,2005253,10016,"LDCs","LDCs"]
[255,2005,2005255,10016,"LDCs","LDCs"]
[256,2005,2005256,10016,"LDCs","LDCs"]
[257,2005,2005257,10019,"UMICs","UMICs"]
[258,2005,2005258,10019,"UMICs","UMICs"]
[259,2005,2005259,10016,"LDCs","LDCs"]
[260,2005,2005260,10016,"LDCs","LDCs"]
[261,2005,2005261,10017,"Other LICs","Other LICs"]
[265,2005,2005265,10017,"Other LICs","Other LICs"]
[266,2005,2005266,10016,"LDCs","LDCs"]
[268,2005,2005268,10016,"LDCs","LDCs"]
[269,2005,2005269,10016,"LDCs","LDCs"]
[270,2005,2005270,10019,"UMICs","UMICs"]
[271,2005,2005271,10016,"LDCs","LDCs"]
[272,2005,2005272,10016,"LDCs","LDCs"]
[273,2005,2005273,10016,"LDCs","LDCs"]
[274,2005,2005274,10016,"LDCs","LDCs"]
[275,2005,2005275,10018,"LMICs","LMICs"]
[276,2005,2005276,10019,"UMICs","UMICs"]
[278,2005,2005278,10016,"LDCs","LDCs"]
[280,2005,2005280,10018,"LMICs","LMICs"]
[282,2005,2005282,10016,"LDCs","LDCs"]
[283,2005,2005283,10016,"LDCs","LDCs"]
[285,2005,2005285,10016,"LDCs","LDCs"]
[287,2005,2005287,10016,"LDCs","LDCs"]
[288,2005,2005288,10016,"LDCs","LDCs"]
[289,2005,2005289,10024,"Part I unallocated by income","LDCs"]
[298,2005,2005298,10024,"Part I unallocated by income","LDCs"]
[328,2005,2005328,10025,"MADCTs","MADCTs"]
[329,2005,2005329,10019,"UMICs","UMICs"]
[331,2005,2005331,10025,"MADCTs","MADCTs"]
[336,2005,2005336,10019,"UMICs","UMICs"]
[338,2005,2005338,10018,"LMICs","LMICs"]
[340,2005,2005340,10018,"LMICs","LMICs"]
[342,2005,2005342,10018,"LMICs","LMICs"]
[347,2005,2005347,10018,"LMICs","LMICs"]
[349,2005,2005349,10016,"LDCs","LDCs"]
[351,2005,2005351,10018,"LMICs","LMICs"]
[352,2005,2005352,10019,"UMICs","UMICs"]
[354,2005,2005354,10018,"LMICs","LMICs"]
[358,2005,2005358,10019,"UMICs","UMICs"]
[361,2005,2005361,10025,"MADCTs","MADCTs"]
[364,2005,2005364,10017,"Other LICs","Other LICs"]
[366,2005,2005366,10019,"UMICs","UMICs"]
[373,2005,2005373,10025,"MADCTs","MADCTs"]
[375,2005,2005375,10019,"UMICs","UMICs"]
[376,2005,2005376,10019,"UMICs","UMICs"]
[377,2005,2005377,10019,"UMICs","UMICs"]
[378,2005,2005378,10019,"UMICs","UMICs"]
[381,2005,2005381,10019,"UMICs","UMICs"]
[382,2005,2005382,10019,"UMICs","UMICs"]
[383,2005,2005383,10019,"UMICs","UMICs"]
[384,2005,2005384,10019,"UMICs","UMICs"]
[385,2005,2005385,10019,"UMICs","UMICs"]
[386,2005,2005386,10025,"MADCTs","MADCTs"]
[387,2005,2005387,10019,"UMICs","UMICs"]
[388,2005,2005388,10025,"MADCTs","MADCTs"]
[389,2005,2005389,10024,"Part I unallocated by income","UMICs"]
[425,2005,2005425,10019,"UMICs","UMICs"]
[428,2005,2005428,10018,"LMICs","LMICs"]
[431,2005,2005431,10018,"LMICs","LMICs"]
[434,2005,2005434,10019,"UMICs","UMICs"]
[437,2005,2005437,10018,"LMICs","LMICs"]
[440,2005,2005440,10018,"LMICs","LMICs"]
[443,2005,2005443,10025,"MADCTs","MADCTs"]
[446,2005,2005446,10018,"LMICs","LMICs"]
[451,2005,2005451,10018,"LMICs","LMICs"]
[454,2005,2005454,10018,"LMICs","LMICs"]
[457,2005,2005457,10018,"LMICs","LMICs"]
[460,2005,2005460,10019,"UMICs","UMICs"]
[463,2005,2005463,10019,"UMICs","UMICs"]
[489,2005,2005489,10024,"Part I unallocated by income","UMICs"]
[498,2005,2005498,10024,"Part I unallocated by income","UMICs"]
[530,2005,2005530,10025,"MADCTs","MADCTs"]
[540,2005,2005540,10018,"LMICs","LMICs"]
[543,2005,2005543,10018,"LMICs","LMICs"]
[546,2005,2005546,10025,"MADCTs","MADCTs"]
[549,2005,2005549,10018,"LMICs","LMICs"]
[550,2005,2005550,10018,"LMICs","LMICs"]
[552,2005,2005552,10025,"MADCTs","MADCTs"]
[555,2005,2005555,10019,"UMICs","UMICs"]
[558,2005,2005558,10019,"UMICs","UMICs"]
[561,2005,2005561,10025,"MADCTs","MADCTs"]
[566,2005,2005566,10019,"UMICs","UMICs"]
[573,2005,2005573,10018,"LMICs","LMICs"]
[576,2005,2005576,10025,"MADCTs","MADCTs"]
[580,2005,2005580,10016,"LDCs","LDCs"]
[589,2005,2005589,10024,"Part I unallocated by income","UMICs"]
[610,2005,2005610,10018,"LMICs","LMICs"]
[611,2005,2005611,10018,"LMICs","LMICs"]
[612,2005,2005612,10018,"LMICs","LMICs"]
[613,2005,2005613,10018,"LMICs","LMICs"]
[614,2005,2005614,10017,"Other LICs","Other LICs"]
[615,2005,2005615,10017,"Other LICs","Other LICs"]
[616,2005,2005616,10018,"LMICs","LMICs"]
[617,2005,2005617,10017,"Other LICs","Other LICs"]
[619,2005,2005619,10024,"Part I unallocated by income","UMICs"]
[625,2005,2005625,10016,"LDCs","LDCs"]
[630,2005,2005630,10016,"LDCs","LDCs"]
[635,2005,2005635,10016,"LDCs","LDCs"]
[640,2005,2005640,10018,"LMICs","LMICs"]
[645,2005,2005645,10017,"Other LICs","Other LICs"]
[650,2005,2005650,10024,"Part I unallocated by income","Part I unallocated by income"]
[655,2005,2005655,10016,"LDCs","LDCs"]
[660,2005,2005660,10016,"LDCs","LDCs"]
[665,2005,2005665,10017,"Other LICs","Other LICs"]
[666,2005,2005666,10016,"LDCs","LDCs"]
[679,2005,2005679,10024,"Part I unallocated by income","LDCs"]
[689,2005,2005689,10024,"Part I unallocated by income","UMICs"]
[725,2005,2005725,10025,"MADCTs","MADCTs"]
[728,2005,2005728,10016,"LDCs","LDCs"]
[730,2005,2005730,10018,"LMICs","LMICs"]
[732,2005,2005732,10025,"MADCTs","MADCTs"]
[735,2005,2005735,10025,"MADCTs","MADCTs"]
[738,2005,2005738,10018,"LMICs","LMICs"]
[740,2005,2005740,10017,"Other LICs","Other LICs"]
[742,2005,2005742,10025,"MADCTs","MADCTs"]
[745,2005,2005745,10016,"LDCs","LDCs"]
[748,2005,2005748,10025,"MADCTs","MADCTs"]
[751,2005,2005751,10019,"UMICs","UMICs"]
[752,2005,2005752,10024,"Part I unallocated by income","Part I unallocated by income"]
[753,2005,2005753,10017,"Other LICs","Other LICs"]
[755,2005,2005755,10018,"LMICs","LMICs"]
[761,2005,2005761,10025,"MADCTs","MADCTs"]
[764,2005,2005764,10018,"LMICs","LMICs"]
[765,2005,2005765,10016,"LDCs","LDCs"]
[769,2005,2005769,10017,"Other LICs","Other LICs"]
[789,2005,2005789,10024,"Part I unallocated by income","LMICs"]
[798,2005,2005798,10024,"Part I unallocated by income","UMICs"]
[831,2005,2005831,10019,"UMICs","UMICs"]
[832,2005,2005832,10018,"LMICs","LMICs"]
[836,2005,2005836,10016,"LDCs","LDCs"]
[840,2005,2005840,10025,"MADCTs","MADCTs"]
[845,2005,2005845,10019,"UMICs","UMICs"]
[850,2005,2005850,10025,"MADCTs","MADCTs"]
[854,2005,2005854,10016,"LDCs","LDCs"]
[856,2005,2005856,10018,"LMICs","LMICs"]
[858,2005,2005858,10025,"MADCTs","MADCTs"]
[859,2005,2005859,10018,"LMICs","LMICs"]
[860,2005,2005860,10018,"LMICs","LMICs"]
[861,2005,2005861,10019,"UMICs","UMICs"]
[862,2005,2005862,10017,"Other LICs","Other LICs"]
[866,2005,2005866,10016,"LDCs","LDCs"]
[868,2005,2005868,10018,"LMICs","LMICs"]
[870,2005,2005870,10018,"LMICs","LMICs"]
[872,2005,2005872,10016,"LDCs","LDCs"]
[876,2005,2005876,10018,"LMICs","LMICs"]
[880,2005,2005880,10016,"LDCs","LDCs"]
[889,2005,2005889,10024,"Part I unallocated by income","UMICs"]
[998,2005,2005998,10024,"Part I unallocated by income","UMICs"]
[1031,2005,20051031,10024,"Part I unallocated by income","UMICs"]
[30,2006,200630,10025,"MADCTs","MADCTs"]
[35,2006,200635,10025,"MADCTs","MADCTs"]
[45,2006,200645,10025,"MADCTs","MADCTs"]
[55,2006,200655,10019,"UMICs","UMICs"]
[61,2006,200661,10025,"MADCTs","MADCTs"]
[62,2006,200662,10019,"UMICs","UMICs"]
[63,2006,200663,10018,"LMICs","LMICs"]
[64,2006,200664,10018,"LMICs","LMICs"]
[65,2006,200665,10018,"LMICs","LMICs"]
[66,2006,200666,10018,"LMICs","LMICs"]
[71,2006,200671,10018,"LMICs","LMICs"]
[85,2006,200685,10018,"LMICs","LMICs"]
[86,2006,200686,10018,"LMICs","LMICs"]
[88,2006,200688,10024,"Part I unallocated by income","UMICs"]
[89,2006,200689,10024,"Part I unallocated by income","UMICs"]
[93,2006,200693,10017,"Other LICs","Other LICs"]
[105,2006,2006105,10025,"MADCTs","MADCTs"]
[110,2006,2006110,10024,"Part I unallocated by income","Part I unallocated by income"]
[130,2006,2006130,10018,"LMICs","LMICs"]
[133,2006,2006133,10019,"UMICs","UMICs"]
[136,2006,2006136,10018,"LMICs","LMICs"]
[139,2006,2006139,10018,"LMICs","LMICs"]
[142,2006,2006142,10018,"LMICs","LMICs"]
[189,2006,2006189,10024,"Part I unallocated by income","LMICs"]
[212,2006,2006212,10024,"Part I unallocated by income","Part I unallocated by income"]
[218,2006,2006218,10019,"UMICs","UMICs"]
[220,2006,2006220,10024,"Part I unallocated by income","Part I unallocated by income"]
[225,2006,2006225,10016,"LDCs","LDCs"]
[227,2006,2006227,10019,"UMICs","UMICs"]
[228,2006,2006228,10016,"LDCs","LDCs"]
[229,2006,2006229,10017,"Other LICs","Other LICs"]
[230,2006,2006230,10016,"LDCs","LDCs"]
[231,2006,2006231,10016,"LDCs","LDCs"]
[232,2006,2006232,10016,"LDCs","LDCs"]
[233,2006,2006233,10016,"LDCs","LDCs"]
[234,2006,2006234,10017,"Other LICs","Other LICs"]
[235,2006,2006235,10016,"LDCs","LDCs"]
[236,2006,2006236,10016,"LDCs","LDCs"]
[237,2006,2006237,10024,"Part I unallocated by income","Part I unallocated by income"]
[238,2006,2006238,10016,"LDCs","LDCs"]
[239,2006,2006239,10019,"UMICs","UMICs"]
[240,2006,2006240,10016,"LDCs","LDCs"]
[241,2006,2006241,10017,"Other LICs","Other LICs"]
[243,2006,2006243,10016,"LDCs","LDCs"]
[244,2006,2006244,10016,"LDCs","LDCs"]
[245,2006,2006245,10016,"LDCs","LDCs"]
[247,2006,2006247,10017,"Other LICs","Other LICs"]
[248,2006,2006248,10017,"Other LICs","Other LICs"]
[249,2006,2006249,10016,"LDCs","LDCs"]
[251,2006,2006251,10016,"LDCs","LDCs"]
[252,2006,2006252,10016,"LDCs","LDCs"]
[253,2006,2006253,10016,"LDCs","LDCs"]
[255,2006,2006255,10016,"LDCs","LDCs"]
[256,2006,2006256,10016,"LDCs","LDCs"]
[257,2006,2006257,10019,"UMICs","UMICs"]
[258,2006,2006258,10019,"UMICs","UMICs"]
[259,2006,2006259,10016,"LDCs","LDCs"]
[260,2006,2006260,10016,"LDCs","LDCs"]
[261,2006,2006261,10017,"Other LICs","Other LICs"]
[265,2006,2006265,10017,"Other LICs","Other LICs"]
[266,2006,2006266,10016,"LDCs","LDCs"]
[268,2006,2006268,10016,"LDCs","LDCs"]
[269,2006,2006269,10016,"LDCs","LDCs"]
[270,2006,2006270,10019,"UMICs","UMICs"]
[271,2006,2006271,10016,"LDCs","LDCs"]
[272,2006,2006272,10016,"LDCs","LDCs"]
[273,2006,2006273,10016,"LDCs","LDCs"]
[274,2006,2006274,10016,"LDCs","LDCs"]
[275,2006,2006275,10018,"LMICs","LMICs"]
[276,2006,2006276,10019,"UMICs","UMICs"]
[278,2006,2006278,10016,"LDCs","LDCs"]
[280,2006,2006280,10018,"LMICs","LMICs"]
[282,2006,2006282,10016,"LDCs","LDCs"]
[283,2006,2006283,10016,"LDCs","LDCs"]
[285,2006,2006285,10016,"LDCs","LDCs"]
[287,2006,2006287,10016,"LDCs","LDCs"]
[288,2006,2006288,10016,"LDCs","LDCs"]
[289,2006,2006289,10024,"Part I unallocated by income","LDCs"]
[298,2006,2006298,10024,"Part I unallocated by income","LDCs"]
[328,2006,2006328,10025,"MADCTs","MADCTs"]
[329,2006,2006329,10019,"UMICs","UMICs"]
[331,2006,2006331,10025,"MADCTs","MADCTs"]
[336,2006,2006336,10019,"UMICs","UMICs"]
[338,2006,2006338,10018,"LMICs","LMICs"]
[340,2006,2006340,10018,"LMICs","LMICs"]
[342,2006,2006342,10018,"LMICs","LMICs"]
[347,2006,2006347,10018,"LMICs","LMICs"]
[349,2006,2006349,10016,"LDCs","LDCs"]
[351,2006,2006351,10018,"LMICs","LMICs"]
[352,2006,2006352,10019,"UMICs","UMICs"]
[354,2006,2006354,10018,"LMICs","LMICs"]
[358,2006,2006358,10019,"UMICs","UMICs"]
[361,2006,2006361,10025,"MADCTs","MADCTs"]
[364,2006,2006364,10017,"Other LICs","Other LICs"]
[366,2006,2006366,10019,"UMICs","UMICs"]
[373,2006,2006373,10025,"MADCTs","MADCTs"]
[375,2006,2006375,10019,"UMICs","UMICs"]
[376,2006,2006376,10019,"UMICs","UMICs"]
[377,2006,2006377,10019,"UMICs","UMICs"]
[378,2006,2006378,10019,"UMICs","UMICs"]
[381,2006,2006381,10019,"UMICs","UMICs"]
[382,2006,2006382,10019,"UMICs","UMICs"]
[383,2006,2006383,10019,"UMICs","UMICs"]
[384,2006,2006384,10019,"UMICs","UMICs"]
[385,2006,2006385,10019,"UMICs","UMICs"]
[386,2006,2006386,10025,"MADCTs","MADCTs"]
[387,2006,2006387,10019,"UMICs","UMICs"]
[388,2006,2006388,10025,"MADCTs","MADCTs"]
[389,2006,2006389,10024,"Part I unallocated by income","UMICs"]
[425,2006,2006425,10019,"UMICs","UMICs"]
[428,2006,2006428,10018,"LMICs","LMICs"]
[431,2006,2006431,10018,"LMICs","LMICs"]
[434,2006,2006434,10019,"UMICs","UMICs"]
[437,2006,2006437,10018,"LMICs","LMICs"]
[440,2006,2006440,10018,"LMICs","LMICs"]
[443,2006,2006443,10025,"MADCTs","MADCTs"]
[446,2006,2006446,10018,"LMICs","LMICs"]
[451,2006,2006451,10018,"LMICs","LMICs"]
[454,2006,2006454,10018,"LMICs","LMICs"]
[457,2006,2006457,10018,"LMICs","LMICs"]
[460,2006,2006460,10019,"UMICs","UMICs"]
[463,2006,2006463,10019,"UMICs","UMICs"]
[489,2006,2006489,10024,"Part I unallocated by income","UMICs"]
[498,2006,2006498,10024,"Part I unallocated by income","UMICs"]
[530,2006,2006530,10025,"MADCTs","MADCTs"]
[540,2006,2006540,10018,"LMICs","LMICs"]
[543,2006,2006543,10018,"LMICs","LMICs"]
[546,2006,2006546,10025,"MADCTs","MADCTs"]
[549,2006,2006549,10018,"LMICs","LMICs"]
[550,2006,2006550,10018,"LMICs","LMICs"]
[552,2006,2006552,10025,"MADCTs","MADCTs"]
[555,2006,2006555,10019,"UMICs","UMICs"]
[558,2006,2006558,10019,"UMICs","UMICs"]
[561,2006,2006561,10025,"MADCTs","MADCTs"]
[566,2006,2006566,10019,"UMICs","UMICs"]
[573,2006,2006573,10018,"LMICs","LMICs"]
[576,2006,2006576,10025,"MADCTs","MADCTs"]
[580,2006,2006580,10016,"LDCs","LDCs"]
[589,2006,2006589,10024,"Part I unallocated by income","UMICs"]
[610,2006,2006610,10018,"LMICs","LMICs"]
[611,2006,2006611,10018,"LMICs","LMICs"]
[612,2006,2006612,10018,"LMICs","LMICs"]
[613,2006,2006613,10018,"LMICs","LMICs"]
[614,2006,2006614,10017,"Other LICs","Other LICs"]
[615,2006,2006615,10017,"Other LICs","Other LICs"]
[616,2006,2006616,10018,"LMICs","LMICs"]
[617,2006,2006617,10017,"Other LICs","Other LICs"]
[619,2006,2006619,10024,"Part I unallocated by income","UMICs"]
[625,2006,2006625,10016,"LDCs","LDCs"]
[630,2006,2006630,10016,"LDCs","LDCs"]
[635,2006,2006635,10016,"LDCs","LDCs"]
[640,2006,2006640,10018,"LMICs","LMICs"]
[645,2006,2006645,10017,"Other LICs","Other LICs"]
[650,2006,2006650,10024,"Part I unallocated by income","Part I unallocated by income"]
[655,2006,2006655,10016,"LDCs","LDCs"]
[660,2006,2006660,10016,"LDCs","LDCs"]
[665,2006,2006665,10017,"Other LICs","Other LICs"]
[666,2006,2006666,10016,"LDCs","LDCs"]
[679,2006,2006679,10024,"Part I unallocated by income","LDCs"]
[689,2006,2006689,10024,"Part I unallocated by income","UMICs"]
[725,2006,2006725,10025,"MADCTs","MADCTs"]
[728,2006,2006728,10016,"LDCs","LDCs"]
[730,2006,2006730,10018,"LMICs","LMICs"]
[732,2006,2006732,10025,"MADCTs","MADCTs"]
[735,2006,2006735,10025,"MADCTs","MADCTs"]
[738,2006,2006738,10018,"LMICs","LMICs"]
[740,2006,2006740,10017,"Other LICs","Other LICs"]
[742,2006,2006742,10025,"MADCTs","MADCTs"]
[745,2006,2006745,10016,"LDCs","LDCs"]
[748,2006,2006748,10025,"MADCTs","MADCTs"]
[751,2006,2006751,10019,"UMICs","UMICs"]
[752,2006,2006752,10024,"Part I unallocated by income","Part I unallocated by income"]
[753,2006,2006753,10017,"Other LICs","Other LICs"]
[755,2006,2006755,10018,"LMICs","LMICs"]
[761,2006,2006761,10025,"MADCTs","MADCTs"]
[764,2006,2006764,10018,"LMICs","LMICs"]
[765,2006,2006765,10016,"LDCs","LDCs"]
[769,2006,2006769,10017,"Other LICs","Other LICs"]
[789,2006,2006789,10024,"Part I unallocated by income","LMICs"]
[798,2006,2006798,10024,"Part I unallocated by income","UMICs"]
[831,2006,2006831,10019,"UMICs","UMICs"]
[832,2006,2006832,10018,"LMICs","LMICs"]
[836,2006,2006836,10016,"LDCs","LDCs"]
[840,2006,2006840,10025,"MADCTs","MADCTs"]
[845,2006,2006845,10019,"UMICs","UMICs"]
[850,2006,2006850,10025,"MADCTs","MADCTs"]
[854,2006,2006854,10016,"LDCs","LDCs"]
[856,2006,2006856,10018,"LMICs","LMICs"]
[858,2006,2006858,10025,"MADCTs","MADCTs"]
[859,2006,2006859,10018,"LMICs","LMICs"]
[860,2006,2006860,10018,"LMICs","LMICs"]
[861,2006,2006861,10019,"UMICs","UMICs"]
[862,2006,2006862,10017,"Other LICs","Other LICs"]
[866,2006,2006866,10016,"LDCs","LDCs"]
[868,2006,2006868,10018,"LMICs","LMICs"]
[870,2006,2006870,10018,"LMICs","LMICs"]
[872,2006,2006872,10016,"LDCs","LDCs"]
[876,2006,2006876,10018,"LMICs","LMICs"]
[880,2006,2006880,10016,"LDCs","LDCs"]
[889,2006,2006889,10024,"Part I unallocated by income","UMICs"]
[998,2006,2006998,10024,"Part I unallocated by income","UMICs"]
[1031,2006,20061031,10024,"Part I unallocated by income","UMICs"]
[30,2007,200730,10025,"MADCTs","MADCTs"]
[35,2007,200735,10025,"MADCTs","MADCTs"]
[45,2007,200745,10025,"MADCTs","MADCTs"]
[55,2007,200755,10019,"UMICs","UMICs"]
[61,2007,200761,10025,"MADCTs","MADCTs"]
[62,2007,200762,10019,"UMICs","UMICs"]
[63,2007,200763,10018,"LMICs","LMICs"]
[64,2007,200764,10018,"LMICs","LMICs"]
[65,2007,200765,10018,"LMICs","LMICs"]
[66,2007,200766,10018,"LMICs","LMICs"]
[71,2007,200771,10018,"LMICs","LMICs"]
[85,2007,200785,10018,"LMICs","LMICs"]
[86,2007,200786,10018,"LMICs","LMICs"]
[88,2007,200788,10024,"Part I unallocated by income","UMICs"]
[89,2007,200789,10024,"Part I unallocated by income","UMICs"]
[93,2007,200793,10017,"Other LICs","Other LICs"]
[105,2007,2007105,10025,"MADCTs","MADCTs"]
[110,2007,2007110,10024,"Part I unallocated by income","Part I unallocated by income"]
[130,2007,2007130,10018,"LMICs","LMICs"]
[133,2007,2007133,10019,"UMICs","UMICs"]
[136,2007,2007136,10018,"LMICs","LMICs"]
[139,2007,2007139,10018,"LMICs","LMICs"]
[142,2007,2007142,10018,"LMICs","LMICs"]
[189,2007,2007189,10024,"Part I unallocated by income","LMICs"]
[212,2007,2007212,10024,"Part I unallocated by income","Part I unallocated by income"]
[218,2007,2007218,10019,"UMICs","UMICs"]
[220,2007,2007220,10024,"Part I unallocated by income","Part I unallocated by income"]
[225,2007,2007225,10016,"LDCs","LDCs"]
[227,2007,2007227,10019,"UMICs","UMICs"]
[228,2007,2007228,10016,"LDCs","LDCs"]
[229,2007,2007229,10017,"Other LICs","Other LICs"]
[230,2007,2007230,10018,"LMICs","LMICs"]
[231,2007,2007231,10016,"LDCs","LDCs"]
[232,2007,2007232,10016,"LDCs","LDCs"]
[233,2007,2007233,10016,"LDCs","LDCs"]
[234,2007,2007234,10017,"Other LICs","Other LICs"]
[235,2007,2007235,10016,"LDCs","LDCs"]
[236,2007,2007236,10016,"LDCs","LDCs"]
[237,2007,2007237,10024,"Part I unallocated by income","Part I unallocated by income"]
[238,2007,2007238,10016,"LDCs","LDCs"]
[239,2007,2007239,10019,"UMICs","UMICs"]
[240,2007,2007240,10016,"LDCs","LDCs"]
[241,2007,2007241,10017,"Other LICs","Other LICs"]
[243,2007,2007243,10016,"LDCs","LDCs"]
[244,2007,2007244,10016,"LDCs","LDCs"]
[245,2007,2007245,10016,"LDCs","LDCs"]
[247,2007,2007247,10017,"Other LICs","Other LICs"]
[248,2007,2007248,10017,"Other LICs","Other LICs"]
[249,2007,2007249,10016,"LDCs","LDCs"]
[251,2007,2007251,10016,"LDCs","LDCs"]
[252,2007,2007252,10016,"LDCs","LDCs"]
[253,2007,2007253,10016,"LDCs","LDCs"]
[255,2007,2007255,10016,"LDCs","LDCs"]
[256,2007,2007256,10016,"LDCs","LDCs"]
[257,2007,2007257,10019,"UMICs","UMICs"]
[258,2007,2007258,10019,"UMICs","UMICs"]
[259,2007,2007259,10016,"LDCs","LDCs"]
[260,2007,2007260,10016,"LDCs","LDCs"]
[261,2007,2007261,10017,"Other LICs","Other LICs"]
[265,2007,2007265,10017,"Other LICs","Other LICs"]
[266,2007,2007266,10016,"LDCs","LDCs"]
[268,2007,2007268,10016,"LDCs","LDCs"]
[269,2007,2007269,10016,"LDCs","LDCs"]
[270,2007,2007270,10019,"UMICs","UMICs"]
[271,2007,2007271,10016,"LDCs","LDCs"]
[272,2007,2007272,10016,"LDCs","LDCs"]
[273,2007,2007273,10016,"LDCs","LDCs"]
[274,2007,2007274,10016,"LDCs","LDCs"]
[275,2007,2007275,10018,"LMICs","LMICs"]
[276,2007,2007276,10019,"UMICs","UMICs"]
[278,2007,2007278,10016,"LDCs","LDCs"]
[280,2007,2007280,10018,"LMICs","LMICs"]
[282,2007,2007282,10016,"LDCs","LDCs"]
[283,2007,2007283,10016,"LDCs","LDCs"]
[285,2007,2007285,10016,"LDCs","LDCs"]
[287,2007,2007287,10016,"LDCs","LDCs"]
[288,2007,2007288,10016,"LDCs","LDCs"]
[289,2007,2007289,10024,"Part I unallocated by income","LDCs"]
[298,2007,2007298,10024,"Part I unallocated by income","LDCs"]
[328,2007,2007328,10025,"MADCTs","MADCTs"]
[329,2007,2007329,10019,"UMICs","UMICs"]
[331,2007,2007331,10025,"MADCTs","MADCTs"]
[336,2007,2007336,10019,"UMICs","UMICs"]
[338,2007,2007338,10018,"LMICs","LMICs"]
[340,2007,2007340,10018,"LMICs","LMICs"]
[342,2007,2007342,10018,"LMICs","LMICs"]
[347,2007,2007347,10018,"LMICs","LMICs"]
[349,2007,2007349,10016,"LDCs","LDCs"]
[351,2007,2007351,10018,"LMICs","LMICs"]
[352,2007,2007352,10019,"UMICs","UMICs"]
[354,2007,2007354,10018,"LMICs","LMICs"]
[358,2007,2007358,10019,"UMICs","UMICs"]
[361,2007,2007361,10025,"MADCTs","MADCTs"]
[364,2007,2007364,10017,"Other LICs","Other LICs"]
[366,2007,2007366,10019,"UMICs","UMICs"]
[373,2007,2007373,10025,"MADCTs","MADCTs"]
[375,2007,2007375,10019,"UMICs","UMICs"]
[376,2007,2007376,10019,"UMICs","UMICs"]
[377,2007,2007377,10019,"UMICs","UMICs"]
[378,2007,2007378,10019,"UMICs","UMICs"]
[381,2007,2007381,10019,"UMICs","UMICs"]
[382,2007,2007382,10019,"UMICs","UMICs"]
[383,2007,2007383,10019,"UMICs","UMICs"]
[384,2007,2007384,10019,"UMICs","UMICs"]
[385,2007,2007385,10019,"UMICs","UMICs"]
[386,2007,2007386,10025,"MADCTs","MADCTs"]
[387,2007,2007387,10019,"UMICs","UMICs"]
[388,2007,2007388,10025,"MADCTs","MADCTs"]
[389,2007,2007389,10024,"Part I unallocated by income","UMICs"]
[425,2007,2007425,10019,"UMICs","UMICs"]
[428,2007,2007428,10018,"LMICs","LMICs"]
[431,2007,2007431,10018,"LMICs","LMICs"]
[434,2007,2007434,10019,"UMICs","UMICs"]
[437,2007,2007437,10018,"LMICs","LMICs"]
[440,2007,2007440,10018,"LMICs","LMICs"]
[443,2007,2007443,10025,"MADCTs","MADCTs"]
[446,2007,2007446,10018,"LMICs","LMICs"]
[451,2007,2007451,10018,"LMICs","LMICs"]
[454,2007,2007454,10018,"LMICs","LMICs"]
[457,2007,2007457,10018,"LMICs","LMICs"]
[460,2007,2007460,10019,"UMICs","UMICs"]
[463,2007,2007463,10019,"UMICs","UMICs"]
[489,2007,2007489,10024,"Part I unallocated by income","UMICs"]
[498,2007,2007498,10024,"Part I unallocated by income","UMICs"]
[530,2007,2007530,10025,"MADCTs","MADCTs"]
[540,2007,2007540,10018,"LMICs","LMICs"]
[543,2007,2007543,10018,"LMICs","LMICs"]
[546,2007,2007546,10025,"MADCTs","MADCTs"]
[549,2007,2007549,10018,"LMICs","LMICs"]
[550,2007,2007550,10018,"LMICs","LMICs"]
[552,2007,2007552,10025,"MADCTs","MADCTs"]
[555,2007,2007555,10019,"UMICs","UMICs"]
[558,2007,2007558,10019,"UMICs","UMICs"]
[561,2007,2007561,10025,"MADCTs","MADCTs"]
[566,2007,2007566,10019,"UMICs","UMICs"]
[573,2007,2007573,10018,"LMICs","LMICs"]
[576,2007,2007576,10025,"MADCTs","MADCTs"]
[580,2007,2007580,10016,"LDCs","LDCs"]
[589,2007,2007589,10024,"Part I unallocated by income","UMICs"]
[610,2007,2007610,10018,"LMICs","LMICs"]
[611,2007,2007611,10018,"LMICs","LMICs"]
[612,2007,2007612,10018,"LMICs","LMICs"]
[613,2007,2007613,10018,"LMICs","LMICs"]
[614,2007,2007614,10017,"Other LICs","Other LICs"]
[615,2007,2007615,10017,"Other LICs","Other LICs"]
[616,2007,2007616,10018,"LMICs","LMICs"]
[617,2007,2007617,10017,"Other LICs","Other LICs"]
[619,2007,2007619,10024,"Part I unallocated by income","UMICs"]
[625,2007,2007625,10016,"LDCs","LDCs"]
[630,2007,2007630,10016,"LDCs","LDCs"]
[635,2007,2007635,10016,"LDCs","LDCs"]
[640,2007,2007640,10018,"LMICs","LMICs"]
[645,2007,2007645,10017,"Other LICs","Other LICs"]
[650,2007,2007650,10024,"Part I unallocated by income","Part I unallocated by income"]
[655,2007,2007655,10016,"LDCs","LDCs"]
[660,2007,2007660,10016,"LDCs","LDCs"]
[665,2007,2007665,10017,"Other LICs","Other LICs"]
[666,2007,2007666,10016,"LDCs","LDCs"]
[679,2007,2007679,10024,"Part I unallocated by income","LDCs"]
[689,2007,2007689,10024,"Part I unallocated by income","UMICs"]
[725,2007,2007725,10025,"MADCTs","MADCTs"]
[728,2007,2007728,10016,"LDCs","LDCs"]
[730,2007,2007730,10018,"LMICs","LMICs"]
[732,2007,2007732,10025,"MADCTs","MADCTs"]
[735,2007,2007735,10025,"MADCTs","MADCTs"]
[738,2007,2007738,10018,"LMICs","LMICs"]
[740,2007,2007740,10017,"Other LICs","Other LICs"]
[742,2007,2007742,10025,"MADCTs","MADCTs"]
[745,2007,2007745,10016,"LDCs","LDCs"]
[748,2007,2007748,10025,"MADCTs","MADCTs"]
[751,2007,2007751,10019,"UMICs","UMICs"]
[752,2007,2007752,10024,"Part I unallocated by income","Part I unallocated by income"]
[753,2007,2007753,10017,"Other LICs","Other LICs"]
[755,2007,2007755,10018,"LMICs","LMICs"]
[761,2007,2007761,10025,"MADCTs","MADCTs"]
[764,2007,2007764,10018,"LMICs","LMICs"]
[765,2007,2007765,10016,"LDCs","LDCs"]
[769,2007,2007769,10017,"Other LICs","Other LICs"]
[789,2007,2007789,10024,"Part I unallocated by income","LMICs"]
[798,2007,2007798,10024,"Part I unallocated by income","UMICs"]
[831,2007,2007831,10019,"UMICs","UMICs"]
[832,2007,2007832,10018,"LMICs","LMICs"]
[836,2007,2007836,10016,"LDCs","LDCs"]
[840,2007,2007840,10025,"MADCTs","MADCTs"]
[845,2007,2007845,10019,"UMICs","UMICs"]
[850,2007,2007850,10025,"MADCTs","MADCTs"]
[854,2007,2007854,10016,"LDCs","LDCs"]
[856,2007,2007856,10018,"LMICs","LMICs"]
[858,2007,2007858,10025,"MADCTs","MADCTs"]
[859,2007,2007859,10018,"LMICs","LMICs"]
[860,2007,2007860,10018,"LMICs","LMICs"]
[861,2007,2007861,10019,"UMICs","UMICs"]
[862,2007,2007862,10017,"Other LICs","Other LICs"]
[866,2007,2007866,10016,"LDCs","LDCs"]
[868,2007,2007868,10018,"LMICs","LMICs"]
[870,2007,2007870,10018,"LMICs","LMICs"]
[872,2007,2007872,10016,"LDCs","LDCs"]
[876,2007,2007876,10018,"LMICs","LMICs"]
[880,2007,2007880,10016,"LDCs","LDCs"]
[889,2007,2007889,10024,"Part I unallocated by income","UMICs"]
[998,2007,2007998,10024,"Part I unallocated by income","UMICs"]
[1031,2007,20071031,10024,"Part I unallocated by income","UMICs"]
[30,2008,200830,10025,"MADCTs","MADCTs"]
[35,2008,200835,10025,"MADCTs","MADCTs"]
[45,2008,200845,10025,"MADCTs","MADCTs"]
[55,2008,200855,10019,"UMICs","UMICs"]
[61,2008,200861,10025,"MADCTs","MADCTs"]
[62,2008,200862,10019,"UMICs","UMICs"]
[63,2008,200863,10019,"UMICs","UMICs"]
[64,2008,200864,10018,"LMICs","LMICs"]
[65,2008,200865,10019,"UMICs","UMICs"]
[66,2008,200866,10018,"LMICs","LMICs"]
[71,2008,200871,10018,"LMICs","LMICs"]
[85,2008,200885,10018,"LMICs","LMICs"]
[86,2008,200886,10019,"UMICs","UMICs"]
[88,2008,200888,10024,"Part I unallocated by income","UMICs"]
[89,2008,200889,10024,"Part I unallocated by income","UMICs"]
[93,2008,200893,10018,"LMICs","LMICs"]
[105,2008,2008105,10025,"MADCTs","MADCTs"]
[110,2008,2008110,10024,"Part I unallocated by income","Part I unallocated by income"]
[130,2008,2008130,10018,"LMICs","LMICs"]
[133,2008,2008133,10019,"UMICs","UMICs"]
[136,2008,2008136,10018,"LMICs","LMICs"]
[139,2008,2008139,10018,"LMICs","LMICs"]
[142,2008,2008142,10018,"LMICs","LMICs"]
[189,2008,2008189,10024,"Part I unallocated by income","LMICs"]
[212,2008,2008212,10024,"Part I unallocated by income","Part I unallocated by income"]
[218,2008,2008218,10019,"UMICs","UMICs"]
[220,2008,2008220,10024,"Part I unallocated by income","Part I unallocated by income"]
[225,2008,2008225,10016,"LDCs","LDCs"]
[227,2008,2008227,10019,"UMICs","UMICs"]
[228,2008,2008228,10016,"LDCs","LDCs"]
[229,2008,2008229,10018,"LMICs","LMICs"]
[230,2008,2008230,10018,"LMICs","LMICs"]
[231,2008,2008231,10016,"LDCs","LDCs"]
[232,2008,2008232,10016,"LDCs","LDCs"]
[233,2008,2008233,10016,"LDCs","LDCs"]
[234,2008,2008234,10018,"LMICs","LMICs"]
[235,2008,2008235,10016,"LDCs","LDCs"]
[236,2008,2008236,10016,"LDCs","LDCs"]
[237,2008,2008237,10024,"Part I unallocated by income","Part I unallocated by income"]
[238,2008,2008238,10016,"LDCs","LDCs"]
[239,2008,2008239,10019,"UMICs","UMICs"]
[240,2008,2008240,10016,"LDCs","LDCs"]
[241,2008,2008241,10017,"Other LICs","Other LICs"]
[243,2008,2008243,10016,"LDCs","LDCs"]
[244,2008,2008244,10016,"LDCs","LDCs"]
[245,2008,2008245,10016,"LDCs","LDCs"]
[247,2008,2008247,10017,"Other LICs","Other LICs"]
[248,2008,2008248,10017,"Other LICs","Other LICs"]
[249,2008,2008249,10016,"LDCs","LDCs"]
[251,2008,2008251,10016,"LDCs","LDCs"]
[252,2008,2008252,10016,"LDCs","LDCs"]
[253,2008,2008253,10016,"LDCs","LDCs"]
[255,2008,2008255,10016,"LDCs","LDCs"]
[256,2008,2008256,10016,"LDCs","LDCs"]
[257,2008,2008257,10019,"UMICs","UMICs"]
[258,2008,2008258,10019,"UMICs","UMICs"]
[259,2008,2008259,10016,"LDCs","LDCs"]
[260,2008,2008260,10016,"LDCs","LDCs"]
[261,2008,2008261,10017,"Other LICs","Other LICs"]
[265,2008,2008265,10017,"Other LICs","Other LICs"]
[266,2008,2008266,10016,"LDCs","LDCs"]
[268,2008,2008268,10016,"LDCs","LDCs"]
[269,2008,2008269,10016,"LDCs","LDCs"]
[270,2008,2008270,10019,"UMICs","UMICs"]
[271,2008,2008271,10016,"LDCs","LDCs"]
[272,2008,2008272,10016,"LDCs","LDCs"]
[273,2008,2008273,10016,"LDCs","LDCs"]
[274,2008,2008274,10016,"LDCs","LDCs"]
[275,2008,2008275,10018,"LMICs","LMICs"]
[276,2008,2008276,10019,"UMICs","UMICs"]
[278,2008,2008278,10016,"LDCs","LDCs"]
[280,2008,2008280,10018,"LMICs","LMICs"]
[282,2008,2008282,10016,"LDCs","LDCs"]
[283,2008,2008283,10016,"LDCs","LDCs"]
[285,2008,2008285,10016,"LDCs","LDCs"]
[287,2008,2008287,10016,"LDCs","LDCs"]
[288,2008,2008288,10016,"LDCs","LDCs"]
[289,2008,2008289,10024,"Part I unallocated by income","LDCs"]
[298,2008,2008298,10024,"Part I unallocated by income","LDCs"]
[328,2008,2008328,10025,"MADCTs","MADCTs"]
[329,2008,2008329,10019,"UMICs","UMICs"]
[331,2008,2008331,10025,"MADCTs","MADCTs"]
[336,2008,2008336,10019,"UMICs","UMICs"]
[338,2008,2008338,10019,"UMICs","UMICs"]
[340,2008,2008340,10018,"LMICs","LMICs"]
[342,2008,2008342,10018,"LMICs","LMICs"]
[347,2008,2008347,10018,"LMICs","LMICs"]
[349,2008,2008349,10016,"LDCs","LDCs"]
[351,2008,2008351,10018,"LMICs","LMICs"]
[352,2008,2008352,10019,"UMICs","UMICs"]
[354,2008,2008354,10019,"UMICs","UMICs"]
[358,2008,2008358,10019,"UMICs","UMICs"]
[361,2008,2008361,10025,"MADCTs","MADCTs"]
[364,2008,2008364,10018,"LMICs","LMICs"]
[366,2008,2008366,10019,"UMICs","UMICs"]
[373,2008,2008373,10025,"MADCTs","MADCTs"]
[375,2008,2008375,10019,"UMICs","UMICs"]
[376,2008,2008376,10019,"UMICs","UMICs"]
[377,2008,2008377,10019,"UMICs","UMICs"]
[378,2008,2008378,10019,"UMICs","UMICs"]
[381,2008,2008381,10019,"UMICs","UMICs"]
[382,2008,2008382,10019,"UMICs","UMICs"]
[383,2008,2008383,10019,"UMICs","UMICs"]
[384,2008,2008384,10019,"UMICs","UMICs"]
[385,2008,2008385,10019,"UMICs","UMICs"]
[386,2008,2008386,10025,"MADCTs","MADCTs"]
[387,2008,2008387,10025,"MADCTs","MADCTs"]
[388,2008,2008388,10025,"MADCTs","MADCTs"]
[389,2008,2008389,10024,"Part I unallocated by income","UMICs"]
[425,2008,2008425,10019,"UMICs","UMICs"]
[428,2008,2008428,10018,"LMICs","LMICs"]
[431,2008,2008431,10019,"UMICs","UMICs"]
[434,2008,2008434,10019,"UMICs","UMICs"]
[437,2008,2008437,10018,"LMICs","LMICs"]
[440,2008,2008440,10018,"LMICs","LMICs"]
[443,2008,2008443,10025,"MADCTs","MADCTs"]
[446,2008,2008446,10018,"LMICs","LMICs"]
[451,2008,2008451,10018,"LMICs","LMICs"]
[454,2008,2008454,10018,"LMICs","LMICs"]
[457,2008,2008457,10019,"UMICs","UMICs"]
[460,2008,2008460,10019,"UMICs","UMICs"]
[463,2008,2008463,10019,"UMICs","UMICs"]
[489,2008,2008489,10024,"Part I unallocated by income","UMICs"]
[498,2008,2008498,10024,"Part I unallocated by income","UMICs"]
[530,2008,2008530,10025,"MADCTs","MADCTs"]
[540,2008,2008540,10018,"LMICs","LMICs"]
[543,2008,2008543,10018,"LMICs","LMICs"]
[546,2008,2008546,10025,"MADCTs","MADCTs"]
[549,2008,2008549,10018,"LMICs","LMICs"]
[550,2008,2008550,10018,"LMICs","LMICs"]
[552,2008,2008552,10025,"MADCTs","MADCTs"]
[555,2008,2008555,10019,"UMICs","UMICs"]
[558,2008,2008558,10019,"UMICs","UMICs"]
[561,2008,2008561,10025,"MADCTs","MADCTs"]
[566,2008,2008566,10025,"MADCTs","MADCTs"]
[573,2008,2008573,10018,"LMICs","LMICs"]
[576,2008,2008576,10025,"MADCTs","MADCTs"]
[580,2008,2008580,10016,"LDCs","LDCs"]
[589,2008,2008589,10024,"Part I unallocated by income","UMICs"]
[610,2008,2008610,10018,"LMICs","LMICs"]
[611,2008,2008611,10018,"LMICs","LMICs"]
[612,2008,2008612,10018,"LMICs","LMICs"]
[613,2008,2008613,10019,"UMICs","UMICs"]
[614,2008,2008614,10017,"Other LICs","Other LICs"]
[615,2008,2008615,10017,"Other LICs","Other LICs"]
[616,2008,2008616,10018,"LMICs","LMICs"]
[617,2008,2008617,10017,"Other LICs","Other LICs"]
[619,2008,2008619,10024,"Part I unallocated by income","UMICs"]
[625,2008,2008625,10016,"LDCs","LDCs"]
[630,2008,2008630,10016,"LDCs","LDCs"]
[635,2008,2008635,10016,"LDCs","LDCs"]
[640,2008,2008640,10018,"LMICs","LMICs"]
[645,2008,2008645,10018,"LMICs","LMICs"]
[650,2008,2008650,10024,"Part I unallocated by income","Part I unallocated by income"]
[655,2008,2008655,10016,"LDCs","LDCs"]
[660,2008,2008660,10016,"LDCs","LDCs"]
[665,2008,2008665,10017,"Other LICs","Other LICs"]
[666,2008,2008666,10016,"LDCs","LDCs"]
[679,2008,2008679,10024,"Part I unallocated by income","LDCs"]
[689,2008,2008689,10024,"Part I unallocated by income","UMICs"]
[725,2008,2008725,10025,"MADCTs","MADCTs"]
[728,2008,2008728,10016,"LDCs","LDCs"]
[730,2008,2008730,10018,"LMICs","LMICs"]
[732,2008,2008732,10025,"MADCTs","MADCTs"]
[735,2008,2008735,10025,"MADCTs","MADCTs"]
[738,2008,2008738,10018,"LMICs","LMICs"]
[740,2008,2008740,10017,"Other LICs","Other LICs"]
[742,2008,2008742,10025,"MADCTs","MADCTs"]
[745,2008,2008745,10016,"LDCs","LDCs"]
[748,2008,2008748,10025,"MADCTs","MADCTs"]
[751,2008,2008751,10019,"UMICs","UMICs"]
[752,2008,2008752,10024,"Part I unallocated by income","Part I unallocated by income"]
[753,2008,2008753,10018,"LMICs","LMICs"]
[755,2008,2008755,10018,"LMICs","LMICs"]
[761,2008,2008761,10025,"MADCTs","MADCTs"]
[764,2008,2008764,10018,"LMICs","LMICs"]
[765,2008,2008765,10016,"LDCs","LDCs"]
[769,2008,2008769,10017,"Other LICs","Other LICs"]
[789,2008,2008789,10024,"Part I unallocated by income","LMICs"]
[798,2008,2008798,10024,"Part I unallocated by income","UMICs"]
[831,2008,2008831,10019,"UMICs","UMICs"]
[832,2008,2008832,10019,"UMICs","UMICs"]
[836,2008,2008836,10016,"LDCs","LDCs"]
[840,2008,2008840,10025,"MADCTs","MADCTs"]
[845,2008,2008845,10019,"UMICs","UMICs"]
[850,2008,2008850,10025,"MADCTs","MADCTs"]
[854,2008,2008854,10016,"LDCs","LDCs"]
[856,2008,2008856,10018,"LMICs","LMICs"]
[858,2008,2008858,10025,"MADCTs","MADCTs"]
[859,2008,2008859,10018,"LMICs","LMICs"]
[860,2008,2008860,10018,"LMICs","LMICs"]
[861,2008,2008861,10019,"UMICs","UMICs"]
[862,2008,2008862,10017,"Other LICs","Other LICs"]
[866,2008,2008866,10016,"LDCs","LDCs"]
[868,2008,2008868,10018,"LMICs","LMICs"]
[870,2008,2008870,10018,"LMICs","LMICs"]
[872,2008,2008872,10016,"LDCs","LDCs"]
[876,2008,2008876,10018,"LMICs","LMICs"]
[880,2008,2008880,10016,"LDCs","LDCs"]
[889,2008,2008889,10024,"Part I unallocated by income","UMICs"]
[998,2008,2008998,10024,"Part I unallocated by income","UMICs"]
[1031,2008,20081031,10024,"Part I unallocated by income","UMICs"]
[30,2009,200930,10025,"MADCTs","MADCTs"]
[35,2009,200935,10025,"MADCTs","MADCTs"]
[45,2009,200945,10025,"MADCTs","MADCTs"]
[55,2009,200955,10019,"UMICs","UMICs"]
[57,2009,200957,10018,"LMICs","LMICs"]
[61,2009,200961,10025,"MADCTs","MADCTs"]
[62,2009,200962,10019,"UMICs","UMICs"]
[63,2009,200963,10019,"UMICs","UMICs"]
[64,2009,200964,10018,"LMICs","LMICs"]
[65,2009,200965,10019,"UMICs","UMICs"]
[66,2009,200966,10018,"LMICs","LMICs"]
[71,2009,200971,10018,"LMICs","LMICs"]
[85,2009,200985,10018,"LMICs","LMICs"]
[86,2009,200986,10019,"UMICs","UMICs"]
[88,2009,200988,10024,"Part I unallocated by income","UMICs"]
[89,2009,200989,10024,"Part I unallocated by income","UMICs"]
[93,2009,200993,10018,"LMICs","LMICs"]
[105,2009,2009105,10025,"MADCTs","MADCTs"]
[110,2009,2009110,10024,"Part I unallocated by income","Part I unallocated by income"]
[130,2009,2009130,10018,"LMICs","LMICs"]
[133,2009,2009133,10019,"UMICs","UMICs"]
[136,2009,2009136,10018,"LMICs","LMICs"]
[139,2009,2009139,10018,"LMICs","LMICs"]
[142,2009,2009142,10018,"LMICs","LMICs"]
[189,2009,2009189,10024,"Part I unallocated by income","LMICs"]
[212,2009,2009212,10024,"Part I unallocated by income","Part I unallocated by income"]
[218,2009,2009218,10019,"UMICs","UMICs"]
[220,2009,2009220,10024,"Part I unallocated by income","Part I unallocated by income"]
[225,2009,2009225,10016,"LDCs","LDCs"]
[227,2009,2009227,10019,"UMICs","UMICs"]
[228,2009,2009228,10016,"LDCs","LDCs"]
[229,2009,2009229,10018,"LMICs","LMICs"]
[230,2009,2009230,10018,"LMICs","LMICs"]
[231,2009,2009231,10016,"LDCs","LDCs"]
[232,2009,2009232,10016,"LDCs","LDCs"]
[233,2009,2009233,10016,"LDCs","LDCs"]
[234,2009,2009234,10018,"LMICs","LMICs"]
[235,2009,2009235,10016,"LDCs","LDCs"]
[236,2009,2009236,10016,"LDCs","LDCs"]
[237,2009,2009237,10024,"Part I unallocated by income","Part I unallocated by income"]
[238,2009,2009238,10016,"LDCs","LDCs"]
[239,2009,2009239,10019,"UMICs","UMICs"]
[240,2009,2009240,10016,"LDCs","LDCs"]
[241,2009,2009241,10017,"Other LICs","Other LICs"]
[243,2009,2009243,10016,"LDCs","LDCs"]
[244,2009,2009244,10016,"LDCs","LDCs"]
[245,2009,2009245,10016,"LDCs","LDCs"]
[247,2009,2009247,10017,"Other LICs","Other LICs"]
[248,2009,2009248,10017,"Other LICs","Other LICs"]
[249,2009,2009249,10016,"LDCs","LDCs"]
[251,2009,2009251,10016,"LDCs","LDCs"]
[252,2009,2009252,10016,"LDCs","LDCs"]
[253,2009,2009253,10016,"LDCs","LDCs"]
[255,2009,2009255,10016,"LDCs","LDCs"]
[256,2009,2009256,10016,"LDCs","LDCs"]
[257,2009,2009257,10019,"UMICs","UMICs"]
[258,2009,2009258,10019,"UMICs","UMICs"]
[259,2009,2009259,10016,"LDCs","LDCs"]
[260,2009,2009260,10016,"LDCs","LDCs"]
[261,2009,2009261,10017,"Other LICs","Other LICs"]
[265,2009,2009265,10017,"Other LICs","Other LICs"]
[266,2009,2009266,10016,"LDCs","LDCs"]
[268,2009,2009268,10016,"LDCs","LDCs"]
[269,2009,2009269,10016,"LDCs","LDCs"]
[270,2009,2009270,10019,"UMICs","UMICs"]
[271,2009,2009271,10016,"LDCs","LDCs"]
[272,2009,2009272,10016,"LDCs","LDCs"]
[273,2009,2009273,10016,"LDCs","LDCs"]
[274,2009,2009274,10016,"LDCs","LDCs"]
[275,2009,2009275,10018,"LMICs","LMICs"]
[276,2009,2009276,10019,"UMICs","UMICs"]
[278,2009,2009278,10016,"LDCs","LDCs"]
[280,2009,2009280,10018,"LMICs","LMICs"]
[282,2009,2009282,10016,"LDCs","LDCs"]
[283,2009,2009283,10016,"LDCs","LDCs"]
[285,2009,2009285,10016,"LDCs","LDCs"]
[287,2009,2009287,10016,"LDCs","LDCs"]
[288,2009,2009288,10016,"LDCs","LDCs"]
[289,2009,2009289,10024,"Part I unallocated by income","LDCs"]
[298,2009,2009298,10024,"Part I unallocated by income","LDCs"]
[328,2009,2009328,10025,"MADCTs","MADCTs"]
[329,2009,2009329,10019,"UMICs","UMICs"]
[331,2009,2009331,10025,"MADCTs","MADCTs"]
[336,2009,2009336,10019,"UMICs","UMICs"]
[338,2009,2009338,10019,"UMICs","UMICs"]
[340,2009,2009340,10018,"LMICs","LMICs"]
[342,2009,2009342,10018,"LMICs","LMICs"]
[347,2009,2009347,10018,"LMICs","LMICs"]
[349,2009,2009349,10016,"LDCs","LDCs"]
[351,2009,2009351,10018,"LMICs","LMICs"]
[352,2009,2009352,10019,"UMICs","UMICs"]
[354,2009,2009354,10019,"UMICs","UMICs"]
[358,2009,2009358,10019,"UMICs","UMICs"]
[361,2009,2009361,10025,"MADCTs","MADCTs"]
[364,2009,2009364,10018,"LMICs","LMICs"]
[366,2009,2009366,10019,"UMICs","UMICs"]
[373,2009,2009373,10025,"MADCTs","MADCTs"]
[375,2009,2009375,10019,"UMICs","UMICs"]
[376,2009,2009376,10019,"UMICs","UMICs"]
[377,2009,2009377,10019,"UMICs","UMICs"]
[378,2009,2009378,10019,"UMICs","UMICs"]
[381,2009,2009381,10019,"UMICs","UMICs"]
[382,2009,2009382,10019,"UMICs","UMICs"]
[383,2009,2009383,10019,"UMICs","UMICs"]
[384,2009,2009384,10019,"UMICs","UMICs"]
[385,2009,2009385,10019,"UMICs","UMICs"]
[386,2009,2009386,10025,"MADCTs","MADCTs"]
[387,2009,2009387,10025,"MADCTs","MADCTs"]
[388,2009,2009388,10025,"MADCTs","MADCTs"]
[389,2009,2009389,10024,"Part I unallocated by income","UMICs"]
[425,2009,2009425,10019,"UMICs","UMICs"]
[428,2009,2009428,10018,"LMICs","LMICs"]
[431,2009,2009431,10019,"UMICs","UMICs"]
[434,2009,2009434,10019,"UMICs","UMICs"]
[437,2009,2009437,10018,"LMICs","LMICs"]
[440,2009,2009440,10018,"LMICs","LMICs"]
[443,2009,2009443,10025,"MADCTs","MADCTs"]
[446,2009,2009446,10018,"LMICs","LMICs"]
[451,2009,2009451,10018,"LMICs","LMICs"]
[454,2009,2009454,10018,"LMICs","LMICs"]
[457,2009,2009457,10019,"UMICs","UMICs"]
[460,2009,2009460,10019,"UMICs","UMICs"]
[463,2009,2009463,10019,"UMICs","UMICs"]
[489,2009,2009489,10024,"Part I unallocated by income","UMICs"]
[498,2009,2009498,10024,"Part I unallocated by income","UMICs"]
[530,2009,2009530,10025,"MADCTs","MADCTs"]
[540,2009,2009540,10018,"LMICs","LMICs"]
[543,2009,2009543,10018,"LMICs","LMICs"]
[546,2009,2009546,10025,"MADCTs","MADCTs"]
[549,2009,2009549,10018,"LMICs","LMICs"]
[550,2009,2009550,10018,"LMICs","LMICs"]
[552,2009,2009552,10025,"MADCTs","MADCTs"]
[555,2009,2009555,10019,"UMICs","UMICs"]
[558,2009,2009558,10019,"UMICs","UMICs"]
[561,2009,2009561,10025,"MADCTs","MADCTs"]
[566,2009,2009566,10025,"MADCTs","MADCTs"]
[573,2009,2009573,10018,"LMICs","LMICs"]
[576,2009,2009576,10025,"MADCTs","MADCTs"]
[580,2009,2009580,10016,"LDCs","LDCs"]
[589,2009,2009589,10024,"Part I unallocated by income","UMICs"]
[610,2009,2009610,10018,"LMICs","LMICs"]
[611,2009,2009611,10018,"LMICs","LMICs"]
[612,2009,2009612,10018,"LMICs","LMICs"]
[613,2009,2009613,10019,"UMICs","UMICs"]
[614,2009,2009614,10017,"Other LICs","Other LICs"]
[615,2009,2009615,10017,"Other LICs","Other LICs"]
[616,2009,2009616,10018,"LMICs","LMICs"]
[617,2009,2009617,10017,"Other LICs","Other LICs"]
[619,2009,2009619,10024,"Part I unallocated by income","UMICs"]
[625,2009,2009625,10016,"LDCs","LDCs"]
[630,2009,2009630,10016,"LDCs","LDCs"]
[635,2009,2009635,10016,"LDCs","LDCs"]
[640,2009,2009640,10018,"LMICs","LMICs"]
[645,2009,2009645,10018,"LMICs","LMICs"]
[650,2009,2009650,10024,"Part I unallocated by income","Part I unallocated by income"]
[655,2009,2009655,10016,"LDCs","LDCs"]
[660,2009,2009660,10016,"LDCs","LDCs"]
[665,2009,2009665,10017,"Other LICs","Other LICs"]
[666,2009,2009666,10016,"LDCs","LDCs"]
[679,2009,2009679,10024,"Part I unallocated by income","LDCs"]
[689,2009,2009689,10024,"Part I unallocated by income","UMICs"]
[725,2009,2009725,10025,"MADCTs","MADCTs"]
[728,2009,2009728,10016,"LDCs","LDCs"]
[730,2009,2009730,10018,"LMICs","LMICs"]
[732,2009,2009732,10025,"MADCTs","MADCTs"]
[735,2009,2009735,10025,"MADCTs","MADCTs"]
[738,2009,2009738,10018,"LMICs","LMICs"]
[740,2009,2009740,10017,"Other LICs","Other LICs"]
[742,2009,2009742,10025,"MADCTs","MADCTs"]
[745,2009,2009745,10016,"LDCs","LDCs"]
[748,2009,2009748,10025,"MADCTs","MADCTs"]
[751,2009,2009751,10019,"UMICs","UMICs"]
[752,2009,2009752,10024,"Part I unallocated by income","Part I unallocated by income"]
[753,2009,2009753,10018,"LMICs","LMICs"]
[755,2009,2009755,10018,"LMICs","LMICs"]
[761,2009,2009761,10025,"MADCTs","MADCTs"]
[764,2009,2009764,10018,"LMICs","LMICs"]
[765,2009,2009765,10016,"LDCs","LDCs"]
[769,2009,2009769,10017,"Other LICs","Other LICs"]
[789,2009,2009789,10024,"Part I unallocated by income","LMICs"]
[798,2009,2009798,10024,"Part I unallocated by income","UMICs"]
[831,2009,2009831,10019,"UMICs","UMICs"]
[832,2009,2009832,10019,"UMICs","UMICs"]
[836,2009,2009836,10016,"LDCs","LDCs"]
[840,2009,2009840,10025,"MADCTs","MADCTs"]
[845,2009,2009845,10019,"UMICs","UMICs"]
[850,2009,2009850,10025,"MADCTs","MADCTs"]
[854,2009,2009854,10016,"LDCs","LDCs"]
[856,2009,2009856,10018,"LMICs","LMICs"]
[858,2009,2009858,10025,"MADCTs","MADCTs"]
[859,2009,2009859,10018,"LMICs","LMICs"]
[860,2009,2009860,10018,"LMICs","LMICs"]
[861,2009,2009861,10019,"UMICs","UMICs"]
[862,2009,2009862,10017,"Other LICs","Other LICs"]
[866,2009,2009866,10016,"LDCs","LDCs"]
[868,2009,2009868,10018,"LMICs","LMICs"]
[870,2009,2009870,10018,"LMICs","LMICs"]
[872,2009,2009872,10016,"LDCs","LDCs"]
[876,2009,2009876,10018,"LMICs","LMICs"]
[880,2009,2009880,10016,"LDCs","LDCs"]
[889,2009,2009889,10024,"Part I unallocated by income","UMICs"]
[998,2009,2009998,10024,"Part I unallocated by income","UMICs"]
[1031,2009,20091031,10024,"Part I unallocated by income","UMICs"]
[30,2010,201030,10025,"MADCTs","MADCTs"]
[35,2010,201035,10025,"MADCTs","MADCTs"]
[45,2010,201045,10025,"MADCTs","MADCTs"]
[55,2010,201055,10019,"UMICs","UMICs"]
[57,2010,201057,10018,"LMICs","LMICs"]
[61,2010,201061,10025,"MADCTs","MADCTs"]
[62,2010,201062,10019,"UMICs","UMICs"]
[63,2010,201063,10019,"UMICs","UMICs"]
[64,2010,201064,10018,"LMICs","LMICs"]
[65,2010,201065,10019,"UMICs","UMICs"]
[66,2010,201066,10018,"LMICs","LMICs"]
[71,2010,201071,10018,"LMICs","LMICs"]
[85,2010,201085,10018,"LMICs","LMICs"]
[86,2010,201086,10019,"UMICs","UMICs"]
[88,2010,201088,10024,"Part I unallocated by income","UMICs"]
[89,2010,201089,10024,"Part I unallocated by income","UMICs"]
[93,2010,201093,10018,"LMICs","LMICs"]
[105,2010,2010105,10025,"MADCTs","MADCTs"]
[110,2010,2010110,10024,"Part I unallocated by income","Part I unallocated by income"]
[130,2010,2010130,10018,"LMICs","LMICs"]
[133,2010,2010133,10019,"UMICs","UMICs"]
[136,2010,2010136,10018,"LMICs","LMICs"]
[139,2010,2010139,10018,"LMICs","LMICs"]
[142,2010,2010142,10018,"LMICs","LMICs"]
[189,2010,2010189,10024,"Part I unallocated by income","LMICs"]
[212,2010,2010212,10024,"Part I unallocated by income","Part I unallocated by income"]
[218,2010,2010218,10019,"UMICs","UMICs"]
[220,2010,2010220,10024,"Part I unallocated by income","Part I unallocated by income"]
[225,2010,2010225,10016,"LDCs","LDCs"]
[227,2010,2010227,10019,"UMICs","UMICs"]
[228,2010,2010228,10016,"LDCs","LDCs"]
[229,2010,2010229,10018,"LMICs","LMICs"]
[230,2010,2010230,10018,"LMICs","LMICs"]
[231,2010,2010231,10016,"LDCs","LDCs"]
[232,2010,2010232,10016,"LDCs","LDCs"]
[233,2010,2010233,10016,"LDCs","LDCs"]
[234,2010,2010234,10018,"LMICs","LMICs"]
[235,2010,2010235,10016,"LDCs","LDCs"]
[236,2010,2010236,10016,"LDCs","LDCs"]
[237,2010,2010237,10024,"Part I unallocated by income","Part I unallocated by income"]
[238,2010,2010238,10016,"LDCs","LDCs"]
[239,2010,2010239,10019,"UMICs","UMICs"]
[240,2010,2010240,10016,"LDCs","LDCs"]
[241,2010,2010241,10017,"Other LICs","Other LICs"]
[243,2010,2010243,10016,"LDCs","LDCs"]
[244,2010,2010244,10016,"LDCs","LDCs"]
[245,2010,2010245,10016,"LDCs","LDCs"]
[247,2010,2010247,10017,"Other LICs","Other LICs"]
[248,2010,2010248,10017,"Other LICs","Other LICs"]
[249,2010,2010249,10016,"LDCs","LDCs"]
[251,2010,2010251,10016,"LDCs","LDCs"]
[252,2010,2010252,10016,"LDCs","LDCs"]
[253,2010,2010253,10016,"LDCs","LDCs"]
[255,2010,2010255,10016,"LDCs","LDCs"]
[256,2010,2010256,10016,"LDCs","LDCs"]
[257,2010,2010257,10019,"UMICs","UMICs"]
[258,2010,2010258,10019,"UMICs","UMICs"]
[259,2010,2010259,10016,"LDCs","LDCs"]
[260,2010,2010260,10016,"LDCs","LDCs"]
[261,2010,2010261,10017,"Other LICs","Other LICs"]
[265,2010,2010265,10017,"Other LICs","Other LICs"]
[266,2010,2010266,10016,"LDCs","LDCs"]
[268,2010,2010268,10016,"LDCs","LDCs"]
[269,2010,2010269,10016,"LDCs","LDCs"]
[270,2010,2010270,10019,"UMICs","UMICs"]
[271,2010,2010271,10016,"LDCs","LDCs"]
[272,2010,2010272,10016,"LDCs","LDCs"]
[273,2010,2010273,10016,"LDCs","LDCs"]
[274,2010,2010274,10016,"LDCs","LDCs"]
[275,2010,2010275,10018,"LMICs","LMICs"]
[276,2010,2010276,10019,"UMICs","UMICs"]
[278,2010,2010278,10016,"LDCs","LDCs"]
[280,2010,2010280,10018,"LMICs","LMICs"]
[282,2010,2010282,10016,"LDCs","LDCs"]
[283,2010,2010283,10016,"LDCs","LDCs"]
[285,2010,2010285,10016,"LDCs","LDCs"]
[287,2010,2010287,10016,"LDCs","LDCs"]
[288,2010,2010288,10016,"LDCs","LDCs"]
[289,2010,2010289,10024,"Part I unallocated by income","LDCs"]
[298,2010,2010298,10024,"Part I unallocated by income","LDCs"]
[328,2010,2010328,10025,"MADCTs","MADCTs"]
[329,2010,2010329,10019,"UMICs","UMICs"]
[331,2010,2010331,10025,"MADCTs","MADCTs"]
[336,2010,2010336,10019,"UMICs","UMICs"]
[338,2010,2010338,10019,"UMICs","UMICs"]
[340,2010,2010340,10018,"LMICs","LMICs"]
[342,2010,2010342,10018,"LMICs","LMICs"]
[347,2010,2010347,10018,"LMICs","LMICs"]
[349,2010,2010349,10016,"LDCs","LDCs"]
[351,2010,2010351,10018,"LMICs","LMICs"]
[352,2010,2010352,10019,"UMICs","UMICs"]
[354,2010,2010354,10019,"UMICs","UMICs"]
[358,2010,2010358,10019,"UMICs","UMICs"]
[361,2010,2010361,10025,"MADCTs","MADCTs"]
[364,2010,2010364,10018,"LMICs","LMICs"]
[366,2010,2010366,10019,"UMICs","UMICs"]
[373,2010,2010373,10025,"MADCTs","MADCTs"]
[375,2010,2010375,10019,"UMICs","UMICs"]
[376,2010,2010376,10019,"UMICs","UMICs"]
[377,2010,2010377,10019,"UMICs","UMICs"]
[378,2010,2010378,10019,"UMICs","UMICs"]
[381,2010,2010381,10019,"UMICs","UMICs"]
[382,2010,2010382,10019,"UMICs","UMICs"]
[383,2010,2010383,10019,"UMICs","UMICs"]
[384,2010,2010384,10019,"UMICs","UMICs"]
[385,2010,2010385,10019,"UMICs","UMICs"]
[386,2010,2010386,10025,"MADCTs","MADCTs"]
[387,2010,2010387,10025,"MADCTs","MADCTs"]
[388,2010,2010388,10025,"MADCTs","MADCTs"]
[389,2010,2010389,10024,"Part I unallocated by income","UMICs"]
[425,2010,2010425,10019,"UMICs","UMICs"]
[428,2010,2010428,10018,"LMICs","LMICs"]
[431,2010,2010431,10019,"UMICs","UMICs"]
[434,2010,2010434,10019,"UMICs","UMICs"]
[437,2010,2010437,10018,"LMICs","LMICs"]
[440,2010,2010440,10018,"LMICs","LMICs"]
[443,2010,2010443,10025,"MADCTs","MADCTs"]
[446,2010,2010446,10018,"LMICs","LMICs"]
[451,2010,2010451,10018,"LMICs","LMICs"]
[454,2010,2010454,10018,"LMICs","LMICs"]
[457,2010,2010457,10019,"UMICs","UMICs"]
[460,2010,2010460,10019,"UMICs","UMICs"]
[463,2010,2010463,10019,"UMICs","UMICs"]
[489,2010,2010489,10024,"Part I unallocated by income","UMICs"]
[498,2010,2010498,10024,"Part I unallocated by income","UMICs"]
[530,2010,2010530,10025,"MADCTs","MADCTs"]
[540,2010,2010540,10018,"LMICs","LMICs"]
[543,2010,2010543,10018,"LMICs","LMICs"]
[546,2010,2010546,10025,"MADCTs","MADCTs"]
[549,2010,2010549,10018,"LMICs","LMICs"]
[550,2010,2010550,10018,"LMICs","LMICs"]
[552,2010,2010552,10025,"MADCTs","MADCTs"]
[555,2010,2010555,10019,"UMICs","UMICs"]
[558,2010,2010558,10019,"UMICs","UMICs"]
[561,2010,2010561,10025,"MADCTs","MADCTs"]
[566,2010,2010566,10025,"MADCTs","MADCTs"]
[573,2010,2010573,10018,"LMICs","LMICs"]
[576,2010,2010576,10025,"MADCTs","MADCTs"]
[580,2010,2010580,10016,"LDCs","LDCs"]
[589,2010,2010589,10024,"Part I unallocated by income","UMICs"]
[610,2010,2010610,10018,"LMICs","LMICs"]
[611,2010,2010611,10018,"LMICs","LMICs"]
[612,2010,2010612,10018,"LMICs","LMICs"]
[613,2010,2010613,10019,"UMICs","UMICs"]
[614,2010,2010614,10017,"Other LICs","Other LICs"]
[615,2010,2010615,10017,"Other LICs","Other LICs"]
[616,2010,2010616,10018,"LMICs","LMICs"]
[617,2010,2010617,10017,"Other LICs","Other LICs"]
[619,2010,2010619,10024,"Part I unallocated by income","UMICs"]
[625,2010,2010625,10016,"LDCs","LDCs"]
[630,2010,2010630,10016,"LDCs","LDCs"]
[635,2010,2010635,10016,"LDCs","LDCs"]
[640,2010,2010640,10018,"LMICs","LMICs"]
[645,2010,2010645,10018,"LMICs","LMICs"]
[650,2010,2010650,10024,"Part I unallocated by income","Part I unallocated by income"]
[655,2010,2010655,10016,"LDCs","LDCs"]
[660,2010,2010660,10016,"LDCs","LDCs"]
[665,2010,2010665,10017,"Other LICs","Other LICs"]
[666,2010,2010666,10016,"LDCs","LDCs"]
[679,2010,2010679,10024,"Part I unallocated by income","LDCs"]
[689,2010,2010689,10024,"Part I unallocated by income","UMICs"]
[725,2010,2010725,10025,"MADCTs","MADCTs"]
[728,2010,2010728,10016,"LDCs","LDCs"]
[730,2010,2010730,10018,"LMICs","LMICs"]
[732,2010,2010732,10025,"MADCTs","MADCTs"]
[735,2010,2010735,10025,"MADCTs","MADCTs"]
[738,2010,2010738,10018,"LMICs","LMICs"]
[740,2010,2010740,10017,"Other LICs","Other LICs"]
[742,2010,2010742,10025,"MADCTs","MADCTs"]
[745,2010,2010745,10016,"LDCs","LDCs"]
[748,2010,2010748,10025,"MADCTs","MADCTs"]
[751,2010,2010751,10019,"UMICs","UMICs"]
[752,2010,2010752,10024,"Part I unallocated by income","Part I unallocated by income"]
[753,2010,2010753,10018,"LMICs","LMICs"]
[755,2010,2010755,10018,"LMICs","LMICs"]
[761,2010,2010761,10025,"MADCTs","MADCTs"]
[764,2010,2010764,10018,"LMICs","LMICs"]
[765,2010,2010765,10016,"LDCs","LDCs"]
[769,2010,2010769,10017,"Other LICs","Other LICs"]
[789,2010,2010789,10024,"Part I unallocated by income","LMICs"]
[798,2010,2010798,10024,"Part I unallocated by income","UMICs"]
[831,2010,2010831,10019,"UMICs","UMICs"]
[832,2010,2010832,10019,"UMICs","UMICs"]
[836,2010,2010836,10016,"LDCs","LDCs"]
[840,2010,2010840,10025,"MADCTs","MADCTs"]
[845,2010,2010845,10019,"UMICs","UMICs"]
[850,2010,2010850,10025,"MADCTs","MADCTs"]
[854,2010,2010854,10016,"LDCs","LDCs"]
[856,2010,2010856,10018,"LMICs","LMICs"]
[858,2010,2010858,10025,"MADCTs","MADCTs"]
[859,2010,2010859,10018,"LMICs","LMICs"]
[860,2010,2010860,10018,"LMICs","LMICs"]
[861,2010,2010861,10019,"UMICs","UMICs"]
[862,2010,2010862,10017,"Other LICs","Other LICs"]
[866,2010,2010866,10016,"LDCs","LDCs"]
[868,2010,2010868,10018,"LMICs","LMICs"]
[870,2010,2010870,10018,"LMICs","LMICs"]
[872,2010,2010872,10016,"LDCs","LDCs"]
[876,2010,2010876,10018,"LMICs","LMICs"]
[880,2010,2010880,10016,"LDCs","LDCs"]
[889,2010,2010889,10024,"Part I unallocated by income","UMICs"]
[998,2010,2010998,10024,"Part I unallocated by income","UMICs"]
[1031,2010,20101031,10024,"Part I unallocated by income","UMICs"]
[30,2011,201130,10025,"MADCTs","MADCTs"]
[35,2011,201135,10025,"MADCTs","MADCTs"]
[45,2011,201145,10025,"MADCTs","MADCTs"]
[55,2011,201155,10019,"UMICs","UMICs"]
[57,2011,201157,10018,"LMICs","LMICs"]
[61,2011,201161,10025,"MADCTs","MADCTs"]
[62,2011,201162,10025,"MADCTs","MADCTs"]
[63,2011,201163,10019,"UMICs","UMICs"]
[64,2011,201164,10019,"UMICs","UMICs"]
[65,2011,201165,10019,"UMICs","UMICs"]
[66,2011,201166,10019,"UMICs","UMICs"]
[71,2011,201171,10019,"UMICs","UMICs"]
[85,2011,201185,10018,"LMICs","LMICs"]
[86,2011,201186,10019,"UMICs","UMICs"]
[88,2011,201188,10024,"Part I unallocated by income","UMICs"]
[89,2011,201189,10024,"Part I unallocated by income","UMICs"]
[93,2011,201193,10018,"LMICs","LMICs"]
[105,2011,2011105,10025,"MADCTs","MADCTs"]
[110,2011,2011110,10024,"Part I unallocated by income","Part I unallocated by income"]
[130,2011,2011130,10019,"UMICs","UMICs"]
[133,2011,2011133,10019,"UMICs","UMICs"]
[136,2011,2011136,10018,"LMICs","LMICs"]
[139,2011,2011139,10019,"UMICs","UMICs"]
[142,2011,2011142,10018,"LMICs","LMICs"]
[189,2011,2011189,10024,"Part I unallocated by income","LMICs"]
[212,2011,2011212,10024,"Part I unallocated by income","Part I unallocated by income"]
[218,2011,2011218,10019,"UMICs","UMICs"]
[220,2011,2011220,10024,"Part I unallocated by income","Part I unallocated by income"]
[225,2011,2011225,10016,"LDCs","LDCs"]
[227,2011,2011227,10019,"UMICs","UMICs"]
[228,2011,2011228,10016,"LDCs","LDCs"]
[229,2011,2011229,10018,"LMICs","LMICs"]
[230,2011,2011230,10018,"LMICs","LMICs"]
[231,2011,2011231,10016,"LDCs","LDCs"]
[232,2011,2011232,10016,"LDCs","LDCs"]
[233,2011,2011233,10016,"LDCs","LDCs"]
[234,2011,2011234,10018,"LMICs","LMICs"]
[235,2011,2011235,10016,"LDCs","LDCs"]
[236,2011,2011236,10016,"LDCs","LDCs"]
[237,2011,2011237,10024,"Part I unallocated by income","Part I unallocated by income"]
[238,2011,2011238,10016,"LDCs","LDCs"]
[239,2011,2011239,10019,"UMICs","UMICs"]
[240,2011,2011240,10016,"LDCs","LDCs"]
[241,2011,2011241,10018,"LMICs","LMICs"]
[243,2011,2011243,10016,"LDCs","LDCs"]
[244,2011,2011244,10016,"LDCs","LDCs"]
[245,2011,2011245,10016,"LDCs","LDCs"]
[247,2011,2011247,10018,"LMICs","LMICs"]
[248,2011,2011248,10017,"Other LICs","Other LICs"]
[249,2011,2011249,10016,"LDCs","LDCs"]
[251,2011,2011251,10016,"LDCs","LDCs"]
[252,2011,2011252,10016,"LDCs","LDCs"]
[253,2011,2011253,10016,"LDCs","LDCs"]
[255,2011,2011255,10016,"LDCs","LDCs"]
[256,2011,2011256,10016,"LDCs","LDCs"]
[257,2011,2011257,10019,"UMICs","UMICs"]
[258,2011,2011258,10025,"MADCTs","MADCTs"]
[259,2011,2011259,10016,"LDCs","LDCs"]
[260,2011,2011260,10016,"LDCs","LDCs"]
[261,2011,2011261,10018,"LMICs","LMICs"]
[265,2011,2011265,10017,"Other LICs","Other LICs"]
[266,2011,2011266,10016,"LDCs","LDCs"]
[268,2011,2011268,10016,"LDCs","LDCs"]
[269,2011,2011269,10016,"LDCs","LDCs"]
[270,2011,2011270,10019,"UMICs","UMICs"]
[271,2011,2011271,10016,"LDCs","LDCs"]
[272,2011,2011272,10016,"LDCs","LDCs"]
[273,2011,2011273,10016,"LDCs","LDCs"]
[274,2011,2011274,10016,"LDCs","LDCs"]
[275,2011,2011275,10019,"UMICs","UMICs"]
[276,2011,2011276,10019,"UMICs","UMICs"]
[278,2011,2011278,10016,"LDCs","LDCs"]
[279,2011,2011279,10017,"Other LICs","Other LICs"]
[280,2011,2011280,10018,"LMICs","LMICs"]
[282,2011,2011282,10016,"LDCs","LDCs"]
[283,2011,2011283,10016,"LDCs","LDCs"]
[285,2011,2011285,10016,"LDCs","LDCs"]
[287,2011,2011287,10016,"LDCs","LDCs"]
[288,2011,2011288,10016,"LDCs","LDCs"]
[289,2011,2011289,10024,"Part I unallocated by income","LDCs"]
[298,2011,2011298,10024,"Part I unallocated by income","LDCs"]
[328,2011,2011328,10025,"MADCTs","MADCTs"]
[329,2011,2011329,10025,"MADCTs","MADCTs"]
[331,2011,2011331,10025,"MADCTs","MADCTs"]
[336,2011,2011336,10019,"UMICs","UMICs"]
[338,2011,2011338,10019,"UMICs","UMICs"]
[340,2011,2011340,10019,"UMICs","UMICs"]
[342,2011,2011342,10018,"LMICs","LMICs"]
[347,2011,2011347,10018,"LMICs","LMICs"]
[349,2011,2011349,10016,"LDCs","LDCs"]
[351,2011,2011351,10018,"LMICs","LMICs"]
[352,2011,2011352,10018,"LMICs","LMICs"]
[354,2011,2011354,10019,"UMICs","UMICs"]
[358,2011,2011358,10019,"UMICs","UMICs"]
[361,2011,2011361,10025,"MADCTs","MADCTs"]
[364,2011,2011364,10018,"LMICs","LMICs"]
[366,2011,2011366,10019,"UMICs","UMICs"]
[373,2011,2011373,10025,"MADCTs","MADCTs"]
[375,2011,2011375,10025,"MADCTs","MADCTs"]
[376,2011,2011376,10019,"UMICs","UMICs"]
[377,2011,2011377,10019,"UMICs","UMICs"]
[378,2011,2011378,10019,"UMICs","UMICs"]
[381,2011,2011381,10019,"UMICs","UMICs"]
[382,2011,2011382,10019,"UMICs","UMICs"]
[383,2011,2011383,10019,"UMICs","UMICs"]
[384,2011,2011384,10019,"UMICs","UMICs"]
[385,2011,2011385,10019,"UMICs","UMICs"]
[386,2011,2011386,10025,"MADCTs","MADCTs"]
[387,2011,2011387,10025,"MADCTs","MADCTs"]
[388,2011,2011388,10025,"MADCTs","MADCTs"]
[389,2011,2011389,10024,"Part I unallocated by income","UMICs"]
[425,2011,2011425,10019,"UMICs","UMICs"]
[428,2011,2011428,10018,"LMICs","LMICs"]
[431,2011,2011431,10019,"UMICs","UMICs"]
[434,2011,2011434,10019,"UMICs","UMICs"]
[437,2011,2011437,10019,"UMICs","UMICs"]
[440,2011,2011440,10019,"UMICs","UMICs"]
[443,2011,2011443,10025,"MADCTs","MADCTs"]
[446,2011,2011446,10018,"LMICs","LMICs"]
[451,2011,2011451,10018,"LMICs","LMICs"]
[454,2011,2011454,10019,"UMICs","UMICs"]
[457,2011,2011457,10019,"UMICs","UMICs"]
[460,2011,2011460,10019,"UMICs","UMICs"]
[463,2011,2011463,10019,"UMICs","UMICs"]
[489,2011,2011489,10024,"Part I unallocated by income","UMICs"]
[498,2011,2011498,10024,"Part I unallocated by income","UMICs"]
[530,2011,2011530,10025,"MADCTs","MADCTs"]
[540,2011,2011540,10019,"UMICs","UMICs"]
[543,2011,2011543,10018,"LMICs","LMICs"]
[546,2011,2011546,10025,"MADCTs","MADCTs"]
[549,2011,2011549,10019,"UMICs","UMICs"]
[550,2011,2011550,10018,"LMICs","LMICs"]
[552,2011,2011552,10025,"MADCTs","MADCTs"]
[555,2011,2011555,10019,"UMICs","UMICs"]
[558,2011,2011558,10025,"MADCTs","MADCTs"]
[561,2011,2011561,10025,"MADCTs","MADCTs"]
[566,2011,2011566,10025,"MADCTs","MADCTs"]
[573,2011,2011573,10018,"LMICs","LMICs"]
[576,2011,2011576,10025,"MADCTs","MADCTs"]
[580,2011,2011580,10016,"LDCs","LDCs"]
[589,2011,2011589,10024,"Part I unallocated by income","UMICs"]
[610,2011,2011610,10018,"LMICs","LMICs"]
[611,2011,2011611,10019,"UMICs","UMICs"]
[612,2011,2011612,10018,"LMICs","LMICs"]
[613,2011,2011613,10019,"UMICs","UMICs"]
[614,2011,2011614,10017,"Other LICs","Other LICs"]
[615,2011,2011615,10017,"Other LICs","Other LICs"]
[616,2011,2011616,10018,"LMICs","LMICs"]
[617,2011,2011617,10018,"LMICs","LMICs"]
[619,2011,2011619,10024,"Part I unallocated by income","UMICs"]
[625,2011,2011625,10016,"LDCs","LDCs"]
[630,2011,2011630,10016,"LDCs","LDCs"]
[635,2011,2011635,10016,"LDCs","LDCs"]
[640,2011,2011640,10018,"LMICs","LMICs"]
[645,2011,2011645,10018,"LMICs","LMICs"]
[650,2011,2011650,10024,"Part I unallocated by income","Part I unallocated by income"]
[655,2011,2011655,10019,"UMICs","UMICs"]
[660,2011,2011660,10016,"LDCs","LDCs"]
[665,2011,2011665,10018,"LMICs","LMICs"]
[666,2011,2011666,10016,"LDCs","LDCs"]
[679,2011,2011679,10024,"Part I unallocated by income","LDCs"]
[689,2011,2011689,10024,"Part I unallocated by income","UMICs"]
[725,2011,2011725,10025,"MADCTs","MADCTs"]
[728,2011,2011728,10016,"LDCs","LDCs"]
[730,2011,2011730,10019,"UMICs","UMICs"]
[732,2011,2011732,10025,"MADCTs","MADCTs"]
[735,2011,2011735,10025,"MADCTs","MADCTs"]
[738,2011,2011738,10018,"LMICs","LMICs"]
[740,2011,2011740,10017,"Other LICs","Other LICs"]
[742,2011,2011742,10025,"MADCTs","MADCTs"]
[745,2011,2011745,10016,"LDCs","LDCs"]
[748,2011,2011748,10025,"MADCTs","MADCTs"]
[751,2011,2011751,10019,"UMICs","UMICs"]
[752,2011,2011752,10024,"Part I unallocated by income","Part I unallocated by income"]
[753,2011,2011753,10018,"LMICs","LMICs"]
[755,2011,2011755,10018,"LMICs","LMICs"]
[761,2011,2011761,10025,"MADCTs","MADCTs"]
[764,2011,2011764,10019,"UMICs","UMICs"]
[765,2011,2011765,10016,"LDCs","LDCs"]
[769,2011,2011769,10018,"LMICs","LMICs"]
[789,2011,2011789,10024,"Part I unallocated by income","LMICs"]
[798,2011,2011798,10024,"Part I unallocated by income","UMICs"]
[831,2011,2011831,10019,"UMICs","UMICs"]
[832,2011,2011832,10018,"LMICs","LMICs"]
[836,2011,2011836,10016,"LDCs","LDCs"]
[840,2011,2011840,10025,"MADCTs","MADCTs"]
[845,2011,2011845,10019,"UMICs","UMICs"]
[850,2011,2011850,10025,"MADCTs","MADCTs"]
[854,2011,2011854,10016,"LDCs","LDCs"]
[856,2011,2011856,10019,"UMICs","UMICs"]
[858,2011,2011858,10025,"MADCTs","MADCTs"]
[859,2011,2011859,10018,"LMICs","LMICs"]
[860,2011,2011860,10018,"LMICs","LMICs"]
[861,2011,2011861,10019,"UMICs","UMICs"]
[862,2011,2011862,10018,"LMICs","LMICs"]
[866,2011,2011866,10016,"LDCs","LDCs"]
[868,2011,2011868,10018,"LMICs","LMICs"]
[870,2011,2011870,10018,"LMICs","LMICs"]
[872,2011,2011872,10016,"LDCs","LDCs"]
[876,2011,2011876,10019,"UMICs","UMICs"]
[880,2011,2011880,10016,"LDCs","LDCs"]
[889,2011,2011889,10024,"Part I unallocated by income","UMICs"]
[998,2011,2011998,10024,"Part I unallocated by income","UMICs"]
[1031,2011,20111031,10024,"Part I unallocated by income","UMICs"]
[30,2012,201230,10025,"MADCTs","MADCTs"]
[35,2012,201235,10025,"MADCTs","MADCTs"]
[45,2012,201245,10025,"MADCTs","MADCTs"]
[55,2012,201255,10019,"UMICs","UMICs"]
[57,2012,201257,10018,"LMICs","LMICs"]
[61,2012,201261,10025,"MADCTs","MADCTs"]
[62,2012,201262,10025,"MADCTs","MADCTs"]
[63,2012,201263,10019,"UMICs","UMICs"]
[64,2012,201264,10019,"UMICs","UMICs"]
[65,2012,201265,10019,"UMICs","UMICs"]
[66,2012,201266,10019,"UMICs","UMICs"]
[71,2012,201271,10019,"UMICs","UMICs"]
[85,2012,201285,10018,"LMICs","LMICs"]
[86,2012,201286,10019,"UMICs","UMICs"]
[88,2012,201288,10024,"Part I unallocated by income","UMICs"]
[89,2012,201289,10024,"Part I unallocated by income","UMICs"]
[93,2012,201293,10018,"LMICs","LMICs"]
[105,2012,2012105,10025,"MADCTs","MADCTs"]
[110,2012,2012110,10024,"Part I unallocated by income","Part I unallocated by income"]
[130,2012,2012130,10019,"UMICs","UMICs"]
[133,2012,2012133,10019,"UMICs","UMICs"]
[136,2012,2012136,10018,"LMICs","LMICs"]
[139,2012,2012139,10019,"UMICs","UMICs"]
[142,2012,2012142,10018,"LMICs","LMICs"]
[189,2012,2012189,10024,"Part I unallocated by income","LMICs"]
[212,2012,2012212,10024,"Part I unallocated by income","Part I unallocated by income"]
[218,2012,2012218,10019,"UMICs","UMICs"]
[220,2012,2012220,10024,"Part I unallocated by income","Part I unallocated by income"]
[225,2012,2012225,10016,"LDCs","LDCs"]
[227,2012,2012227,10019,"UMICs","UMICs"]
[228,2012,2012228,10016,"LDCs","LDCs"]
[229,2012,2012229,10018,"LMICs","LMICs"]
[230,2012,2012230,10018,"LMICs","LMICs"]
[231,2012,2012231,10016,"LDCs","LDCs"]
[232,2012,2012232,10016,"LDCs","LDCs"]
[233,2012,2012233,10016,"LDCs","LDCs"]
[234,2012,2012234,10018,"LMICs","LMICs"]
[235,2012,2012235,10016,"LDCs","LDCs"]
[236,2012,2012236,10016,"LDCs","LDCs"]
[237,2012,2012237,10024,"Part I unallocated by income","Part I unallocated by income"]
[238,2012,2012238,10016,"LDCs","LDCs"]
[239,2012,2012239,10019,"UMICs","UMICs"]
[240,2012,2012240,10016,"LDCs","LDCs"]
[241,2012,2012241,10018,"LMICs","LMICs"]
[243,2012,2012243,10016,"LDCs","LDCs"]
[244,2012,2012244,10016,"LDCs","LDCs"]
[245,2012,2012245,10016,"LDCs","LDCs"]
[247,2012,2012247,10018,"LMICs","LMICs"]
[248,2012,2012248,10017,"Other LICs","Other LICs"]
[249,2012,2012249,10016,"LDCs","LDCs"]
[251,2012,2012251,10016,"LDCs","LDCs"]
[252,2012,2012252,10016,"LDCs","LDCs"]
[253,2012,2012253,10016,"LDCs","LDCs"]
[255,2012,2012255,10016,"LDCs","LDCs"]
[256,2012,2012256,10016,"LDCs","LDCs"]
[257,2012,2012257,10019,"UMICs","UMICs"]
[258,2012,2012258,10025,"MADCTs","MADCTs"]
[259,2012,2012259,10016,"LDCs","LDCs"]
[260,2012,2012260,10016,"LDCs","LDCs"]
[261,2012,2012261,10018,"LMICs","LMICs"]
[265,2012,2012265,10017,"Other LICs","Other LICs"]
[266,2012,2012266,10016,"LDCs","LDCs"]
[268,2012,2012268,10016,"LDCs","LDCs"]
[269,2012,2012269,10016,"LDCs","LDCs"]
[270,2012,2012270,10019,"UMICs","UMICs"]
[271,2012,2012271,10016,"LDCs","LDCs"]
[272,2012,2012272,10016,"LDCs","LDCs"]
[273,2012,2012273,10016,"LDCs","LDCs"]
[274,2012,2012274,10016,"LDCs","LDCs"]
[275,2012,2012275,10019,"UMICs","UMICs"]
[276,2012,2012276,10019,"UMICs","UMICs"]
[278,2012,2012278,10016,"LDCs","LDCs"]
[279,2012,2012279,10016,"LDCs","LDCs"]
[280,2012,2012280,10018,"LMICs","LMICs"]
[282,2012,2012282,10016,"LDCs","LDCs"]
[283,2012,2012283,10016,"LDCs","LDCs"]
[285,2012,2012285,10016,"LDCs","LDCs"]
[287,2012,2012287,10016,"LDCs","LDCs"]
[288,2012,2012288,10016,"LDCs","LDCs"]
[289,2012,2012289,10024,"Part I unallocated by income","LDCs"]
[298,2012,2012298,10024,"Part I unallocated by income","LDCs"]
[328,2012,2012328,10025,"MADCTs","MADCTs"]
[329,2012,2012329,10025,"MADCTs","MADCTs"]
[331,2012,2012331,10025,"MADCTs","MADCTs"]
[336,2012,2012336,10019,"UMICs","UMICs"]
[338,2012,2012338,10019,"UMICs","UMICs"]
[340,2012,2012340,10019,"UMICs","UMICs"]
[342,2012,2012342,10018,"LMICs","LMICs"]
[347,2012,2012347,10018,"LMICs","LMICs"]
[349,2012,2012349,10016,"LDCs","LDCs"]
[351,2012,2012351,10018,"LMICs","LMICs"]
[352,2012,2012352,10018,"LMICs","LMICs"]
[354,2012,2012354,10019,"UMICs","UMICs"]
[358,2012,2012358,10019,"UMICs","UMICs"]
[361,2012,2012361,10025,"MADCTs","MADCTs"]
[364,2012,2012364,10018,"LMICs","LMICs"]
[366,2012,2012366,10019,"UMICs","UMICs"]
[373,2012,2012373,10025,"MADCTs","MADCTs"]
[375,2012,2012375,10025,"MADCTs","MADCTs"]
[376,2012,2012376,10019,"UMICs","UMICs"]
[377,2012,2012377,10019,"UMICs","UMICs"]
[378,2012,2012378,10019,"UMICs","UMICs"]
[381,2012,2012381,10019,"UMICs","UMICs"]
[382,2012,2012382,10019,"UMICs","UMICs"]
[383,2012,2012383,10019,"UMICs","UMICs"]
[384,2012,2012384,10019,"UMICs","UMICs"]
[385,2012,2012385,10019,"UMICs","UMICs"]
[386,2012,2012386,10025,"MADCTs","MADCTs"]
[387,2012,2012387,10025,"MADCTs","MADCTs"]
[388,2012,2012388,10025,"MADCTs","MADCTs"]
[389,2012,2012389,10024,"Part I unallocated by income","UMICs"]
[425,2012,2012425,10019,"UMICs","UMICs"]
[428,2012,2012428,10018,"LMICs","LMICs"]
[431,2012,2012431,10019,"UMICs","UMICs"]
[434,2012,2012434,10019,"UMICs","UMICs"]
[437,2012,2012437,10019,"UMICs","UMICs"]
[440,2012,2012440,10019,"UMICs","UMICs"]
[443,2012,2012443,10025,"MADCTs","MADCTs"]
[446,2012,2012446,10018,"LMICs","LMICs"]
[451,2012,2012451,10018,"LMICs","LMICs"]
[454,2012,2012454,10019,"UMICs","UMICs"]
[457,2012,2012457,10019,"UMICs","UMICs"]
[460,2012,2012460,10019,"UMICs","UMICs"]
[463,2012,2012463,10019,"UMICs","UMICs"]
[489,2012,2012489,10024,"Part I unallocated by income","UMICs"]
[498,2012,2012498,10024,"Part I unallocated by income","UMICs"]
[530,2012,2012530,10025,"MADCTs","MADCTs"]
[540,2012,2012540,10019,"UMICs","UMICs"]
[543,2012,2012543,10018,"LMICs","LMICs"]
[546,2012,2012546,10025,"MADCTs","MADCTs"]
[549,2012,2012549,10019,"UMICs","UMICs"]
[550,2012,2012550,10018,"LMICs","LMICs"]
[552,2012,2012552,10025,"MADCTs","MADCTs"]
[555,2012,2012555,10019,"UMICs","UMICs"]
[558,2012,2012558,10025,"MADCTs","MADCTs"]
[561,2012,2012561,10025,"MADCTs","MADCTs"]
[566,2012,2012566,10025,"MADCTs","MADCTs"]
[573,2012,2012573,10018,"LMICs","LMICs"]
[576,2012,2012576,10025,"MADCTs","MADCTs"]
[580,2012,2012580,10016,"LDCs","LDCs"]
[589,2012,2012589,10024,"Part I unallocated by income","UMICs"]
[610,2012,2012610,10018,"LMICs","LMICs"]
[611,2012,2012611,10019,"UMICs","UMICs"]
[612,2012,2012612,10018,"LMICs","LMICs"]
[613,2012,2012613,10019,"UMICs","UMICs"]
[614,2012,2012614,10017,"Other LICs","Other LICs"]
[615,2012,2012615,10017,"Other LICs","Other LICs"]
[616,2012,2012616,10018,"LMICs","LMICs"]
[617,2012,2012617,10018,"LMICs","LMICs"]
[619,2012,2012619,10024,"Part I unallocated by income","UMICs"]
[625,2012,2012625,10016,"LDCs","LDCs"]
[630,2012,2012630,10016,"LDCs","LDCs"]
[635,2012,2012635,10016,"LDCs","LDCs"]
[640,2012,2012640,10018,"LMICs","LMICs"]
[645,2012,2012645,10018,"LMICs","LMICs"]
[650,2012,2012650,10024,"Part I unallocated by income","Part I unallocated by income"]
[655,2012,2012655,10019,"UMICs","UMICs"]
[660,2012,2012660,10016,"LDCs","LDCs"]
[665,2012,2012665,10018,"LMICs","LMICs"]
[666,2012,2012666,10016,"LDCs","LDCs"]
[679,2012,2012679,10024,"Part I unallocated by income","LDCs"]
[689,2012,2012689,10024,"Part I unallocated by income","UMICs"]
[725,2012,2012725,10025,"MADCTs","MADCTs"]
[728,2012,2012728,10016,"LDCs","LDCs"]
[730,2012,2012730,10019,"UMICs","UMICs"]
[732,2012,2012732,10025,"MADCTs","MADCTs"]
[735,2012,2012735,10025,"MADCTs","MADCTs"]
[738,2012,2012738,10018,"LMICs","LMICs"]
[740,2012,2012740,10017,"Other LICs","Other LICs"]
[742,2012,2012742,10025,"MADCTs","MADCTs"]
[745,2012,2012745,10016,"LDCs","LDCs"]
[748,2012,2012748,10025,"MADCTs","MADCTs"]
[751,2012,2012751,10019,"UMICs","UMICs"]
[752,2012,2012752,10024,"Part I unallocated by income","Part I unallocated by income"]
[753,2012,2012753,10018,"LMICs","LMICs"]
[755,2012,2012755,10018,"LMICs","LMICs"]
[761,2012,2012761,10025,"MADCTs","MADCTs"]
[764,2012,2012764,10019,"UMICs","UMICs"]
[765,2012,2012765,10016,"LDCs","LDCs"]
[769,2012,2012769,10018,"LMICs","LMICs"]
[789,2012,2012789,10024,"Part I unallocated by income","LMICs"]
[798,2012,2012798,10024,"Part I unallocated by income","UMICs"]
[831,2012,2012831,10019,"UMICs","UMICs"]
[832,2012,2012832,10018,"LMICs","LMICs"]
[836,2012,2012836,10016,"LDCs","LDCs"]
[840,2012,2012840,10025,"MADCTs","MADCTs"]
[845,2012,2012845,10019,"UMICs","UMICs"]
[850,2012,2012850,10025,"MADCTs","MADCTs"]
[854,2012,2012854,10016,"LDCs","LDCs"]
[856,2012,2012856,10019,"UMICs","UMICs"]
[858,2012,2012858,10025,"MADCTs","MADCTs"]
[859,2012,2012859,10018,"LMICs","LMICs"]
[860,2012,2012860,10018,"LMICs","LMICs"]
[861,2012,2012861,10019,"UMICs","UMICs"]
[862,2012,2012862,10018,"LMICs","LMICs"]
[866,2012,2012866,10016,"LDCs","LDCs"]
[868,2012,2012868,10018,"LMICs","LMICs"]
[870,2012,2012870,10018,"LMICs","LMICs"]
[872,2012,2012872,10016,"LDCs","LDCs"]
[876,2012,2012876,10019,"UMICs","UMICs"]
[880,2012,2012880,10016,"LDCs","LDCs"]
[889,2012,2012889,10024,"Part I unallocated by income","UMICs"]
[998,2012,2012998,10024,"Part I unallocated by income","UMICs"]
[1031,2012,20121031,10024,"Part I unallocated by income","UMICs"]
[30,2013,201330,10025,"MADCTs","MADCTs"]
[35,2013,201335,10025,"MADCTs","MADCTs"]
[45,2013,201345,10025,"MADCTs","MADCTs"]
[55,2013,201355,10019,"UMICs","UMICs"]
[57,2013,201357,10018,"LMICs","LMICs"]
[61,2013,201361,10025,"MADCTs","MADCTs"]
[62,2013,201362,10025,"MADCTs","MADCTs"]
[63,2013,201363,10019,"UMICs","UMICs"]
[64,2013,201364,10019,"UMICs","UMICs"]
[65,2013,201365,10019,"UMICs","UMICs"]
[66,2013,201366,10019,"UMICs","UMICs"]
[71,2013,201371,10019,"UMICs","UMICs"]
[85,2013,201385,10018,"LMICs","LMICs"]
[86,2013,201386,10019,"UMICs","UMICs"]
[88,2013,201388,10024,"Part I unallocated by income","UMICs"]
[89,2013,201389,10024,"Part I unallocated by income","UMICs"]
[93,2013,201393,10018,"LMICs","LMICs"]
[105,2013,2013105,10025,"MADCTs","MADCTs"]
[110,2013,2013110,10024,"Part I unallocated by income","Part I unallocated by income"]
[130,2013,2013130,10019,"UMICs","UMICs"]
[133,2013,2013133,10019,"UMICs","UMICs"]
[136,2013,2013136,10018,"LMICs","LMICs"]
[139,2013,2013139,10019,"UMICs","UMICs"]
[142,2013,2013142,10018,"LMICs","LMICs"]
[189,2013,2013189,10024,"Part I unallocated by income","LMICs"]
[212,2013,2013212,10024,"Part I unallocated by income","Part I unallocated by income"]
[218,2013,2013218,10019,"UMICs","UMICs"]
[220,2013,2013220,10024,"Part I unallocated by income","Part I unallocated by income"]
[225,2013,2013225,10016,"LDCs","LDCs"]
[227,2013,2013227,10019,"UMICs","UMICs"]
[228,2013,2013228,10016,"LDCs","LDCs"]
[229,2013,2013229,10018,"LMICs","LMICs"]
[230,2013,2013230,10018,"LMICs","LMICs"]
[231,2013,2013231,10016,"LDCs","LDCs"]
[232,2013,2013232,10016,"LDCs","LDCs"]
[233,2013,2013233,10016,"LDCs","LDCs"]
[234,2013,2013234,10018,"LMICs","LMICs"]
[235,2013,2013235,10016,"LDCs","LDCs"]
[236,2013,2013236,10016,"LDCs","LDCs"]
[237,2013,2013237,10024,"Part I unallocated by income","Part I unallocated by income"]
[238,2013,2013238,10016,"LDCs","LDCs"]
[239,2013,2013239,10019,"UMICs","UMICs"]
[240,2013,2013240,10016,"LDCs","LDCs"]
[241,2013,2013241,10018,"LMICs","LMICs"]
[243,2013,2013243,10016,"LDCs","LDCs"]
[244,2013,2013244,10016,"LDCs","LDCs"]
[245,2013,2013245,10016,"LDCs","LDCs"]
[247,2013,2013247,10018,"LMICs","LMICs"]
[248,2013,2013248,10017,"Other LICs","Other LICs"]
[249,2013,2013249,10016,"LDCs","LDCs"]
[251,2013,2013251,10016,"LDCs","LDCs"]
[252,2013,2013252,10016,"LDCs","LDCs"]
[253,2013,2013253,10016,"LDCs","LDCs"]
[255,2013,2013255,10016,"LDCs","LDCs"]
[256,2013,2013256,10016,"LDCs","LDCs"]
[257,2013,2013257,10019,"UMICs","UMICs"]
[258,2013,2013258,10025,"MADCTs","MADCTs"]
[259,2013,2013259,10016,"LDCs","LDCs"]
[260,2013,2013260,10016,"LDCs","LDCs"]
[261,2013,2013261,10018,"LMICs","LMICs"]
[265,2013,2013265,10017,"Other LICs","Other LICs"]
[266,2013,2013266,10016,"LDCs","LDCs"]
[268,2013,2013268,10016,"LDCs","LDCs"]
[269,2013,2013269,10016,"LDCs","LDCs"]
[270,2013,2013270,10019,"UMICs","UMICs"]
[271,2013,2013271,10016,"LDCs","LDCs"]
[272,2013,2013272,10016,"LDCs","LDCs"]
[273,2013,2013273,10016,"LDCs","LDCs"]
[274,2013,2013274,10016,"LDCs","LDCs"]
[275,2013,2013275,10019,"UMICs","UMICs"]
[276,2013,2013276,10019,"UMICs","UMICs"]
[278,2013,2013278,10016,"LDCs","LDCs"]
[279,2013,2013279,10016,"LDCs","LDCs"]
[280,2013,2013280,10018,"LMICs","LMICs"]
[282,2013,2013282,10016,"LDCs","LDCs"]
[283,2013,2013283,10016,"LDCs","LDCs"]
[285,2013,2013285,10016,"LDCs","LDCs"]
[287,2013,2013287,10016,"LDCs","LDCs"]
[288,2013,2013288,10016,"LDCs","LDCs"]
[289,2013,2013289,10024,"Part I unallocated by income","LDCs"]
[298,2013,2013298,10024,"Part I unallocated by income","LDCs"]
[328,2013,2013328,10025,"MADCTs","MADCTs"]
[329,2013,2013329,10025,"MADCTs","MADCTs"]
[331,2013,2013331,10025,"MADCTs","MADCTs"]
[336,2013,2013336,10019,"UMICs","UMICs"]
[338,2013,2013338,10019,"UMICs","UMICs"]
[340,2013,2013340,10019,"UMICs","UMICs"]
[342,2013,2013342,10018,"LMICs","LMICs"]
[347,2013,2013347,10018,"LMICs","LMICs"]
[349,2013,2013349,10016,"LDCs","LDCs"]
[351,2013,2013351,10018,"LMICs","LMICs"]
[352,2013,2013352,10018,"LMICs","LMICs"]
[354,2013,2013354,10019,"UMICs","UMICs"]
[358,2013,2013358,10019,"UMICs","UMICs"]
[361,2013,2013361,10025,"MADCTs","MADCTs"]
[364,2013,2013364,10018,"LMICs","LMICs"]
[366,2013,2013366,10019,"UMICs","UMICs"]
[373,2013,2013373,10025,"MADCTs","MADCTs"]
[375,2013,2013375,10025,"MADCTs","MADCTs"]
[376,2013,2013376,10019,"UMICs","UMICs"]
[377,2013,2013377,10019,"UMICs","UMICs"]
[378,2013,2013378,10019,"UMICs","UMICs"]
[381,2013,2013381,10019,"UMICs","UMICs"]
[382,2013,2013382,10019,"UMICs","UMICs"]
[383,2013,2013383,10019,"UMICs","UMICs"]
[384,2013,2013384,10019,"UMICs","UMICs"]
[385,2013,2013385,10019,"UMICs","UMICs"]
[386,2013,2013386,10025,"MADCTs","MADCTs"]
[387,2013,2013387,10025,"MADCTs","MADCTs"]
[388,2013,2013388,10025,"MADCTs","MADCTs"]
[389,2013,2013389,10024,"Part I unallocated by income","UMICs"]
[425,2013,2013425,10019,"UMICs","UMICs"]
[428,2013,2013428,10018,"LMICs","LMICs"]
[431,2013,2013431,10019,"UMICs","UMICs"]
[434,2013,2013434,10019,"UMICs","UMICs"]
[437,2013,2013437,10019,"UMICs","UMICs"]
[440,2013,2013440,10019,"UMICs","UMICs"]
[443,2013,2013443,10025,"MADCTs","MADCTs"]
[446,2013,2013446,10018,"LMICs","LMICs"]
[451,2013,2013451,10018,"LMICs","LMICs"]
[454,2013,2013454,10019,"UMICs","UMICs"]
[457,2013,2013457,10019,"UMICs","UMICs"]
[460,2013,2013460,10019,"UMICs","UMICs"]
[463,2013,2013463,10019,"UMICs","UMICs"]
[489,2013,2013489,10024,"Part I unallocated by income","UMICs"]
[498,2013,2013498,10024,"Part I unallocated by income","UMICs"]
[530,2013,2013530,10025,"MADCTs","MADCTs"]
[540,2013,2013540,10019,"UMICs","UMICs"]
[543,2013,2013543,10018,"LMICs","LMICs"]
[546,2013,2013546,10025,"MADCTs","MADCTs"]
[549,2013,2013549,10019,"UMICs","UMICs"]
[550,2013,2013550,10018,"LMICs","LMICs"]
[552,2013,2013552,10025,"MADCTs","MADCTs"]
[555,2013,2013555,10019,"UMICs","UMICs"]
[558,2013,2013558,10025,"MADCTs","MADCTs"]
[561,2013,2013561,10025,"MADCTs","MADCTs"]
[566,2013,2013566,10025,"MADCTs","MADCTs"]
[573,2013,2013573,10018,"LMICs","LMICs"]
[576,2013,2013576,10025,"MADCTs","MADCTs"]
[580,2013,2013580,10016,"LDCs","LDCs"]
[589,2013,2013589,10024,"Part I unallocated by income","UMICs"]
[610,2013,2013610,10018,"LMICs","LMICs"]
[611,2013,2013611,10019,"UMICs","UMICs"]
[612,2013,2013612,10018,"LMICs","LMICs"]
[613,2013,2013613,10019,"UMICs","UMICs"]
[614,2013,2013614,10017,"Other LICs","Other LICs"]
[615,2013,2013615,10017,"Other LICs","Other LICs"]
[616,2013,2013616,10018,"LMICs","LMICs"]
[617,2013,2013617,10018,"LMICs","LMICs"]
[619,2013,2013619,10024,"Part I unallocated by income","UMICs"]
[625,2013,2013625,10016,"LDCs","LDCs"]
[630,2013,2013630,10016,"LDCs","LDCs"]
[635,2013,2013635,10016,"LDCs","LDCs"]
[640,2013,2013640,10018,"LMICs","LMICs"]
[645,2013,2013645,10018,"LMICs","LMICs"]
[650,2013,2013650,10024,"Part I unallocated by income","Part I unallocated by income"]
[655,2013,2013655,10019,"UMICs","UMICs"]
[660,2013,2013660,10016,"LDCs","LDCs"]
[665,2013,2013665,10018,"LMICs","LMICs"]
[666,2013,2013666,10016,"LDCs","LDCs"]
[679,2013,2013679,10024,"Part I unallocated by income","LDCs"]
[689,2013,2013689,10024,"Part I unallocated by income","UMICs"]
[725,2013,2013725,10025,"MADCTs","MADCTs"]
[728,2013,2013728,10016,"LDCs","LDCs"]
[730,2013,2013730,10019,"UMICs","UMICs"]
[732,2013,2013732,10025,"MADCTs","MADCTs"]
[735,2013,2013735,10025,"MADCTs","MADCTs"]
[738,2013,2013738,10018,"LMICs","LMICs"]
[740,2013,2013740,10017,"Other LICs","Other LICs"]
[742,2013,2013742,10025,"MADCTs","MADCTs"]
[745,2013,2013745,10016,"LDCs","LDCs"]
[748,2013,2013748,10025,"MADCTs","MADCTs"]
[751,2013,2013751,10019,"UMICs","UMICs"]
[752,2013,2013752,10024,"Part I unallocated by income","Part I unallocated by income"]
[753,2013,2013753,10018,"LMICs","LMICs"]
[755,2013,2013755,10018,"LMICs","LMICs"]
[761,2013,2013761,10025,"MADCTs","MADCTs"]
[764,2013,2013764,10019,"UMICs","UMICs"]
[765,2013,2013765,10016,"LDCs","LDCs"]
[769,2013,2013769,10018,"LMICs","LMICs"]
[789,2013,2013789,10024,"Part I unallocated by income","LMICs"]
[798,2013,2013798,10024,"Part I unallocated by income","UMICs"]
[831,2013,2013831,10019,"UMICs","UMICs"]
[832,2013,2013832,10018,"LMICs","LMICs"]
[836,2013,2013836,10016,"LDCs","LDCs"]
[840,2013,2013840,10025,"MADCTs","MADCTs"]
[845,2013,2013845,10019,"UMICs","UMICs"]
[850,2013,2013850,10025,"MADCTs","MADCTs"]
[854,2013,2013854,10016,"LDCs","LDCs"]
[856,2013,2013856,10019,"UMICs","UMICs"]
[858,2013,2013858,10025,"MADCTs","MADCTs"]
[859,2013,2013859,10018,"LMICs","LMICs"]
[860,2013,2013860,10018,"LMICs","LMICs"]
[861,2013,2013861,10019,"UMICs","UMICs"]
[862,2013,2013862,10018,"LMICs","LMICs"]
[866,2013,2013866,10016,"LDCs","LDCs"]
[868,2013,2013868,10018,"LMICs","LMICs"]
[870,2013,2013870,10018,"LMICs","LMICs"]
[872,2013,2013872,10016,"LDCs","LDCs"]
[876,2013,2013876,10019,"UMICs","UMICs"]
[880,2013,2013880,10016,"LDCs","LDCs"]
[889,2013,2013889,10024,"Part I unallocated by income","UMICs"]
[998,2013,2013998,10024,"Part I unallocated by income","UMICs"]
[1031,2013,20131031,10024,"Part I unallocated by income","UMICs"]
[30,2014,201430,10025,"MADCTs","MADCTs"]
[35,2014,201435,10025,"MADCTs","MADCTs"]
[45,2014,201445,10025,"MADCTs","MADCTs"]
[55,2014,201455,10019,"UMICs","UMICs"]
[57,2014,201457,10018,"LMICs","LMICs"]
[61,2014,201461,10025,"MADCTs","MADCTs"]
[62,2014,201462,10025,"MADCTs","MADCTs"]
[63,2014,201463,10019,"UMICs","UMICs"]
[64,2014,201464,10019,"UMICs","UMICs"]
[65,2014,201465,10019,"UMICs","UMICs"]
[66,2014,201466,10019,"UMICs","UMICs"]
[71,2014,201471,10019,"UMICs","UMICs"]
[85,2014,201485,10018,"LMICs","LMICs"]
[86,2014,201486,10019,"UMICs","UMICs"]
[88,2014,201488,10024,"Part I unallocated by income","UMICs"]
[89,2014,201489,10024,"Part I unallocated by income","UMICs"]
[93,2014,201493,10018,"LMICs","LMICs"]
[105,2014,2014105,10025,"MADCTs","MADCTs"]
[110,2014,2014110,10024,"Part I unallocated by income","Part I unallocated by income"]
[130,2014,2014130,10019,"UMICs","UMICs"]
[133,2014,2014133,10019,"UMICs","UMICs"]
[136,2014,2014136,10018,"LMICs","LMICs"]
[139,2014,2014139,10019,"UMICs","UMICs"]
[142,2014,2014142,10018,"LMICs","LMICs"]
[189,2014,2014189,10024,"Part I unallocated by income","LMICs"]
[212,2014,2014212,10024,"Part I unallocated by income","Part I unallocated by income"]
[218,2014,2014218,10019,"UMICs","UMICs"]
[220,2014,2014220,10024,"Part I unallocated by income","Part I unallocated by income"]
[225,2014,2014225,10016,"LDCs","LDCs"]
[227,2014,2014227,10019,"UMICs","UMICs"]
[228,2014,2014228,10016,"LDCs","LDCs"]
[229,2014,2014229,10018,"LMICs","LMICs"]
[230,2014,2014230,10018,"LMICs","LMICs"]
[231,2014,2014231,10016,"LDCs","LDCs"]
[232,2014,2014232,10016,"LDCs","LDCs"]
[233,2014,2014233,10016,"LDCs","LDCs"]
[234,2014,2014234,10018,"LMICs","LMICs"]
[235,2014,2014235,10016,"LDCs","LDCs"]
[236,2014,2014236,10016,"LDCs","LDCs"]
[237,2014,2014237,10024,"Part I unallocated by income","Part I unallocated by income"]
[238,2014,2014238,10016,"LDCs","LDCs"]
[239,2014,2014239,10019,"UMICs","UMICs"]
[240,2014,2014240,10016,"LDCs","LDCs"]
[241,2014,2014241,10018,"LMICs","LMICs"]
[243,2014,2014243,10016,"LDCs","LDCs"]
[244,2014,2014244,10016,"LDCs","LDCs"]
[245,2014,2014245,10016,"LDCs","LDCs"]
[247,2014,2014247,10018,"LMICs","LMICs"]
[248,2014,2014248,10017,"Other LICs","Other LICs"]
[249,2014,2014249,10016,"LDCs","LDCs"]
[251,2014,2014251,10016,"LDCs","LDCs"]
[252,2014,2014252,10016,"LDCs","LDCs"]
[253,2014,2014253,10016,"LDCs","LDCs"]
[255,2014,2014255,10016,"LDCs","LDCs"]
[256,2014,2014256,10016,"LDCs","LDCs"]
[257,2014,2014257,10019,"UMICs","UMICs"]
[258,2014,2014258,10025,"MADCTs","MADCTs"]
[259,2014,2014259,10016,"LDCs","LDCs"]
[260,2014,2014260,10016,"LDCs","LDCs"]
[261,2014,2014261,10018,"LMICs","LMICs"]
[265,2014,2014265,10017,"Other LICs","Other LICs"]
[266,2014,2014266,10016,"LDCs","LDCs"]
[268,2014,2014268,10016,"LDCs","LDCs"]
[269,2014,2014269,10016,"LDCs","LDCs"]
[270,2014,2014270,10019,"UMICs","UMICs"]
[271,2014,2014271,10016,"LDCs","LDCs"]
[272,2014,2014272,10016,"LDCs","LDCs"]
[273,2014,2014273,10016,"LDCs","LDCs"]
[274,2014,2014274,10016,"LDCs","LDCs"]
[275,2014,2014275,10019,"UMICs","UMICs"]
[276,2014,2014276,10019,"UMICs","UMICs"]
[278,2014,2014278,10016,"LDCs","LDCs"]
[279,2014,2014279,10016,"LDCs","LDCs"]
[280,2014,2014280,10018,"LMICs","LMICs"]
[282,2014,2014282,10016,"LDCs","LDCs"]
[283,2014,2014283,10016,"LDCs","LDCs"]
[285,2014,2014285,10016,"LDCs","LDCs"]
[287,2014,2014287,10016,"LDCs","LDCs"]
[288,2014,2014288,10016,"LDCs","LDCs"]
[289,2014,2014289,10024,"Part I unallocated by income","LDCs"]
[298,2014,2014298,10024,"Part I unallocated by income","LDCs"]
[328,2014,2014328,10025,"MADCTs","MADCTs"]
[329,2014,2014329,10025,"MADCTs","MADCTs"]
[331,2014,2014331,10025,"MADCTs","MADCTs"]
[336,2014,2014336,10019,"UMICs","UMICs"]
[338,2014,2014338,10019,"UMICs","UMICs"]
[340,2014,2014340,10019,"UMICs","UMICs"]
[342,2014,2014342,10018,"LMICs","LMICs"]
[347,2014,2014347,10018,"LMICs","LMICs"]
[349,2014,2014349,10016,"LDCs","LDCs"]
[351,2014,2014351,10018,"LMICs","LMICs"]
[352,2014,2014352,10019,"UMICs","UMICs"]
[354,2014,2014354,10019,"UMICs","UMICs"]
[358,2014,2014358,10019,"UMICs","UMICs"]
[361,2014,2014361,10025,"MADCTs","MADCTs"]
[364,2014,2014364,10018,"LMICs","LMICs"]
[366,2014,2014366,10019,"UMICs","UMICs"]
[373,2014,2014373,10025,"MADCTs","MADCTs"]
[375,2014,2014375,10025,"MADCTs","MADCTs"]
[376,2014,2014376,10025,"MADCTs","MADCTs"]
[377,2014,2014377,10019,"UMICs","UMICs"]
[378,2014,2014378,10019,"UMICs","UMICs"]
[381,2014,2014381,10019,"UMICs","UMICs"]
[382,2014,2014382,10025,"MADCTs","MADCTs"]
[383,2014,2014383,10019,"UMICs","UMICs"]
[384,2014,2014384,10019,"UMICs","UMICs"]
[385,2014,2014385,10019,"UMICs","UMICs"]
[386,2014,2014386,10025,"MADCTs","MADCTs"]
[387,2014,2014387,10025,"MADCTs","MADCTs"]
[388,2014,2014388,10025,"MADCTs","MADCTs"]
[389,2014,2014389,10024,"Part I unallocated by income","UMICs"]
[425,2014,2014425,10019,"UMICs","UMICs"]
[428,2014,2014428,10018,"LMICs","LMICs"]
[431,2014,2014431,10019,"UMICs","UMICs"]
[434,2014,2014434,10019,"UMICs","UMICs"]
[437,2014,2014437,10019,"UMICs","UMICs"]
[440,2014,2014440,10019,"UMICs","UMICs"]
[443,2014,2014443,10025,"MADCTs","MADCTs"]
[446,2014,2014446,10018,"LMICs","LMICs"]
[451,2014,2014451,10018,"LMICs","LMICs"]
[454,2014,2014454,10019,"UMICs","UMICs"]
[457,2014,2014457,10019,"UMICs","UMICs"]
[460,2014,2014460,10019,"UMICs","UMICs"]
[463,2014,2014463,10019,"UMICs","UMICs"]
[489,2014,2014489,10024,"Part I unallocated by income","UMICs"]
[498,2014,2014498,10024,"Part I unallocated by income","UMICs"]
[530,2014,2014530,10025,"MADCTs","MADCTs"]
[540,2014,2014540,10019,"UMICs","UMICs"]
[543,2014,2014543,10019,"UMICs","UMICs"]
[546,2014,2014546,10025,"MADCTs","MADCTs"]
[549,2014,2014549,10019,"UMICs","UMICs"]
[550,2014,2014550,10018,"LMICs","LMICs"]
[552,2014,2014552,10025,"MADCTs","MADCTs"]
[555,2014,2014555,10019,"UMICs","UMICs"]
[558,2014,2014558,10025,"MADCTs","MADCTs"]
[561,2014,2014561,10025,"MADCTs","MADCTs"]
[566,2014,2014566,10025,"MADCTs","MADCTs"]
[573,2014,2014573,10018,"LMICs","LMICs"]
[576,2014,2014576,10025,"MADCTs","MADCTs"]
[580,2014,2014580,10016,"LDCs","LDCs"]
[589,2014,2014589,10024,"Part I unallocated by income","UMICs"]
[610,2014,2014610,10018,"LMICs","LMICs"]
[611,2014,2014611,10019,"UMICs","UMICs"]
[612,2014,2014612,10018,"LMICs","LMICs"]
[613,2014,2014613,10019,"UMICs","UMICs"]
[614,2014,2014614,10018,"LMICs","LMICs"]
[615,2014,2014615,10017,"Other LICs","Other LICs"]
[616,2014,2014616,10019,"UMICs","UMICs"]
[617,2014,2014617,10018,"LMICs","LMICs"]
[619,2014,2014619,10024,"Part I unallocated by income","UMICs"]
[625,2014,2014625,10016,"LDCs","LDCs"]
[630,2014,2014630,10016,"LDCs","LDCs"]
[635,2014,2014635,10016,"LDCs","LDCs"]
[640,2014,2014640,10018,"LMICs","LMICs"]
[645,2014,2014645,10018,"LMICs","LMICs"]
[650,2014,2014650,10024,"Part I unallocated by income","Part I unallocated by income"]
[655,2014,2014655,10019,"UMICs","UMICs"]
[660,2014,2014660,10016,"LDCs","LDCs"]
[665,2014,2014665,10018,"LMICs","LMICs"]
[666,2014,2014666,10016,"LDCs","LDCs"]
[679,2014,2014679,10024,"Part I unallocated by income","LDCs"]
[689,2014,2014689,10024,"Part I unallocated by income","UMICs"]
[725,2014,2014725,10025,"MADCTs","MADCTs"]
[728,2014,2014728,10016,"LDCs","LDCs"]
[730,2014,2014730,10019,"UMICs","UMICs"]
[732,2014,2014732,10025,"MADCTs","MADCTs"]
[735,2014,2014735,10025,"MADCTs","MADCTs"]
[738,2014,2014738,10018,"LMICs","LMICs"]
[740,2014,2014740,10017,"Other LICs","Other LICs"]
[742,2014,2014742,10025,"MADCTs","MADCTs"]
[745,2014,2014745,10016,"LDCs","LDCs"]
[748,2014,2014748,10025,"MADCTs","MADCTs"]
[751,2014,2014751,10019,"UMICs","UMICs"]
[752,2014,2014752,10024,"Part I unallocated by income","Part I unallocated by income"]
[753,2014,2014753,10018,"LMICs","LMICs"]
[755,2014,2014755,10018,"LMICs","LMICs"]
[761,2014,2014761,10025,"MADCTs","MADCTs"]
[764,2014,2014764,10019,"UMICs","UMICs"]
[765,2014,2014765,10016,"LDCs","LDCs"]
[769,2014,2014769,10018,"LMICs","LMICs"]
[789,2014,2014789,10024,"Part I unallocated by income","LMICs"]
[798,2014,2014798,10024,"Part I unallocated by income","UMICs"]
[831,2014,2014831,10019,"UMICs","UMICs"]
[832,2014,2014832,10019,"UMICs","UMICs"]
[836,2014,2014836,10016,"LDCs","LDCs"]
[840,2014,2014840,10025,"MADCTs","MADCTs"]
[845,2014,2014845,10019,"UMICs","UMICs"]
[850,2014,2014850,10025,"MADCTs","MADCTs"]
[854,2014,2014854,10016,"LDCs","LDCs"]
[856,2014,2014856,10019,"UMICs","UMICs"]
[858,2014,2014858,10025,"MADCTs","MADCTs"]
[859,2014,2014859,10019,"UMICs","UMICs"]
[860,2014,2014860,10018,"LMICs","LMICs"]
[861,2014,2014861,10019,"UMICs","UMICs"]
[862,2014,2014862,10018,"LMICs","LMICs"]
[866,2014,2014866,10016,"LDCs","LDCs"]
[868,2014,2014868,10018,"LMICs","LMICs"]
[870,2014,2014870,10019,"UMICs","UMICs"]
[872,2014,2014872,10016,"LDCs","LDCs"]
[876,2014,2014876,10019,"UMICs","UMICs"]
[880,2014,2014880,10018,"LMICs","LMICs"]
[889,2014,2014889,10024,"Part I unallocated by income","UMICs"]
[998,2014,2014998,10024,"Part I unallocated by income","UMICs"]
[1031,2014,20141031,10024,"Part I unallocated by income","UMICs"]
[30,2015,201530,10025,"MADCTs","MADCTs"]
[35,2015,201535,10025,"MADCTs","MADCTs"]
[45,2015,201545,10025,"MADCTs","MADCTs"]
[55,2015,201555,10019,"UMICs","UMICs"]
[57,2015,201557,10018,"LMICs","LMICs"]
[61,2015,201561,10025,"MADCTs","MADCTs"]
[62,2015,201562,10025,"MADCTs","MADCTs"]
[63,2015,201563,10019,"UMICs","UMICs"]
[64,2015,201564,10019,"UMICs","UMICs"]
[65,2015,201565,10019,"UMICs","UMICs"]
[66,2015,201566,10019,"UMICs","UMICs"]
[71,2015,201571,10019,"UMICs","UMICs"]
[85,2015,201585,10018,"LMICs","LMICs"]
[86,2015,201586,10019,"UMICs","UMICs"]
[88,2015,201588,10024,"Part I unallocated by income","UMICs"]
[89,2015,201589,10024,"Part I unallocated by income","UMICs"]
[93,2015,201593,10018,"LMICs","LMICs"]
[105,2015,2015105,10025,"MADCTs","MADCTs"]
[110,2015,2015110,10024,"Part I unallocated by income","Part I unallocated by income"]
[130,2015,2015130,10019,"UMICs","UMICs"]
[133,2015,2015133,10019,"UMICs","UMICs"]
[136,2015,2015136,10018,"LMICs","LMICs"]
[139,2015,2015139,10019,"UMICs","UMICs"]
[142,2015,2015142,10018,"LMICs","LMICs"]
[189,2015,2015189,10024,"Part I unallocated by income","LMICs"]
[212,2015,2015212,10024,"Part I unallocated by income","Part I unallocated by income"]
[218,2015,2015218,10019,"UMICs","UMICs"]
[220,2015,2015220,10024,"Part I unallocated by income","Part I unallocated by income"]
[225,2015,2015225,10016,"LDCs","LDCs"]
[227,2015,2015227,10019,"UMICs","UMICs"]
[228,2015,2015228,10016,"LDCs","LDCs"]
[229,2015,2015229,10018,"LMICs","LMICs"]
[230,2015,2015230,10018,"LMICs","LMICs"]
[231,2015,2015231,10016,"LDCs","LDCs"]
[232,2015,2015232,10016,"LDCs","LDCs"]
[233,2015,2015233,10016,"LDCs","LDCs"]
[234,2015,2015234,10018,"LMICs","LMICs"]
[235,2015,2015235,10016,"LDCs","LDCs"]
[236,2015,2015236,10016,"LDCs","LDCs"]
[237,2015,2015237,10024,"Part I unallocated by income","Part I unallocated by income"]
[238,2015,2015238,10016,"LDCs","LDCs"]
[239,2015,2015239,10019,"UMICs","UMICs"]
[240,2015,2015240,10016,"LDCs","LDCs"]
[241,2015,2015241,10018,"LMICs","LMICs"]
[243,2015,2015243,10016,"LDCs","LDCs"]
[244,2015,2015244,10016,"LDCs","LDCs"]
[245,2015,2015245,10016,"LDCs","LDCs"]
[247,2015,2015247,10018,"LMICs","LMICs"]
[248,2015,2015248,10017,"Other LICs","Other LICs"]
[249,2015,2015249,10016,"LDCs","LDCs"]
[251,2015,2015251,10016,"LDCs","LDCs"]
[252,2015,2015252,10016,"LDCs","LDCs"]
[253,2015,2015253,10016,"LDCs","LDCs"]
[255,2015,2015255,10016,"LDCs","LDCs"]
[256,2015,2015256,10016,"LDCs","LDCs"]
[257,2015,2015257,10019,"UMICs","UMICs"]
[258,2015,2015258,10025,"MADCTs","MADCTs"]
[259,2015,2015259,10016,"LDCs","LDCs"]
[260,2015,2015260,10016,"LDCs","LDCs"]
[261,2015,2015261,10018,"LMICs","LMICs"]
[265,2015,2015265,10017,"Other LICs","Other LICs"]
[266,2015,2015266,10016,"LDCs","LDCs"]
[268,2015,2015268,10016,"LDCs","LDCs"]
[269,2015,2015269,10016,"LDCs","LDCs"]
[270,2015,2015270,10019,"UMICs","UMICs"]
[271,2015,2015271,10016,"LDCs","LDCs"]
[272,2015,2015272,10016,"LDCs","LDCs"]
[273,2015,2015273,10016,"LDCs","LDCs"]
[274,2015,2015274,10016,"LDCs","LDCs"]
[275,2015,2015275,10019,"UMICs","UMICs"]
[276,2015,2015276,10019,"UMICs","UMICs"]
[278,2015,2015278,10016,"LDCs","LDCs"]
[279,2015,2015279,10016,"LDCs","LDCs"]
[280,2015,2015280,10018,"LMICs","LMICs"]
[282,2015,2015282,10016,"LDCs","LDCs"]
[283,2015,2015283,10016,"LDCs","LDCs"]
[285,2015,2015285,10016,"LDCs","LDCs"]
[287,2015,2015287,10016,"LDCs","LDCs"]
[288,2015,2015288,10016,"LDCs","LDCs"]
[289,2015,2015289,10024,"Part I unallocated by income","LDCs"]
[298,2015,2015298,10024,"Part I unallocated by income","LDCs"]
[328,2015,2015328,10025,"MADCTs","MADCTs"]
[329,2015,2015329,10025,"MADCTs","MADCTs"]
[331,2015,2015331,10025,"MADCTs","MADCTs"]
[336,2015,2015336,10019,"UMICs","UMICs"]
[338,2015,2015338,10019,"UMICs","UMICs"]
[340,2015,2015340,10019,"UMICs","UMICs"]
[342,2015,2015342,10018,"LMICs","LMICs"]
[347,2015,2015347,10018,"LMICs","LMICs"]
[349,2015,2015349,10016,"LDCs","LDCs"]
[351,2015,2015351,10018,"LMICs","LMICs"]
[352,2015,2015352,10019,"UMICs","UMICs"]
[354,2015,2015354,10019,"UMICs","UMICs"]
[358,2015,2015358,10019,"UMICs","UMICs"]
[361,2015,2015361,10025,"MADCTs","MADCTs"]
[364,2015,2015364,10018,"LMICs","LMICs"]
[366,2015,2015366,10019,"UMICs","UMICs"]
[373,2015,2015373,10025,"MADCTs","MADCTs"]
[375,2015,2015375,10025,"MADCTs","MADCTs"]
[376,2015,2015376,10025,"MADCTs","MADCTs"]
[377,2015,2015377,10019,"UMICs","UMICs"]
[378,2015,2015378,10019,"UMICs","UMICs"]
[381,2015,2015381,10019,"UMICs","UMICs"]
[382,2015,2015382,10025,"MADCTs","MADCTs"]
[383,2015,2015383,10019,"UMICs","UMICs"]
[384,2015,2015384,10019,"UMICs","UMICs"]
[385,2015,2015385,10019,"UMICs","UMICs"]
[386,2015,2015386,10025,"MADCTs","MADCTs"]
[387,2015,2015387,10025,"MADCTs","MADCTs"]
[388,2015,2015388,10025,"MADCTs","MADCTs"]
[389,2015,2015389,10024,"Part I unallocated by income","UMICs"]
[425,2015,2015425,10019,"UMICs","UMICs"]
[428,2015,2015428,10018,"LMICs","LMICs"]
[431,2015,2015431,10019,"UMICs","UMICs"]
[434,2015,2015434,10019,"UMICs","UMICs"]
[437,2015,2015437,10019,"UMICs","UMICs"]
[440,2015,2015440,10019,"UMICs","UMICs"]
[443,2015,2015443,10025,"MADCTs","MADCTs"]
[446,2015,2015446,10018,"LMICs","LMICs"]
[451,2015,2015451,10018,"LMICs","LMICs"]
[454,2015,2015454,10019,"UMICs","UMICs"]
[457,2015,2015457,10019,"UMICs","UMICs"]
[460,2015,2015460,10019,"UMICs","UMICs"]
[463,2015,2015463,10019,"UMICs","UMICs"]
[489,2015,2015489,10024,"Part I unallocated by income","UMICs"]
[498,2015,2015498,10024,"Part I unallocated by income","UMICs"]
[530,2015,2015530,10025,"MADCTs","MADCTs"]
[540,2015,2015540,10019,"UMICs","UMICs"]
[543,2015,2015543,10019,"UMICs","UMICs"]
[546,2015,2015546,10025,"MADCTs","MADCTs"]
[549,2015,2015549,10019,"UMICs","UMICs"]
[550,2015,2015550,10018,"LMICs","LMICs"]
[552,2015,2015552,10025,"MADCTs","MADCTs"]
[555,2015,2015555,10019,"UMICs","UMICs"]
[558,2015,2015558,10025,"MADCTs","MADCTs"]
[561,2015,2015561,10025,"MADCTs","MADCTs"]
[566,2015,2015566,10025,"MADCTs","MADCTs"]
[573,2015,2015573,10018,"LMICs","LMICs"]
[576,2015,2015576,10025,"MADCTs","MADCTs"]
[580,2015,2015580,10016,"LDCs","LDCs"]
[589,2015,2015589,10024,"Part I unallocated by income","UMICs"]
[610,2015,2015610,10018,"LMICs","LMICs"]
[611,2015,2015611,10019,"UMICs","UMICs"]
[612,2015,2015612,10018,"LMICs","LMICs"]
[613,2015,2015613,10019,"UMICs","UMICs"]
[614,2015,2015614,10018,"LMICs","LMICs"]
[615,2015,2015615,10017,"Other LICs","Other LICs"]
[616,2015,2015616,10019,"UMICs","UMICs"]
[617,2015,2015617,10018,"LMICs","LMICs"]
[619,2015,2015619,10024,"Part I unallocated by income","UMICs"]
[625,2015,2015625,10016,"LDCs","LDCs"]
[630,2015,2015630,10016,"LDCs","LDCs"]
[635,2015,2015635,10016,"LDCs","LDCs"]
[640,2015,2015640,10018,"LMICs","LMICs"]
[645,2015,2015645,10018,"LMICs","LMICs"]
[650,2015,2015650,10024,"Part I unallocated by income","Part I unallocated by income"]
[655,2015,2015655,10019,"UMICs","UMICs"]
[660,2015,2015660,10016,"LDCs","LDCs"]
[665,2015,2015665,10018,"LMICs","LMICs"]
[666,2015,2015666,10016,"LDCs","LDCs"]
[679,2015,2015679,10024,"Part I unallocated by income","LDCs"]
[689,2015,2015689,10024,"Part I unallocated by income","UMICs"]
[725,2015,2015725,10025,"MADCTs","MADCTs"]
[728,2015,2015728,10016,"LDCs","LDCs"]
[730,2015,2015730,10019,"UMICs","UMICs"]
[732,2015,2015732,10025,"MADCTs","MADCTs"]
[735,2015,2015735,10025,"MADCTs","MADCTs"]
[738,2015,2015738,10018,"LMICs","LMICs"]
[740,2015,2015740,10017,"Other LICs","Other LICs"]
[742,2015,2015742,10025,"MADCTs","MADCTs"]
[745,2015,2015745,10016,"LDCs","LDCs"]
[748,2015,2015748,10025,"MADCTs","MADCTs"]
[751,2015,2015751,10019,"UMICs","UMICs"]
[752,2015,2015752,10024,"Part I unallocated by income","Part I unallocated by income"]
[753,2015,2015753,10018,"LMICs","LMICs"]
[755,2015,2015755,10018,"LMICs","LMICs"]
[761,2015,2015761,10025,"MADCTs","MADCTs"]
[764,2015,2015764,10019,"UMICs","UMICs"]
[765,2015,2015765,10016,"LDCs","LDCs"]
[769,2015,2015769,10018,"LMICs","LMICs"]
[789,2015,2015789,10024,"Part I unallocated by income","LMICs"]
[798,2015,2015798,10024,"Part I unallocated by income","UMICs"]
[831,2015,2015831,10019,"UMICs","UMICs"]
[832,2015,2015832,10019,"UMICs","UMICs"]
[836,2015,2015836,10016,"LDCs","LDCs"]
[840,2015,2015840,10025,"MADCTs","MADCTs"]
[845,2015,2015845,10019,"UMICs","UMICs"]
[850,2015,2015850,10025,"MADCTs","MADCTs"]
[854,2015,2015854,10016,"LDCs","LDCs"]
[856,2015,2015856,10019,"UMICs","UMICs"]
[858,2015,2015858,10025,"MADCTs","MADCTs"]
[859,2015,2015859,10019,"UMICs","UMICs"]
[860,2015,2015860,10018,"LMICs","LMICs"]
[861,2015,2015861,10019,"UMICs","UMICs"]
[862,2015,2015862,10018,"LMICs","LMICs"]
[866,2015,2015866,10016,"LDCs","LDCs"]
[868,2015,2015868,10018,"LMICs","LMICs"]
[870,2015,2015870,10019,"UMICs","UMICs"]
[872,2015,2015872,10016,"LDCs","LDCs"]
[876,2015,2015876,10019,"UMICs","UMICs"]
[880,2015,2015880,10018,"LMICs","LMICs"]
[889,2015,2015889,10024,"Part I unallocated by income","UMICs"]
[998,2015,2015998,10024,"Part I unallocated by income","UMICs"]
[1031,2015,20151031,10024,"Part I unallocated by income","UMICs"]
[30,2016,201630,10025,"MADCTs","MADCTs"]
[35,2016,201635,10025,"MADCTs","MADCTs"]
[45,2016,201645,10025,"MADCTs","MADCTs"]
[55,2016,201655,10019,"UMICs","UMICs"]
[57,2016,201657,10018,"LMICs","LMICs"]
[61,2016,201661,10025,"MADCTs","MADCTs"]
[62,2016,201662,10025,"MADCTs","MADCTs"]
[63,2016,201663,10019,"UMICs","UMICs"]
[64,2016,201664,10019,"UMICs","UMICs"]
[65,2016,201665,10019,"UMICs","UMICs"]
[66,2016,201666,10019,"UMICs","UMICs"]
[71,2016,201671,10019,"UMICs","UMICs"]
[85,2016,201685,10018,"LMICs","LMICs"]
[86,2016,201686,10019,"UMICs","UMICs"]
[88,2016,201688,10024,"Part I unallocated by income","UMICs"]
[89,2016,201689,10024,"Part I unallocated by income","UMICs"]
[93,2016,201693,10018,"LMICs","LMICs"]
[105,2016,2016105,10025,"MADCTs","MADCTs"]
[110,2016,2016110,10024,"Part I unallocated by income","Part I unallocated by income"]
[130,2016,2016130,10019,"UMICs","UMICs"]
[133,2016,2016133,10019,"UMICs","UMICs"]
[136,2016,2016136,10018,"LMICs","LMICs"]
[139,2016,2016139,10019,"UMICs","UMICs"]
[142,2016,2016142,10018,"LMICs","LMICs"]
[189,2016,2016189,10024,"Part I unallocated by income","LMICs"]
[212,2016,2016212,10024,"Part I unallocated by income","Part I unallocated by income"]
[218,2016,2016218,10019,"UMICs","UMICs"]
[220,2016,2016220,10024,"Part I unallocated by income","Part I unallocated by income"]
[225,2016,2016225,10016,"LDCs","LDCs"]
[227,2016,2016227,10019,"UMICs","UMICs"]
[228,2016,2016228,10016,"LDCs","LDCs"]
[229,2016,2016229,10018,"LMICs","LMICs"]
[230,2016,2016230,10018,"LMICs","LMICs"]
[231,2016,2016231,10016,"LDCs","LDCs"]
[232,2016,2016232,10016,"LDCs","LDCs"]
[233,2016,2016233,10016,"LDCs","LDCs"]
[234,2016,2016234,10018,"LMICs","LMICs"]
[235,2016,2016235,10016,"LDCs","LDCs"]
[236,2016,2016236,10016,"LDCs","LDCs"]
[237,2016,2016237,10024,"Part I unallocated by income","Part I unallocated by income"]
[238,2016,2016238,10016,"LDCs","LDCs"]
[239,2016,2016239,10019,"UMICs","UMICs"]
[240,2016,2016240,10016,"LDCs","LDCs"]
[241,2016,2016241,10018,"LMICs","LMICs"]
[243,2016,2016243,10016,"LDCs","LDCs"]
[244,2016,2016244,10016,"LDCs","LDCs"]
[245,2016,2016245,10016,"LDCs","LDCs"]
[247,2016,2016247,10018,"LMICs","LMICs"]
[248,2016,2016248,10017,"Other LICs","Other LICs"]
[249,2016,2016249,10016,"LDCs","LDCs"]
[251,2016,2016251,10016,"LDCs","LDCs"]
[252,2016,2016252,10016,"LDCs","LDCs"]
[253,2016,2016253,10016,"LDCs","LDCs"]
[255,2016,2016255,10016,"LDCs","LDCs"]
[256,2016,2016256,10016,"LDCs","LDCs"]
[257,2016,2016257,10019,"UMICs","UMICs"]
[258,2016,2016258,10025,"MADCTs","MADCTs"]
[259,2016,2016259,10016,"LDCs","LDCs"]
[260,2016,2016260,10016,"LDCs","LDCs"]
[261,2016,2016261,10018,"LMICs","LMICs"]
[265,2016,2016265,10017,"Other LICs","Other LICs"]
[266,2016,2016266,10016,"LDCs","LDCs"]
[268,2016,2016268,10016,"LDCs","LDCs"]
[269,2016,2016269,10016,"LDCs","LDCs"]
[270,2016,2016270,10019,"UMICs","UMICs"]
[271,2016,2016271,10016,"LDCs","LDCs"]
[272,2016,2016272,10016,"LDCs","LDCs"]
[273,2016,2016273,10016,"LDCs","LDCs"]
[274,2016,2016274,10016,"LDCs","LDCs"]
[275,2016,2016275,10019,"UMICs","UMICs"]
[276,2016,2016276,10019,"UMICs","UMICs"]
[278,2016,2016278,10016,"LDCs","LDCs"]
[279,2016,2016279,10016,"LDCs","LDCs"]
[280,2016,2016280,10018,"LMICs","LMICs"]
[282,2016,2016282,10016,"LDCs","LDCs"]
[283,2016,2016283,10016,"LDCs","LDCs"]
[285,2016,2016285,10016,"LDCs","LDCs"]
[287,2016,2016287,10016,"LDCs","LDCs"]
[288,2016,2016288,10016,"LDCs","LDCs"]
[289,2016,2016289,10024,"Part I unallocated by income","LDCs"]
[298,2016,2016298,10024,"Part I unallocated by income","LDCs"]
[328,2016,2016328,10025,"MADCTs","MADCTs"]
[329,2016,2016329,10025,"MADCTs","MADCTs"]
[331,2016,2016331,10025,"MADCTs","MADCTs"]
[336,2016,2016336,10019,"UMICs","UMICs"]
[338,2016,2016338,10019,"UMICs","UMICs"]
[340,2016,2016340,10019,"UMICs","UMICs"]
[342,2016,2016342,10018,"LMICs","LMICs"]
[347,2016,2016347,10018,"LMICs","LMICs"]
[349,2016,2016349,10016,"LDCs","LDCs"]
[351,2016,2016351,10018,"LMICs","LMICs"]
[352,2016,2016352,10019,"UMICs","UMICs"]
[354,2016,2016354,10019,"UMICs","UMICs"]
[358,2016,2016358,10019,"UMICs","UMICs"]
[361,2016,2016361,10025,"MADCTs","MADCTs"]
[364,2016,2016364,10018,"LMICs","LMICs"]
[366,2016,2016366,10019,"UMICs","UMICs"]
[373,2016,2016373,10025,"MADCTs","MADCTs"]
[375,2016,2016375,10025,"MADCTs","MADCTs"]
[376,2016,2016376,10025,"MADCTs","MADCTs"]
[377,2016,2016377,10019,"UMICs","UMICs"]
[378,2016,2016378,10019,"UMICs","UMICs"]
[381,2016,2016381,10019,"UMICs","UMICs"]
[382,2016,2016382,10025,"MADCTs","MADCTs"]
[383,2016,2016383,10019,"UMICs","UMICs"]
[384,2016,2016384,10019,"UMICs","UMICs"]
[385,2016,2016385,10019,"UMICs","UMICs"]
[386,2016,2016386,10025,"MADCTs","MADCTs"]
[387,2016,2016387,10025,"MADCTs","MADCTs"]
[388,2016,2016388,10025,"MADCTs","MADCTs"]
[389,2016,2016389,10024,"Part I unallocated by income","UMICs"]
[425,2016,2016425,10019,"UMICs","UMICs"]
[428,2016,2016428,10018,"LMICs","LMICs"]
[431,2016,2016431,10019,"UMICs","UMICs"]
[434,2016,2016434,10019,"UMICs","UMICs"]
[437,2016,2016437,10019,"UMICs","UMICs"]
[440,2016,2016440,10019,"UMICs","UMICs"]
[443,2016,2016443,10025,"MADCTs","MADCTs"]
[446,2016,2016446,10018,"LMICs","LMICs"]
[451,2016,2016451,10018,"LMICs","LMICs"]
[454,2016,2016454,10019,"UMICs","UMICs"]
[457,2016,2016457,10019,"UMICs","UMICs"]
[460,2016,2016460,10019,"UMICs","UMICs"]
[463,2016,2016463,10019,"UMICs","UMICs"]
[489,2016,2016489,10024,"Part I unallocated by income","UMICs"]
[498,2016,2016498,10024,"Part I unallocated by income","UMICs"]
[530,2016,2016530,10025,"MADCTs","MADCTs"]
[540,2016,2016540,10019,"UMICs","UMICs"]
[543,2016,2016543,10019,"UMICs","UMICs"]
[546,2016,2016546,10025,"MADCTs","MADCTs"]
[549,2016,2016549,10019,"UMICs","UMICs"]
[550,2016,2016550,10018,"LMICs","LMICs"]
[552,2016,2016552,10025,"MADCTs","MADCTs"]
[555,2016,2016555,10019,"UMICs","UMICs"]
[558,2016,2016558,10025,"MADCTs","MADCTs"]
[561,2016,2016561,10025,"MADCTs","MADCTs"]
[566,2016,2016566,10025,"MADCTs","MADCTs"]
[573,2016,2016573,10018,"LMICs","LMICs"]
[576,2016,2016576,10025,"MADCTs","MADCTs"]
[580,2016,2016580,10016,"LDCs","LDCs"]
[589,2016,2016589,10024,"Part I unallocated by income","UMICs"]
[610,2016,2016610,10018,"LMICs","LMICs"]
[611,2016,2016611,10019,"UMICs","UMICs"]
[612,2016,2016612,10018,"LMICs","LMICs"]
[613,2016,2016613,10019,"UMICs","UMICs"]
[614,2016,2016614,10018,"LMICs","LMICs"]
[615,2016,2016615,10017,"Other LICs","Other LICs"]
[616,2016,2016616,10019,"UMICs","UMICs"]
[617,2016,2016617,10018,"LMICs","LMICs"]
[619,2016,2016619,10024,"Part I unallocated by income","UMICs"]
[625,2016,2016625,10016,"LDCs","LDCs"]
[630,2016,2016630,10016,"LDCs","LDCs"]
[635,2016,2016635,10016,"LDCs","LDCs"]
[640,2016,2016640,10018,"LMICs","LMICs"]
[645,2016,2016645,10018,"LMICs","LMICs"]
[650,2016,2016650,10024,"Part I unallocated by income","Part I unallocated by income"]
[655,2016,2016655,10019,"UMICs","UMICs"]
[660,2016,2016660,10016,"LDCs","LDCs"]
[665,2016,2016665,10018,"LMICs","LMICs"]
[666,2016,2016666,10016,"LDCs","LDCs"]
[679,2016,2016679,10024,"Part I unallocated by income","LDCs"]
[689,2016,2016689,10024,"Part I unallocated by income","UMICs"]
[725,2016,2016725,10025,"MADCTs","MADCTs"]
[728,2016,2016728,10016,"LDCs","LDCs"]
[730,2016,2016730,10019,"UMICs","UMICs"]
[732,2016,2016732,10025,"MADCTs","MADCTs"]
[735,2016,2016735,10025,"MADCTs","MADCTs"]
[738,2016,2016738,10018,"LMICs","LMICs"]
[740,2016,2016740,10017,"Other LICs","Other LICs"]
[742,2016,2016742,10025,"MADCTs","MADCTs"]
[745,2016,2016745,10016,"LDCs","LDCs"]
[748,2016,2016748,10025,"MADCTs","MADCTs"]
[751,2016,2016751,10019,"UMICs","UMICs"]
[752,2016,2016752,10024,"Part I unallocated by income","Part I unallocated by income"]
[753,2016,2016753,10018,"LMICs","LMICs"]
[755,2016,2016755,10018,"LMICs","LMICs"]
[761,2016,2016761,10025,"MADCTs","MADCTs"]
[764,2016,2016764,10019,"UMICs","UMICs"]
[765,2016,2016765,10016,"LDCs","LDCs"]
[769,2016,2016769,10018,"LMICs","LMICs"]
[789,2016,2016789,10024,"Part I unallocated by income","LMICs"]
[798,2016,2016798,10024,"Part I unallocated by income","UMICs"]
[831,2016,2016831,10019,"UMICs","UMICs"]
[832,2016,2016832,10019,"UMICs","UMICs"]
[836,2016,2016836,10016,"LDCs","LDCs"]
[840,2016,2016840,10025,"MADCTs","MADCTs"]
[845,2016,2016845,10019,"UMICs","UMICs"]
[850,2016,2016850,10025,"MADCTs","MADCTs"]
[854,2016,2016854,10016,"LDCs","LDCs"]
[856,2016,2016856,10019,"UMICs","UMICs"]
[858,2016,2016858,10025,"MADCTs","MADCTs"]
[859,2016,2016859,10019,"UMICs","UMICs"]
[860,2016,2016860,10018,"LMICs","LMICs"]
[861,2016,2016861,10019,"UMICs","UMICs"]
[862,2016,2016862,10018,"LMICs","LMICs"]
[866,2016,2016866,10016,"LDCs","LDCs"]
[868,2016,2016868,10018,"LMICs","LMICs"]
[870,2016,2016870,10019,"UMICs","UMICs"]
[872,2016,2016872,10016,"LDCs","LDCs"]
[876,2016,2016876,10019,"UMICs","UMICs"]
[880,2016,2016880,10018,"LMICs","LMICs"]
[889,2016,2016889,10024,"Part I unallocated by income","UMICs"]
[998,2016,2016998,10024,"Part I unallocated by income","UMICs"]
[1031,2016,20161031,10024,"Part I unallocated by income","UMICs"]
[30,2017,201730,10025,"MADCTs","MADCTs"]
[35,2017,201735,10025,"MADCTs","MADCTs"]
[45,2017,201745,10025,"MADCTs","MADCTs"]
[55,2017,201755,10019,"UMICs","UMICs"]
[57,2017,201757,10018,"LMICs","LMICs"]
[61,2017,201761,10025,"MADCTs","MADCTs"]
[62,2017,201762,10025,"MADCTs","MADCTs"]
[63,2017,201763,10019,"UMICs","UMICs"]
[64,2017,201764,10019,"UMICs","UMICs"]
[65,2017,201765,10019,"UMICs","UMICs"]
[66,2017,201766,10019,"UMICs","UMICs"]
[71,2017,201771,10019,"UMICs","UMICs"]
[85,2017,201785,10018,"LMICs","LMICs"]
[86,2017,201786,10019,"UMICs","UMICs"]
[88,2017,201788,10024,"Part I unallocated by income","UMICs"]
[89,2017,201789,10024,"Part I unallocated by income","UMICs"]
[93,2017,201793,10018,"LMICs","LMICs"]
[105,2017,2017105,10025,"MADCTs","MADCTs"]
[110,2017,2017110,10024,"Part I unallocated by income","Part I unallocated by income"]
[130,2017,2017130,10019,"UMICs","UMICs"]
[133,2017,2017133,10019,"UMICs","UMICs"]
[136,2017,2017136,10018,"LMICs","LMICs"]
[139,2017,2017139,10019,"UMICs","UMICs"]
[142,2017,2017142,10018,"LMICs","LMICs"]
[189,2017,2017189,10024,"Part I unallocated by income","LMICs"]
[212,2017,2017212,10024,"Part I unallocated by income","Part I unallocated by income"]
[218,2017,2017218,10019,"UMICs","UMICs"]
[220,2017,2017220,10024,"Part I unallocated by income","Part I unallocated by income"]
[225,2017,2017225,10016,"LDCs","LDCs"]
[227,2017,2017227,10019,"UMICs","UMICs"]
[228,2017,2017228,10016,"LDCs","LDCs"]
[229,2017,2017229,10018,"LMICs","LMICs"]
[230,2017,2017230,10018,"LMICs","LMICs"]
[231,2017,2017231,10016,"LDCs","LDCs"]
[232,2017,2017232,10016,"LDCs","LDCs"]
[233,2017,2017233,10016,"LDCs","LDCs"]
[234,2017,2017234,10018,"LMICs","LMICs"]
[235,2017,2017235,10016,"LDCs","LDCs"]
[236,2017,2017236,10016,"LDCs","LDCs"]
[237,2017,2017237,10024,"Part I unallocated by income","Part I unallocated by income"]
[238,2017,2017238,10016,"LDCs","LDCs"]
[239,2017,2017239,10019,"UMICs","UMICs"]
[240,2017,2017240,10016,"LDCs","LDCs"]
[241,2017,2017241,10018,"LMICs","LMICs"]
[243,2017,2017243,10016,"LDCs","LDCs"]
[244,2017,2017244,10016,"LDCs","LDCs"]
[245,2017,2017245,10016,"LDCs","LDCs"]
[247,2017,2017247,10018,"LMICs","LMICs"]
[248,2017,2017248,10017,"Other LICs","Other LICs"]
[249,2017,2017249,10016,"LDCs","LDCs"]
[251,2017,2017251,10016,"LDCs","LDCs"]
[252,2017,2017252,10016,"LDCs","LDCs"]
[253,2017,2017253,10016,"LDCs","LDCs"]
[255,2017,2017255,10016,"LDCs","LDCs"]
[256,2017,2017256,10016,"LDCs","LDCs"]
[257,2017,2017257,10019,"UMICs","UMICs"]
[258,2017,2017258,10025,"MADCTs","MADCTs"]
[259,2017,2017259,10016,"LDCs","LDCs"]
[260,2017,2017260,10016,"LDCs","LDCs"]
[261,2017,2017261,10018,"LMICs","LMICs"]
[265,2017,2017265,10017,"Other LICs","Other LICs"]
[266,2017,2017266,10016,"LDCs","LDCs"]
[268,2017,2017268,10016,"LDCs","LDCs"]
[269,2017,2017269,10016,"LDCs","LDCs"]
[270,2017,2017270,10019,"UMICs","UMICs"]
[271,2017,2017271,10016,"LDCs","LDCs"]
[272,2017,2017272,10016,"LDCs","LDCs"]
[273,2017,2017273,10016,"LDCs","LDCs"]
[274,2017,2017274,10016,"LDCs","LDCs"]
[275,2017,2017275,10019,"UMICs","UMICs"]
[276,2017,2017276,10019,"UMICs","UMICs"]
[278,2017,2017278,10016,"LDCs","LDCs"]
[279,2017,2017279,10016,"LDCs","LDCs"]
[280,2017,2017280,10018,"LMICs","LMICs"]
[282,2017,2017282,10016,"LDCs","LDCs"]
[283,2017,2017283,10016,"LDCs","LDCs"]
[285,2017,2017285,10016,"LDCs","LDCs"]
[287,2017,2017287,10016,"LDCs","LDCs"]
[288,2017,2017288,10016,"LDCs","LDCs"]
[289,2017,2017289,10024,"Part I unallocated by income","LDCs"]
[298,2017,2017298,10024,"Part I unallocated by income","LDCs"]
[328,2017,2017328,10025,"MADCTs","MADCTs"]
[329,2017,2017329,10025,"MADCTs","MADCTs"]
[331,2017,2017331,10025,"MADCTs","MADCTs"]
[336,2017,2017336,10019,"UMICs","UMICs"]
[338,2017,2017338,10019,"UMICs","UMICs"]
[340,2017,2017340,10019,"UMICs","UMICs"]
[342,2017,2017342,10018,"LMICs","LMICs"]
[347,2017,2017347,10018,"LMICs","LMICs"]
[349,2017,2017349,10016,"LDCs","LDCs"]
[351,2017,2017351,10018,"LMICs","LMICs"]
[352,2017,2017352,10019,"UMICs","UMICs"]
[354,2017,2017354,10019,"UMICs","UMICs"]
[358,2017,2017358,10019,"UMICs","UMICs"]
[361,2017,2017361,10025,"MADCTs","MADCTs"]
[364,2017,2017364,10018,"LMICs","LMICs"]
[366,2017,2017366,10019,"UMICs","UMICs"]
[373,2017,2017373,10025,"MADCTs","MADCTs"]
[375,2017,2017375,10025,"MADCTs","MADCTs"]
[376,2017,2017376,10025,"MADCTs","MADCTs"]
[377,2017,2017377,10019,"UMICs","UMICs"]
[378,2017,2017378,10019,"UMICs","UMICs"]
[381,2017,2017381,10019,"UMICs","UMICs"]
[382,2017,2017382,10025,"MADCTs","MADCTs"]
[383,2017,2017383,10019,"UMICs","UMICs"]
[384,2017,2017384,10019,"UMICs","UMICs"]
[385,2017,2017385,10019,"UMICs","UMICs"]
[386,2017,2017386,10025,"MADCTs","MADCTs"]
[387,2017,2017387,10025,"MADCTs","MADCTs"]
[388,2017,2017388,10025,"MADCTs","MADCTs"]
[389,2017,2017389,10024,"Part I unallocated by income","UMICs"]
[425,2017,2017425,10019,"UMICs","UMICs"]
[428,2017,2017428,10018,"LMICs","LMICs"]
[431,2017,2017431,10019,"UMICs","UMICs"]
[434,2017,2017434,10019,"UMICs","UMICs"]
[437,2017,2017437,10019,"UMICs","UMICs"]
[440,2017,2017440,10019,"UMICs","UMICs"]
[443,2017,2017443,10025,"MADCTs","MADCTs"]
[446,2017,2017446,10018,"LMICs","LMICs"]
[451,2017,2017451,10018,"LMICs","LMICs"]
[454,2017,2017454,10019,"UMICs","UMICs"]
[457,2017,2017457,10019,"UMICs","UMICs"]
[460,2017,2017460,10019,"UMICs","UMICs"]
[463,2017,2017463,10019,"UMICs","UMICs"]
[489,2017,2017489,10024,"Part I unallocated by income","UMICs"]
[498,2017,2017498,10024,"Part I unallocated by income","UMICs"]
[530,2017,2017530,10025,"MADCTs","MADCTs"]
[540,2017,2017540,10019,"UMICs","UMICs"]
[543,2017,2017543,10019,"UMICs","UMICs"]
[546,2017,2017546,10025,"MADCTs","MADCTs"]
[549,2017,2017549,10019,"UMICs","UMICs"]
[550,2017,2017550,10018,"LMICs","LMICs"]
[552,2017,2017552,10025,"MADCTs","MADCTs"]
[555,2017,2017555,10019,"UMICs","UMICs"]
[558,2017,2017558,10025,"MADCTs","MADCTs"]
[561,2017,2017561,10025,"MADCTs","MADCTs"]
[566,2017,2017566,10025,"MADCTs","MADCTs"]
[573,2017,2017573,10018,"LMICs","LMICs"]
[576,2017,2017576,10025,"MADCTs","MADCTs"]
[580,2017,2017580,10016,"LDCs","LDCs"]
[589,2017,2017589,10024,"Part I unallocated by income","UMICs"]
[610,2017,2017610,10018,"LMICs","LMICs"]
[611,2017,2017611,10019,"UMICs","UMICs"]
[612,2017,2017612,10018,"LMICs","LMICs"]
[613,2017,2017613,10019,"UMICs","UMICs"]
[614,2017,2017614,10018,"LMICs","LMICs"]
[615,2017,2017615,10017,"Other LICs","Other LICs"]
[616,2017,2017616,10019,"UMICs","UMICs"]
[617,2017,2017617,10018,"LMICs","LMICs"]
[619,2017,2017619,10024,"Part I unallocated by income","UMICs"]
[625,2017,2017625,10016,"LDCs","LDCs"]
[630,2017,2017630,10016,"LDCs","LDCs"]
[635,2017,2017635,10016,"LDCs","LDCs"]
[640,2017,2017640,10018,"LMICs","LMICs"]
[645,2017,2017645,10018,"LMICs","LMICs"]
[650,2017,2017650,10024,"Part I unallocated by income","Part I unallocated by income"]
[655,2017,2017655,10019,"UMICs","UMICs"]
[660,2017,2017660,10016,"LDCs","LDCs"]
[665,2017,2017665,10018,"LMICs","LMICs"]
[666,2017,2017666,10016,"LDCs","LDCs"]
[679,2017,2017679,10024,"Part I unallocated by income","LDCs"]
[689,2017,2017689,10024,"Part I unallocated by income","UMICs"]
[725,2017,2017725,10025,"MADCTs","MADCTs"]
[728,2017,2017728,10016,"LDCs","LDCs"]
[730,2017,2017730,10019,"UMICs","UMICs"]
[732,2017,2017732,10025,"MADCTs","MADCTs"]
[735,2017,2017735,10025,"MADCTs","MADCTs"]
[738,2017,2017738,10018,"LMICs","LMICs"]
[740,2017,2017740,10017,"Other LICs","Other LICs"]
[742,2017,2017742,10025,"MADCTs","MADCTs"]
[745,2017,2017745,10016,"LDCs","LDCs"]
[748,2017,2017748,10025,"MADCTs","MADCTs"]
[751,2017,2017751,10019,"UMICs","UMICs"]
[752,2017,2017752,10024,"Part I unallocated by income","Part I unallocated by income"]
[753,2017,2017753,10018,"LMICs","LMICs"]
[755,2017,2017755,10018,"LMICs","LMICs"]
[761,2017,2017761,10025,"MADCTs","MADCTs"]
[764,2017,2017764,10019,"UMICs","UMICs"]
[765,2017,2017765,10016,"LDCs","LDCs"]
[769,2017,2017769,10018,"LMICs","LMICs"]
[789,2017,2017789,10024,"Part I unallocated by income","LMICs"]
[798,2017,2017798,10024,"Part I unallocated by income","UMICs"]
[831,2017,2017831,10019,"UMICs","UMICs"]
[832,2017,2017832,10019,"UMICs","UMICs"]
[836,2017,2017836,10016,"LDCs","LDCs"]
[840,2017,2017840,10025,"MADCTs","MADCTs"]
[845,2017,2017845,10019,"UMICs","UMICs"]
[850,2017,2017850,10025,"MADCTs","MADCTs"]
[854,2017,2017854,10016,"LDCs","LDCs"]
[856,2017,2017856,10019,"UMICs","UMICs"]
[858,2017,2017858,10025,"MADCTs","MADCTs"]
[859,2017,2017859,10019,"UMICs","UMICs"]
[860,2017,2017860,10018,"LMICs","LMICs"]
[861,2017,2017861,10019,"UMICs","UMICs"]
[862,2017,2017862,10018,"LMICs","LMICs"]
[866,2017,2017866,10016,"LDCs","LDCs"]
[868,2017,2017868,10018,"LMICs","LMICs"]
[870,2017,2017870,10019,"UMICs","UMICs"]
[872,2017,2017872,10016,"LDCs","LDCs"]
[876,2017,2017876,10019,"UMICs","UMICs"]
[880,2017,2017880,10018,"LMICs","LMICs"]
[889,2017,2017889,10024,"Part I unallocated by income","UMICs"]
[998,2017,2017998,10024,"Part I unallocated by income","UMICs"]
[1031,2017,20171031,10024,"Part I unallocated by income","UMICs"]
[30,2018,201830,10025,"MADCTs","MADCTs"]
[35,2018,201835,10025,"MADCTs","MADCTs"]
[45,2018,201845,10025,"MADCTs","MADCTs"]
[55,2018,201855,10019,"UMICs","UMICs"]
[57,2018,201857,10018,"LMICs","LMICs"]
[61,2018,201861,10025,"MADCTs","MADCTs"]
[62,2018,201862,10025,"MADCTs","MADCTs"]
[63,2018,201863,10019,"UMICs","UMICs"]
[64,2018,201864,10019,"UMICs","UMICs"]
[65,2018,201865,10019,"UMICs","UMICs"]
[66,2018,201866,10019,"UMICs","UMICs"]
[71,2018,201871,10019,"UMICs","UMICs"]
[85,2018,201885,10018,"LMICs","LMICs"]
[86,2018,201886,10019,"UMICs","UMICs"]
[88,2018,201888,10024,"Part I unallocated by income","UMICs"]
[89,2018,201889,10024,"Part I unallocated by income","UMICs"]
[93,2018,201893,10018,"LMICs","LMICs"]
[105,2018,2018105,10025,"MADCTs","MADCTs"]
[110,2018,2018110,10024,"Part I unallocated by income","Part I unallocated by income"]
[130,2018,2018130,10019,"UMICs","UMICs"]
[133,2018,2018133,10019,"UMICs","UMICs"]
[136,2018,2018136,10018,"LMICs","LMICs"]
[139,2018,2018139,10018,"LMICs","LMICs"]
[142,2018,2018142,10018,"LMICs","LMICs"]
[189,2018,2018189,10024,"Part I unallocated by income","LMICs"]
[212,2018,2018212,10024,"Part I unallocated by income","Part I unallocated by income"]
[218,2018,2018218,10019,"UMICs","UMICs"]
[220,2018,2018220,10024,"Part I unallocated by income","Part I unallocated by income"]
[225,2018,2018225,10016,"LDCs","LDCs"]
[227,2018,2018227,10019,"UMICs","UMICs"]
[228,2018,2018228,10016,"LDCs","LDCs"]
[229,2018,2018229,10018,"LMICs","LMICs"]
[230,2018,2018230,10018,"LMICs","LMICs"]
[231,2018,2018231,10016,"LDCs","LDCs"]
[232,2018,2018232,10016,"LDCs","LDCs"]
[233,2018,2018233,10016,"LDCs","LDCs"]
[234,2018,2018234,10018,"LMICs","LMICs"]
[235,2018,2018235,10016,"LDCs","LDCs"]
[236,2018,2018236,10016,"LDCs","LDCs"]
[237,2018,2018237,10024,"Part I unallocated by income","Part I unallocated by income"]
[238,2018,2018238,10016,"LDCs","LDCs"]
[239,2018,2018239,10019,"UMICs","UMICs"]
[240,2018,2018240,10016,"LDCs","LDCs"]
[241,2018,2018241,10018,"LMICs","LMICs"]
[243,2018,2018243,10016,"LDCs","LDCs"]
[244,2018,2018244,10016,"LDCs","LDCs"]
[245,2018,2018245,10019,"UMICs","UMICs"]
[247,2018,2018247,10018,"LMICs","LMICs"]
[248,2018,2018248,10018,"LMICs","LMICs"]
[249,2018,2018249,10016,"LDCs","LDCs"]
[251,2018,2018251,10016,"LDCs","LDCs"]
[252,2018,2018252,10016,"LDCs","LDCs"]
[253,2018,2018253,10016,"LDCs","LDCs"]
[255,2018,2018255,10016,"LDCs","LDCs"]
[256,2018,2018256,10016,"LDCs","LDCs"]
[257,2018,2018257,10019,"UMICs","UMICs"]
[258,2018,2018258,10025,"MADCTs","MADCTs"]
[259,2018,2018259,10016,"LDCs","LDCs"]
[260,2018,2018260,10016,"LDCs","LDCs"]
[261,2018,2018261,10018,"LMICs","LMICs"]
[265,2018,2018265,10017,"Other LICs","Other LICs"]
[266,2018,2018266,10016,"LDCs","LDCs"]
[268,2018,2018268,10016,"LDCs","LDCs"]
[269,2018,2018269,10016,"LDCs","LDCs"]
[270,2018,2018270,10025,"MADCTs","MADCTs"]
[271,2018,2018271,10016,"LDCs","LDCs"]
[272,2018,2018272,10016,"LDCs","LDCs"]
[273,2018,2018273,10016,"LDCs","LDCs"]
[274,2018,2018274,10016,"LDCs","LDCs"]
[275,2018,2018275,10019,"UMICs","UMICs"]
[276,2018,2018276,10019,"UMICs","UMICs"]
[278,2018,2018278,10016,"LDCs","LDCs"]
[279,2018,2018279,10016,"LDCs","LDCs"]
[280,2018,2018280,10018,"LMICs","LMICs"]
[282,2018,2018282,10016,"LDCs","LDCs"]
[283,2018,2018283,10016,"LDCs","LDCs"]
[285,2018,2018285,10016,"LDCs","LDCs"]
[287,2018,2018287,10016,"LDCs","LDCs"]
[288,2018,2018288,10016,"LDCs","LDCs"]
[289,2018,2018289,10024,"Part I unallocated by income","LDCs"]
[298,2018,2018298,10024,"Part I unallocated by income","LDCs"]
[328,2018,2018328,10025,"MADCTs","MADCTs"]
[329,2018,2018329,10025,"MADCTs","MADCTs"]
[331,2018,2018331,10025,"MADCTs","MADCTs"]
[336,2018,2018336,10019,"UMICs","UMICs"]
[338,2018,2018338,10019,"UMICs","UMICs"]
[340,2018,2018340,10019,"UMICs","UMICs"]
[342,2018,2018342,10018,"LMICs","LMICs"]
[347,2018,2018347,10018,"LMICs","LMICs"]
[349,2018,2018349,10016,"LDCs","LDCs"]
[351,2018,2018351,10018,"LMICs","LMICs"]
[352,2018,2018352,10019,"UMICs","UMICs"]
[354,2018,2018354,10019,"UMICs","UMICs"]
[358,2018,2018358,10019,"UMICs","UMICs"]
[361,2018,2018361,10025,"MADCTs","MADCTs"]
[364,2018,2018364,10018,"LMICs","LMICs"]
[366,2018,2018366,10019,"UMICs","UMICs"]
[373,2018,2018373,10025,"MADCTs","MADCTs"]
[375,2018,2018375,10025,"MADCTs","MADCTs"]
[376,2018,2018376,10025,"MADCTs","MADCTs"]
[377,2018,2018377,10019,"UMICs","UMICs"]
[378,2018,2018378,10019,"UMICs","UMICs"]
[381,2018,2018381,10019,"UMICs","UMICs"]
[382,2018,2018382,10025,"MADCTs","MADCTs"]
[383,2018,2018383,10019,"UMICs","UMICs"]
[384,2018,2018384,10019,"UMICs","UMICs"]
[385,2018,2018385,10019,"UMICs","UMICs"]
[386,2018,2018386,10025,"MADCTs","MADCTs"]
[387,2018,2018387,10025,"MADCTs","MADCTs"]
[388,2018,2018388,10025,"MADCTs","MADCTs"]
[389,2018,2018389,10024,"Part I unallocated by income","UMICs"]
[425,2018,2018425,10019,"UMICs","UMICs"]
[428,2018,2018428,10018,"LMICs","LMICs"]
[431,2018,2018431,10019,"UMICs","UMICs"]
[434,2018,2018434,10025,"MADCTs","MADCTs"]
[437,2018,2018437,10019,"UMICs","UMICs"]
[440,2018,2018440,10019,"UMICs","UMICs"]
[443,2018,2018443,10025,"MADCTs","MADCTs"]
[446,2018,2018446,10019,"UMICs","UMICs"]
[451,2018,2018451,10019,"UMICs","UMICs"]
[454,2018,2018454,10019,"UMICs","UMICs"]
[457,2018,2018457,10019,"UMICs","UMICs"]
[460,2018,2018460,10025,"MADCTs","MADCTs"]
[463,2018,2018463,10019,"UMICs","UMICs"]
[489,2018,2018489,10024,"Part I unallocated by income","UMICs"]
[498,2018,2018498,10024,"Part I unallocated by income","UMICs"]
[530,2018,2018530,10025,"MADCTs","MADCTs"]
[540,2018,2018540,10019,"UMICs","UMICs"]
[543,2018,2018543,10019,"UMICs","UMICs"]
[546,2018,2018546,10025,"MADCTs","MADCTs"]
[549,2018,2018549,10018,"LMICs","LMICs"]
[550,2018,2018550,10018,"LMICs","LMICs"]
[552,2018,2018552,10025,"MADCTs","MADCTs"]
[555,2018,2018555,10019,"UMICs","UMICs"]
[558,2018,2018558,10025,"MADCTs","MADCTs"]
[561,2018,2018561,10025,"MADCTs","MADCTs"]
[566,2018,2018566,10025,"MADCTs","MADCTs"]
[573,2018,2018573,10018,"LMICs","LMICs"]
[576,2018,2018576,10025,"MADCTs","MADCTs"]
[580,2018,2018580,10016,"LDCs","LDCs"]
[589,2018,2018589,10024,"Part I unallocated by income","UMICs"]
[610,2018,2018610,10018,"LMICs","LMICs"]
[611,2018,2018611,10019,"UMICs","UMICs"]
[612,2018,2018612,10018,"LMICs","LMICs"]
[613,2018,2018613,10019,"UMICs","UMICs"]
[614,2018,2018614,10018,"LMICs","LMICs"]
[615,2018,2018615,10018,"LMICs","LMICs"]
[616,2018,2018616,10019,"UMICs","UMICs"]
[617,2018,2018617,10018,"LMICs","LMICs"]
[619,2018,2018619,10024,"Part I unallocated by income","UMICs"]
[625,2018,2018625,10016,"LDCs","LDCs"]
[630,2018,2018630,10016,"LDCs","LDCs"]
[635,2018,2018635,10016,"LDCs","LDCs"]
[640,2018,2018640,10018,"LMICs","LMICs"]
[645,2018,2018645,10018,"LMICs","LMICs"]
[650,2018,2018650,10024,"Part I unallocated by income","Part I unallocated by income"]
[655,2018,2018655,10019,"UMICs","UMICs"]
[660,2018,2018660,10016,"LDCs","LDCs"]
[665,2018,2018665,10018,"LMICs","LMICs"]
[666,2018,2018666,10016,"LDCs","LDCs"]
[679,2018,2018679,10024,"Part I unallocated by income","LDCs"]
[689,2018,2018689,10024,"Part I unallocated by income","UMICs"]
[725,2018,2018725,10025,"MADCTs","MADCTs"]
[728,2018,2018728,10016,"LDCs","LDCs"]
[730,2018,2018730,10019,"UMICs","UMICs"]
[732,2018,2018732,10025,"MADCTs","MADCTs"]
[735,2018,2018735,10025,"MADCTs","MADCTs"]
[738,2018,2018738,10018,"LMICs","LMICs"]
[740,2018,2018740,10017,"Other LICs","Other LICs"]
[742,2018,2018742,10025,"MADCTs","MADCTs"]
[745,2018,2018745,10016,"LDCs","LDCs"]
[748,2018,2018748,10025,"MADCTs","MADCTs"]
[751,2018,2018751,10019,"UMICs","UMICs"]
[752,2018,2018752,10024,"Part I unallocated by income","Part I unallocated by income"]
[753,2018,2018753,10018,"LMICs","LMICs"]
[755,2018,2018755,10018,"LMICs","LMICs"]
[761,2018,2018761,10025,"MADCTs","MADCTs"]
[764,2018,2018764,10019,"UMICs","UMICs"]
[765,2018,2018765,10016,"LDCs","LDCs"]
[769,2018,2018769,10018,"LMICs","LMICs"]
[789,2018,2018789,10024,"Part I unallocated by income","LMICs"]
[798,2018,2018798,10024,"Part I unallocated by income","UMICs"]
[831,2018,2018831,10019,"UMICs","UMICs"]
[832,2018,2018832,10019,"UMICs","UMICs"]
[836,2018,2018836,10016,"LDCs","LDCs"]
[840,2018,2018840,10025,"MADCTs","MADCTs"]
[845,2018,2018845,10019,"UMICs","UMICs"]
[850,2018,2018850,10025,"MADCTs","MADCTs"]
[854,2018,2018854,10016,"LDCs","LDCs"]
[856,2018,2018856,10019,"UMICs","UMICs"]
[858,2018,2018858,10025,"MADCTs","MADCTs"]
[859,2018,2018859,10019,"UMICs","UMICs"]
[860,2018,2018860,10018,"LMICs","LMICs"]
[861,2018,2018861,10019,"UMICs","UMICs"]
[862,2018,2018862,10018,"LMICs","LMICs"]
[866,2018,2018866,10016,"LDCs","LDCs"]
[868,2018,2018868,10018,"LMICs","LMICs"]
[870,2018,2018870,10019,"UMICs","UMICs"]
[872,2018,2018872,10016,"LDCs","LDCs"]
[876,2018,2018876,10019,"UMICs","UMICs"]
[880,2018,2018880,10019,"UMICs","UMICs"]
[889,2018,2018889,10024,"Part I unallocated by income","UMICs"]
[998,2018,2018998,10024,"Part I unallocated by income","UMICs"]
[1031,2018,20181031,10024,"Part I unallocated by income","UMICs"]
[30,2019,201930,10025,"MADCTs","MADCTs"]
[35,2019,201935,10025,"MADCTs","MADCTs"]
[45,2019,201945,10025,"MADCTs","MADCTs"]
[55,2019,201955,10019,"UMICs","UMICs"]
[57,2019,201957,10018,"LMICs","LMICs"]
[61,2019,201961,10025,"MADCTs","MADCTs"]
[62,2019,201962,10025,"MADCTs","MADCTs"]
[63,2019,201963,10019,"UMICs","UMICs"]
[64,2019,201964,10019,"UMICs","UMICs"]
[65,2019,201965,10019,"UMICs","UMICs"]
[66,2019,201966,10019,"UMICs","UMICs"]
[71,2019,201971,10019,"UMICs","UMICs"]
[85,2019,201985,10018,"LMICs","LMICs"]
[86,2019,201986,10019,"UMICs","UMICs"]
[88,2019,201988,10024,"Part I unallocated by income","UMICs"]
[89,2019,201989,10024,"Part I unallocated by income","UMICs"]
[93,2019,201993,10018,"LMICs","LMICs"]
[105,2019,2019105,10025,"MADCTs","MADCTs"]
[110,2019,2019110,10024,"Part I unallocated by income","Part I unallocated by income"]
[130,2019,2019130,10019,"UMICs","UMICs"]
[133,2019,2019133,10019,"UMICs","UMICs"]
[136,2019,2019136,10018,"LMICs","LMICs"]
[139,2019,2019139,10018,"LMICs","LMICs"]
[142,2019,2019142,10018,"LMICs","LMICs"]
[189,2019,2019189,10024,"Part I unallocated by income","LMICs"]
[212,2019,2019212,10024,"Part I unallocated by income","Part I unallocated by income"]
[218,2019,2019218,10019,"UMICs","UMICs"]
[220,2019,2019220,10024,"Part I unallocated by income","Part I unallocated by income"]
[225,2019,2019225,10016,"LDCs","LDCs"]
[227,2019,2019227,10019,"UMICs","UMICs"]
[228,2019,2019228,10016,"LDCs","LDCs"]
[229,2019,2019229,10018,"LMICs","LMICs"]
[230,2019,2019230,10018,"LMICs","LMICs"]
[231,2019,2019231,10016,"LDCs","LDCs"]
[232,2019,2019232,10016,"LDCs","LDCs"]
[233,2019,2019233,10016,"LDCs","LDCs"]
[234,2019,2019234,10018,"LMICs","LMICs"]
[235,2019,2019235,10016,"LDCs","LDCs"]
[236,2019,2019236,10016,"LDCs","LDCs"]
[237,2019,2019237,10024,"Part I unallocated by income","Part I unallocated by income"]
[238,2019,2019238,10016,"LDCs","LDCs"]
[239,2019,2019239,10019,"UMICs","UMICs"]
[240,2019,2019240,10016,"LDCs","LDCs"]
[241,2019,2019241,10018,"LMICs","LMICs"]
[243,2019,2019243,10016,"LDCs","LDCs"]
[244,2019,2019244,10016,"LDCs","LDCs"]
[245,2019,2019245,10019,"UMICs","UMICs"]
[247,2019,2019247,10018,"LMICs","LMICs"]
[248,2019,2019248,10018,"LMICs","LMICs"]
[249,2019,2019249,10016,"LDCs","LDCs"]
[251,2019,2019251,10016,"LDCs","LDCs"]
[252,2019,2019252,10016,"LDCs","LDCs"]
[253,2019,2019253,10016,"LDCs","LDCs"]
[255,2019,2019255,10016,"LDCs","LDCs"]
[256,2019,2019256,10016,"LDCs","LDCs"]
[257,2019,2019257,10019,"UMICs","UMICs"]
[258,2019,2019258,10025,"MADCTs","MADCTs"]
[259,2019,2019259,10016,"LDCs","LDCs"]
[260,2019,2019260,10016,"LDCs","LDCs"]
[261,2019,2019261,10018,"LMICs","LMICs"]
[265,2019,2019265,10017,"Other LICs","Other LICs"]
[266,2019,2019266,10016,"LDCs","LDCs"]
[268,2019,2019268,10016,"LDCs","LDCs"]
[269,2019,2019269,10016,"LDCs","LDCs"]
[270,2019,2019270,10025,"MADCTs","MADCTs"]
[271,2019,2019271,10016,"LDCs","LDCs"]
[272,2019,2019272,10016,"LDCs","LDCs"]
[273,2019,2019273,10016,"LDCs","LDCs"]
[274,2019,2019274,10016,"LDCs","LDCs"]
[275,2019,2019275,10019,"UMICs","UMICs"]
[276,2019,2019276,10019,"UMICs","UMICs"]
[278,2019,2019278,10016,"LDCs","LDCs"]
[279,2019,2019279,10016,"LDCs","LDCs"]
[280,2019,2019280,10018,"LMICs","LMICs"]
[282,2019,2019282,10016,"LDCs","LDCs"]
[283,2019,2019283,10016,"LDCs","LDCs"]
[285,2019,2019285,10016,"LDCs","LDCs"]
[287,2019,2019287,10016,"LDCs","LDCs"]
[288,2019,2019288,10016,"LDCs","LDCs"]
[289,2019,2019289,10024,"Part I unallocated by income","LDCs"]
[298,2019,2019298,10024,"Part I unallocated by income","LDCs"]
[328,2019,2019328,10025,"MADCTs","MADCTs"]
[329,2019,2019329,10025,"MADCTs","MADCTs"]
[331,2019,2019331,10025,"MADCTs","MADCTs"]
[336,2019,2019336,10019,"UMICs","UMICs"]
[338,2019,2019338,10019,"UMICs","UMICs"]
[340,2019,2019340,10019,"UMICs","UMICs"]
[342,2019,2019342,10018,"LMICs","LMICs"]
[347,2019,2019347,10018,"LMICs","LMICs"]
[349,2019,2019349,10016,"LDCs","LDCs"]
[351,2019,2019351,10018,"LMICs","LMICs"]
[352,2019,2019352,10019,"UMICs","UMICs"]
[354,2019,2019354,10019,"UMICs","UMICs"]
[358,2019,2019358,10019,"UMICs","UMICs"]
[361,2019,2019361,10025,"MADCTs","MADCTs"]
[364,2019,2019364,10018,"LMICs","LMICs"]
[366,2019,2019366,10019,"UMICs","UMICs"]
[373,2019,2019373,10025,"MADCTs","MADCTs"]
[375,2019,2019375,10025,"MADCTs","MADCTs"]
[376,2019,2019376,10025,"MADCTs","MADCTs"]
[377,2019,2019377,10019,"UMICs","UMICs"]
[378,2019,2019378,10019,"UMICs","UMICs"]
[381,2019,2019381,10019,"UMICs","UMICs"]
[382,2019,2019382,10025,"MADCTs","MADCTs"]
[383,2019,2019383,10019,"UMICs","UMICs"]
[384,2019,2019384,10019,"UMICs","UMICs"]
[385,2019,2019385,10019,"UMICs","UMICs"]
[386,2019,2019386,10025,"MADCTs","MADCTs"]
[387,2019,2019387,10025,"MADCTs","MADCTs"]
[388,2019,2019388,10025,"MADCTs","MADCTs"]
[389,2019,2019389,10024,"Part I unallocated by income","UMICs"]
[425,2019,2019425,10019,"UMICs","UMICs"]
[428,2019,2019428,10018,"LMICs","LMICs"]
[431,2019,2019431,10019,"UMICs","UMICs"]
[434,2019,2019434,10025,"MADCTs","MADCTs"]
[437,2019,2019437,10019,"UMICs","UMICs"]
[440,2019,2019440,10019,"UMICs","UMICs"]
[443,2019,2019443,10025,"MADCTs","MADCTs"]
[446,2019,2019446,10019,"UMICs","UMICs"]
[451,2019,2019451,10019,"UMICs","UMICs"]
[454,2019,2019454,10019,"UMICs","UMICs"]
[457,2019,2019457,10019,"UMICs","UMICs"]
[460,2019,2019460,10025,"MADCTs","MADCTs"]
[463,2019,2019463,10019,"UMICs","UMICs"]
[489,2019,2019489,10024,"Part I unallocated by income","UMICs"]
[498,2019,2019498,10024,"Part I unallocated by income","UMICs"]
[530,2019,2019530,10025,"MADCTs","MADCTs"]
[540,2019,2019540,10019,"UMICs","UMICs"]
[543,2019,2019543,10019,"UMICs","UMICs"]
[546,2019,2019546,10025,"MADCTs","MADCTs"]
[549,2019,2019549,10018,"LMICs","LMICs"]
[550,2019,2019550,10018,"LMICs","LMICs"]
[552,2019,2019552,10025,"MADCTs","MADCTs"]
[555,2019,2019555,10019,"UMICs","UMICs"]
[558,2019,2019558,10025,"MADCTs","MADCTs"]
[561,2019,2019561,10025,"MADCTs","MADCTs"]
[566,2019,2019566,10025,"MADCTs","MADCTs"]
[573,2019,2019573,10018,"LMICs","LMICs"]
[576,2019,2019576,10025,"MADCTs","MADCTs"]
[580,2019,2019580,10016,"LDCs","LDCs"]
[589,2019,2019589,10024,"Part I unallocated by income","UMICs"]
[610,2019,2019610,10018,"LMICs","LMICs"]
[611,2019,2019611,10019,"UMICs","UMICs"]
[612,2019,2019612,10018,"LMICs","LMICs"]
[613,2019,2019613,10019,"UMICs","UMICs"]
[614,2019,2019614,10018,"LMICs","LMICs"]
[615,2019,2019615,10018,"LMICs","LMICs"]
[616,2019,2019616,10019,"UMICs","UMICs"]
[617,2019,2019617,10018,"LMICs","LMICs"]
[619,2019,2019619,10024,"Part I unallocated by income","UMICs"]
[625,2019,2019625,10016,"LDCs","LDCs"]
[630,2019,2019630,10016,"LDCs","LDCs"]
[635,2019,2019635,10016,"LDCs","LDCs"]
[640,2019,2019640,10018,"LMICs","LMICs"]
[645,2019,2019645,10018,"LMICs","LMICs"]
[650,2019,2019650,10024,"Part I unallocated by income","Part I unallocated by income"]
[655,2019,2019655,10019,"UMICs","UMICs"]
[660,2019,2019660,10016,"LDCs","LDCs"]
[665,2019,2019665,10018,"LMICs","LMICs"]
[666,2019,2019666,10016,"LDCs","LDCs"]
[679,2019,2019679,10024,"Part I unallocated by income","LDCs"]
[689,2019,2019689,10024,"Part I unallocated by income","UMICs"]
[725,2019,2019725,10025,"MADCTs","MADCTs"]
[728,2019,2019728,10016,"LDCs","LDCs"]
[730,2019,2019730,10019,"UMICs","UMICs"]
[732,2019,2019732,10025,"MADCTs","MADCTs"]
[735,2019,2019735,10025,"MADCTs","MADCTs"]
[738,2019,2019738,10018,"LMICs","LMICs"]
[740,2019,2019740,10017,"Other LICs","Other LICs"]
[742,2019,2019742,10025,"MADCTs","MADCTs"]
[745,2019,2019745,10016,"LDCs","LDCs"]
[748,2019,2019748,10025,"MADCTs","MADCTs"]
[751,2019,2019751,10019,"UMICs","UMICs"]
[752,2019,2019752,10024,"Part I unallocated by income","Part I unallocated by income"]
[753,2019,2019753,10018,"LMICs","LMICs"]
[755,2019,2019755,10018,"LMICs","LMICs"]
[761,2019,2019761,10025,"MADCTs","MADCTs"]
[764,2019,2019764,10019,"UMICs","UMICs"]
[765,2019,2019765,10016,"LDCs","LDCs"]
[769,2019,2019769,10018,"LMICs","LMICs"]
[789,2019,2019789,10024,"Part I unallocated by income","LMICs"]
[798,2019,2019798,10024,"Part I unallocated by income","UMICs"]
[831,2019,2019831,10019,"UMICs","UMICs"]
[832,2019,2019832,10019,"UMICs","UMICs"]
[836,2019,2019836,10016,"LDCs","LDCs"]
[840,2019,2019840,10025,"MADCTs","MADCTs"]
[845,2019,2019845,10019,"UMICs","UMICs"]
[850,2019,2019850,10025,"MADCTs","MADCTs"]
[854,2019,2019854,10016,"LDCs","LDCs"]
[856,2019,2019856,10019,"UMICs","UMICs"]
[858,2019,2019858,10025,"MADCTs","MADCTs"]
[859,2019,2019859,10019,"UMICs","UMICs"]
[860,2019,2019860,10018,"LMICs","LMICs"]
[861,2019,2019861,10019,"UMICs","UMICs"]
[862,2019,2019862,10018,"LMICs","LMICs"]
[866,2019,2019866,10016,"LDCs","LDCs"]
[868,2019,2019868,10018,"LMICs","LMICs"]
[870,2019,2019870,10019,"UMICs","UMICs"]
[872,2019,2019872,10016,"LDCs","LDCs"]
[876,2019,2019876,10019,"UMICs","UMICs"]
[880,2019,2019880,10019,"UMICs","UMICs"]
[889,2019,2019889,10024,"Part I unallocated by income","UMICs"]
[998,2019,2019998,10024,"Part I unallocated by income","UMICs"]
[1027,2019,20191027,10024,"Part I unallocated by income","LDCs"]
[1028,2019,20191028,10024,"Part I unallocated by income","LDCs"]
[1029,2019,20191029,10024,"Part I unallocated by income","UMICs"]
[1030,2019,20191030,10024,"Part I unallocated by income","LDCs"]
[1031,2019,20191031,10024,"Part I unallocated by income","UMICs"]
[1032,2019,20191032,10024,"Part I unallocated by income","UMICs"]
[1033,2019,20191033,10024,"Part I unallocated by income","LMICs"]
[1034,2019,20191034,10024,"Part I unallocated by income","UMICs"]
[1035,2019,20191035,10024,"Part I unallocated by income","UMICs"]
[30,2020,202030,10025,"MADCTs","MADCTs"]
[35,2020,202035,10025,"MADCTs","MADCTs"]
[45,2020,202045,10025,"MADCTs","MADCTs"]
[55,2020,202055,10019,"UMICs","UMICs"]
[57,2020,202057,10018,"LMICs","LMICs"]
[61,2020,202061,10025,"MADCTs","MADCTs"]
[62,2020,202062,10025,"MADCTs","MADCTs"]
[63,2020,202063,10019,"UMICs","UMICs"]
[64,2020,202064,10019,"UMICs","UMICs"]
[65,2020,202065,10019,"UMICs","UMICs"]
[66,2020,202066,10019,"UMICs","UMICs"]
[71,2020,202071,10019,"UMICs","UMICs"]
[85,2020,202085,10018,"LMICs","LMICs"]
[86,2020,202086,10019,"UMICs","UMICs"]
[88,2020,202088,10024,"Part I unallocated by income","UMICs"]
[89,2020,202089,10024,"Part I unallocated by income","UMICs"]
[93,2020,202093,10018,"LMICs","LMICs"]
[105,2020,2020105,10025,"MADCTs","MADCTs"]
[110,2020,2020110,10024,"Part I unallocated by income","Part I unallocated by income"]
[130,2020,2020130,10019,"UMICs","UMICs"]
[133,2020,2020133,10019,"UMICs","UMICs"]
[136,2020,2020136,10018,"LMICs","LMICs"]
[139,2020,2020139,10018,"LMICs","LMICs"]
[142,2020,2020142,10018,"LMICs","LMICs"]
[189,2020,2020189,10024,"Part I unallocated by income","LMICs"]
[212,2020,2020212,10024,"Part I unallocated by income","Part I unallocated by income"]
[218,2020,2020218,10019,"UMICs","UMICs"]
[220,2020,2020220,10024,"Part I unallocated by income","Part I unallocated by income"]
[225,2020,2020225,10016,"LDCs","LDCs"]
[227,2020,2020227,10019,"UMICs","UMICs"]
[228,2020,2020228,10016,"LDCs","LDCs"]
[229,2020,2020229,10018,"LMICs","LMICs"]
[230,2020,2020230,10018,"LMICs","LMICs"]
[231,2020,2020231,10016,"LDCs","LDCs"]
[232,2020,2020232,10016,"LDCs","LDCs"]
[233,2020,2020233,10016,"LDCs","LDCs"]
[234,2020,2020234,10018,"LMICs","LMICs"]
[235,2020,2020235,10016,"LDCs","LDCs"]
[236,2020,2020236,10016,"LDCs","LDCs"]
[237,2020,2020237,10024,"Part I unallocated by income","Part I unallocated by income"]
[238,2020,2020238,10016,"LDCs","LDCs"]
[239,2020,2020239,10019,"UMICs","UMICs"]
[240,2020,2020240,10016,"LDCs","LDCs"]
[241,2020,2020241,10018,"LMICs","LMICs"]
[243,2020,2020243,10016,"LDCs","LDCs"]
[244,2020,2020244,10016,"LDCs","LDCs"]
[245,2020,2020245,10019,"UMICs","UMICs"]
[247,2020,2020247,10018,"LMICs","LMICs"]
[248,2020,2020248,10018,"LMICs","LMICs"]
[249,2020,2020249,10016,"LDCs","LDCs"]
[251,2020,2020251,10016,"LDCs","LDCs"]
[252,2020,2020252,10016,"LDCs","LDCs"]
[253,2020,2020253,10016,"LDCs","LDCs"]
[255,2020,2020255,10016,"LDCs","LDCs"]
[256,2020,2020256,10016,"LDCs","LDCs"]
[257,2020,2020257,10019,"UMICs","UMICs"]
[258,2020,2020258,10025,"MADCTs","MADCTs"]
[259,2020,2020259,10016,"LDCs","LDCs"]
[260,2020,2020260,10016,"LDCs","LDCs"]
[261,2020,2020261,10018,"LMICs","LMICs"]
[265,2020,2020265,10017,"Other LICs","Other LICs"]
[266,2020,2020266,10016,"LDCs","LDCs"]
[268,2020,2020268,10016,"LDCs","LDCs"]
[269,2020,2020269,10016,"LDCs","LDCs"]
[270,2020,2020270,10025,"MADCTs","MADCTs"]
[271,2020,2020271,10016,"LDCs","LDCs"]
[272,2020,2020272,10016,"LDCs","LDCs"]
[273,2020,2020273,10016,"LDCs","LDCs"]
[274,2020,2020274,10016,"LDCs","LDCs"]
[275,2020,2020275,10019,"UMICs","UMICs"]
[276,2020,2020276,10019,"UMICs","UMICs"]
[278,2020,2020278,10016,"LDCs","LDCs"]
[279,2020,2020279,10016,"LDCs","LDCs"]
[280,2020,2020280,10018,"LMICs","LMICs"]
[282,2020,2020282,10016,"LDCs","LDCs"]
[283,2020,2020283,10016,"LDCs","LDCs"]
[285,2020,2020285,10016,"LDCs","LDCs"]
[287,2020,2020287,10016,"LDCs","LDCs"]
[288,2020,2020288,10016,"LDCs","LDCs"]
[289,2020,2020289,10024,"Part I unallocated by income","LDCs"]
[298,2020,2020298,10024,"Part I unallocated by income","LDCs"]
[328,2020,2020328,10025,"MADCTs","MADCTs"]
[329,2020,2020329,10025,"MADCTs","MADCTs"]
[331,2020,2020331,10025,"MADCTs","MADCTs"]
[336,2020,2020336,10019,"UMICs","UMICs"]
[338,2020,2020338,10019,"UMICs","UMICs"]
[340,2020,2020340,10019,"UMICs","UMICs"]
[342,2020,2020342,10018,"LMICs","LMICs"]
[347,2020,2020347,10018,"LMICs","LMICs"]
[349,2020,2020349,10016,"LDCs","LDCs"]
[351,2020,2020351,10018,"LMICs","LMICs"]
[352,2020,2020352,10019,"UMICs","UMICs"]
[354,2020,2020354,10019,"UMICs","UMICs"]
[358,2020,2020358,10019,"UMICs","UMICs"]
[361,2020,2020361,10025,"MADCTs","MADCTs"]
[364,2020,2020364,10018,"LMICs","LMICs"]
[366,2020,2020366,10019,"UMICs","UMICs"]
[373,2020,2020373,10025,"MADCTs","MADCTs"]
[375,2020,2020375,10025,"MADCTs","MADCTs"]
[376,2020,2020376,10025,"MADCTs","MADCTs"]
[377,2020,2020377,10019,"UMICs","UMICs"]
[378,2020,2020378,10019,"UMICs","UMICs"]
[381,2020,2020381,10019,"UMICs","UMICs"]
[382,2020,2020382,10025,"MADCTs","MADCTs"]
[383,2020,2020383,10019,"UMICs","UMICs"]
[384,2020,2020384,10019,"UMICs","UMICs"]
[385,2020,2020385,10019,"UMICs","UMICs"]
[386,2020,2020386,10025,"MADCTs","MADCTs"]
[387,2020,2020387,10025,"MADCTs","MADCTs"]
[388,2020,2020388,10025,"MADCTs","MADCTs"]
[389,2020,2020389,10024,"Part I unallocated by income","UMICs"]
[425,2020,2020425,10019,"UMICs","UMICs"]
[428,2020,2020428,10018,"LMICs","LMICs"]
[431,2020,2020431,10019,"UMICs","UMICs"]
[434,2020,2020434,10025,"MADCTs","MADCTs"]
[437,2020,2020437,10019,"UMICs","UMICs"]
[440,2020,2020440,10019,"UMICs","UMICs"]
[443,2020,2020443,10025,"MADCTs","MADCTs"]
[446,2020,2020446,10019,"UMICs","UMICs"]
[451,2020,2020451,10019,"UMICs","UMICs"]
[454,2020,2020454,10019,"UMICs","UMICs"]
[457,2020,2020457,10019,"UMICs","UMICs"]
[460,2020,2020460,10025,"MADCTs","MADCTs"]
[463,2020,2020463,10019,"UMICs","UMICs"]
[489,2020,2020489,10024,"Part I unallocated by income","UMICs"]
[498,2020,2020498,10024,"Part I unallocated by income","UMICs"]
[530,2020,2020530,10025,"MADCTs","MADCTs"]
[540,2020,2020540,10019,"UMICs","UMICs"]
[543,2020,2020543,10019,"UMICs","UMICs"]
[546,2020,2020546,10025,"MADCTs","MADCTs"]
[549,2020,2020549,10018,"LMICs","LMICs"]
[550,2020,2020550,10018,"LMICs","LMICs"]
[552,2020,2020552,10025,"MADCTs","MADCTs"]
[555,2020,2020555,10019,"UMICs","UMICs"]
[558,2020,2020558,10025,"MADCTs","MADCTs"]
[561,2020,2020561,10025,"MADCTs","MADCTs"]
[566,2020,2020566,10025,"MADCTs","MADCTs"]
[573,2020,2020573,10018,"LMICs","LMICs"]
[576,2020,2020576,10025,"MADCTs","MADCTs"]
[580,2020,2020580,10016,"LDCs","LDCs"]
[589,2020,2020589,10024,"Part I unallocated by income","UMICs"]
[610,2020,2020610,10018,"LMICs","LMICs"]
[611,2020,2020611,10019,"UMICs","UMICs"]
[612,2020,2020612,10018,"LMICs","LMICs"]
[613,2020,2020613,10019,"UMICs","UMICs"]
[614,2020,2020614,10018,"LMICs","LMICs"]
[615,2020,2020615,10018,"LMICs","LMICs"]
[616,2020,2020616,10019,"UMICs","UMICs"]
[617,2020,2020617,10018,"LMICs","LMICs"]
[619,2020,2020619,10024,"Part I unallocated by income","UMICs"]
[625,2020,2020625,10016,"LDCs","LDCs"]
[630,2020,2020630,10016,"LDCs","LDCs"]
[635,2020,2020635,10016,"LDCs","LDCs"]
[640,2020,2020640,10018,"LMICs","LMICs"]
[645,2020,2020645,10018,"LMICs","LMICs"]
[650,2020,2020650,10024,"Part I unallocated by income","Part I unallocated by income"]
[655,2020,2020655,10019,"UMICs","UMICs"]
[660,2020,2020660,10016,"LDCs","LDCs"]
[665,2020,2020665,10018,"LMICs","LMICs"]
[666,2020,2020666,10016,"LDCs","LDCs"]
[679,2020,2020679,10024,"Part I unallocated by income","LDCs"]
[689,2020,2020689,10024,"Part I unallocated by income","UMICs"]
[725,2020,2020725,10025,"MADCTs","MADCTs"]
[728,2020,2020728,10016,"LDCs","LDCs"]
[730,2020,2020730,10019,"UMICs","UMICs"]
[732,2020,2020732,10025,"MADCTs","MADCTs"]
[735,2020,2020735,10025,"MADCTs","MADCTs"]
[738,2020,2020738,10018,"LMICs","LMICs"]
[740,2020,2020740,10017,"Other LICs","Other LICs"]
[742,2020,2020742,10025,"MADCTs","MADCTs"]
[745,2020,2020745,10016,"LDCs","LDCs"]
[748,2020,2020748,10025,"MADCTs","MADCTs"]
[751,2020,2020751,10019,"UMICs","UMICs"]
[752,2020,2020752,10024,"Part I unallocated by income","Part I unallocated by income"]
[753,2020,2020753,10018,"LMICs","LMICs"]
[755,2020,2020755,10018,"LMICs","LMICs"]
[761,2020,2020761,10025,"MADCTs","MADCTs"]
[764,2020,2020764,10019,"UMICs","UMICs"]
[765,2020,2020765,10016,"LDCs","LDCs"]
[769,2020,2020769,10018,"LMICs","LMICs"]
[789,2020,2020789,10024,"Part I unallocated by income","LMICs"]
[798,2020,2020798,10024,"Part I unallocated by income","UMICs"]
[831,2020,2020831,10025,"MADCTs","MADCTs"]
[832,2020,2020832,10019,"UMICs","UMICs"]
[836,2020,2020836,10016,"LDCs","LDCs"]
[840,2020,2020840,10025,"MADCTs","MADCTs"]
[845,2020,2020845,10019,"UMICs","UMICs"]
[850,2020,2020850,10025,"MADCTs","MADCTs"]
[854,2020,2020854,10016,"LDCs","LDCs"]
[856,2020,2020856,10019,"UMICs","UMICs"]
[858,2020,2020858,10025,"MADCTs","MADCTs"]
[859,2020,2020859,10019,"UMICs","UMICs"]
[860,2020,2020860,10018,"LMICs","LMICs"]
[861,2020,2020861,10019,"UMICs","UMICs"]
[862,2020,2020862,10018,"LMICs","LMICs"]
[866,2020,2020866,10016,"LDCs","LDCs"]
[868,2020,2020868,10018,"LMICs","LMICs"]
[870,2020,2020870,10019,"UMICs","UMICs"]
[872,2020,2020872,10016,"LDCs","LDCs"]
[876,2020,2020876,10019,"UMICs","UMICs"]
[880,2020,2020880,10019,"UMICs","UMICs"]
[889,2020,2020889,10024,"Part I unallocated by income","UMICs"]
[998,2020,2020998,10024,"Part I unallocated by income","UMICs"]
[1027,2020,20201027,10024,"Part I unallocated by income","LDCs"]
[1028,2020,20201028,10024,"Part I unallocated by income","LDCs"]
[1029,2020,20201029,10024,"Part I unallocated by income","UMICs"]
[1030,2020,20201030,10024,"Part I unallocated by income","LDCs"]
[1031,2020,20201031,10024,"Part I unallocated by income","UMICs"]
[1032,2020,20201032,10024,"Part I unallocated by income","UMICs"]
[1033,2020,20201033,10024,"Part I unallocated by income","LMICs"]
[1034,2020,20201034,10024,"Part I unallocated by income","UMICs"]
[1035,2020,20201035,10024,"Part I unallocated by income","UMICs"]
[30,2021,202130,10025,"MADCTs","MADCTs"]
[35,2021,202135,10025,"MADCTs","MADCTs"]
[45,2021,202145,10025,"MADCTs","MADCTs"]
[55,2021,202155,10019,"UMICs","UMICs"]
[57,2021,202157,10018,"LMICs","LMICs"]
[61,2021,202161,10025,"MADCTs","MADCTs"]
[62,2021,202162,10025,"MADCTs","MADCTs"]
[63,2021,202163,10019,"UMICs","UMICs"]
[64,2021,202164,10019,"UMICs","UMICs"]
[65,2021,202165,10019,"UMICs","UMICs"]
[66,2021,202166,10019,"UMICs","UMICs"]
[71,2021,202171,10019,"UMICs","UMICs"]
[85,2021,202185,10018,"LMICs","LMICs"]
[86,2021,202186,10019,"UMICs","UMICs"]
[88,2021,202188,10024,"Part I unallocated by income","UMICs"]
[89,2021,202189,10024,"Part I unallocated by income","UMICs"]
[93,2021,202193,10018,"LMICs","LMICs"]
[105,2021,2021105,10025,"MADCTs","MADCTs"]
[110,2021,2021110,10024,"Part I unallocated by income","Part I unallocated by income"]
[130,2021,2021130,10019,"UMICs","UMICs"]
[133,2021,2021133,10019,"UMICs","UMICs"]
[136,2021,2021136,10018,"LMICs","LMICs"]
[139,2021,2021139,10018,"LMICs","LMICs"]
[142,2021,2021142,10018,"LMICs","LMICs"]
[189,2021,2021189,10024,"Part I unallocated by income","LMICs"]
[212,2021,2021212,10024,"Part I unallocated by income","Part I unallocated by income"]
[218,2021,2021218,10019,"UMICs","UMICs"]
[220,2021,2021220,10024,"Part I unallocated by income","Part I unallocated by income"]
[225,2021,2021225,10016,"LDCs","LDCs"]
[227,2021,2021227,10019,"UMICs","UMICs"]
[228,2021,2021228,10016,"LDCs","LDCs"]
[229,2021,2021229,10018,"LMICs","LMICs"]
[230,2021,2021230,10018,"LMICs","LMICs"]
[231,2021,2021231,10016,"LDCs","LDCs"]
[232,2021,2021232,10016,"LDCs","LDCs"]
[233,2021,2021233,10016,"LDCs","LDCs"]
[234,2021,2021234,10018,"LMICs","LMICs"]
[235,2021,2021235,10016,"LDCs","LDCs"]
[236,2021,2021236,10016,"LDCs","LDCs"]
[237,2021,2021237,10024,"Part I unallocated by income","Part I unallocated by income"]
[238,2021,2021238,10016,"LDCs","LDCs"]
[239,2021,2021239,10019,"UMICs","UMICs"]
[240,2021,2021240,10016,"LDCs","LDCs"]
[241,2021,2021241,10018,"LMICs","LMICs"]
[243,2021,2021243,10016,"LDCs","LDCs"]
[244,2021,2021244,10016,"LDCs","LDCs"]
[245,2021,2021245,10019,"UMICs","UMICs"]
[247,2021,2021247,10018,"LMICs","LMICs"]
[248,2021,2021248,10018,"LMICs","LMICs"]
[249,2021,2021249,10016,"LDCs","LDCs"]
[251,2021,2021251,10016,"LDCs","LDCs"]
[252,2021,2021252,10016,"LDCs","LDCs"]
[253,2021,2021253,10016,"LDCs","LDCs"]
[255,2021,2021255,10016,"LDCs","LDCs"]
[256,2021,2021256,10016,"LDCs","LDCs"]
[257,2021,2021257,10019,"UMICs","UMICs"]
[258,2021,2021258,10025,"MADCTs","MADCTs"]
[259,2021,2021259,10016,"LDCs","LDCs"]
[260,2021,2021260,10016,"LDCs","LDCs"]
[261,2021,2021261,10018,"LMICs","LMICs"]
[265,2021,2021265,10017,"Other LICs","Other LICs"]
[266,2021,2021266,10016,"LDCs","LDCs"]
[268,2021,2021268,10016,"LDCs","LDCs"]
[269,2021,2021269,10016,"LDCs","LDCs"]
[270,2021,2021270,10025,"MADCTs","MADCTs"]
[271,2021,2021271,10016,"LDCs","LDCs"]
[272,2021,2021272,10016,"LDCs","LDCs"]
[273,2021,2021273,10016,"LDCs","LDCs"]
[274,2021,2021274,10016,"LDCs","LDCs"]
[275,2021,2021275,10019,"UMICs","UMICs"]
[276,2021,2021276,10019,"UMICs","UMICs"]
[278,2021,2021278,10016,"LDCs","LDCs"]
[279,2021,2021279,10016,"LDCs","LDCs"]
[280,2021,2021280,10018,"LMICs","LMICs"]
[282,2021,2021282,10016,"LDCs","LDCs"]
[283,2021,2021283,10016,"LDCs","LDCs"]
[285,2021,2021285,10016,"LDCs","LDCs"]
[287,2021,2021287,10016,"LDCs","LDCs"]
[288,2021,2021288,10016,"LDCs","LDCs"]
[289,2021,2021289,10024,"Part I unallocated by income","LDCs"]
[298,2021,2021298,10024,"Part I unallocated by income","LDCs"]
[328,2021,2021328,10025,"MADCTs","MADCTs"]
[329,2021,2021329,10025,"MADCTs","MADCTs"]
[331,2021,2021331,10025,"MADCTs","MADCTs"]
[336,2021,2021336,10019,"UMICs","UMICs"]
[338,2021,2021338,10019,"UMICs","UMICs"]
[340,2021,2021340,10019,"UMICs","UMICs"]
[342,2021,2021342,10018,"LMICs","LMICs"]
[347,2021,2021347,10018,"LMICs","LMICs"]
[349,2021,2021349,10016,"LDCs","LDCs"]
[351,2021,2021351,10018,"LMICs","LMICs"]
[352,2021,2021352,10019,"UMICs","UMICs"]
[354,2021,2021354,10019,"UMICs","UMICs"]
[358,2021,2021358,10019,"UMICs","UMICs"]
[361,2021,2021361,10025,"MADCTs","MADCTs"]
[364,2021,2021364,10018,"LMICs","LMICs"]
[366,2021,2021366,10019,"UMICs","UMICs"]
[373,2021,2021373,10025,"MADCTs","MADCTs"]
[375,2021,2021375,10025,"MADCTs","MADCTs"]
[376,2021,2021376,10025,"MADCTs","MADCTs"]
[377,2021,2021377,10019,"UMICs","UMICs"]
[378,2021,2021378,10019,"UMICs","UMICs"]
[381,2021,2021381,10019,"UMICs","UMICs"]
[382,2021,2021382,10025,"MADCTs","MADCTs"]
[383,2021,2021383,10019,"UMICs","UMICs"]
[384,2021,2021384,10019,"UMICs","UMICs"]
[385,2021,2021385,10019,"UMICs","UMICs"]
[386,2021,2021386,10025,"MADCTs","MADCTs"]
[387,2021,2021387,10025,"MADCTs","MADCTs"]
[388,2021,2021388,10025,"MADCTs","MADCTs"]
[389,2021,2021389,10024,"Part I unallocated by income","UMICs"]
[425,2021,2021425,10019,"UMICs","UMICs"]
[428,2021,2021428,10018,"LMICs","LMICs"]
[431,2021,2021431,10019,"UMICs","UMICs"]
[434,2021,2021434,10025,"MADCTs","MADCTs"]
[437,2021,2021437,10019,"UMICs","UMICs"]
[440,2021,2021440,10019,"UMICs","UMICs"]
[443,2021,2021443,10025,"MADCTs","MADCTs"]
[446,2021,2021446,10019,"UMICs","UMICs"]
[451,2021,2021451,10019,"UMICs","UMICs"]
[454,2021,2021454,10019,"UMICs","UMICs"]
[457,2021,2021457,10019,"UMICs","UMICs"]
[460,2021,2021460,10025,"MADCTs","MADCTs"]
[463,2021,2021463,10019,"UMICs","UMICs"]
[489,2021,2021489,10024,"Part I unallocated by income","UMICs"]
[498,2021,2021498,10024,"Part I unallocated by income","UMICs"]
[530,2021,2021530,10025,"MADCTs","MADCTs"]
[540,2021,2021540,10019,"UMICs","UMICs"]
[543,2021,2021543,10019,"UMICs","UMICs"]
[546,2021,2021546,10025,"MADCTs","MADCTs"]
[549,2021,2021549,10018,"LMICs","LMICs"]
[550,2021,2021550,10018,"LMICs","LMICs"]
[552,2021,2021552,10025,"MADCTs","MADCTs"]
[555,2021,2021555,10019,"UMICs","UMICs"]
[558,2021,2021558,10025,"MADCTs","MADCTs"]
[561,2021,2021561,10025,"MADCTs","MADCTs"]
[566,2021,2021566,10025,"MADCTs","MADCTs"]
[573,2021,2021573,10018,"LMICs","LMICs"]
[576,2021,2021576,10025,"MADCTs","MADCTs"]
[580,2021,2021580,10016,"LDCs","LDCs"]
[589,2021,2021589,10024,"Part I unallocated by income","UMICs"]
[610,2021,2021610,10018,"LMICs","LMICs"]
[611,2021,2021611,10019,"UMICs","UMICs"]
[612,2021,2021612,10018,"LMICs","LMICs"]
[613,2021,2021613,10019,"UMICs","UMICs"]
[614,2021,2021614,10018,"LMICs","LMICs"]
[615,2021,2021615,10018,"LMICs","LMICs"]
[616,2021,2021616,10019,"UMICs","UMICs"]
[617,2021,2021617,10018,"LMICs","LMICs"]
[619,2021,2021619,10024,"Part I unallocated by income","UMICs"]
[625,2021,2021625,10016,"LDCs","LDCs"]
[630,2021,2021630,10016,"LDCs","LDCs"]
[635,2021,2021635,10016,"LDCs","LDCs"]
[640,2021,2021640,10018,"LMICs","LMICs"]
[645,2021,2021645,10018,"LMICs","LMICs"]
[650,2021,2021650,10024,"Part I unallocated by income","Part I unallocated by income"]
[655,2021,2021655,10019,"UMICs","UMICs"]
[660,2021,2021660,10016,"LDCs","LDCs"]
[665,2021,2021665,10018,"LMICs","LMICs"]
[666,2021,2021666,10016,"LDCs","LDCs"]
[679,2021,2021679,10024,"Part I unallocated by income","LDCs"]
[689,2021,2021689,10024,"Part I unallocated by income","UMICs"]
[725,2021,2021725,10025,"MADCTs","MADCTs"]
[728,2021,2021728,10016,"LDCs","LDCs"]
[730,2021,2021730,10019,"UMICs","UMICs"]
[732,2021,2021732,10025,"MADCTs","MADCTs"]
[735,2021,2021735,10025,"MADCTs","MADCTs"]
[738,2021,2021738,10018,"LMICs","LMICs"]
[740,2021,2021740,10017,"Other LICs","Other LICs"]
[742,2021,2021742,10025,"MADCTs","MADCTs"]
[745,2021,2021745,10016,"LDCs","LDCs"]
[748,2021,2021748,10025,"MADCTs","MADCTs"]
[751,2021,2021751,10019,"UMICs","UMICs"]
[752,2021,2021752,10024,"Part I unallocated by income","Part I unallocated by income"]
[753,2021,2021753,10018,"LMICs","LMICs"]
[755,2021,2021755,10018,"LMICs","LMICs"]
[761,2021,2021761,10025,"MADCTs","MADCTs"]
[764,2021,2021764,10019,"UMICs","UMICs"]
[765,2021,2021765,10016,"LDCs","LDCs"]
[769,2021,2021769,10018,"LMICs","LMICs"]
[789,2021,2021789,10024,"Part I unallocated by income","LMICs"]
[798,2021,2021798,10024,"Part I unallocated by income","UMICs"]
[831,2021,2021831,10025,"MADCTs","MADCTs"]
[832,2021,2021832,10019,"UMICs","UMICs"]
[836,2021,2021836,10016,"LDCs","LDCs"]
[840,2021,2021840,10025,"MADCTs","MADCTs"]
[845,2021,2021845,10019,"UMICs","UMICs"]
[850,2021,2021850,10025,"MADCTs","MADCTs"]
[854,2021,2021854,10018,"LMICs","LMICs"]
[856,2021,2021856,10019,"UMICs","UMICs"]
[858,2021,2021858,10025,"MADCTs","MADCTs"]
[859,2021,2021859,10019,"UMICs","UMICs"]
[860,2021,2021860,10018,"LMICs","LMICs"]
[861,2021,2021861,10019,"UMICs","UMICs"]
[862,2021,2021862,10018,"LMICs","LMICs"]
[866,2021,2021866,10016,"LDCs","LDCs"]
[868,2021,2021868,10018,"LMICs","LMICs"]
[870,2021,2021870,10019,"UMICs","UMICs"]
[872,2021,2021872,10016,"LDCs","LDCs"]
[876,2021,2021876,10019,"UMICs","UMICs"]
[880,2021,2021880,10019,"UMICs","UMICs"]
[889,2021,2021889,10024,"Part I unallocated by income","UMICs"]
[998,2021,2021998,10024,"Part I unallocated by income","UMICs"]
[1027,2021,20211027,10024,"Part I unallocated by income","LDCs"]
[1028,2021,20211028,10024,"Part I unallocated by income","LDCs"]
[1029,2021,20211029,10024,"Part I unallocated by income","UMICs"]
[1030,2021,20211030,10024,"Part I unallocated by income","LDCs"]
[1031,2021,20211031,10024,"Part I unallocated by income","UMICs"]
[1032,2021,20211032,10024,"Part I unallocated by income","UMICs"]
[1033,2021,20211033,10024,"Part I unallocated by income","LMICs"]
[1034,2021,20211034,10024,"Part I unallocated by income","UMICs"]
[1035,2021,20211035,10024,"Part I unallocated by income","UMICs"]
[30,2022,202230,10025,"MADCTs","MADCTs"]
[35,2022,202235,10025,"MADCTs","MADCTs"]
[45,2022,202245,10025,"MADCTs","MADCTs"]
[55,2022,202255,10019,"UMICs","UMICs"]
[57,2022,202257,10019,"UMICs","UMICs"]
[61,2022,202261,10025,"MADCTs","MADCTs"]
[62,2022,202262,10025,"MADCTs","MADCTs"]
[63,2022,202263,10019,"UMICs","UMICs"]
[64,2022,202264,10019,"UMICs","UMICs"]
[65,2022,202265,10019,"UMICs","UMICs"]
[66,2022,202266,10019,"UMICs","UMICs"]
[71,2022,202271,10019,"UMICs","UMICs"]
[85,2022,202285,10018,"LMICs","LMICs"]
[86,2022,202286,10019,"UMICs","UMICs"]
[88,2022,202288,10024,"Part I unallocated by income","UMICs"]
[89,2022,202289,10024,"Part I unallocated by income","UMICs"]
[93,2022,202293,10019,"UMICs","UMICs"]
[105,2022,2022105,10025,"MADCTs","MADCTs"]
[110,2022,2022110,10024,"Part I unallocated by income","Part I unallocated by income"]
[130,2022,2022130,10018,"LMICs","LMICs"]
[133,2022,2022133,10019,"UMICs","UMICs"]
[136,2022,2022136,10018,"LMICs","LMICs"]
[139,2022,2022139,10018,"LMICs","LMICs"]
[142,2022,2022142,10018,"LMICs","LMICs"]
[189,2022,2022189,10024,"Part I unallocated by income","LMICs"]
[212,2022,2022212,10024,"Part I unallocated by income","Part I unallocated by income"]
[218,2022,2022218,10019,"UMICs","UMICs"]
[220,2022,2022220,10024,"Part I unallocated by income","Part I unallocated by income"]
[225,2022,2022225,10016,"LDCs","LDCs"]
[227,2022,2022227,10019,"UMICs","UMICs"]
[228,2022,2022228,10016,"LDCs","LDCs"]
[229,2022,2022229,10018,"LMICs","LMICs"]
[230,2022,2022230,10018,"LMICs","LMICs"]
[231,2022,2022231,10016,"LDCs","LDCs"]
[232,2022,2022232,10016,"LDCs","LDCs"]
[233,2022,2022233,10016,"LDCs","LDCs"]
[234,2022,2022234,10018,"LMICs","LMICs"]
[235,2022,2022235,10016,"LDCs","LDCs"]
[236,2022,2022236,10016,"LDCs","LDCs"]
[237,2022,2022237,10024,"Part I unallocated by income","Part I unallocated by income"]
[238,2022,2022238,10016,"LDCs","LDCs"]
[239,2022,2022239,10019,"UMICs","UMICs"]
[240,2022,2022240,10016,"LDCs","LDCs"]
[241,2022,2022241,10018,"LMICs","LMICs"]
[243,2022,2022243,10016,"LDCs","LDCs"]
[244,2022,2022244,10016,"LDCs","LDCs"]
[245,2022,2022245,10019,"UMICs","UMICs"]
[247,2022,2022247,10018,"LMICs","LMICs"]
[248,2022,2022248,10018,"LMICs","LMICs"]
[249,2022,2022249,10016,"LDCs","LDCs"]
[251,2022,2022251,10016,"LDCs","LDCs"]
[252,2022,2022252,10016,"LDCs","LDCs"]
[253,2022,2022253,10016,"LDCs","LDCs"]
[255,2022,2022255,10016,"LDCs","LDCs"]
[256,2022,2022256,10016,"LDCs","LDCs"]
[257,2022,2022257,10019,"UMICs","UMICs"]
[258,2022,2022258,10025,"MADCTs","MADCTs"]
[259,2022,2022259,10016,"LDCs","LDCs"]
[260,2022,2022260,10016,"LDCs","LDCs"]
[261,2022,2022261,10018,"LMICs","LMICs"]
[265,2022,2022265,10018,"LMICs","LMICs"]
[266,2022,2022266,10016,"LDCs","LDCs"]
[268,2022,2022268,10016,"LDCs","LDCs"]
[269,2022,2022269,10016,"LDCs","LDCs"]
[270,2022,2022270,10025,"MADCTs","MADCTs"]
[271,2022,2022271,10016,"LDCs","LDCs"]
[272,2022,2022272,10016,"LDCs","LDCs"]
[273,2022,2022273,10016,"LDCs","LDCs"]
[274,2022,2022274,10016,"LDCs","LDCs"]
[275,2022,2022275,10019,"UMICs","UMICs"]
[276,2022,2022276,10019,"UMICs","UMICs"]
[278,2022,2022278,10016,"LDCs","LDCs"]
[279,2022,2022279,10016,"LDCs","LDCs"]
[280,2022,2022280,10018,"LMICs","LMICs"]
[282,2022,2022282,10016,"LDCs","LDCs"]
[283,2022,2022283,10016,"LDCs","LDCs"]
[285,2022,2022285,10016,"LDCs","LDCs"]
[287,2022,2022287,10016,"LDCs","LDCs"]
[288,2022,2022288,10016,"LDCs","LDCs"]
[289,2022,2022289,10024,"Part I unallocated by income","LDCs"]
[298,2022,2022298,10024,"Part I unallocated by income","LDCs"]
[328,2022,2022328,10025,"MADCTs","MADCTs"]
[329,2022,2022329,10025,"MADCTs","MADCTs"]
[331,2022,2022331,10025,"MADCTs","MADCTs"]
[336,2022,2022336,10019,"UMICs","UMICs"]
[338,2022,2022338,10019,"UMICs","UMICs"]
[340,2022,2022340,10019,"UMICs","UMICs"]
[342,2022,2022342,10018,"LMICs","LMICs"]
[347,2022,2022347,10019,"UMICs","UMICs"]
[349,2022,2022349,10016,"LDCs","LDCs"]
[351,2022,2022351,10018,"LMICs","LMICs"]
[352,2022,2022352,10018,"LMICs","LMICs"]
[354,2022,2022354,10019,"UMICs","UMICs"]
[358,2022,2022358,10019,"UMICs","UMICs"]
[361,2022,2022361,10025,"MADCTs","MADCTs"]
[364,2022,2022364,10018,"LMICs","LMICs"]
[366,2022,2022366,10019,"UMICs","UMICs"]
[373,2022,2022373,10025,"MADCTs","MADCTs"]
[375,2022,2022375,10025,"MADCTs","MADCTs"]
[376,2022,2022376,10025,"MADCTs","MADCTs"]
[377,2022,2022377,10025,"MADCTs","MADCTs"]
[378,2022,2022378,10019,"UMICs","UMICs"]
[381,2022,2022381,10019,"UMICs","UMICs"]
[382,2022,2022382,10025,"MADCTs","MADCTs"]
[383,2022,2022383,10019,"UMICs","UMICs"]
[384,2022,2022384,10019,"UMICs","UMICs"]
[385,2022,2022385,10019,"UMICs","UMICs"]
[386,2022,2022386,10025,"MADCTs","MADCTs"]
[387,2022,2022387,10025,"MADCTs","MADCTs"]
[388,2022,2022388,10025,"MADCTs","MADCTs"]
[389,2022,2022389,10024,"Part I unallocated by income","UMICs"]
[425,2022,2022425,10019,"UMICs","UMICs"]
[428,2022,2022428,10018,"LMICs","LMICs"]
[431,2022,2022431,10019,"UMICs","UMICs"]
[434,2022,2022434,10025,"MADCTs","MADCTs"]
[437,2022,2022437,10019,"UMICs","UMICs"]
[440,2022,2022440,10019,"UMICs","UMICs"]
[443,2022,2022443,10025,"MADCTs","MADCTs"]
[446,2022,2022446,10019,"UMICs","UMICs"]
[451,2022,2022451,10019,"UMICs","UMICs"]
[454,2022,2022454,10019,"UMICs","UMICs"]
[457,2022,2022457,10019,"UMICs","UMICs"]
[460,2022,2022460,10025,"MADCTs","MADCTs"]
[463,2022,2022463,10019,"UMICs","UMICs"]
[489,2022,2022489,10024,"Part I unallocated by income","UMICs"]
[498,2022,2022498,10024,"Part I unallocated by income","UMICs"]
[530,2022,2022530,10025,"MADCTs","MADCTs"]
[540,2022,2022540,10018,"LMICs","LMICs"]
[543,2022,2022543,10019,"UMICs","UMICs"]
[546,2022,2022546,10025,"MADCTs","MADCTs"]
[549,2022,2022549,10019,"UMICs","UMICs"]
[550,2022,2022550,10018,"LMICs","LMICs"]
[552,2022,2022552,10025,"MADCTs","MADCTs"]
[555,2022,2022555,10019,"UMICs","UMICs"]
[558,2022,2022558,10025,"MADCTs","MADCTs"]
[561,2022,2022561,10025,"MADCTs","MADCTs"]
[566,2022,2022566,10025,"MADCTs","MADCTs"]
[573,2022,2022573,10017,"Other LICs","Other LICs"]
[576,2022,2022576,10025,"MADCTs","MADCTs"]
[580,2022,2022580,10016,"LDCs","LDCs"]
[589,2022,2022589,10024,"Part I unallocated by income","UMICs"]
[610,2022,2022610,10019,"UMICs","UMICs"]
[611,2022,2022611,10019,"UMICs","UMICs"]
[612,2022,2022612,10019,"UMICs","UMICs"]
[613,2022,2022613,10019,"UMICs","UMICs"]
[614,2022,2022614,10018,"LMICs","LMICs"]
[615,2022,2022615,10018,"LMICs","LMICs"]
[616,2022,2022616,10019,"UMICs","UMICs"]
[617,2022,2022617,10018,"LMICs","LMICs"]
[619,2022,2022619,10024,"Part I unallocated by income","UMICs"]
[625,2022,2022625,10016,"LDCs","LDCs"]
[630,2022,2022630,10016,"LDCs","LDCs"]
[635,2022,2022635,10016,"LDCs","LDCs"]
[640,2022,2022640,10018,"LMICs","LMICs"]
[645,2022,2022645,10018,"LMICs","LMICs"]
[650,2022,2022650,10024,"Part I unallocated by income","Part I unallocated by income"]
[655,2022,2022655,10019,"UMICs","UMICs"]
[660,2022,2022660,10016,"LDCs","LDCs"]
[665,2022,2022665,10018,"LMICs","LMICs"]
[666,2022,2022666,10016,"LDCs","LDCs"]
[679,2022,2022679,10024,"Part I unallocated by income","LDCs"]
[689,2022,2022689,10024,"Part I unallocated by income","UMICs"]
[725,2022,2022725,10025,"MADCTs","MADCTs"]
[728,2022,2022728,10016,"LDCs","LDCs"]
[730,2022,2022730,10019,"UMICs","UMICs"]
[732,2022,2022732,10025,"MADCTs","MADCTs"]
[735,2022,2022735,10025,"MADCTs","MADCTs"]
[738,2022,2022738,10018,"LMICs","LMICs"]
[740,2022,2022740,10017,"Other LICs","Other LICs"]
[742,2022,2022742,10025,"MADCTs","MADCTs"]
[745,2022,2022745,10016,"LDCs","LDCs"]
[748,2022,2022748,10025,"MADCTs","MADCTs"]
[751,2022,2022751,10019,"UMICs","UMICs"]
[752,2022,2022752,10024,"Part I unallocated by income","Part I unallocated by income"]
[753,2022,2022753,10018,"LMICs","LMICs"]
[755,2022,2022755,10018,"LMICs","LMICs"]
[761,2022,2022761,10025,"MADCTs","MADCTs"]
[764,2022,2022764,10019,"UMICs","UMICs"]
[765,2022,2022765,10016,"LDCs","LDCs"]
[769,2022,2022769,10018,"LMICs","LMICs"]
[789,2022,2022789,10024,"Part I unallocated by income","LMICs"]
[798,2022,2022798,10024,"Part I unallocated by income","UMICs"]
[831,2022,2022831,10025,"MADCTs","MADCTs"]
[832,2022,2022832,10019,"UMICs","UMICs"]
[836,2022,2022836,10016,"LDCs","LDCs"]
[840,2022,2022840,10025,"MADCTs","MADCTs"]
[845,2022,2022845,10019,"UMICs","UMICs"]
[850,2022,2022850,10025,"MADCTs","MADCTs"]
[854,2022,2022854,10018,"LMICs","LMICs"]
[856,2022,2022856,10019,"UMICs","UMICs"]
[858,2022,2022858,10025,"MADCTs","MADCTs"]
[859,2022,2022859,10019,"UMICs","UMICs"]
[860,2022,2022860,10018,"LMICs","LMICs"]
[861,2022,2022861,10019,"UMICs","UMICs"]
[862,2022,2022862,10018,"LMICs","LMICs"]
[866,2022,2022866,10016,"LDCs","LDCs"]
[868,2022,2022868,10018,"LMICs","LMICs"]
[870,2022,2022870,10019,"UMICs","UMICs"]
[872,2022,2022872,10016,"LDCs","LDCs"]
[876,2022,2022876,10019,"UMICs","UMICs"]
[880,2022,2022880,10018,"LMICs","LMICs"]
[889,2022,2022889,10024,"Part I unallocated by income","UMICs"]
[998,2022,2022998,10024,"Part I unallocated by income","UMICs"]
[1027,2022,20221027,10024,"Part I unallocated by income","LDCs"]
[1028,2022,20221028,10024,"Part I unallocated by income","LDCs"]
[1029,2022,20221029,10024,"Part I unallocated by income","UMICs"]
[1030,2022,20221030,10024,"Part I unallocated by income","LDCs"]
[1031,2022,20221031,10024,"Part I unallocated by income","UMICs"]
[1032,2022,20221032,10024,"Part I unallocated by income","UMICs"]
[1033,2022,20221033,10024,"Part I unallocated by income","LMICs"]
[1034,2022,20221034,10024,"Part I unallocated by income","UMICs"]
[1035,2022,20221035,10024,"Part I unallocated by income","UMICs"]
[30,2023,202330,10025,"MADCTs","MADCTs"]
[35,2023,202335,10025,"MADCTs","MADCTs"]
[45,2023,202345,10025,"MADCTs","MADCTs"]
[55,2023,202355,10019,"UMICs","UMICs"]
[57,2023,202357,10019,"UMICs","UMICs"]
[61,2023,202361,10025,"MADCTs","MADCTs"]
[62,2023,202362,10025,"MADCTs","MADCTs"]
[63,2023,202363,10019,"UMICs","UMICs"]
[64,2023,202364,10019,"UMICs","UMICs"]
[65,2023,202365,10019,"UMICs","UMICs"]
[66,2023,202366,10019,"UMICs","UMICs"]
[71,2023,202371,10019,"UMICs","UMICs"]
[85,2023,202385,10018,"LMICs","LMICs"]
[86,2023,202386,10019,"UMICs","UMICs"]
[88,2023,202388,10024,"Part I unallocated by income","UMICs"]
[89,2023,202389,10024,"Part I unallocated by income","UMICs"]
[93,2023,202393,10019,"UMICs","UMICs"]
[105,2023,2023105,10025,"MADCTs","MADCTs"]
[110,2023,2023110,10024,"Part I unallocated by income","Part I unallocated by income"]
[130,2023,2023130,10018,"LMICs","LMICs"]
[133,2023,2023133,10019,"UMICs","UMICs"]
[136,2023,2023136,10018,"LMICs","LMICs"]
[139,2023,2023139,10018,"LMICs","LMICs"]
[142,2023,2023142,10018,"LMICs","LMICs"]
[189,2023,2023189,10024,"Part I unallocated by income","LMICs"]
[212,2023,2023212,10024,"Part I unallocated by income","Part I unallocated by income"]
[218,2023,2023218,10019,"UMICs","UMICs"]
[220,2023,2023220,10024,"Part I unallocated by income","Part I unallocated by income"]
[225,2023,2023225,10016,"LDCs","LDCs"]
[227,2023,2023227,10019,"UMICs","UMICs"]
[228,2023,2023228,10016,"LDCs","LDCs"]
[229,2023,2023229,10018,"LMICs","LMICs"]
[230,2023,2023230,10018,"LMICs","LMICs"]
[231,2023,2023231,10016,"LDCs","LDCs"]
[232,2023,2023232,10016,"LDCs","LDCs"]
[233,2023,2023233,10016,"LDCs","LDCs"]
[234,2023,2023234,10018,"LMICs","LMICs"]
[235,2023,2023235,10016,"LDCs","LDCs"]
[236,2023,2023236,10016,"LDCs","LDCs"]
[237,2023,2023237,10024,"Part I unallocated by income","Part I unallocated by income"]
[238,2023,2023238,10016,"LDCs","LDCs"]
[239,2023,2023239,10019,"UMICs","UMICs"]
[240,2023,2023240,10016,"LDCs","LDCs"]
[241,2023,2023241,10018,"LMICs","LMICs"]
[243,2023,2023243,10016,"LDCs","LDCs"]
[244,2023,2023244,10016,"LDCs","LDCs"]
[245,2023,2023245,10019,"UMICs","UMICs"]
[247,2023,2023247,10018,"LMICs","LMICs"]
[248,2023,2023248,10018,"LMICs","LMICs"]
[249,2023,2023249,10016,"LDCs","LDCs"]
[251,2023,2023251,10016,"LDCs","LDCs"]
[252,2023,2023252,10016,"LDCs","LDCs"]
[253,2023,2023253,10016,"LDCs","LDCs"]
[255,2023,2023255,10016,"LDCs","LDCs"]
[256,2023,2023256,10016,"LDCs","LDCs"]
[257,2023,2023257,10019,"UMICs","UMICs"]
[258,2023,2023258,10025,"MADCTs","MADCTs"]
[259,2023,2023259,10016,"LDCs","LDCs"]
[260,2023,2023260,10016,"LDCs","LDCs"]
[261,2023,2023261,10018,"LMICs","LMICs"]
[265,2023,2023265,10018,"LMICs","LMICs"]
[266,2023,2023266,10016,"LDCs","LDCs"]
[268,2023,2023268,10016,"LDCs","LDCs"]
[269,2023,2023269,10016,"LDCs","LDCs"]
[270,2023,2023270,10025,"MADCTs","MADCTs"]
[271,2023,2023271,10016,"LDCs","LDCs"]
[272,2023,2023272,10016,"LDCs","LDCs"]
[273,2023,2023273,10016,"LDCs","LDCs"]
[274,2023,2023274,10016,"LDCs","LDCs"]
[275,2023,2023275,10019,"UMICs","UMICs"]
[276,2023,2023276,10019,"UMICs","UMICs"]
[278,2023,2023278,10016,"LDCs","LDCs"]
[279,2023,2023279,10016,"LDCs","LDCs"]
[280,2023,2023280,10018,"LMICs","LMICs"]
[282,2023,2023282,10016,"LDCs","LDCs"]
[283,2023,2023283,10016,"LDCs","LDCs"]
[285,2023,2023285,10016,"LDCs","LDCs"]
[287,2023,2023287,10016,"LDCs","LDCs"]
[288,2023,2023288,10016,"LDCs","LDCs"]
[289,2023,2023289,10024,"Part I unallocated by income","LDCs"]
[298,2023,2023298,10024,"Part I unallocated by income","LDCs"]
[328,2023,2023328,10025,"MADCTs","MADCTs"]
[329,2023,2023329,10025,"MADCTs","MADCTs"]
[331,2023,2023331,10025,"MADCTs","MADCTs"]
[336,2023,2023336,10019,"UMICs","UMICs"]
[338,2023,2023338,10019,"UMICs","UMICs"]
[340,2023,2023340,10019,"UMICs","UMICs"]
[342,2023,2023342,10018,"LMICs","LMICs"]
[347,2023,2023347,10019,"UMICs","UMICs"]
[349,2023,2023349,10016,"LDCs","LDCs"]
[351,2023,2023351,10018,"LMICs","LMICs"]
[352,2023,2023352,10018,"LMICs","LMICs"]
[354,2023,2023354,10019,"UMICs","UMICs"]
[358,2023,2023358,10019,"UMICs","UMICs"]
[361,2023,2023361,10025,"MADCTs","MADCTs"]
[364,2023,2023364,10018,"LMICs","LMICs"]
[366,2023,2023366,10019,"UMICs","UMICs"]
[373,2023,2023373,10025,"MADCTs","MADCTs"]
[375,2023,2023375,10025,"MADCTs","MADCTs"]
[376,2023,2023376,10025,"MADCTs","MADCTs"]
[377,2023,2023377,10025,"MADCTs","MADCTs"]
[378,2023,2023378,10019,"UMICs","UMICs"]
[381,2023,2023381,10019,"UMICs","UMICs"]
[382,2023,2023382,10025,"MADCTs","MADCTs"]
[383,2023,2023383,10019,"UMICs","UMICs"]
[384,2023,2023384,10019,"UMICs","UMICs"]
[385,2023,2023385,10019,"UMICs","UMICs"]
[386,2023,2023386,10025,"MADCTs","MADCTs"]
[387,2023,2023387,10025,"MADCTs","MADCTs"]
[388,2023,2023388,10025,"MADCTs","MADCTs"]
[389,2023,2023389,10024,"Part I unallocated by income","UMICs"]
[425,2023,2023425,10019,"UMICs","UMICs"]
[428,2023,2023428,10018,"LMICs","LMICs"]
[431,2023,2023431,10019,"UMICs","UMICs"]
[434,2023,2023434,10025,"MADCTs","MADCTs"]
[437,2023,2023437,10019,"UMICs","UMICs"]
[440,2023,2023440,10019,"UMICs","UMICs"]
[443,2023,2023443,10025,"MADCTs","MADCTs"]
[446,2023,2023446,10019,"UMICs","UMICs"]
[451,2023,2023451,10019,"UMICs","UMICs"]
[454,2023,2023454,10019,"UMICs","UMICs"]
[457,2023,2023457,10019,"UMICs","UMICs"]
[460,2023,2023460,10025,"MADCTs","MADCTs"]
[463,2023,2023463,10019,"UMICs","UMICs"]
[489,2023,2023489,10024,"Part I unallocated by income","UMICs"]
[498,2023,2023498,10024,"Part I unallocated by income","UMICs"]
[530,2023,2023530,10025,"MADCTs","MADCTs"]
[540,2023,2023540,10018,"LMICs","LMICs"]
[543,2023,2023543,10019,"UMICs","UMICs"]
[546,2023,2023546,10025,"MADCTs","MADCTs"]
[549,2023,2023549,10019,"UMICs","UMICs"]
[550,2023,2023550,10018,"LMICs","LMICs"]
[552,2023,2023552,10025,"MADCTs","MADCTs"]
[555,2023,2023555,10019,"UMICs","UMICs"]
[558,2023,2023558,10025,"MADCTs","MADCTs"]
[561,2023,2023561,10025,"MADCTs","MADCTs"]
[566,2023,2023566,10025,"MADCTs","MADCTs"]
[573,2023,2023573,10017,"Other LICs","Other LICs"]
[576,2023,2023576,10025,"MADCTs","MADCTs"]
[580,2023,2023580,10016,"LDCs","LDCs"]
[589,2023,2023589,10024,"Part I unallocated by income","UMICs"]
[610,2023,2023610,10019,"UMICs","UMICs"]
[611,2023,2023611,10019,"UMICs","UMICs"]
[612,2023,2023612,10019,"UMICs","UMICs"]
[613,2023,2023613,10019,"UMICs","UMICs"]
[614,2023,2023614,10018,"LMICs","LMICs"]
[615,2023,2023615,10018,"LMICs","LMICs"]
[616,2023,2023616,10019,"UMICs","UMICs"]
[617,2023,2023617,10018,"LMICs","LMICs"]
[619,2023,2023619,10024,"Part I unallocated by income","UMICs"]
[625,2023,2023625,10016,"LDCs","LDCs"]
[630,2023,2023630,10016,"LDCs","LDCs"]
[635,2023,2023635,10016,"LDCs","LDCs"]
[640,2023,2023640,10018,"LMICs","LMICs"]
[645,2023,2023645,10018,"LMICs","LMICs"]
[650,2023,2023650,10024,"Part I unallocated by income","Part I unallocated by income"]
[655,2023,2023655,10019,"UMICs","UMICs"]
[660,2023,2023660,10016,"LDCs","LDCs"]
[665,2023,2023665,10018,"LMICs","LMICs"]
[666,2023,2023666,10016,"LDCs","LDCs"]
[679,2023,2023679,10024,"Part I unallocated by income","LDCs"]
[689,2023,2023689,10024,"Part I unallocated by income","UMICs"]
[725,2023,2023725,10025,"MADCTs","MADCTs"]
[728,2023,2023728,10016,"LDCs","LDCs"]
[730,2023,2023730,10019,"UMICs","UMICs"]
[732,2023,2023732,10025,"MADCTs","MADCTs"]
[735,2023,2023735,10025,"MADCTs","MADCTs"]
[738,2023,2023738,10018,"LMICs","LMICs"]
[740,2023,2023740,10017,"Other LICs","Other LICs"]
[742,2023,2023742,10025,"MADCTs","MADCTs"]
[745,2023,2023745,10016,"LDCs","LDCs"]
[748,2023,2023748,10025,"MADCTs","MADCTs"]
[751,2023,2023751,10019,"UMICs","UMICs"]
[752,2023,2023752,10024,"Part I unallocated by income","Part I unallocated by income"]
[753,2023,2023753,10018,"LMICs","LMICs"]
[755,2023,2023755,10018,"LMICs","LMICs"]
[761,2023,2023761,10025,"MADCTs","MADCTs"]
[764,2023,2023764,10019,"UMICs","UMICs"]
[765,2023,2023765,10016,"LDCs","LDCs"]
[769,2023,2023769,10018,"LMICs","LMICs"]
[789,2023,2023789,10024,"Part I unallocated by income","LMICs"]
[798,2023,2023798,10024,"Part I unallocated by income","UMICs"]
[831,2023,2023831,10025,"MADCTs","MADCTs"]
[832,2023,2023832,10019,"UMICs","UMICs"]
[836,2023,2023836,10016,"LDCs","LDCs"]
[840,2023,2023840,10025,"MADCTs","MADCTs"]
[845,2023,2023845,10019,"UMICs","UMICs"]
[850,2023,2023850,10025,"MADCTs","MADCTs"]
[854,2023,2023854,10018,"LMICs","LMICs"]
[856,2023,2023856,10019,"UMICs","UMICs"]
[858,2023,2023858,10025,"MADCTs","MADCTs"]
[859,2023,2023859,10019,"UMICs","UMICs"]
[860,2023,2023860,10018,"LMICs","LMICs"]
[861,2023,2023861,10019,"UMICs","UMICs"]
[862,2023,2023862,10018,"LMICs","LMICs"]
[866,2023,2023866,10016,"LDCs","LDCs"]
[868,2023,2023868,10018,"LMICs","LMICs"]
[870,2023,2023870,10019,"UMICs","UMICs"]
[872,2023,2023872,10016,"LDCs","LDCs"]
[876,2023,2023876,10019,"UMICs","UMICs"]
[880,2023,2023880,10018,"LMICs","LMICs"]
[889,2023,2023889,10024,"Part I unallocated by income","UMICs"]
[998,2023,2023998,10024,"Part I unallocated by income","UMICs"]
[1027,2023,20231027,10024,"Part I unallocated by income","LDCs"]
[1028,2023,20231028,10024,"Part I unallocated by income","LDCs"]
[1029,2023,20231029,10024,"Part I unallocated by income","UMICs"]
[1030,2023,20231030,10024,"Part I unallocated by income","LDCs"]
[1031,2023,20231031,10024,"Part I unallocated by income","UMICs"]
[1032,2023,20231032,10024,"Part I unallocated by income","UMICs"]
[1033,2023,20231033,10024,"Part I unallocated by income","LMICs"]
[1034,2023,20231034,10024,"Part I unallocated by income","UMICs"]
[1035,2023,20231035,10024,"Part I unallocated by income","UMICs"]

{"sheet":"Repayment","index":19,"n_rows":5,"n_cols":5,"rows_kept":5,"cut":false,"hidden":true,"merged":[]}
["TYPE OF REPAYMENT",null,null,"NUMBER OF REPAYMENT"]
[1,"equal principal payments (EPP)",null,1,"annual"]
[2,"annuity",null,2,"semi-annual"]
[3,"lump sum",null,4,"quarterly"]
[5,"other",null,12,"monthly"]

{"sheet":"ChannelDiscountGroup","index":20,"n_rows":37,"n_cols":5,"rows_kept":37,"cut":false,"hidden":true,"merged":[]}
["ChannelCode","GroupID","Year","DiscountRate","Notes"]
[41108,90001,2020,5,"NULL"]
[41317,90001,2020,5,"NULL"]
[43001,90001,2020,5,"NULL"]
[43002,90001,2020,5,"NULL"]
[43003,90001,2020,5,"NULL"]
[43004,90001,2020,5,"NULL"]
[43005,90001,2020,5,"NULL"]
[43006,90001,2020,5,"NULL"]
[44001,90001,2020,5,"NULL"]
[44002,90001,2020,5,"NULL"]
[44003,90001,2020,5,"NULL"]
[44004,90001,2020,5,"NULL"]
[44005,90001,2020,5,"NULL"]
[44006,90001,2020,5,"NULL"]
[44007,90001,2020,5,"NULL"]
[46002,90001,2020,5,"NULL"]
[46003,90002,2020,5,"NULL"]
[46004,90001,2020,5,"NULL"]
[46005,90002,2020,5,"NULL"]
[46006,90003,2020,6,"NULL"]
[46007,90003,2020,6,"NULL"]
[46008,90003,2020,6,"NULL"]
[46009,90003,2020,6,"NULL"]
[46012,90001,2020,5,"NULL"]
[46015,90002,2020,5,"NULL"]
[46018,90002,2020,5,"NULL"]
[46019,90002,2020,5,"NULL"]
[46020,90003,2020,6,"NULL"]
[46021,90003,2020,6,"NULL"]
[46022,90003,2020,6,"NULL"]
[46023,90003,2020,6,"NULL"]
[46025,90001,2020,5,"NULL"]
[47000,90001,2020,6,"NULL"]
[47034,90003,2020,6,"NULL"]
[47086,90004,2020,6,"NULL"]
[47134,90001,2020,5,"NULL"]

{"sheet":"purpose_code","index":21,"n_rows":305,"n_cols":23,"rows_kept":305,"cut":false,"hidden":true,"merged":[]}
["CRS Purposecode","PurposeName_e",null,null,"TOSSD Purposecode","PurposeName_e",null,"P&S",null,"OB 2022 Script"]
[0,"NULL",null,null,11110,"Education policy and administrative management",null,15200]
[11110,"Education policy and administrative management",null,null,11120,"Education facilities and training",null,15210,null,"SELECT --top 10  * "]
[11120,"Education facilities and training",null,null,11130,"Teacher training",null,15220,null,"Purposecode, PurposeName_e"]
[11130,"Teacher training",null,null,11182,"Educational research",null,15230,null,"FROM "]
[11182,"Educational research",null,null,11220,"Primary education",null,15240,null,"DCD_Prod.dcd.LookupPurposecode LP "]
[11220,"Primary education",null,null,11230,"Basic life skills for adults",null,15250,null,"WHERE "]
[11230,"Basic life skills for adults",null,null,11231,"Basic life skills for youth",null,15261,null,"Status in  (1,2,3)"]
[11231,"Basic life skills for youth",null,null,11232,"Primary education equivalent for adults",null,1513010]
[11232,"Primary education equivalent for adults",null,null,11240,"Early childhood education",null,1513020,null,"-- Select  * from DCD_Prod.dcd.LookupPurposeCodeStatus S"]
[11240,"Early childhood education",null,null,11250,"School feeding",null,1513030]
[11250,"School feeding",null,null,11260,"Lower secondary education",null,1516010]
[11260,"Lower secondary education",null,null,11320,"Upper Secondary Education (modified and includes data from 11322)",null,1516020,null,null,null,null,null,null,null,null,null,null,null,"00:00:00","00:00:00",null,""]
[11320,"Upper Secondary Education (modified and includes data from 11322)",null,null,11330,"Vocational training",null,1520010]
[11330,"Vocational training",null,null,11420,"Higher education",null,1520020]
[11420,"Higher education",null,null,11425,"Imputed student costs",null,15113]
[11425,"Imputed student costs",null,null,11430,"Advanced technical and managerial training",null,15130]
[11430,"Advanced technical and managerial training",null,null,12110,"Health policy and administrative management",null,15131]
[12110,"Health policy and administrative management",null,null,12181,"Medical education/training",null,15132]
[12181,"Medical education/training",null,null,12182,"Medical research",null,15134]
[12182,"Medical research",null,null,12191,"Medical services",null,15136]
[12191,"Medical services",null,null,12196,"Health statistics and data",null,15137]
[12196,"Health statistics and data",null,null,12220,"Basic health care",null,15153]
[12220,"Basic health care",null,null,12230,"Basic health infrastructure",null,15160]
[12230,"Basic health infrastructure",null,null,12240,"Basic nutrition",null,15170]
[12240,"Basic nutrition",null,null,12250,"Infectious disease control",null,15180]
[12250,"Infectious disease control",null,null,12261,"Health education",null,15190]
[12261,"Health education",null,null,12262,"Malaria control"]
[12262,"Malaria control",null,null,12263,"Tuberculosis control"]
[12263,"Tuberculosis control",null,null,12264,"COVID-19 control"]
[12264,"COVID-19 control",null,null,12281,"Health personnel development"]
[12265,"COVID-19 vaccines - excess doses",null,null,12310,"NCDs control, general"]
[12266,"COVID-19 vaccines - vaccines specifically purchased",null,null,12320,"Tobacco use control"]
[12267,"COVID-19 vaccines – ancillary costs",null,null,12330,"Control of harmful use of alcohol and drugs"]
[12281,"Health personnel development",null,null,12340,"Promotion of mental health and well-being"]
[12310,"NCDs control, general",null,null,12350,"Other prevention and treatment of NCDs"]
[12320,"Tobacco use control",null,null,12382,"Research for prevention and control of NCDs"]
[12330,"Control of harmful use of alcohol and drugs",null,null,13010,"Population policy and administrative management"]
[12340,"Promotion of mental health and well-being",null,null,13020,"Reproductive health care"]
[12350,"Other prevention and treatment of NCDs",null,null,13030,"Family planning"]
[12382,"Research for prevention and control of NCDs",null,null,13040,"STD control including HIV/AIDS"]
[13010,"Population policy and administrative management",null,null,13081,"Personnel development for population and reproductive health"]
[13020,"Reproductive health care",null,null,13096,"Population statistics and data"]
[13030,"Family planning",null,null,14010,"Water sector policy and administrative management"]
[13040,"STD control including HIV/AIDS",null,null,14015,"Water resources conservation (including data collection)"]
[13081,"Personnel development for population and reproductive health",null,null,14020,"Water supply and sanitation - large systems"]
[13096,"Population statistics and data",null,null,14021,"Water supply - large systems"]
[14010,"Water sector policy and administrative management",null,null,14022,"Sanitation - large systems"]
[14015,"Water resources conservation (including data collection)",null,null,14030,"Basic drinking water supply and basic sanitation"]
[14020,"Water supply and sanitation - large systems",null,null,14031,"Basic drinking water supply"]
[14021,"Water supply - large systems",null,null,14032,"Basic sanitation"]
[14022,"Sanitation - large systems",null,null,14040,"River basins development"]
[14030,"Basic drinking water supply and basic sanitation",null,null,14050,"Waste management/disposal"]
[14031,"Basic drinking water supply",null,null,14081,"Education and training in water supply and sanitation"]
[14032,"Basic sanitation",null,null,15110,"Public sector policy and administrative management"]
[14040,"River basins development",null,null,15111,"Public finance management (PFM)"]
[14050,"Waste management/disposal",null,null,15112,"Decentralisation and support to subnational government"]
[14081,"Education and training in water supply and sanitation",null,null,15113,"Anti-corruption organisations and institutions"]
[15110,"Public sector policy and administrative management",null,null,15114,"Domestic revenue mobilisation"]
[15111,"Public finance management (PFM)",null,null,15116,"Tax collection"]
[15112,"Decentralisation and support to subnational government",null,null,15117,"Budget planning"]
[15113,"Anti-corruption organisations and institutions",null,null,15118,"National audit"]
[15114,"Domestic revenue mobilisation",null,null,15119,"Debt and aid management"]
[15116,"Tax collection",null,null,15121,"Foreign affairs"]
[15117,"Budget planning",null,null,15122,"Diplomatic missions"]
[15118,"National audit",null,null,15123,"Administration of developing countries' foreign aid"]
[15119,"Debt and aid management",null,null,15124,"General personnel services"]
[15121,"Foreign affairs",null,null,15125,"Public Procurement"]
[15122,"Diplomatic missions",null,null,15126,"Other general public services"]
[15123,"Administration of developing countries' foreign aid",null,null,15127,"National monitoring and evaluation"]
[15124,"General personnel services",null,null,15128,"Local government finance"]
[15125,"Public Procurement",null,null,15129,"Other central transfers to institutions"]
[15126,"Other general public services",null,null,15130,"Legal and judicial development"]
[15127,"National monitoring and evaluation",null,null,15131,"Justice, law and order policy, planning and administration"]
[15128,"Local government finance",null,null,15132,"Police"]
[15129,"Other central transfers to institutions",null,null,15133,"Fire and rescue services"]
[15130,"Legal and judicial development",null,null,15134,"Judicial affairs"]
[15131,"Justice, law and order policy, planning and administration",null,null,15135,"Ombudsman"]
[15132,"Police",null,null,15136,"Immigration"]
[15133,"Fire and rescue services",null,null,15137,"Prisons"]
[15134,"Judicial affairs",null,null,15142,"Macroeconomic policy"]
[15135,"Ombudsman",null,null,15143,"Meteorological services"]
[15136,"Immigration",null,null,15144,"National standards development"]
[15137,"Prisons",null,null,15150,"Democratic participation and civil society"]
[15142,"Macroeconomic policy",null,null,15151,"Elections"]
[15143,"Meteorological services",null,null,15152,"Legislatures and political parties"]
[15144,"National standards development",null,null,15153,"Media and free flow of information"]
[15150,"Democratic participation and civil society",null,null,15154,"Executive office"]
[15151,"Elections",null,null,15155,"Tax policy and administration support"]
[15152,"Legislatures and political parties",null,null,15156,"Other non-tax revenue mobilisation"]
[15153,"Media and free flow of information",null,null,15160,"Human rights"]
[15154,"Executive office",null,null,15170,"Women's rights organisations and movements, and government institutions"]
[15155,"Tax policy and administration support",null,null,15180,"Ending violence against women and girls"]
[15156,"Other non-tax revenue mobilisation",null,null,15185,"Local government administration"]
[15160,"Human rights",null,null,15190,"Facilitation of orderly, safe, regular and responsible migration and mobility"]
[15170,"Women's rights organisations and movements, and government institutions",null,null,15196,"Government and civil society statistics and data"]
[15180,"Ending violence against women and girls",null,null,15210,"Security system management and reform"]
[15185,"Local government administration",null,null,15220,"Civilian peace-building, conflict prevention and resolution"]
[15190,"Facilitation of orderly, safe, regular and responsible migration and mobility",null,null,15230,"Participation in international peacekeeping operations"]
[15196,"Government and civil society statistics and data",null,null,15240,"Reintegration and SALW control"]
[15210,"Security system management and reform",null,null,15250,"Removal of land mines and explosive remnants of war"]
[15220,"Civilian peace-building, conflict prevention and resolution",null,null,15261,"Child soldiers (prevention and demobilisation)"]
[15230,"Participation in international peacekeeping operations",null,null,16010,"Social Protection"]
[15240,"Reintegration and SALW control",null,null,16011,"Social protection and welfare services policy, planning and administration"]
[15250,"Removal of land mines and explosive remnants of war",null,null,16012,"Social security (excl pensions)"]
[15261,"Child soldiers (prevention and demobilisation)",null,null,16013,"General pensions"]
[16010,"Social Protection",null,null,16014,"Civil service pensions"]
[16011,"Social protection and welfare services policy, planning and administration",null,null,16015,"Social services (incl youth development and women+ children)"]
[16012,"Social security (excl pensions)",null,null,16020,"Employment creation"]
[16013,"General pensions",null,null,16030,"Housing policy and administrative management"]
[16014,"Civil service pensions",null,null,16040,"Low-cost housing"]
[16015,"Social services (incl youth development and women+ children)",null,null,16050,"Multisector aid for basic social services"]
[16020,"Employment creation",null,null,16061,"Culture and cultural diversity"]
[16030,"Housing policy and administrative management",null,null,16062,"Statistical capacity building"]
[16040,"Low-cost housing",null,null,16063,"Narcotics control"]
[16050,"Multisector aid for basic social services",null,null,16064,"Social mitigation of HIV/AIDS"]
[16061,"Culture and cultural diversity",null,null,16065,"Recreation and sport"]
[16062,"Statistical capacity building",null,null,16066,"Culture"]
[16063,"Narcotics control",null,null,16070,"Labour rights"]
[16064,"Social mitigation of HIV/AIDS",null,null,16080,"Social dialogue"]
[16065,"Recreation and sport",null,null,21010,"Transport policy and administrative management"]
[16066,"Culture",null,null,21011,"Transport policy, planning and administration"]
[16070,"Labour rights",null,null,21012,"Public transport services"]
[16080,"Social dialogue",null,null,21013,"Transport regulation"]
[21010,"Transport policy and administrative management",null,null,21020,"Road transport"]
[21011,"Transport policy, planning and administration",null,null,21021,"Feeder road construction"]
[21012,"Public transport services",null,null,21022,"Feeder road maintenance"]
[21013,"Transport regulation",null,null,21023,"National road construction"]
[21020,"Road transport",null,null,21024,"National road maintenance"]
[21021,"Feeder road construction",null,null,21030,"Rail transport"]
[21022,"Feeder road maintenance",null,null,21040,"Water transport"]
[21023,"National road construction",null,null,21050,"Air transport"]
[21024,"National road maintenance",null,null,21061,"Storage"]
[21030,"Rail transport",null,null,21081,"Education and training in transport and storage"]
[21040,"Water transport",null,null,22010,"Communications policy and administrative management"]
[21050,"Air transport",null,null,22011,"Communications policy, planning and administration"]
[21061,"Storage",null,null,22012,"Postal services"]
[21081,"Education and training in transport and storage",null,null,22013,"Information services"]
[22010,"Communications policy and administrative management",null,null,22020,"Telecommunications"]
[22011,"Communications policy, planning and administration",null,null,22030,"Radio, television, print and online media"]
[22012,"Postal services",null,null,22040,"Information and communication technology (ICT)"]
[22013,"Information services",null,null,22081,"Education and training in ICT, telecommunications and media"]
[22020,"Telecommunications",null,null,23110,"Energy policy and administrative management"]
[22030,"Radio, television, print and online media",null,null,23111,"Energy sector policy, planning and administration"]
[22040,"Information and communication technology (ICT)",null,null,23112,"Energy regulation"]
[22081,"Education and training in ICT, telecommunications and media",null,null,23181,"Energy education/training"]
[23110,"Energy policy and administrative management",null,null,23182,"Energy research"]
[23111,"Energy sector policy, planning and administration",null,null,23183,"Energy conservation and demand-side efficiency"]
[23112,"Energy regulation",null,null,23210,"Energy generation, renewable sources - multiple technologies"]
[23181,"Energy education/training",null,null,23220,"Hydro-electric power plants"]
[23182,"Energy research",null,null,23230,"Solar energy for centralised grids"]
[23183,"Energy conservation and demand-side efficiency",null,null,23231,"Solar energy for isolated grids and standalone systems"]
[23210,"Energy generation, renewable sources - multiple technologies",null,null,23232,"Solar energy - thermal applications"]
[23220,"Hydro-electric power plants",null,null,23240,"Wind energy"]
[23230,"Solar energy for centralised grids",null,null,23250,"Marine energy"]
[23231,"Solar energy for isolated grids and standalone systems",null,null,23260,"Geothermal energy"]
[23232,"Solar energy - thermal applications",null,null,23270,"Biofuel-fired power plants"]
[23240,"Wind energy",null,null,23310,"Energy generation, non-renewable sources, unspecified"]
[23250,"Marine energy",null,null,23320,"Coal-fired electric power plants"]
[23260,"Geothermal energy",null,null,23330,"Oil-fired electric power plants"]
[23270,"Biofuel-fired power plants",null,null,23340,"Natural gas-fired electric power plants"]
[23310,"Energy generation, non-renewable sources, unspecified",null,null,23350,"Fossil fuel electric power plants with carbon capture and storage (CCS)"]
[23320,"Coal-fired electric power plants",null,null,23360,"Non-renewable waste-fired electric power plants"]
[23330,"Oil-fired electric power plants",null,null,23410,"Hybrid energy electric power plants"]
[23340,"Natural gas-fired electric power plants",null,null,23510,"Nuclear energy electric power plants and nuclear safety"]
[23350,"Fossil fuel electric power plants with carbon capture and storage (CCS)",null,null,23610,"Heat plants"]
[23360,"Non-renewable waste-fired electric power plants",null,null,23620,"District heating and cooling"]
[23410,"Hybrid energy electric power plants",null,null,23630,"Electric power transmission and distribution (centralised grids)"]
[23510,"Nuclear energy electric power plants and nuclear safety",null,null,23631,"Electric power transmission and distribution (isolated mini-grids)"]
[23610,"Heat plants",null,null,23640,"Retail gas distribution"]
[23620,"District heating and cooling",null,null,23641,"Retail distribution of liquid or solid fossil fuels"]
[23630,"Electric power transmission and distribution (centralised grids)",null,null,23642,"Electric mobility infrastructures"]
[23631,"Electric power transmission and distribution (isolated mini-grids)",null,null,24010,"Financial policy and administrative management"]
[23640,"Retail gas distribution",null,null,24020,"Monetary institutions"]
[23641,"Retail distribution of liquid or solid fossil fuels",null,null,24030,"Formal sector financial intermediaries"]
[23642,"Electric mobility infrastructures",null,null,24040,"Informal/semi-formal financial intermediaries"]
[24010,"Financial policy and administrative management",null,null,24050,"Remittance facilitation, promotion and optimisation"]
[24020,"Monetary institutions",null,null,24081,"Education/training in banking and financial services"]
[24030,"Formal sector financial intermediaries",null,null,25010,"Business policy and administration"]
[24040,"Informal/semi-formal financial intermediaries",null,null,25020,"Privatisation"]
[24050,"Remittance facilitation, promotion and optimisation",null,null,25030,"Business development services"]
[24081,"Education/training in banking and financial services",null,null,25040,"Responsible business conduct"]
[25010,"Business policy and administration",null,null,31110,"Agricultural policy and administrative management"]
[25020,"Privatisation",null,null,31120,"Agricultural development"]
[25030,"Business development services",null,null,31130,"Agricultural land resources"]
[25040,"Responsible business conduct",null,null,31140,"Agricultural water resources"]
[31110,"Agricultural policy and administrative management",null,null,31150,"Agricultural inputs"]
[31120,"Agricultural development",null,null,31161,"Food crop production"]
[31130,"Agricultural land resources",null,null,31162,"Industrial crops/export crops"]
[31140,"Agricultural water resources",null,null,31163,"Livestock"]
[31150,"Agricultural inputs",null,null,31164,"Agrarian reform"]
[31161,"Food crop production",null,null,31165,"Agricultural alternative development"]
[31162,"Industrial crops/export crops",null,null,31166,"Agricultural extension"]
[31163,"Livestock",null,null,31181,"Agricultural education/training"]
[31164,"Agrarian reform",null,null,31182,"Agricultural research"]
[31165,"Agricultural alternative development",null,null,31191,"Agricultural services"]
[31166,"Agricultural extension",null,null,31192,"Plant and post-harvest protection and pest control"]
[31181,"Agricultural education/training",null,null,31193,"Agricultural financial services"]
[31182,"Agricultural research",null,null,31194,"Agricultural co-operatives"]
[31191,"Agricultural services",null,null,31195,"Livestock/veterinary services"]
[31192,"Plant and post-harvest protection and pest control",null,null,31210,"Forestry policy and administrative management"]
[31193,"Agricultural financial services",null,null,31220,"Forestry development"]
[31194,"Agricultural co-operatives",null,null,31261,"Fuelwood/charcoal"]
[31195,"Livestock/veterinary services",null,null,31281,"Forestry education/training"]
[31210,"Forestry policy and administrative management",null,null,31282,"Forestry research"]
[31220,"Forestry development",null,null,31291,"Forestry services"]
[31261,"Fuelwood/charcoal",null,null,31310,"Fishing policy and administrative management"]
[31281,"Forestry education/training",null,null,31320,"Fishery development"]
[31282,"Forestry research",null,null,31381,"Fishery education/training"]
[31291,"Forestry services",null,null,31382,"Fishery research"]
[31310,"Fishing policy and administrative management",null,null,31391,"Fishery services"]
[31320,"Fishery development",null,null,32110,"Industrial policy and administrative management"]
[31381,"Fishery education/training",null,null,32120,"Industrial development"]
[31382,"Fishery research",null,null,32130,"Small and medium-sized enterprises (SME) development"]
[31391,"Fishery services",null,null,32140,"Cottage industries and handicraft"]
[32110,"Industrial policy and administrative management",null,null,32161,"Agro-industries"]
[32120,"Industrial development",null,null,32162,"Forest industries"]
[32130,"Small and medium-sized enterprises (SME) development",null,null,32163,"Textiles, leather and substitutes"]
[32140,"Cottage industries and handicraft",null,null,32164,"Chemicals"]
[32161,"Agro-industries",null,null,32165,"Fertilizer plants"]
[32162,"Forest industries",null,null,32166,"Cement/lime/plaster"]
[32163,"Textiles, leather and substitutes",null,null,32167,"Energy manufacturing (fossil fuels)"]
[32164,"Chemicals",null,null,32168,"Pharmaceutical production"]
[32165,"Fertilizer plants",null,null,32169,"Basic metal industries"]
[32166,"Cement/lime/plaster",null,null,32170,"Non-ferrous metal industries"]
[32167,"Energy manufacturing (fossil fuels)",null,null,32171,"Engineering"]
[32168,"Pharmaceutical production",null,null,32172,"Transport equipment industry"]
[32169,"Basic metal industries",null,null,32173,"Modern biofuels manufacturing"]
[32170,"Non-ferrous metal industries",null,null,32174,"Clean cooking appliances manufacturing"]
[32171,"Engineering",null,null,32182,"Technological research and development"]
[32172,"Transport equipment industry",null,null,32210,"Mineral/mining policy and administrative management"]
[32173,"Modern biofuels manufacturing",null,null,32220,"Mineral prospection and exploration"]
[32174,"Clean cooking appliances manufacturing",null,null,32261,"Coal"]
[32182,"Technological research and development",null,null,32262,"Oil and gas (upstream)"]
[32210,"Mineral/mining policy and administrative management",null,null,32263,"Ferrous metals"]
[32220,"Mineral prospection and exploration",null,null,32264,"Nonferrous metals"]
[32261,"Coal",null,null,32265,"Precious metals/materials"]
[32262,"Oil and gas (upstream)",null,null,32266,"Industrial minerals"]
[32263,"Ferrous metals",null,null,32267,"Fertilizer minerals"]
[32264,"Nonferrous metals",null,null,32268,"Offshore minerals"]
[32265,"Precious metals/materials",null,null,32310,"Construction policy and administrative management"]
[32266,"Industrial minerals",null,null,33110,"Trade policy and administrative management"]
[32267,"Fertilizer minerals",null,null,33120,"Trade facilitation"]
[32268,"Offshore minerals",null,null,33130,"Regional trade agreements (RTAs)"]
[32310,"Construction policy and administrative management",null,null,33140,"Multilateral trade negotiations"]
[33110,"Trade policy and administrative management",null,null,33150,"Trade-related adjustment"]
[33120,"Trade facilitation",null,null,33181,"Trade education/training"]
[33130,"Regional trade agreements (RTAs)",null,null,33210,"Tourism policy and administrative management"]
[33140,"Multilateral trade negotiations",null,null,41010,"Environmental policy and administrative management"]
[33150,"Trade-related adjustment",null,null,41020,"Biosphere protection"]
[33181,"Trade education/training",null,null,41030,"Biodiversity"]
[33210,"Tourism policy and administrative management",null,null,41040,"Site preservation"]
[41010,"Environmental policy and administrative management",null,null,41081,"Environmental education/training"]
[41020,"Biosphere protection",null,null,41082,"Environmental research"]
[41030,"Biodiversity",null,null,43010,"Multisector aid"]
[41040,"Site preservation",null,null,43030,"Urban development and management"]
[41081,"Environmental education/training",null,null,43031,"Urban land policy and management"]
[41082,"Environmental research",null,null,43032,"Urban development"]
[43010,"Multisector aid",null,null,43040,"Rural development"]
[43030,"Urban development and management",null,null,43041,"Rural land policy and management"]
[43031,"Urban land policy and management",null,null,43042,"Rural development"]
[43032,"Urban development",null,null,43050,"Non-agricultural alternative development"]
[43040,"Rural development",null,null,43060,"Disaster Risk Reduction"]
[43041,"Rural land policy and management",null,null,43071,"Food security policy and administrative management"]
[43042,"Rural development",null,null,43072,"Household food security programmes"]
[43050,"Non-agricultural alternative development",null,null,43073,"Food safety and quality"]
[43060,"Disaster Risk Reduction",null,null,43081,"Multisector education/training"]
[43071,"Food security policy and administrative management",null,null,43082,"Research/scientific institutions"]
[43072,"Household food security programmes",null,null,51010,"General budget support-related aid"]
[43073,"Food safety and quality",null,null,52010,"Food assistance"]
[43081,"Multisector education/training",null,null,53030,"Import support (capital goods)"]
[43082,"Research/scientific institutions",null,null,53040,"Import support (commodities)"]
[51010,"General budget support-related aid",null,null,60010,"Action relating to debt"]
[52010,"Food assistance",null,null,60020,"Debt forgiveness"]
[53030,"Import support (capital goods)",null,null,60030,"Relief of multilateral debt"]
[53040,"Import support (commodities)",null,null,60040,"Rescheduling and refinancing"]
[60010,"Action relating to debt",null,null,60061,"Debt for development swap"]
[60020,"Debt forgiveness",null,null,60062,"Other debt swap"]
[60030,"Relief of multilateral debt",null,null,60063,"Debt buy-back"]
[60040,"Rescheduling and refinancing",null,null,72010,"Material relief assistance and services "]
[60061,"Debt for development swap",null,null,72011,"Basic Health Care Services in Emergencies"]
[60062,"Other debt swap",null,null,72012,"Education in emergencies"]
[60063,"Debt buy-back",null,null,72040,"Emergency food assistance"]
[72010,"Material relief assistance and services ",null,null,72050,"Relief co-ordination and support services"]
[72011,"Basic Health Care Services in Emergencies",null,null,73010,"Immediate post-emergency reconstruction and rehabilitation"]
[72012,"Education in emergencies",null,null,74020,"Multi-hazard response preparedness"]
[72040,"Emergency food assistance",null,null,91010,"Administrative costs (non-sector allocable)"]
[72050,"Relief co-ordination and support services",null,null,93010,"Refugees/asylum seekers  in donor countries (non-sector allocable)"]
[73010,"Immediate post-emergency reconstruction and rehabilitation",null,null,93011,"Refugees/asylum seekers in donor countries - food and shelter "]
[74020,"Multi-hazard response preparedness",null,null,93012,"Refugees/asylum seekers in donor countries - training"]
[91010,"Administrative costs (non-sector allocable)",null,null,93013,"Refugees/asylum seekers in donor countries - health"]
[93010,"Refugees/asylum seekers  in donor countries (non-sector allocable)",null,null,93014,"Refugees/asylum seekers in donor countries - other temporary sustenance"]
[93011,"Refugees/asylum seekers in donor countries - food and shelter ",null,null,93015,"Refugees/asylum seekers in donor countries - voluntary repatriation"]
[93012,"Refugees/asylum seekers in donor countries - training",null,null,93016,"Refugees/asylum seekers in donor countries - transport"]
[93013,"Refugees/asylum seekers in donor countries - health",null,null,93017,"Refugees/asylum seekers in donor countries - rescue at sea"]
[93014,"Refugees/asylum seekers in donor countries - other temporary sustenance",null,null,93018,"Refugees/asylum seekers in donor countries - administrative costs"]
[93015,"Refugees/asylum seekers in donor countries - voluntary repatriation",null,null,99810,"Sectors not specified"]
[93016,"Refugees/asylum seekers in donor countries - transport",null,null,99820,"Promotion of development awareness (non-sector allocable)"]
[93017,"Refugees/asylum seekers in donor countries - rescue at sea",null,null,1513010,"Fight against transnational organised crime"]
[93018,"Refugees/asylum seekers in donor countries - administrative costs",null,null,1513020,"Countering violent extremism"]
[99810,"Sectors not specified",null,null,1513030,"Cyber security"]
[99820,"Promotion of development awareness (non-sector allocable)",null,null,1516010,"Transitional justice"]
[null,null,null,null,1516020,"International criminal justice"]
[null,null,null,null,1520010,"Disarmament of Weapons of Mass Destruction (WMD)"]
[null,null,null,null,1520020,"Prevention of Violent Extremism"]

{"sheet":"SDG_focus","index":22,"n_rows":205,"n_cols":2,"rows_kept":205,"cut":false,"hidden":true,"merged":[]}
["target","NameE"]
["0","activity screened but does not aim to contribute directly to any of the SDGs"]
["1","End poverty in all its forms everywhere"]
["1.1","By 2030, eradicate extreme poverty for all people everywhere, currently measured as people living on less than $1.25 a day"]
["1.2","By 2030, reduce at least by half the proportion of men, women and children of all ages living in poverty in all its dimensions according to national definitions"]
["1.3","Implement nationally appropriate social protection systems and measures for all, including floors, and by 2030 achieve substantial coverage of the poor and the vulnerable"]
["1.4","By 2030, ensure that all men and women, in particular the poor and the vulnerable, have equal rights to economic resources, as well as access to basic services, ownership and control over land and other forms of property, inheritance, natural resources, appropriate new technology and financial services, including microfinance"]
["1.5","By 2030, build the resilience of the poor and those in vulnerable situations and reduce their exposure and vulnerability to climate-related extreme events and other economic, social and environmental shocks and disasters"]
["1.a","Ensure significant mobilization of resources from a variety of sources, including through enhanced development cooperation, in order to provide adequate and predictable means for developing countries, in particular least developed countries, to implement programmes and policies to end poverty in all its dimensions"]
["1.b","Create sound policy frameworks at the national, regional and international levels, based on pro-poor and gender-sensitive development strategies, to support accelerated investment in poverty eradication actions"]
["2","End hunger, achieve food security and improved nutrition and promote sustainable agriculture"]
["2.1","By 2030, end hunger and ensure access by all people, in particular the poor and people in vulnerable situations, including infants, to safe, nutritious and sufficient food all year round"]
["2.2","By 2030, end all forms of malnutrition, including achieving, by 2025, the internationally agreed targets on stunting and wasting in children under 5 years of age, and address the nutritional needs of adolescent girls, pregnant and lactating women and older persons"]
["2.3","By 2030, double the agricultural productivity and incomes of small-scale food producers, in particular women, indigenous peoples, family farmers, pastoralists and fishers, including through secure and equal access to land, other productive resources and inputs, knowledge, financial services, markets and opportunities for value addition and non-farm employment"]
["2.4","By 2030, ensure sustainable food production systems and implement resilient agricultural practices that increase productivity and production, that help maintain ecosystems, that strengthen capacity for adaptation to climate change, extreme weather, drought, flooding and other disasters and that progressively improve land and soil quality"]
["2.5","By 2020, maintain the genetic diversity of seeds, cultivated plants and farmed and domesticated animals and their related wild species, including through soundly managed and diversified seed and plant banks at the national, regional and international levels, and promote access to and fair and equitable sharing of benefits arising from the utilization of genetic resources and associated traditional knowledge, as internationally agreed"]
["2.a","Increase investment, including through enhanced international cooperation, in rural infrastructure, agricultural research and extension services, technology development and plant and livestock gene banks in order to enhance agricultural productive capacity in developing countries, in particular least developed countries"]
["2.b","Correct and prevent trade restrictions and distortions in world agricultural markets, including through the parallel elimination of all forms of agricultural export subsidies and all export measures with equivalent effect, in accordance with the mandate of the Doha Development Round"]
["2.c","Adopt measures to ensure the proper functioning of food commodity markets and their derivatives and facilitate timely access to market information, including on food reserves, in order to help limit extreme food price volatility"]
["3","Ensure healthy lives and promote well-being for all at all ages"]
["3.1","By 2030, reduce the global maternal mortality ratio to less than 70 per 100,000 live births"]
["3.2","By 2030, end preventable deaths of newborns and children under 5 years of age, with all countries aiming to reduce neonatal mortality to at least as low as 12 per 1,000 live births and under-5 mortality to at least as low as 25 per 1,000 live births"]
["3.3","By 2030, end the epidemics of AIDS, tuberculosis, malaria and neglected tropical diseases and combat hepatitis, water-borne diseases and other communicable diseases"]
["3.4","By 2030, reduce by one third premature mortality from non-communicable diseases through prevention and treatment and promote mental health and well-being"]
["3.5","Strengthen the prevention and treatment of substance abuse, including narcotic drug abuse and harmful use of alcohol"]
["3.6","By 2020, halve the number of global deaths and injuries from road traffic accidents"]
["3.7","By 2030, ensure universal access to sexual and reproductive health-care services, including for family planning, information and education, and the integration of reproductive health into national strategies and programmes"]
["3.8","Achieve universal health coverage, including financial risk protection, access to quality essential health-care services and access to safe, effective, quality and affordable essential medicines and vaccines for all"]
["3.9","By 2030, substantially reduce the number of deaths and illnesses from hazardous chemicals and air, water and soil pollution and contamination"]
["3.a","Strengthen the implementation of the World Health Organization Framework Convention on Tobacco Control in all countries, as appropriate"]
["3.b","Support the research and development of vaccines and medicines for the communicable and non-communicable diseases that primarily affect developing countries, provide access to affordable essential medicines and vaccines, in accordance with the Doha Declaration on the TRIPS Agreement and Public Health, which affirms the right of developing countries to use to the full the provisions in the Agreement on Trade-Related Aspects of Intellectual Property Rights regarding flexibilities to protect public health, and, in particular, provide access to medicines for all"]
["3.c","Substantially increase health financing and the recruitment, development, training and retention of the health workforce in developing countries, especially in least developed countries and small island developing States"]
["3.d","Strengthen the capacity of all countries, in particular developing countries, for early warning, risk reduction and management of national and global health risks"]
["4","Ensure inclusive and equitable quality education and promote lifelong learning opportunities for all"]
["4.1","By 2030, ensure that all girls and boys complete free, equitable and quality primary and secondary education leading to relevant and effective learning outcomes"]
["4.2","By 2030, ensure that all girls and boys have access to quality early childhood development, care and pre-primary education so that they are ready for primary education"]
["4.3","By 2030, ensure equal access for all women and men to affordable and quality technical, vocational and tertiary education, including university"]
["4.4","By 2030, substantially increase the number of youth and adults who have relevant skills, including technical and vocational skills, for employment, decent jobs and entrepreneurship"]
["4.5","By 2030, eliminate gender disparities in education and ensure equal access to all levels of education and vocational training for the vulnerable, including persons with disabilities, indigenous peoples and children in vulnerable situations"]
["4.6","By 2030, ensure that all youth and a substantial proportion of adults, both men and women, achieve literacy and numeracy"]
["4.7","By 2030, ensure that all learners acquire the knowledge and skills needed to promote sustainable development, including, among others, through education for sustainable development and sustainable lifestyles, human rights, gender equality, promotion of a culture of peace and non-violence, global citizenship and appreciation of cultural diversity and of culture’s contribution to sustainable development"]
["4.a","Build and upgrade education facilities that are child, disability and gender sensitive and provide safe, non-violent, inclusive and effective learning environments for all"]
["4.b","By 2020, substantially expand globally the number of scholarships available to developing countries, in particular least developed countries, small island developing States and African countries, for enrolment in higher education, including vocational training and information and communications technology, technical, engineering and scientific programmes, in developed countries and other developing countries"]
["4.c","By 2030, substantially increase the supply of qualified teachers, including through international cooperation for teacher training in developing countries, especially least developed countries and small island developing States"]
["5","Achieve gender equality and empower all women and girls"]
["5.1","End all forms of discrimination against all women and girls everywhere"]
["5.2","Eliminate all forms of violence against all women and girls in the public and private spheres, including trafficking and sexual and other types of exploitation"]
["5.3","Eliminate all harmful practices, such as child, early and forced marriage and female genital mutilation"]
["5.4","Recognize and value unpaid care and domestic work through the provision of public services, infrastructure and social protection policies and the promotion of shared responsibility within the household and the family as nationally appropriate"]
["5.5","Ensure women’s full and effective participation and equal opportunities for leadership at all levels of decision-making in political, economic and public life"]
["5.6","Ensure universal access to sexual and reproductive health and reproductive rights as agreed in accordance with the Programme of Action of the International Conference on Population and Development and the Beijing Platform for Action and the outcome documents of their review conferences"]
["5.a","Undertake reforms to give women equal rights to economic resources, as well as access to ownership and control over land and other forms of property, financial services, inheritance and natural resources, in accordance with national laws"]
["5.b","Enhance the use of enabling technology, in particular information and communications technology, to promote the empowerment of women"]
["5.c","Adopt and strengthen sound policies and enforceable legislation for the promotion of gender equality and the empowerment of all women and girls at all levels"]
["6","Ensure availability and sustainable management of water and sanitation for all"]
["6.1","By 2030, achieve universal and equitable access to safe and affordable drinking water for all"]
["6.2","By 2030, achieve access to adequate and equitable sanitation and hygiene for all and end open defecation, paying special attention to the needs of women and girls and those in vulnerable situations"]
["6.3","By 2030, improve water quality by reducing pollution, eliminating dumping and minimizing release of hazardous chemicals and materials, halving the proportion of untreated wastewater and substantially increasing recycling and safe reuse globally"]
["6.4","By 2030, substantially increase water-use efficiency across all sectors and ensure sustainable withdrawals and supply of freshwater to address water scarcity and substantially reduce the number of people suffering from water scarcity"]
["6.5","By 2030, implement integrated water resources management at all levels, including through transboundary cooperation as appropriate"]
["6.6","By 2020, protect and restore water-related ecosystems, including mountains, forests, wetlands, rivers, aquifers and lakes"]
["6.a","By 2030, expand international cooperation and capacity-building support to developing countries in water- and sanitation-related activities and programmes, including water harvesting, desalination, water efficiency, wastewater treatment, recycling and reuse technologies"]
["6.b","Support and strengthen the participation of local communities in improving water and sanitation management"]
["7","Ensure access to affordable, reliable, sustainable and modern energy for all"]
["7.1","By 2030, ensure universal access to affordable, reliable and modern energy services"]
["7.2","By 2030, increase substantially the share of renewable energy in the global energy mix"]
["7.3","By 2030, double the global rate of improvement in energy efficiency"]
["7.a","By 2030, enhance international cooperation to facilitate access to clean energy research and technology, including renewable energy, energy efficiency and advanced and cleaner fossil-fuel technology, and promote investment in energy infrastructure and clean energy technology"]
["7.b","By 2030, expand infrastructure and upgrade technology for supplying modern and sustainable energy services for all in developing countries, in particular least developed countries, small island developing States and landlocked developing countries, in accordance with their respective programmes of support"]
["8","Promote sustained, inclusive and sustainable economic growth, full and productive employment and decent work for all"]
["8.1","Sustain per capita economic growth in accordance with national circumstances and, in particular, at least 7 per cent gross domestic product growth per annum in the least developed countries"]
["8.2","Achieve higher levels of economic productivity through diversification, technological upgrading and innovation, including through a focus on high-value added and labour-intensive sectors"]
["8.3","Promote development-oriented policies that support productive activities, decent job creation, entrepreneurship, creativity and innovation, and encourage the formalization and growth of micro-, small- and medium-sized enterprises, including through access to financial services"]
["8.4","Improve progressively, through 2030, global resource efficiency in consumption and production and endeavour to decouple economic growth from environmental degradation, in accordance with the 10-Year Framework of Programmes on Sustainable Consumption and Production, with developed countries taking the lead"]
["8.5","By 2030, achieve full and productive employment and decent work for all women and men, including for young people and persons with disabilities, and equal pay for work of equal value"]
["8.6","By 2020, substantially reduce the proportion of youth not in employment, education or training"]
["8.7","Take immediate and effective measures to eradicate forced labour, end modern slavery and human trafficking and secure the prohibition and elimination of the worst forms of child labour, including recruitment and use of child soldiers, and by 2025 end child labour in all its forms "]
["8.8","Protect labour rights and promote safe and secure working environments for all workers, including migrant workers, in particular women migrants, and those in precarious employment"]
["8.9","By 2030, devise and implement policies to promote sustainable tourism that creates jobs and promotes local culture and products"]
["8.10","Strengthen the capacity of domestic financial institutions to encourage and expand access to banking, insurance and financial services for all"]
["8.a","Increase Aid for Trade support for developing countries, in particular least developed countries, including through the Enhanced Integrated Framework for Trade-related Technical Assistance to Least Developed Countries"]
["8.b","By 2020, develop and operationalize a global strategy for youth employment and implement the Global Jobs Pact of the International Labour Organization"]
["9","Build resilient infrastructure, promote inclusive and sustainable industrialization and foster innovation"]
["9.1","Develop quality, reliable, sustainable and resilient infrastructure, including regional and transborder infrastructure, to support economic development and human well-being, with a focus on affordable and equitable access for all"]
["9.2","Promote inclusive and sustainable industrialization and, by 2030, significantly raise industry’s share of employment and gross domestic product, in line with national circumstances, and double its share in least developed countries"]
["9.3","Increase the access of small-scale industrial and other enterprises, in particular in developing countries, to financial services, including affordable credit, and their integration into value chains and markets"]
["9.4","By 2030, upgrade infrastructure and retrofit industries to make them sustainable, with increased resource-use efficiency and greater adoption of clean and environmentally sound technologies and industrial processes, with all countries taking action in accordance with their respective capabilities"]
["9.5","Enhance scientific research, upgrade the technological capabilities of industrial sectors in all countries, in particular developing countries, including, by 2030, encouraging innovation and substantially increasing the number of research and development workers per 1 million people and public and private research and development spending"]
["9.a","Facilitate sustainable and resilient infrastructure development in developing countries through enhanced financial, technological and technical support to African countries, least developed countries, landlocked developing countries and small island developing States"]
["9.b","Support domestic technology development, research and innovation in developing countries, including by ensuring a conducive policy environment for, inter alia, industrial diversification and value addition to commodities"]
["9.c","Significantly increase access to information and communications technology and strive to provide universal and affordable access to the Internet in least developed countries by 2020"]
["10","Reduce inequality within and among countries"]
["10.1","By 2030, progressively achieve and sustain income growth of the bottom 40 per cent of the population at a rate higher than the national average"]
["10.2","By 2030, empower and promote the social, economic and political inclusion of all, irrespective of age, sex, disability, race, ethnicity, origin, religion or economic or other status"]
["10.3","Ensure equal opportunity and reduce inequalities of outcome, including by eliminating discriminatory laws, policies and practices and promoting appropriate legislation, policies and action in this regard"]
["10.4","Adopt policies, especially fiscal, wage and social protection policies, and progressively achieve greater equality"]
["10.5","Improve the regulation and monitoring of global financial markets and institutions and strengthen the implementation of such regulations"]
["10.6","Ensure enhanced representation and voice for developing countries in decision-making in global international economic and financial institutions in order to deliver more effective, credible, accountable and legitimate institutions"]
["10.7","Facilitate orderly, safe, regular and responsible migration and mobility of people, including through the implementation of planned and well-managed migration policies"]
["10.a","Implement the principle of special and differential treatment for developing countries, in particular least developed countries, in accordance with World Trade Organization agreements"]
["10.b","Encourage official development assistance and financial flows, including foreign direct investment, to States where the need is greatest, in particular least developed countries, African countries, small island developing States and landlocked developing countries, in accordance with their national plans and programmes"]
["10.c","By 2030, reduce to less than 3 per cent the transaction costs of migrant remittances and eliminate remittance corridors with costs higher than 5 per cent"]
["11","Make cities and human settlements inclusive, safe, resilient and sustainable"]
["11.1","By 2030, ensure access for all to adequate, safe and affordable housing and basic services and upgrade slums"]
["11.2","By 2030, provide access to safe, affordable, accessible and sustainable transport systems for all, improving road safety, notably by expanding public transport, with special attention to the needs of those in vulnerable situations, women, children, persons with disabilities and older persons"]
["11.3","By 2030, enhance inclusive and sustainable urbanization and capacity for participatory, integrated and sustainable human settlement planning and management in all countries"]
["11.4","Strengthen efforts to protect and safeguard the world’s cultural and natural heritage"]
["11.5","By 2030, significantly reduce the number of deaths and the number of people affected and substantially decrease the direct economic losses relative to global gross domestic product caused by disasters, including water-related disasters, with a focus on protecting the poor and people in vulnerable situations"]
["11.6","By 2030, reduce the adverse per capita environmental impact of cities, including by paying special attention to air quality and municipal and other waste management"]
["11.7","By 2030, provide universal access to safe, inclusive and accessible, green and public spaces, in particular for women and children, older persons and persons with disabilities"]
["11.a","Support positive economic, social and environmental links between urban, peri-urban and rural areas by strengthening national and regional development planning"]
["11.b","By 2020, substantially increase the number of cities and human settlements adopting and implementing integrated policies and plans towards inclusion, resource efficiency, mitigation and adaptation to climate change, resilience to disasters, and develop and implement, in line with the Sendai Framework for Disaster Risk Reduction 2015–2030, holistic disaster risk management at all levels"]
["11.c","Support least developed countries, including through financial and technical assistance, in building sustainable and resilient buildings utilizing local materials"]
["12","Ensure sustainable consumption and production patterns"]
["12.1","Implement the 10-Year Framework of Programmes on Sustainable Consumption and Production Patterns, all countries taking action, with developed countries taking the lead, taking into account the development and capabilities of developing countries"]
["12.2","By 2030, achieve the sustainable management and efficient use of natural resources"]
["12.3","By 2030, halve per capita global food waste at the retail and consumer levels and reduce food losses along production and supply chains, including post-harvest losses"]
["12.4","By 2020, achieve the environmentally sound management of chemicals and all wastes throughout their life cycle, in accordance with agreed international frameworks, and significantly reduce their release to air, water and soil in order to minimize their adverse impacts on human health and the environment"]
["12.5","By 2030, substantially reduce waste generation through prevention, reduction, recycling and reuse"]
["12.6","Encourage companies, especially large and transnational companies, to adopt sustainable practices and to integrate sustainability information into their reporting cycle"]
["12.7","Promote public procurement practices that are sustainable, in accordance with national policies and priorities"]
["12.8","By 2030, ensure that people everywhere have the relevant information and awareness for sustainable development and lifestyles in harmony with nature"]
["12.a","Support developing countries to strengthen their scientific and technological capacity to move towards more sustainable patterns of consumption and production"]
["12.b","Develop and implement tools to monitor sustainable development impacts for sustainable tourism that creates jobs and promotes local culture and products"]
["12.c","Rationalize inefficient fossil-fuel subsidies that encourage wasteful consumption by removing market distortions, in accordance with national circumstances, including by restructuring taxation and phasing out those harmful subsidies, where they exist, to reflect their environmental impacts, taking fully into account the specific needs and conditions of developing countries and minimizing the possible adverse impacts on their development in a manner that protects the poor and the affected communities"]
["13","Take urgent action to combat climate change and its impacts"]
["13.1","Strengthen resilience and adaptive capacity to climate-related hazards and natural disasters in all countries"]
["13.2","Integrate climate change measures into national policies, strategies and planning"]
["13.3","Improve education, awareness-raising and human and institutional capacity on climate change mitigation, adaptation, impact reduction and early warning"]
["13.a","Implement the commitment undertaken by developed-country parties to the United Nations Framework Convention on Climate Change to a goal of mobilizing jointly $100 billion annually by 2020 from all sources to address the needs of developing countries in the context of meaningful mitigation actions and transparency on implementation and fully operationalize the Green Climate Fund through its capitalization as soon as possible"]
["13.b","Promote mechanisms for raising capacity for effective climate change-related planning and management in least developed countries and small island developing States, including focusing on women, youth and local and marginalized communities"]
["14","Conserve and sustainably use the oceans, seas and marine resources for sustainable development"]
["14.1","By 2025, prevent and significantly reduce marine pollution of all kinds, in particular from land-based activities, including marine debris and nutrient pollution"]
["14.2","By 2020, sustainably manage and protect marine and coastal ecosystems to avoid significant adverse impacts, including by strengthening their resilience, and take action for their restoration in order to achieve healthy and productive oceans"]
["14.3","Minimize and address the impacts of ocean acidification, including through enhanced scientific cooperation at all levels"]
["14.4","By 2020, effectively regulate harvesting and end overfishing, illegal, unreported and unregulated fishing and destructive fishing practices and implement science-based management plans, in order to restore fish stocks in the shortest time feasible, at least to levels that can produce maximum sustainable yield as determined by their biological characteristics"]
["14.5","By 2020, conserve at least 10 per cent of coastal and marine areas, consistent with national and international law and based on the best available scientific information"]
["14.6","By 2020, prohibit certain forms of fisheries subsidies which contribute to overcapacity and overfishing, eliminate subsidies that contribute to illegal, unreported and unregulated fishing and refrain from introducing new such subsidies, recognizing that appropriate and effective special and differential treatment for developing and least developed countries should be an integral part of the World Trade Organization fisheries subsidies negotiation3"]
["14.7","By 2030, increase the economic benefits to small island developing States and least developed countries from the sustainable use of marine resources, including through sustainable management of fisheries, aquaculture and tourism"]
["14.a","Increase scientific knowledge, develop research capacity and transfer marine technology, taking into account the Intergovernmental Oceanographic Commission Criteria and Guidelines on the Transfer of Marine Technology, in order to improve ocean health and to enhance the contribution of marine biodiversity to the development of developing countries, in particular small island developing States and least developed countries"]
["14.b","Provide access for small-scale artisanal fishers to marine resources and markets"]
["14.c","Enhance the conservation and sustainable use of oceans and their resources by implementing international law as reflected in the United Nations Convention on the Law of the Sea, which provides the legal framework for the conservation and sustainable use of oceans and their resources, as recalled in paragraph 158 of “The future we want”"]
["15","Protect, restore and promote sustainable use of terrestrial ecosystems, sustainably manage forests, combat desertification, and halt and reverse land degradation and halt biodiversity loss"]
["15.1","By 2020, ensure the conservation, restoration and sustainable use of terrestrial and inland freshwater ecosystems and their services, in particular forests, wetlands, mountains and drylands, in line with obligations under international agreements"]
["15.2","By 2020, promote the implementation of sustainable management of all types of forests, halt deforestation, restore degraded forests and substantially increase afforestation and reforestation globally"]
["15.3","By 2030, combat desertification, restore degraded land and soil, including land affected by desertification, drought and floods, and strive to achieve a land degradation-neutral world"]
["15.4","By 2030, ensure the conservation of mountain ecosystems, including their biodiversity, in order to enhance their capacity to provide benefits that are essential for sustainable development"]
["15.5","Take urgent and significant action to reduce the degradation of natural habitats, halt the loss of biodiversity and, by 2020, protect and prevent the extinction of threatened species"]
["15.6","Promote fair and equitable sharing of the benefits arising from the utilization of genetic resources and promote appropriate access to such resources, as internationally agreed"]
["15.7","Take urgent action to end poaching and trafficking of protected species of flora and fauna and address both demand and supply of illegal wildlife products"]
["15.8","By 2020, introduce measures to prevent the introduction and significantly reduce the impact of invasive alien species on land and water ecosystems and control or eradicate the priority species"]
["15.9","By 2020, integrate ecosystem and biodiversity values into national and local planning, development processes, poverty reduction strategies and accounts"]
["15.a","Mobilize and significantly increase financial resources from all sources to conserve and sustainably use biodiversity and ecosystems"]
["15.b","Mobilize significant resources from all sources and at all levels to finance sustainable forest management and provide adequate incentives to developing countries to advance such management, including for conservation and reforestation"]
["15.c","Enhance global support for efforts to combat poaching and trafficking of protected species, including by increasing the capacity of local communities to pursue sustainable livelihood opportunities"]
["16","Promote peaceful and inclusive societies for sustainable development, provide access to justice for all and build effective, accountable and inclusive institutions at all levels"]
["16.1","Significantly reduce all forms of violence and related death rates everywhere"]
["16.2","End abuse, exploitation, trafficking and all forms of violence against and torture of children"]
["16.3","Promote the rule of law at the national and international levels and ensure equal access to justice for all"]
["16.4","By 2030, significantly reduce illicit financial and arms flows, strengthen the recovery and return of stolen assets and combat all forms of organized crime"]
["16.5","Substantially reduce corruption and bribery in all their forms"]
["16.6","Develop effective, accountable and transparent institutions at all levels"]
["16.7","Ensure responsive, inclusive, participatory and representative decision-making at all levels"]
["16.8","Broaden and strengthen the participation of developing countries in the institutions of global governance"]
["16.9","By 2030, provide legal identity for all, including birth registration"]
["16.10","Ensure public access to information and protect fundamental freedoms, in accordance with national legislation and international agreements"]
["16.a","Strengthen relevant national institutions, including through international cooperation, for building capacity at all levels, in particular in developing countries, to prevent violence and combat terrorism and crime"]
["16.b","Promote and enforce non-discriminatory laws and policies for sustainable development"]
["17","Strengthen the means of implementation and revitalize the global partnership for sustainable development"]
["17.1","Strengthen domestic resource mobilization, including through international support to developing countries, to improve domestic capacity for tax and other revenue collection"]
["17.2","Developed countries to implement fully their official development assistance commitments, including the commitment by many developed countries to achieve the target of 0.7 per cent of gross national income for official development assistance (ODA/GNI) to developing countries and 0.15 to 0.20 per cent of ODA/GNI to least developed countries; ODA providers are encouraged to consider setting a target to provide at least 0.20 per cent of ODA/GNI to least developed countries"]
["17.3","Mobilize additional financial resources for developing countries from multiple sources"]
["17.4","Assist developing countries in attaining long-term debt sustainability through coordinated policies aimed at fostering debt financing, debt relief and debt restructuring, as appropriate, and address the external debt of highly indebted poor countries to reduce debt distress"]
["17.5","Adopt and implement investment promotion regimes for least developed countries"]
["17.6","Enhance North-South, South-South and triangular regional and international cooperation on and access to science, technology and innovation and enhance knowledge-sharing on mutually agreed terms, including through improved coordination among existing mechanisms, in particular at the United Nations level, and through a global technology facilitation mechanism"]
["17.7","Promote the development, transfer, dissemination and diffusion of environmentally sound technologies to developing countries on favourable terms, including on concessional and preferential terms, as mutually agreed"]
["17.8","Fully operationalize the technology bank and science, technology and innovation capacity-building mechanism for least developed countries by 2017 and enhance the use of enabling technology, in particular information and communications technology"]
["17.9","Enhance international support for implementing effective and targeted capacity-building in developing countries to support national plans to implement all the Sustainable Development Goals, including through North-South, South-South and triangular cooperation"]
["17.10","Promote a universal, rules-based, open, non-discriminatory and equitable multilateral trading system under the World Trade Organization, including through the conclusion of negotiations under its Doha Development Agenda"]
["17.11","Significantly increase the exports of developing countries, in particular with a view to doubling the least developed countries’ share of global exports by 2020"]
["17.12","Realize timely implementation of duty-free and quota-free market access on a lasting basis for all least developed countries, consistent with World Trade Organization decisions, including by ensuring that preferential rules of origin applicable to imports from least developed countries are transparent and simple, and contribute to facilitating market access"]
["17.13","Enhance global macroeconomic stability, including through policy coordination and policy coherence"]
["17.14","Enhance policy coherence for sustainable development"]
["17.15","Respect each country’s policy space and leadership to establish and implement policies for poverty eradication and sustainable development"]
["17.16","Enhance the Global Partnership for Sustainable Development, complemented by multi-stakeholder partnerships that mobilize and share knowledge, expertise, technology and financial resources, to support the achievement of the Sustainable Development Goals in all countries, in particular developing countries"]
["17.17","Encourage and promote effective public, public-private and civil society partnerships, building on the experience and resourcing strategies of partnerships"]
["17.18","By 2020, enhance capacity-building support to developing countries, including for least developed countries and small island developing States, to increase significantly the availability of high-quality, timely and reliable data disaggregated by income, gender, age, race, ethnicity, migratory status, disability, geographic location and other characteristics relevant in national contexts"]
["17.19","By 2030, build on existing initiatives to develop measurements of progress on sustainable development that complement gross domestic product, and support statistical capacity-building in developing countries"]
["1.0"]
["2.0"]
["3.0"]
["4.0"]
["5.0"]
["6.0"]
["7.0"]
["8.0"]
["9.0"]
["10.0"]
["11.0"]
["12.0"]
["13.0"]
["14.0"]
["15.0"]
["16.0"]
["17.0"]

{"sheet":"channel_codes","index":23,"n_rows":431,"n_cols":17,"rows_kept":431,"cut":false,"hidden":true,"merged":[]}
["code","Acronym e","code name e","Acronym f","code name f","Parent code",null,null,null,null,"TOSSD","code","Acronym e","code name e","Acronym f","code name f","Parent code"]
[10000," ","Public Sector Institutions"," ","Institutions du secteur public",10000,null,null,null,null,null,10000," ","Public Sector Institutions"," ","Institutions du secteur public",10000]
[11000," ","Donor Government"," ","Gouvernement du donneur",10000,null,null,null,null,null,11000," ","Donor Government"," ","Gouvernement du donneur",10000]
[11001," ","Central Government"," ","Gouvernment central",11000,null,null,null,null,null,11001," ","Central Government"," ","Gouvernment central",11000]
[11002," ","Local Government"," ","Gouvernment local",11000,null,null,null,null,null,11002," ","Local Government"," ","Gouvernment local",11000]
[11003," ","Public corporations"," ","Entreprise publique",11000,null,null,null,null,null,11003," ","Public corporations"," ","Entreprise publique",11000]
[11004," ","Other public entities in donor country"," ","Autres entité publique dans le pays donneur",11000,null,null,null,null,null,11004," ","Other public entities in donor country"," ","Autres entité publique dans le pays donneur",11000]
[12000," ","Recipient Government"," ","Gouvernement du bénéficiaire",10000,null,null,null,null,null,12000," ","Recipient Government"," ","Gouvernement du bénéficiaire",10000]
[12001," ","Central Government"," ","Gouvernment central",12000,null,null,null,null,null,12001," ","Central Government"," ","Gouvernment central",12000]
[12002," ","Local Government"," ","Gouvernment local",12000,null,null,null,null,null,12002," ","Local Government"," ","Gouvernment local",12000]
[12003," ","Public corporations"," ","Entreprise publique",12000,null,null,null,null,null,12003," ","Public corporations"," ","Entreprise publique",12000]
[12004," ","Other public entities in recipient country"," ","Autres entité publique dans le pays bénéficiaire",12000,null,null,null,null,null,12004," ","Other public entities in recipient country"," ","Autres entité publique dans le pays bénéficiaire",12000]
[13000," ","Third Country Government (Delegated co-operation)"," ","Gouvernement tiers (coopération déléguée)",10000,null,null,null,null,null,13000," ","Third Country Government (Delegated co-operation)"," ","Gouvernement tiers (coopération déléguée)",10000]
[20000," ","Non-Governmental Organisation (NGO) and Civil Society"," ","Organisations non gouvernementales (ONG) et société civile",20000,null,null,null,null,null,20000," ","Non-Governmental Organisation (NGO) and Civil Society"," ","Organisations non gouvernementales (ONG) et société civile",20000]
[21000," ","International NGO"," ","ONG internationales",20000,null,null,null,null,null,21000," ","International NGO"," ","ONG internationales",20000]
[21001,"AGID","Association of Geoscientists for International Development ","AGID","Association de géoscientifiques pour le développement international",21000,null,null,null,null,null,21001,"AGID","Association of Geoscientists for International Development ","AGID","Association de géoscientifiques pour le développement international",21000]
[21005,"CUTS","Consumer Unity and Trust Society International ","CUTS","Consumer Unity and Trust Society International",21000,null,null,null,null,null,21005,"CUTS","Consumer Unity and Trust Society International ","CUTS","Consumer Unity and Trust Society International",21000]
[21007,"ELCI","Environmental Liaison Centre International ","CILE","Centre international de liaison pour l’environnement",21000,null,null,null,null,null,21007,"ELCI","Environmental Liaison Centre International ","CILE","Centre international de liaison pour l’environnement",21000]
[21011,"GCE","Global Campaign for Education ","CME","Campagne mondiale pour l’éducation",21000,null,null,null,null,null,21011,"GCE","Global Campaign for Education ","CME","Campagne mondiale pour l’éducation",21000]
[21013,"HAI","Health Action International ","HAI","Health Action International ",21000,null,null,null,null,null,21013,"HAI","Health Action International ","HAI","Health Action International ",21000]
[21016,"ICRC","International Committee of the Red Cross ","CICR","Comité international de la Croix-Rouge ",21000,null,null,null,null,null,21016,"ICRC","International Committee of the Red Cross ","CICR","Comité international de la Croix-Rouge ",21000]
[21018,"IFRCRCS","International Federation of Red Cross and Red Crescent Societies ","FISCRCR","Fédération internationale des Sociétés de la Croix-Rouge et du Croissant-Rouge ",21000,null,null,null,null,null,21018,"IFRCRCS","International Federation of Red Cross and Red Crescent Societies ","FISCRCR","Fédération internationale des Sociétés de la Croix-Rouge et du Croissant-Rouge ",21000]
[21020," ","International HIV/AIDS Alliance "," ","International HIV/AIDS Alliance",21000,null,null,null,null,null,21020," ","International HIV/AIDS Alliance "," ","International HIV/AIDS Alliance",21000]
[21022,"INAFI","International Network for Alternative Financial Institutions ","INAFI","Réseau international d’institutions financières",21000,null,null,null,null,null,21022,"INAFI","International Network for Alternative Financial Institutions ","INAFI","Réseau international d’institutions financières",21000]
[21023,"IPPF","International Planned Parenthood Federation ","IPPF","Fédération internationale pour le planning familial",21000,null,null,null,null,null,21023,"IPPF","International Planned Parenthood Federation ","IPPF","Fédération internationale pour le planning familial",21000]
[21024,"IPS","Inter Press Service, International Association ","IPS","Inter Press Service, International Association",21000,null,null,null,null,null,21024,"IPS","Inter Press Service, International Association ","IPS","Inter Press Service, International Association",21000]
[21029,"MSF","Doctors Without Borders","MSF","Médecins Sans Frontières",21000,null,null,null,null,null,21029,"MSF","Doctors Without Borders","MSF","Médecins Sans Frontières",21000]
[21031,"PANOS","PANOS Institute ","PANOS","Institut PANOS",21000,null,null,null,null,null,21031,"PANOS","PANOS Institute ","PANOS","Institut PANOS",21000]
[21032,"PSI","Population Services International ","PSI","Organisation internationale pour les services en matière de population",21000,null,null,null,null,null,21032,"PSI","Population Services International ","PSI","Organisation internationale pour les services en matière de population",21000]
[21034,"UNION","International Union Against Tuberculosis and Lung Disease ","UNION","Union Internationale Contre la Tuberculose et les Maladies Respiratoires ",21000,null,null,null,null,null,21034,"UNION","International Union Against Tuberculosis and Lung Disease ","UNION","Union Internationale Contre la Tuberculose et les Maladies Respiratoires ",21000]
[21036,"WUS","World University Service ","EUM","Entraide universitaire mondiale",21000,null,null,null,null,null,21036,"WUS","World University Service ","EUM","Entraide universitaire mondiale",21000]
[21038," ","International Alert"," ","International Alert",21000,null,null,null,null,null,21038," ","International Alert"," ","International Alert",21000]
[21041,"SID","Society for International Development","SDI","Société pour le développement international",21000,null,null,null,null,null,21041,"SID","Society for International Development","SDI","Société pour le développement international",21000]
[21042,"Interpeace","International Peacebuilding Alliance","Interpeace","Alliance internationale pour la consolidation de la paix",21000,null,null,null,null,null,21042,"Interpeace","International Peacebuilding Alliance","Interpeace","Alliance internationale pour la consolidation de la paix",21000]
[21044,"ICCIDD","International Council for the Control of Iodine Deficiency Disorders","ICCIDD","Conseil international pour la lutte contre les troubles dus à une carence en iode",21000,null,null,null,null,null,21044,"ICCIDD","International Council for the Control of Iodine Deficiency Disorders","ICCIDD","Conseil international pour la lutte contre les troubles dus à une carence en iode",21000]
[21045,"AMREF","African Medical and Research Foundation ","AMREF","Fondation africaine pour la médecine et la recherche",21000,null,null,null,null,null,21045,"AMREF","African Medical and Research Foundation ","AMREF","Fondation africaine pour la médecine et la recherche",21000]
[21046,"ACORD","Agency for Cooperation and Research in Development ","ACORD","Association de Coopération et de Recherche pour le Développement",21000,null,null,null,null,null,21046,"ACORD","Agency for Cooperation and Research in Development ","ACORD","Association de Coopération et de Recherche pour le Développement",21000]
[21053," ","IPAS-Protecting Women’s Health, Advancing Women’s Reproductive Rights"," ","IPAS-Protecting Women's Health, Advancing Women's Reproductive Rights",21000,null,null,null,null,null,21053," ","IPAS-Protecting Women’s Health, Advancing Women’s Reproductive Rights"," ","IPAS-Protecting Women's Health, Advancing Women's Reproductive Rights",21000]
[21054,"LPI","Life and Peace Institute","IVP","Institut Vie et Paix",21000,null,null,null,null,null,21054,"LPI","Life and Peace Institute","IVP","Institut Vie et Paix",21000]
[21057,"ICTJ","International Centre for Transitional Justice","ICTJ","Centre International pour la Justice Transitionnelle",21000,null,null,null,null,null,21057,"ICTJ","International Centre for Transitional Justice","ICTJ","Centre International pour la Justice Transitionnelle",21000]
[21061,"IRCT","International Rehabilitation Council for Torture Victims","IRCT","Conseil international de réhabilitation pour les victimes de torture",21000,null,null,null,null,null,21061,"IRCT","International Rehabilitation Council for Torture Victims","IRCT","Conseil international de réhabilitation pour les victimes de torture",21000]
[21062,"TNC","The Nature Conservancy","TNC","The Nature Conservancy",21000,null,null,null,null,null,21062,"TNC","The Nature Conservancy","TNC","The Nature Conservancy",21000]
[21063,"CI","Conservation International"," "," ",21000,null,null,null,null,null,21063,"CI","Conservation International"," "," ",21000]
[21064,"CHAI","Clinton Health Access Initiative, Inc.","CHAI","Initiative Clinton pour l'accès à la santé",21000,null,null,null,null,null,21064,"CHAI","Clinton Health Access Initiative, Inc.","CHAI","Initiative Clinton pour l'accès à la santé",21000]
[21501,"OXFAM-I","OXFAM International"," "," ",21000,null,null,null,null,null,21501,"OXFAM-I","OXFAM International"," "," ",21000]
[21502," ","World Vision"," "," ",21000,null,null,null,null,null,21502," ","World Vision"," "," ",21000]
[21503,"FHI360","Family Health International 360"," "," ",21000,null,null,null,null,null,21503,"FHI360","Family Health International 360"," "," ",21000]
[21504,"IRD","International Relief and Development"," "," ",21000,null,null,null,null,null,21504,"IRD","International Relief and Development"," "," ",21000]
[21505," ","Save the Children"," "," ",21000,null,null,null,null,null,21505," ","Save the Children"," "," ",21000]
[21506,"IRC","International Rescue Committee"," "," ",21000,null,null,null,null,null,21506,"IRC","International Rescue Committee"," "," ",21000]
[21507,"PACT","Pact World"," "," ",21000,null,null,null,null,null,21507,"PACT","Pact World"," "," ",21000]
[21508,"SEforALL","Sustainable Energy for All","SEforALL","Sustainable Energy for All",21000,null,null,null,null,null,21508,"SEforALL","Sustainable Energy for All","SEforALL","Sustainable Energy for All",21000]
[21509,"AC","AmplifyChange","AC","AmplifyChange",21000,null,null,null,null,null,21509,"AC","AmplifyChange","AC","AmplifyChange",21000]
[47035,"ENDA","Environmental Development Action in the Third World ","ENDA","Environnement et développement du Tiers-monde",21000,null,null,null,null,null,47035,"ENDA","Environmental Development Action in the Third World ","ENDA","Environnement et développement du Tiers-monde",21000]
[22000," ","Donor country-based NGO"," ","ONG basée dans un pays donneur",20000,null,null,null,null,null,22000," ","Donor country-based NGO"," ","ONG basée dans un pays donneur",20000]
[21006," ","Development Gateway Foundation "," ","Development Gateway Foundation",22000,null,null,null,null,null,21006," ","Development Gateway Foundation "," ","Development Gateway Foundation",22000]
[21008,"Eurostep","Eurostep ","Eurostep","Eurostep",22000,null,null,null,null,null,21008,"Eurostep","Eurostep ","Eurostep","Eurostep",22000]
[21014,"HURIDOCS","Human Rights Information and Documentation Systems ","HURIDOCS","Systèmes d’Information et de Documentation sur les Droits de l’Homme",22000,null,null,null,null,null,21014,"HURIDOCS","Human Rights Information and Documentation Systems ","HURIDOCS","Systèmes d’Information et de Documentation sur les Droits de l’Homme",22000]
[21015,"ICRA","International Catholic Rural Association ","ICRA","Association internationale rurale catholique",22000,null,null,null,null,null,21015,"ICRA","International Catholic Rural Association ","ICRA","Association internationale rurale catholique",22000]
[21019,"IFS","International Federation of Settlements and Neighbourhood Centres ","IFS","Fédération internationale des centres sociaux et communautaires",22000,null,null,null,null,null,21019,"IFS","International Federation of Settlements and Neighbourhood Centres ","IFS","Fédération internationale des centres sociaux et communautaires",22000]
[21025,"ISC","International Seismological Centre ","ISC","Centre séismologique international",22000,null,null,null,null,null,21025,"ISC","International Seismological Centre ","ISC","Centre séismologique international",22000]
[21026,"ISHR","International Service for Human Rights ","ISHR","Service International pour les Droits de l’Homme",22000,null,null,null,null,null,21026,"ISHR","International Service for Human Rights ","ISHR","Service International pour les Droits de l’Homme",22000]
[21027,"ITF","ITF Enhancing Human Security","ITF","ITF Améliorer la sécurité humaine",22000,null,null,null,null,null,21027,"ITF","ITF Enhancing Human Security","ITF","ITF Améliorer la sécurité humaine",22000]
[21033,"TI","Transparency International ","TI","Transparency International",22000,null,null,null,null,null,21033,"TI","Transparency International ","TI","Transparency International",22000]
[21035,"OMCT","World Organisation Against Torture ","OMCT","Organisation mondiale contre la torture",22000,null,null,null,null,null,21035,"OMCT","World Organisation Against Torture ","OMCT","Organisation mondiale contre la torture",22000]
[21037,"WWB","Women's World Banking","WWB","Banque mondiale des femmes",22000,null,null,null,null,null,21037,"WWB","Women's World Banking","WWB","Banque mondiale des femmes",22000]
[21040,"IWTC","International Women's Tribune Centre","CTIF","Centre de la tribune internationale de la femme",22000,null,null,null,null,null,21040,"IWTC","International Women's Tribune Centre","CTIF","Centre de la tribune internationale de la femme",22000]
[21047," ","AgriCord"," ","AgriCord",22000,null,null,null,null,null,21047," ","AgriCord"," ","AgriCord",22000]
[21049,"ECDPM","European Centre for Development Policy Management ","ECDPM","Centre européen de gestion de politiques de développement",22000,null,null,null,null,null,21049,"ECDPM","European Centre for Development Policy Management ","ECDPM","Centre européen de gestion de politiques de développement",22000]
[21050," ","Geneva Call"," ","Appel de Genève",22000,null,null,null,null,null,21050," ","Geneva Call"," ","Appel de Genève",22000]
[21058,"ICG","International Crisis Group","ICG","International Crisis Group",22000,null,null,null,null,null,21058,"ICG","International Crisis Group","ICG","International Crisis Group",22000]
[21060,"APT","Association for the Prevention of Torture","APT","Association pour la prévention de la torture",22000,null,null,null,null,null,21060,"APT","Association for the Prevention of Torture","APT","Association pour la prévention de la torture",22000]
[22501,"OXFAM","OXFAM - provider country office"," "," ",22000,null,null,null,null,null,22501,"OXFAM","OXFAM - provider country office"," "," ",22000]
[22502," ","Save the Children - donor country office"," "," ",22000,null,null,null,null,null,22502," ","Save the Children - donor country office"," "," ",22000]
[47042,"FIT","Foundation for International Training ","FIT","Fondation pour la formation internationale dans les pays du tiers monde",22000,null,null,null,null,null,47042,"FIT","Foundation for International Training ","FIT","Fondation pour la formation internationale dans les pays du tiers monde",22000]
[23000," ","Developing country-based NGO"," ","ONG basée dans un pays en développement",20000,null,null,null,null,null,23000," ","Developing country-based NGO"," ","ONG basée dans un pays en développement",20000]
[21003,"CLASCO","Latin American Council for Social Sciences ","CLASCO","Conseil latino-américain des sciences sociales",23000,null,null,null,null,null,21003,"CLASCO","Latin American Council for Social Sciences ","CLASCO","Conseil latino-américain des sciences sociales",23000]
[21010,"FAWE","Forum for African Women Educationalists ","FAWE","Forum des éducatrices africaines",23000,null,null,null,null,null,21010,"FAWE","Forum for African Women Educationalists ","FAWE","Forum des éducatrices africaines",23000]
[21028,"IUEF","International University Exchange Fund - IUEF Stip. in Africa and Latin America","FIEU","Fonds international d’échanges universitaires - Échanges intéressant l’Afrique et l’Amérique latine",23000,null,null,null,null,null,21028,"IUEF","International University Exchange Fund - IUEF Stip. in Africa and Latin America","FIEU","Fonds international d’échanges universitaires - Échanges intéressant l’Afrique et l’Amérique latine",23000]
[21030,"PAID","Pan African Institute for Development","IPD","Institut panafricain pour le développement",23000,null,null,null,null,null,21030,"PAID","Pan African Institute for Development","IPD","Institut panafricain pour le développement",23000]
[21048,"AAU","Association of African Universities","AUA","Association des universités africaines",23000,null,null,null,null,null,21048,"AAU","Association of African Universities","AUA","Association des universités africaines",23000]
[21051,"ISPEC","Institut Supérieur Panafricaine d’Economie Coopérative","ISPEC","Institut supérieur panafricaine d’economie coopérative",23000,null,null,null,null,null,21051,"ISPEC","Institut Supérieur Panafricaine d’Economie Coopérative","ISPEC","Institut supérieur panafricaine d’economie coopérative",23000]
[21055,"RATN","Regional AIDS Training Network","RRFS","Réseau régional de formation sur le SIDA",23000,null,null,null,null,null,21055,"RATN","Regional AIDS Training Network","RRFS","Réseau régional de formation sur le SIDA",23000]
[21059,"ASF","Africa Solidarity Fund","ASF","Fonds solidaire pour l'Afrique",23000,null,null,null,null,null,21059,"ASF","Africa Solidarity Fund","ASF","Fonds solidaire pour l'Afrique",23000]
[23501," ","National Red Cross and Red Crescent Societies"," ","Sociétés nationales de la Croix-Rouge et du Croissant-Rouge",23000,null,null,null,null,null,23501," ","National Red Cross and Red Crescent Societies"," ","Sociétés nationales de la Croix-Rouge et du Croissant-Rouge",23000]
[30000," ","Public-Private Partnerships (PPP) and Networks"," ","Partenariats public-privé (PPP) et réseaux",30000,null,null,null,null,null,30000," ","Public-Private Partnerships (PPP) and Networks"," ","Partenariats public-privé (PPP) et réseaux",30000]
[31000," ","Public-Private Partnerships (PPP)"," ","Partenariats public-privé (PPP)",30000,null,null,null,null,null,31000," ","Public-Private Partnerships (PPP)"," ","Partenariats public-privé (PPP)",30000]
[21056,"REEEP","Renewable Energy and Energy Efficiency Partnership","REEEP","Partenariat pour les énergies renouvelables et l'efficience énergétique",31000,null,null,null,null,null,21056,"REEEP","Renewable Energy and Energy Efficiency Partnership","REEEP","Partenariat pour les énergies renouvelables et l'efficience énergétique",31000]
[30001,"GAIN","Global Alliance for Improved Nutrition ","GAIN","Alliance mondiale pour une meilleure nutrition ",31000,null,null,null,null,null,30001,"GAIN","Global Alliance for Improved Nutrition ","GAIN","Alliance mondiale pour une meilleure nutrition ",31000]
[30003,"GeSCI","Global e-Schools and Communities Initiative ","GeSCI","Initiative mondiale en faveur de l’informatique dans les écoles et dans les communautés ",31000,null,null,null,null,null,30003,"GeSCI","Global e-Schools and Communities Initiative ","GeSCI","Initiative mondiale en faveur de l’informatique dans les écoles et dans les communautés ",31000]
[30004,"GWP","Global Water Partnership ","GWP","Partenariat mondial pour l'eau",31000,null,null,null,null,null,30004,"GWP","Global Water Partnership ","GWP","Partenariat mondial pour l'eau",31000]
[30005,"IAVI","International AIDS Vaccine Initiative ","IAVI","Initiative internationale pour un vaccin contre le SIDA",31000,null,null,null,null,null,30005,"IAVI","International AIDS Vaccine Initiative ","IAVI","Initiative internationale pour un vaccin contre le SIDA",31000]
[30006,"IPM","International Partnership on Microbicides ","IPM","Partenariat international pour des microbicides ",31000,null,null,null,null,null,30006,"IPM","International Partnership on Microbicides ","IPM","Partenariat international pour des microbicides ",31000]
[30007,"GAID","Global Alliance for ICT and Development","GAID","Alliance mondiale pour les TIC et le développement",31000,null,null,null,null,null,30007,"GAID","Global Alliance for ICT and Development","GAID","Alliance mondiale pour les TIC et le développement",31000]
[30008," ","Cities Alliance"," ","Alliance pour les villes",31000,null,null,null,null,null,30008," ","Cities Alliance"," ","Alliance pour les villes",31000]
[30009,"SAS","Small Arms Survey","SAS","Small Arms Survey",31000,null,null,null,null,null,30009,"SAS","Small Arms Survey","SAS","Small Arms Survey",31000]
[30011,"IUCN","International Union for the Conservation of Nature","UICN","Union internationale pour la conservation de la nature",31000,null,null,null,null,null,30011,"IUCN","International Union for the Conservation of Nature","UICN","Union internationale pour la conservation de la nature",31000]
[30012,"GCPF","Global Climate Partnership Fund","GCPF","Global Climate Partnership Fund",31000,null,null,null,null,null,30012,"GCPF","Global Climate Partnership Fund","GCPF","Global Climate Partnership Fund",31000]
[30013,"MEF","Microfinance Enhancement Facility","MEF","Mécanisme de soutien au microfinancement",31000,null,null,null,null,null,30013,"MEF","Microfinance Enhancement Facility","MEF","Mécanisme de soutien au microfinancement",31000]
[30014,"REGMIFA","Regional Micro, Small and Medium Enterprise Investment Fund for Sub-Saharan Africa","REGMIFA","Fonds régional d’investissement pour les très petites, petites et moyennes entreprises d’Afrique subsaharienne",31000,null,null,null,null,null,30014,"REGMIFA","Regional Micro, Small and Medium Enterprise Investment Fund for Sub-Saharan Africa","REGMIFA","Fonds régional d’investissement pour les très petites, petites et moyennes entreprises d’Afrique subsaharienne",31000]
[30015,"GEEREF","Global Energy Efficiency and Renewable Energy Fund","GEEREF","Fonds mondial pour la promotion de l'efficacité énergétique et des énergies renouvelables",31000,null,null,null,null,null,30015,"GEEREF","Global Energy Efficiency and Renewable Energy Fund","GEEREF","Fonds mondial pour la promotion de l'efficacité énergétique et des énergies renouvelables",31000]
[30016,"EFSE","European Fund for Southeast Europe","EFSE","European Fund for Southeast Europe",31000,null,null,null,null,null,30016,"EFSE","European Fund for Southeast Europe","EFSE","European Fund for Southeast Europe",31000]
[30017,"SANAD","SANAD Fund for Micro, Small and Medium Enterprises","SANAD","SANAD Fund for Micro, Small and Medium Enterprises",31000,null,null,null,null,null,30017,"SANAD","SANAD Fund for Micro, Small and Medium Enterprises","SANAD","SANAD Fund for Micro, Small and Medium Enterprises",31000]
[30018,"AFC","Africa Finance Corporation","AFC","Corporation Financière Africaine",31000,null,null,null,null,null,30018,"AFC","Africa Finance Corporation","AFC","Corporation Financière Africaine",31000]
[30019,"TCX","Currency Exchange Fund N.V.","TCX","Currency Exchange Fund N.V.",31000,null,null,null,null,null,30019,"TCX","Currency Exchange Fund N.V.","TCX","Currency Exchange Fund N.V.",31000]
[30020,"GEEREF II","Global Energy Efficiency and Renewable Energy Fund II","GEEREF II","Global Energy Efficiency and Renewable Energy Fund II",31000,null,null,null,null,null,30020,"GEEREF II","Global Energy Efficiency and Renewable Energy Fund II","GEEREF II","Global Energy Efficiency and Renewable Energy Fund II",31000]
[31006,"CEPI","Coalition for Epidemic Preparedness Innovations","CIPE","Coalition pour les innovations en matière de préparation aux épidémies",31000,null,null,null,null,null,31006,"CEPI","Coalition for Epidemic Preparedness Innovations","CIPE","Coalition pour les innovations en matière de préparation aux épidémies",31000]
[47043," ","Global Crop Diversity Trust "," ","Global Crop Diversity Trust",31000,null,null,null,null,null,47043," ","Global Crop Diversity Trust "," ","Global Crop Diversity Trust",31000]
[32000," ","Networks"," ","Réseaux",30000,null,null,null,null,null,32000," ","Networks"," ","Réseaux",30000]
[21017,"ICTSD","International Centre for Trade and Sustainable Development ","ICTSD","Centre international de commerce et de développement durable ",32000,null,null,null,null,null,21017,"ICTSD","International Centre for Trade and Sustainable Development ","ICTSD","Centre international de commerce et de développement durable ",32000]
[21043,"AWEPA","European Parliamentarians for Africa","AWEPA","Association des parlementaires d’Europe pour l’Afrique",32000,null,null,null,null,null,21043,"AWEPA","European Parliamentarians for Africa","AWEPA","Association des parlementaires d’Europe pour l’Afrique",32000]
[31001,"GDN","Global Development Network","GDN","Réseau de développement mondial",32000,null,null,null,null,null,31001,"GDN","Global Development Network","GDN","Réseau de développement mondial",32000]
[31002,"GKP","Global Knowledge Partnership","GKP","Alliance mondiale pour le savoir ",32000,null,null,null,null,null,31002,"GKP","Global Knowledge Partnership","GKP","Alliance mondiale pour le savoir ",32000]
[31003,"ILC","International Land Coalition","ILC","Coalition internationale pour l'accès à la terre ",32000,null,null,null,null,null,31003,"ILC","International Land Coalition","ILC","Coalition internationale pour l'accès à la terre ",32000]
[31004,"EITI","Extractive Industries Transparency Initiative International Secretariat","ITIE","Secrétariat de l'Initiative pour la transparence dans les industries extractives",32000,null,null,null,null,null,31004,"EITI","Extractive Industries Transparency Initiative International Secretariat","ITIE","Secrétariat de l'Initiative pour la transparence dans les industries extractives",32000]
[31005,"PNoWB","Parliamentary Network on the World Bank","RPsBM","Réseau parlementaire sur la Banque mondaile",32000,null,null,null,null,null,31005,"PNoWB","Parliamentary Network on the World Bank","RPsBM","Réseau parlementaire sur la Banque mondaile",32000]
[31007,"DNDi","Drugs for Neglected Diseases initative","DNDi","Initiative médicaments contres les maladies négligées",32000,null,null,null,null,null,31007,"DNDi","Drugs for Neglected Diseases initative","DNDi","Initiative médicaments contres les maladies négligées",32000]
[31008,"FIND","Foundation for Innovative New Diagnostics","FIND","Fondation pour les nouveaux diagnostics innovants",32000,null,null,null,null,null,31008,"FIND","Foundation for Innovative New Diagnostics","FIND","Fondation pour les nouveaux diagnostics innovants",32000]
[47010,"CAPAM","Commonwealth Agency for Public Administration and Management ","CAPAM","Agence du Commonwealth pour l'administration et la gestion publiques",32000,null,null,null,null,null,47010,"CAPAM","Commonwealth Agency for Public Administration and Management ","CAPAM","Agence du Commonwealth pour l'administration et la gestion publiques",32000]
[47028,"CPTM","Commonwealth Partnership for Technical Management ","CPTM","Partenariat pour la gestion technique (Commonwealth)",32000,null,null,null,null,null,47028,"CPTM","Commonwealth Partnership for Technical Management ","CPTM","Partenariat pour la gestion technique (Commonwealth)",32000]
[40000," ","Multilateral Organisations"," ","Organisations multilatérales",40000,null,null,null,null,null,40000," ","Multilateral Organisations"," ","Organisations multilatérales",40000]
[41000," ","United Nations (UN) agency, fund or commission"," ","Agence, fonds ou commission des Nations Unies (ONU)",40000,null,null,null,null,null,41000," ","United Nations (UN) agency, fund or commission"," ","Agence, fonds ou commission des Nations Unies (ONU)",40000]
[41100," ","UN entities (core contributions reportable in full)"," ","Entités des Nations Unies (contributions aux budgets reguliers à déclarer dans leur intégralité)",41000,null,null,null,null,null,41100," ","UN entities (core contributions reportable in full)"," ","Entités des Nations Unies (contributions aux budgets reguliers à déclarer dans leur intégralité)",41000]
[30010,"UNITAID","International drug purchase facility","UNITAID","Facilité internationale d'achat de médicaments",41100,null,null,null,null,null,30010,"UNITAID","International drug purchase facility","UNITAID","Facilité internationale d'achat de médicaments",41100]
[41101,"UNCCD","Convention to Combat Desertification ","CCD ","Convention sur la lutte contre la désertification ",41100,null,null,null,null,null,41101,"UNCCD","Convention to Combat Desertification ","CCD ","Convention sur la lutte contre la désertification ",41100]
[41103,"ECA","Economic Commission for Africa ","CEA","Commission économique pour l'Afrique",41100,null,null,null,null,null,41103,"ECA","Economic Commission for Africa ","CEA","Commission économique pour l'Afrique",41100]
[41107,"IAEA-TCF","International Atomic Energy Agency (Contributions to Technical Cooperation Fund Only)","AIEA-FTC","Agence internationale de l'énergie atomique (Contributions au Fonds de Coopération Technique uniquement)",41100,null,null,null,null,null,41107,"IAEA-TCF","International Atomic Energy Agency (Contributions to Technical Cooperation Fund Only)","AIEA-FTC","Agence internationale de l'énergie atomique (Contributions au Fonds de Coopération Technique uniquement)",41100]
[41108,"IFAD","International Fund for Agricultural Development ","FIDA","Fonds international de développement agricole",41100,null,null,null,null,null,41108,"IFAD","International Fund for Agricultural Development ","FIDA","Fonds international de développement agricole",41100]
[41110,"UNAIDS","Joint United Nations Programme on HIV/AIDS ","ONUSIDA","Programme commun des Nations Unies sur le VIH/SIDA",41100,null,null,null,null,null,41110,"UNAIDS","Joint United Nations Programme on HIV/AIDS ","ONUSIDA","Programme commun des Nations Unies sur le VIH/SIDA",41100]
[41111,"UNCDF","United Nations Capital Development Fund ","FENU","Fonds d’équipement des Nations Unies ",41100,null,null,null,null,null,41111,"UNCDF","United Nations Capital Development Fund ","FENU","Fonds d’équipement des Nations Unies ",41100]
[41112,"UNCTAD","United Nations Conference on Trade and Development ","CNUCED","Conférence des Nations Unies sur le commerce et le développement",41100,null,null,null,null,null,41112,"UNCTAD","United Nations Conference on Trade and Development ","CNUCED","Conférence des Nations Unies sur le commerce et le développement",41100]
[41114,"UNDP","United Nations Development Programme ","PNUD","Programme des Nations Unies pour le développement",41100,null,null,null,null,null,41114,"UNDP","United Nations Development Programme ","PNUD","Programme des Nations Unies pour le développement",41100]
[41116,"UNEP","United Nations Environment Programme ","PNUE","Programme des Nations Unies pour l'environnement",41100,null,null,null,null,null,41116,"UNEP","United Nations Environment Programme ","PNUE","Programme des Nations Unies pour l'environnement",41100]
[41119,"UNFPA","United Nations Population Fund ","UNFPA","Fonds des Nations Unies pour la population",41100,null,null,null,null,null,41119,"UNFPA","United Nations Population Fund ","UNFPA","Fonds des Nations Unies pour la population",41100]
[41120,"UN Habitat","United Nations Human Settlement Programme ","UN Habitat","Programme des Nations Unies pour les établissements humains",41100,null,null,null,null,null,41120,"UN Habitat","United Nations Human Settlement Programme ","UN Habitat","Programme des Nations Unies pour les établissements humains",41100]
[41121,"UNHCR","United Nations Office of the High Commissioner for Refugees","HCR","Haut Commissariat des Nations Unies pour les réfugiés",41100,null,null,null,null,null,41121,"UNHCR","United Nations Office of the High Commissioner for Refugees","HCR","Haut Commissariat des Nations Unies pour les réfugiés",41100]
[41122,"UNICEF","United Nations Children’s Fund ","UNICEF","Fonds des Nations Unies pour l'enfance",41100,null,null,null,null,null,41122,"UNICEF","United Nations Children’s Fund ","UNICEF","Fonds des Nations Unies pour l'enfance",41100]
[41123,"UNIDO","United Nations Industrial Development Organisation ","ONUDI","Organisation des Nations Unies pour le développement industriel",41100,null,null,null,null,null,41123,"UNIDO","United Nations Industrial Development Organisation ","ONUDI","Organisation des Nations Unies pour le développement industriel",41100]
[41125,"UNITAR","United Nations Institute for Training and Research ","UNITAR","Institut des Nations Unies pour la formation et la recherche ",41100,null,null,null,null,null,41125,"UNITAR","United Nations Institute for Training and Research ","UNITAR","Institut des Nations Unies pour la formation et la recherche ",41100]
[41127,"UNOCHA","United Nations Office of Co-ordination of Humanitarian Affairs ","OCHA","Bureau des Nations Unies pour la coordination de l'assistance humanitaire",41100,null,null,null,null,null,41127,"UNOCHA","United Nations Office of Co-ordination of Humanitarian Affairs ","OCHA","Bureau des Nations Unies pour la coordination de l'assistance humanitaire",41100]
[41129,"UNRISD","United Nations Research Institute for Social Development ","UNRISD","Institut de recherche des Nations Unies pour le développement social ",41100,null,null,null,null,null,41129,"UNRISD","United Nations Research Institute for Social Development ","UNRISD","Institut de recherche des Nations Unies pour le développement social ",41100]
[41130,"UNRWA","United Nations Relief and Works Agency for Palestine Refugees in the Near East","UNRWA","Office de secours et de travaux des Nations Unies pour les réfugiés de Palestine dans le Proche-Orient",41100,null,null,null,null,null,41130,"UNRWA","United Nations Relief and Works Agency for Palestine Refugees in the Near East","UNRWA","Office de secours et de travaux des Nations Unies pour les réfugiés de Palestine dans le Proche-Orient",41100]
[41131,"UNSSC","United Nations System Staff College ","UNSSC","Ecole des cadres du système des Nations Unies",41100,null,null,null,null,null,41131,"UNSSC","United Nations System Staff College ","UNSSC","Ecole des cadres du système des Nations Unies",41100]
[41134,"UNU","United Nations University (including Endowment Fund) ","UNU","Université des Nations Unies (y compris le Fonds de dotation)",41100,null,null,null,null,null,41134,"UNU","United Nations University (including Endowment Fund) ","UNU","Université des Nations Unies (y compris le Fonds de dotation)",41100]
[41135,"UNV","United Nations Volunteers ","UNV","Programme des volontaires des Nations Unies ",41100,null,null,null,null,null,41135,"UNV","United Nations Volunteers ","UNV","Programme des volontaires des Nations Unies ",41100]
[41140,"WFP","World Food Programme ","PAM","Programme alimentaire mondial",41100,null,null,null,null,null,41140,"WFP","World Food Programme ","PAM","Programme alimentaire mondial",41100]
[41143,"WHO-CVCA","World Health Organisation - core voluntary contributions account","OMS-CVSOD","Organisation mondiale de la santé - compte de contributions volontaires sans objet désigné",41100,null,null,null,null,null,41143,"WHO-CVCA","World Health Organisation - core voluntary contributions account","OMS-CVSOD","Organisation mondiale de la santé - compte de contributions volontaires sans objet désigné",41100]
[41144,"ILO-RBSA","International Labour Organisation - Regular Budget Supplementary Account","OIT-CSBO","Organisation internationale du Travail - Compte supplémentaire du budget ordinaire",41100,null,null,null,null,null,41144,"ILO-RBSA","International Labour Organisation - Regular Budget Supplementary Account","OIT-CSBO","Organisation internationale du Travail - Compte supplémentaire du budget ordinaire",41100]
[41145,"IMO-TCF","International Maritime Organization - Technical Co-operation Fund","OMI-PICT","Organisation maritime internationale - Programme intégré de coopération technique",41100,null,null,null,null,null,41145,"IMO-TCF","International Maritime Organization - Technical Co-operation Fund","OMI-PICT","Organisation maritime internationale - Programme intégré de coopération technique",41100]
[41146,"UNWOMEN","United Nations Entity for Gender Equality and the Empowerment of Women","ONU Femmes","Entité des Nations Unies pour l'égalité des sexes et l'autonomisation de la femme",41100,null,null,null,null,null,41146,"UNWOMEN","United Nations Entity for Gender Equality and the Empowerment of Women","ONU Femmes","Entité des Nations Unies pour l'égalité des sexes et l'autonomisation de la femme",41100]
[41149,"UNDCO","United Nations Development Coordination Office","UNDCO","Bureau de la coordination des activités de développement des Nations Unies",41100,null,null,null,null,null,41149,"UNDCO","United Nations Development Coordination Office","UNDCO","Bureau de la coordination des activités de développement des Nations Unies",41100]
[41320,"UN-TBLDC","Technology Bank for Least Developed Countries","UN-TBLDC","Banque de Technologies en faveur des Pays les Moins Avancés",41100,null,null,null,null,null,41320,"UN-TBLDC","Technology Bank for Least Developed Countries","UN-TBLDC","Banque de Technologies en faveur des Pays les Moins Avancés",41100]
[45001,"WTO-ITC","World Trade Organisation - International Trade Centre ","OMC-CCI","Centre du commerce international de l'Organisation mondiale du commerce",41100,null,null,null,null,null,45001,"WTO-ITC","World Trade Organisation - International Trade Centre ","OMC-CCI","Centre du commerce international de l'Organisation mondiale du commerce",41100]
[45002,"WTO-ACWL","World Trade Organisation - Advisory Centre on WTO Law","OMC-CCLO","Centre consultatif sur la législation de l'Organisation mondiale du commerce",41100,null,null,null,null,null,45002,"WTO-ACWL","World Trade Organisation - Advisory Centre on WTO Law","OMC-CCLO","Centre consultatif sur la législation de l'Organisation mondiale du commerce",41100]
[45003,"WTO-DDAGTF","World Trade Organisation - Doha Development Agenda Global Trust Fund "," ","Organisation mondiale du commerce - Fonds global d'affectation spéciale pour le Programme de Doha pour le développement",41100,null,null,null,null,null,45003,"WTO-DDAGTF","World Trade Organisation - Doha Development Agenda Global Trust Fund "," ","Organisation mondiale du commerce - Fonds global d'affectation spéciale pour le Programme de Doha pour le développement",41100]
[47066,"IOM","International Organisation for Migration ","OIM","Organisation internationale des migrations ",41100,null,null,null,null,null,47066,"IOM","International Organisation for Migration ","OIM","Organisation internationale des migrations ",41100]
[47083,"PAHO","Pan-American Health Organisation ","OPS","Organisation panaméricaine de la santé",41100,null,null,null,null,null,47083,"PAHO","Pan-American Health Organisation ","OPS","Organisation panaméricaine de la santé",41100]
[41300," ","Other UN (Core Contributions Reportable in Part)"," ","Autres Nations Unies (contributions comptabilisables pour partie)",41000,null,null,null,null,null,41200," ","UN entities (core contributions reportable in TOSSD only)"," ","Entités des Nations Unies (contributions de base à déclarer dans TOSSD uniquement)",41000]
[41104,"ECLAC","Economic Commission for Latin America and the Caribbean","CEPALC","Commission économique pour l'Amérique latine et les Caraïbes",41300,null,null,null,null,null,41201,"CTBTO","Comprehensive Nuclear Test Ban Treaty Organization"," ","Organisation du traité d'interdiction complète des essais nucléaires",41200]
[41105,"ESCWA","Economic and Social Commission for Western Asia","CESAO","Commission économique et sociale pour l'Asie occidentale",41300,null,null,null,null,null,41202,"ICAO","International Civil Aviation Organization","OACI","Organisation de l'aviation civile internationale",41200]
[41106,"ESCAP","Economic and Social Commission for Asia and the Pacific ","CESAP","Commission économique et sociale pour l'Asie et le Pacifique",41300,null,null,null,null,null,41203,"ICC","International Criminal Court","CPI","Cour Pénale Internationale",41200]
[41128,"UNODC","United Nations Office on Drugs and Crime ","UNODC","Office des Nations Unies contre la drogue et le crime",41300,null,null,null,null,null,41204,"IRMCT","International Residual Mechanism for Criminal Tribunals"," ","Mécanisme international appelé à exercer les fonctions résiduelles des Tribunaux pénaux",41200]
[41150,"UNIDIR","United Nations Institute for Disarmament Research","UNIDIR","Institut des Nations unies pour la recherche sur le désarmement",41300,null,null,null,null,null,41205,"ISA","International Seabed Authority"," ","Autorité internationale des fonds marins",41200]
[41151,"IARC","International Agency for Research on Cancer","CIRC","Centre international de recherche sur le cancer",41300,null,null,null,null,null,41206,"ITLOS","International Tribunal for the Law of the Sea","TIDM","Tribunal international du droit de la mer",41200]
[41301,"FAO","Food and Agricultural Organisation","FAO","Organisation des Nations Unies pour l'alimentation et l'agriculture",41300,null,null,null,null,null,41207,"OPCW","Organization for the Prohibition of Chemical Weapons","OIAC","Organisation pour l'interdiction des Armes Chimiques",41200]
[41302,"ILO-Assessed","International Labour Organisation - Assessed Contributions","OIT-Obligatoires","Organisation internationale du travail - contributions obligatoires",41300,null,null,null,null,null,41208,"DESA","Department of Economic and Social Affairs","DAES","Département des affaires économiques et sociales",41200]
[41303,"ITU","International Telecommunications Union","UIT","Union internationale des télécommunications",41300,null,null,null,null,null,41209,"DGACM","Department of General Assembly and Conference Management"," ","Département de l'Assemblée générale et de la gestion des conférences",41200]
[41304,"UNESCO","United Nations Educational, Scientific and Cultural Organisation","UNESCO","Organisation des Nations Unies pour l’éducation, la science et la culture ",41300,null,null,null,null,null,41210,"DGC","Department of Global Communications"," ","Département de la communication globale",41200]
[41305,"UN","United Nations","ONU","Organisation des Nations Unies",41300,null,null,null,null,null,41211,"DMSPC","Department of Management Strategy, Policy and Compliance, including UNOG, UNOV and UNON"," ","Département des stratégies et politiques de gestion et de la conformité, y compris ? including ONUN, ONUG et ONUV",41200]
[41306,"UPU","Universal Postal Union ","UPU","Union postale universelle",41300,null,null,null,null,null,41212,"DOS","Department of Operational Support"," ","Département de l’appui opérationnel",41200]
[41307,"WHO-Assessed","World Health Organisation - assessed contributions","OMS-obligatoires","Organisation mondiale de la santé - contributions obligatoires",41300,null,null,null,null,null,41213,"DSS","Department of Safety and Security"," ","Département de la sûreté et de la sécurité",41200]
[41308,"WIPO","World Intellectual Property Organisation ","OMPI","Organisation mondiale de la propriété intellectuelle ",41300,null,null,null,null,null,41214,"OCT","Office of Counter-Terrorism"," ","Bureau de lutte contre le terrorisme",41200]
[41309,"WMO","World Meteorological Organisation ","OMM","Organisation météorologique mondiale",41300,null,null,null,null,null,41215,"UNICRI","United Nations Interregional Crime and Justice Research Institute"," ","Institut interrégional de recherche des Nations unies sur la criminalité et la justice",41200]
[41310,"UNDPO-UN Peacekeeping operations","United Nations Department of Peace Operations - UN peacekeeping operations [only MINURSO, MINUSCA, MINUSMA, MINUJUSTH, MONUSCO, UNAMID, UNIFIL, UNISFA, UNMIK, UNMIL, UNMISS, UNOCI]. Report contributions mission by mission in CRS++.","UNDPO","Département des opérations de paix des Nations unies. Opérations de maintien de la paix [seulement MINURSO,MINUSCA,MINUSMA, MINUSTAH,MONUSCO,MINUAD, FINUL,FISNUA,MINUK, MINUL,UNMISS,ONUCI]. Notifier les contributions mission par mission au format SNPC++",41300,null,null,null,null,null,41216,"IMO","International Maritime Organization","IMO","International Maritime Organization",41200]
[41312,"IAEA-Assessed","International Atomic Energy Agency - assessed contributions","AIEA-obligatoires","Agence internationale de l'énergie atomique - contributions obligatoires",41300,null,null,null,null,null,41217,"WTO","World Trade Organisation","WTO","Organisation mondiale du commerce",41200]
[41313,"OHCHR","United Nations High Commissioner for Human Rights (extrabudgetary contributions only)","HCDH","Haut-Commissariat des Nations unies aux droits de l'homme (contributions extrabudgétaires uniquement)",41300,null,null,null,null,null,41300," ","Other UN (Core Contributions Reportable in Part)"," ","Autres Nations Unies (contributions comptabilisables pour partie)",41000]
[41314,"UNECE","United Nations Economic Commission for Europe (extrabudgetary contributions only)","CEE-ONU","Commission économique des Nations unies pour l'Europe (contributions extrabudgétaires uniquement)",41300,null,null,null,null,null,41104,"ECLAC","Economic Commission for Latin America and the Caribbean","CEPALC","Commission économique pour l'Amérique latine et les Caraïbes",41300]
[41315,"UNDRR","United Nations Office for Disaster Risk Reduction","UNDRR","Bureau des Nations Unies pour la prévention de catastrophes",41300,null,null,null,null,null,41105,"ESCWA","Economic and Social Commission for Western Asia","CESAO","Commission économique et sociale pour l'Asie occidentale",41300]
[41316,"UNFCCC","United Nations Framework Convention on Climate Change ","CCNUCC","Convention-cadre des Nations unies sur les changements climatiques",41300,null,null,null,null,null,41106,"ESCAP","Economic and Social Commission for Asia and the Pacific ","CESAP","Commission économique et sociale pour l'Asie et le Pacifique",41300]
[41319,"UNWTO","World Tourism Organization","OMT","Organisation mondiale du tourisme",41300,null,null,null,null,null,41128,"UNODC","United Nations Office on Drugs and Crime ","UNODC","Office des Nations Unies contre la drogue et le crime",41300]
[41321,"WHO-SPRP","World Health Organisation - Strategic Preparedness and Response Plan","OMS-PSPI","Organisation mondiale de la santé - Plan stratégique de préparation et d'intervention",41300,null,null,null,null,null,41150,"UNIDIR","United Nations Institute for Disarmament Research","UNIDIR","Institut des Nations unies pour la recherche sur le désarmement",41300]
[41502,"UNOPS","United Nations Office for Project Services","UNOPS","Le Bureau des Nations Unies pour les services d'appui aux projets ",41300,null,null,null,null,null,41151,"IARC","International Agency for Research on Cancer","CIRC","Centre international de recherche sur le cancer",41300]
[41400," ","UN inter-agency pooled funds"," ","Fonds communs interinstitutions des Nations Unies",41000,null,null,null,null,null,41301,"FAO","Food and Agricultural Organisation","FAO","Organisation des Nations Unies pour l'alimentation et l'agriculture",41300]
[41141,"PBF","United Nations Peacebuilding Fund","PBF","Fonds des Nations Unies pour la consolidation de la paix",41400,null,null,null,null,null,41302,"ILO-Assessed","International Labour Organisation - Assessed Contributions","OIT-Obligatoires","Organisation internationale du travail - contributions obligatoires",41300]
[41147,"CERF","Central Emergency Response Fund","CERF","Fonds central pour les interventions d'urgence",41400,null,null,null,null,null,41303,"ITU","International Telecommunications Union","UIT","Union internationale des télécommunications",41300]
[41401,"UN-MPTFO","UN-Multi Partner Trust Fund Office","UN-MPTFO","UN-Multi Partner Trust Fund Office",41400,null,null,null,null,null,41304,"UNESCO","United Nations Educational, Scientific and Cultural Organisation","UNESCO","Organisation des Nations Unies pour l’éducation, la science et la culture ",41300]
[41402,"Joint SDG Fund","Joint Sustainable Development Goals Fund","Fonds conjoint des ODD","Fonds conjoint des objectifs de développement durable",41400,null,null,null,null,null,41305,"UN","United Nations","ONU","Organisation des Nations Unies",41300]
[41403,"COVID-19 MPTF","COVID-19 Response and Recovery Multi-Partner Trust Fund","COVID-19 MPTF","COVID-19 Response and Recovery Multi-Partner Trust Fund",41400,null,null,null,null,null,41306,"UPU","Universal Postal Union ","UPU","Union postale universelle",41300]
[41501,"UN-REDD","United Nations Reducing Emissions from Deforestation and Forest Degradation"," "," ",41400,null,null,null,null,null,41307,"WHO-Assessed","World Health Organisation - assessed contributions","OMS-obligatoires","Organisation mondiale de la santé - contributions obligatoires",41300]
[41503,"UN-CBPF","UN-led Country-based Pooled Funds"," "," ",41400,null,null,null,null,null,41308,"WIPO","World Intellectual Property Organisation ","OMPI","Organisation mondiale de la propriété intellectuelle ",41300]
[41500," ","UN single-agency thematic funds"," ","Fonds thématiques uniques des Nations Unies",41000,null,null,null,null,null,41309,"WMO","World Meteorological Organisation ","OMM","Organisation météorologique mondiale",41300]
[41148,"UNDPPA-SZA","United Nations Department of Political and Peacebuilding Affairs, Trust Fund in Support of Political Affairs","UNDPPA-SZA","Département des affaires politiques et de consolidation de la paix des Nations Unies, Fonds d'affectation spéciale à l'appui des affaires politiques",41500,null,null,null,null,null,41310,"UNDPO-UN Peacekeeping operations","United Nations Department of Peace Operations - UN peacekeeping operations","UNDPO-UN Peacekeeping operations","United Nations Department of Peace Operations - UN peacekeeping operations",41300]
[41600," ","Existing UN channels not included in Standard I - UN entity- of the UN Data Cube reporting framework"," ","Canaux de l'ONU existants non inclus dans la norme I du cadre de reporting du cube de l'ONU",41000,null,null,null,null,null,41312,"IAEA-Assessed","International Atomic Energy Agency - assessed contributions","AIEA-obligatoires","Agence internationale de l'énergie atomique - contributions obligatoires",41300]
[41126,"UNMAS","United Nations Mine Action Service ","UNMAS","Service de l'action antimines des Nations Unies",41600,null,null,null,null,null,41313,"OHCHR","United Nations High Commissioner for Human Rights (extrabudgetary contributions only)","HCDH","Haut-Commissariat des Nations unies aux droits de l'homme (contributions extrabudgétaires uniquement)",41300]
[41132,"UNSCN","United Nations System Standing Committee on Nutrition ","UNSCN","Comité permanent de la nutrition du système des Nations Unies",41600,null,null,null,null,null,41314,"UNECE","United Nations Economic Commission for Europe (extrabudgetary contributions only)","CEE-ONU","Commission économique des Nations unies pour l'Europe (contributions extrabudgétaires uniquement)",41300]
[41133,"UNSIA","United Nations Special Initiative on Africa ","UNSIA","Initiative spéciale des Nations Unies pour l'Afrique",41600,null,null,null,null,null,41315,"UNDRR","United Nations Office for Disaster Risk Reduction","UNDRR","Bureau des Nations Unies pour la prévention de catastrophes",41300]
[41136,"UNVFD","United Nations Voluntary Fund on Disability "," ","Fonds de contributions voluntaires des Nations Unies pour les handicapés",41600,null,null,null,null,null,41316,"UNFCCC","United Nations Framework Convention on Climate Change ","CCNUCC","Convention-cadre des Nations unies sur les changements climatiques",41300]
[41137,"UNVFTC","United Nations Voluntary Fund for Technical Co-operation in the Field of Human Rights"," ","Fonds de contributions volontaires des Nations Unies pour la coopération technique dans le domaine des droits de l'homme",41600,null,null,null,null,null,41319,"UNWTO","World Tourism Organization","OMT","Organisation mondiale du tourisme",41300]
[41138,"UNVFVT","United Nations Voluntary Fund for Victims of Torture "," ","Fonds de contributions volontaires des Nations Unies pour les victimes de la torture ",41600,null,null,null,null,null,41321,"WHO-SPRP","World Health Organisation - Strategic Preparedness and Response Plan","OMS-PSPI","Organisation mondiale de la santé - Plan stratégique de préparation et d'intervention",41300]
[41142,"UNDEF","United Nations Democracy Fund","FNUD","Fonds des Nations Unies pour la démocratie",41600,null,null,null,null,null,41502,"UNOPS","United Nations Office for Project Services","UNOPS","Le Bureau des Nations Unies pour les services d'appui aux projets ",41300]
[41318,"GM","Global Mechanism","MM","Mécanisme mondial",41600,null,null,null,null,null,41400," ","UN inter-agency pooled funds"," ","Fonds communs interinstitutions des Nations Unies",41000]
[47065,"IOC","Intergovernmental Oceanographic Commission ","COI","Commission océanographique intergouvernementale",41600,null,null,null,null,null,41141,"PBF","United Nations Peacebuilding Fund","PBF","Fonds des Nations Unies pour la consolidation de la paix",41400]
[47078,"Montreal Protocol","Multilateral Fund for the Implementation of the Montreal Protocol ","Protocol de Montréal","Fonds multilatéral pour l’application du Protocole de Montréal ",41600,null,null,null,null,null,41147,"CERF","Central Emergency Response Fund","CERF","Fonds central pour les interventions d'urgence",41400]
[42000," ","European Union Institutions"," ","Institutions de l'Union européenne",40000,null,null,null,null,null,41401,"UN-MPTFO","UN-Multi Partner Trust Fund Office","UN-MPTFO","UN-Multi Partner Trust Fund Office",41400]
[42001,"EC","European Commission - Development Share of Budget","CE","Commission européenne - partie du budget affectée au développement",42000,null,null,null,null,null,41402,"Joint SDG Fund","Joint Sustainable Development Goals Fund","Fonds conjoint des ODD","Fonds conjoint des objectifs de développement durable",41400]
[42003,"EDF","European Commission - European Development Fund","FED","Commission européenne - Fonds européen de développement",42000,null,null,null,null,null,41403,"COVID-19 MPTF","COVID-19 Response and Recovery Multi-Partner Trust Fund","COVID-19 MPTF","COVID-19 Response and Recovery Multi-Partner Trust Fund",41400]
[42004,"EIB","European Investment Bank ","BEI","Banque européenne d'investissement",42000,null,null,null,null,null,41501,"UN-REDD","United Nations Reducing Emissions from Deforestation and Forest Degradation"," "," ",41400]
[43000," ","International Monetary Fund (IMF)"," ","Fonds monétaire international (FMI)",40000,null,null,null,null,null,41503,"UN-CBPF","UN-led Country-based Pooled Funds"," "," ",41400]
[43001,"IMF-PRGT","International Monetary Fund - Poverty Reduction and Growth Trust ","FMI-FRPC","Fonds monétaire international – Facilité pour la réduction de la pauvreté et pour la croissance",43000,null,null,null,null,null,41500," ","UN single-agency thematic funds"," ","Fonds thématiques uniques des Nations Unies",41000]
[43002,"IMF-PRG-HIPC","International Monetary Fund - Poverty Reduction and Growth - Heavily Indebted Poor Countries Debt Relief Initiative Trust Fund [includes HIPC, Extended Credit Facility (ECF), and ECF-HIPC sub-accounts] ","FMI-FRPC-PPTE","Fonds monétaire international – Réduction de la pauvreté et croissance – Initiative d’allègement de la dette en faveur des pays pauvres très endettés [y compris Initiative PPTE, Facilité élargie de crédit (FEC) et sous-comptes (FEC-PPTE)]",43000,null,null,null,null,null,41148,"UNDPPA-SZA","United Nations Department of Political and Peacebuilding Affairs, Trust Fund in Support of Political Affairs","UNDPPA-SZA","Département des affaires politiques et de consolidation de la paix des Nations Unies, Fonds d'affectation spéciale à l'appui des affaires politiques",41500]
[43003,"IMF-EPCA-ENDA","International Monetary Fund - Subsidization of Emergency Post Conflict Assistance/Emergency Assistance for Natural Disasters for PRGT-eligible members","FMI-EPCA-ENDA","Fonds monétaire international – Aide d’urgence après un conflit (EPCA) et aide d’urgence à la suite de catastrophes naturelles (ENDA) pour les membres pouvant bénéficier de la FRPC",43000,null,null,null,null,null,41600," ","Existing UN channels not included in Standard I - UN entity- of the UN Data Cube reporting framework"," ","Canaux de l'ONU existants non inclus dans la norme I du cadre de reporting du cube de l'ONU",41000]
[43004,"IMF-PRG-MDRI","International Monetary Fund - Poverty Reduction and Growth - Multilateral Debt Relief Initiative Trust","FMI-FRPC-IADM","Fonds monétaire international – Facilité pour la réduction de la pauvreté et pour la croissance – Initiative d’allègement de la dette multilatérale",43000,null,null,null,null,null,41126,"UNMAS","United Nations Mine Action Service ","UNMAS","Service de l'action antimines des Nations Unies",41600]
[43005,"IMF-PCDR","International Monetary Fund - Post-Catastrophe Debt Relief Trust","FMI-ADAC","Fonds monétaire international  - Fonds fiduciaire pour l'allégement de la dette après une catastrophe",43000,null,null,null,null,null,41132,"UNSCN","United Nations System Standing Committee on Nutrition ","UNSCN","Comité permanent de la nutrition du système des Nations Unies",41600]
[43006,"IMF-CCR","Catastrophe Containment and Relief Trust","FMI-ARC","Fonds fiduciaire d’assistance et de riposte aux catastrophes",43000,null,null,null,null,null,41133,"UNSIA","United Nations Special Initiative on Africa ","UNSIA","Initiative spéciale des Nations Unies pour l'Afrique",41600]
[43007,"IMF-RST","IMF’s Resilience and Sustainability Trust","FMI-RST","Fonds fiduciaire pour la résilience et la durabilité",43000,null,null,null,null,null,41136,"UNVFD","United Nations Voluntary Fund on Disability "," ","Fonds de contributions voluntaires des Nations Unies pour les handicapés",41600]
[44000," ","World Bank Group (WB)"," ","Groupe de la Banque mondiale (BM)",40000,null,null,null,null,null,41137,"UNVFTC","United Nations Voluntary Fund for Technical Co-operation in the Field of Human Rights"," ","Fonds de contributions volontaires des Nations Unies pour la coopération technique dans le domaine des droits de l'homme",41600]
[44001,"IBRD","International Bank for Reconstruction and Development ","BIRD","Banque internationale pour la reconstruction et le développement",44000,null,null,null,null,null,41138,"UNVFVT","United Nations Voluntary Fund for Victims of Torture "," ","Fonds de contributions volontaires des Nations Unies pour les victimes de la torture ",41600]
[44002,"IDA","International Development Association ","IDA","Association internationale de développement",44000,null,null,null,null,null,41142,"UNDEF","United Nations Democracy Fund","FNUD","Fonds des Nations Unies pour la démocratie",41600]
[44003,"IDA-HIPC","International Development Association - Heavily Indebted Poor Countries Debt Initiative Trust Fund ","IDA-PPTE","Association internationale de développement - Fonds fiduciaire de l'IDA en faveur des pays pauvres très endettés",44000,null,null,null,null,null,41318,"GM","Global Mechanism","MM","Mécanisme mondial",41600]
[44004,"IFC","International Finance Corporation ","SFI","Société financière internationale ",44000,null,null,null,null,null,47065,"IOC","Intergovernmental Oceanographic Commission ","COI","Commission océanographique intergouvernementale",41600]
[44005,"MIGA","Multilateral Investment Guarantee Agency ","AMGI","Agence multilatérale de garantie des investissements",44000,null,null,null,null,null,47078,"Montreal Protocol","Multilateral Fund for the Implementation of the Montreal Protocol ","Protocol de Montréal","Fonds multilatéral pour l’application du Protocole de Montréal ",41600]
[44006,"AMCs","Advance Market Commitments","AMC","Garanties de marché",44000,null,null,null,null,null,41700," ","UN entities, non-core contributions"," ","Entités des Nations Unies, contributions autres que de base ",41000]
[44007,"IDA-MDRI","International Development Association - Multilateral Debt Relief Initiative","IDA-IADM","Association internationale de développement - Initiative d’allégement de la dette multilatérale",44000,null,null,null,null,null,41701,"ILO-non-core","International Labour Organisation - non-core","ILO-non-core","International Labour Organisation - non-core",41700]
[44008,"PMI","Partnership for Market Implementation","PMI","Partnership for Market Implementation",44000,null,null,null,null,null,41702,"WHO-non-core","World Health Organisation - non-core","WHO-non-core","World Health Organisation - non-core",41700]
[46000," ","Regional Development Banks"," ","Banques régionales de développement",40000,null,null,null,null,null,42000," ","European Union Institutions"," ","Institutions de l'Union européenne",40000]
[46002,"Afr.DB","African Development Bank","BAfD","Banque africaine de développement",46000,null,null,null,null,null,42001,"EC","European Commission - Development Share of Budget","CE","Commission européenne - partie du budget affectée au développement",42000]
[46003,"Afr.DF","African Development Fund ","FAD","Fonds africain de développement",46000,null,null,null,null,null,42003,"EDF","European Commission - European Development Fund","FED","Commission européenne - Fonds européen de développement",42000]
[46004,"AsDB","Asian Development Bank","BAsD","Banque asiatique de développement",46000,null,null,null,null,null,42004,"EIB","European Investment Bank ","BEI","Banque européenne d'investissement",42000]
[46005,"AsDF","Asian Development Fund ","FAsD","Fonds asiatique de développement",46000,null,null,null,null,null,43000," ","International Monetary Fund (IMF)"," ","Fonds monétaire international (FMI)",40000]
[46006,"BSTDB","Black Sea Trade and Development Bank","BSTDB","Black Sea Trade and Development Bank",46000,null,null,null,null,null,43001,"IMF-PRGT","International Monetary Fund - Poverty Reduction and Growth Trust ","FMI-FRPC","Fonds monétaire international – Facilité pour la réduction de la pauvreté et pour la croissance",43000]
[46007,"CABEI","Central American Bank for Economic Integration ","BCAIE","Banque centroaméricaine d'intégration économique",46000,null,null,null,null,null,43002,"IMF-PRG-HIPC","International Monetary Fund - Poverty Reduction and Growth - Heavily Indebted Poor Countries Debt Relief Initiative Trust Fund [includes HIPC, Extended Credit Facility (ECF), and ECF-HIPC sub-accounts] ","FMI-FRPC-PPTE","Fonds monétaire international – Réduction de la pauvreté et croissance – Initiative d’allègement de la dette en faveur des pays pauvres très endettés [y compris Initiative PPTE, Facilité élargie de crédit (FEC) et sous-comptes (FEC-PPTE)]",43000]
[46008,"CAF","Development Bank of Latin America","CAF","Banque de développement de l'Amérique latine",46000,null,null,null,null,null,43003,"IMF-EPCA-ENDA","International Monetary Fund - Subsidization of Emergency Post Conflict Assistance/Emergency Assistance for Natural Disasters for PRGT-eligible members","FMI-EPCA-ENDA","Fonds monétaire international – Aide d’urgence après un conflit (EPCA) et aide d’urgence à la suite de catastrophes naturelles (ENDA) pour les membres pouvant bénéficier de la FRPC",43000]
[46009,"CDB","Caribbean Development Bank ","BDC","Banque de développement des Caraïbes",46000,null,null,null,null,null,43004,"IMF-PRG-MDRI","International Monetary Fund - Poverty Reduction and Growth - Multilateral Debt Relief Initiative Trust","FMI-FRPC-IADM","Fonds monétaire international – Facilité pour la réduction de la pauvreté et pour la croissance – Initiative d’allègement de la dette multilatérale",43000]
[46012,"IDB","Inter-American Development Bank, Inter-American Investment Corporation and Multilateral Investment Fund ","BID","Banque interaméricaine de développement, Société interaméricaine d'investissements, Fonds multilatéral d'investissements",46000,null,null,null,null,null,43005,"IMF-PCDR","International Monetary Fund - Post-Catastrophe Debt Relief Trust","FMI-ADAC","Fonds monétaire international  - Fonds fiduciaire pour l'allégement de la dette après une catastrophe",43000]
[46013,"IDB FSO","Inter-American Development Bank, Fund for Special Operations ","BID FOS","Banque interaméricaine de développement, Fonds opérations spécial",46000,null,null,null,null,null,43006,"IMF-CCR","Catastrophe Containment and Relief Trust","FMI-ARC","Fonds fiduciaire d’assistance et de riposte aux catastrophes",43000]
[46015,"EBRD","European Bank for Reconstruction and Development","BERD","Banque européenne pour la reconstruction et le développement",46000,null,null,null,null,null,43007,"IMF-RST","IMF’s Resilience and Sustainability Trust","FMI-RST","Fonds fiduciaire pour la résilience et la durabilité",43000]
[46016,"EBRD TFs - ODA Countries Only","European Bank for Reconstruction and Development - technical co-operation and special funds (ODA-eligible countries only)","BERD-CTFS pays éligibles à l'APD","Banque européenne pour la reconstruction et le développement - coopération technique et fonds spéciaux (pays éligibles à l'APD)",46000,null,null,null,null,null,44000," ","World Bank Group (WB)"," ","Groupe de la Banque mondiale (BM)",40000]
[46017,"EBRD TFs - All Countries","European Bank for Reconstruction and Development - technical co-operation and special funds (all EBRD countries of operations)","BERD-CTFS tous pays","Banque européenne pour la reconstruction et le développement - coopération technique et fonds spéciaux (tous pays)",46000,null,null,null,null,null,44001,"IBRD","International Bank for Reconstruction and Development ","BIRD","Banque internationale pour la reconstruction et le développement",44000]
[46018,"EBRD-ETC","European Bank for Reconstruction and Development - Early Transition Countries Fund","BERD-ETC","Banque européenne de reconstruction et de développement - Initiative en faveur des pays en transition précoce",46000,null,null,null,null,null,44002,"IDA","International Development Association ","IDA","Association internationale de développement",44000]
[46019,"EBRD-WBJTF","European Bank for Reconstruction and Development - Western Balkans Joint Trust Fund","BERD-FSpBO","Banque européenne de reconstruction et de développement - Fonds spécial pour les Balkans occidentaux",46000,null,null,null,null,null,44003,"IDA-HIPC","International Development Association - Heavily Indebted Poor Countries Debt Initiative Trust Fund ","IDA-PPTE","Association internationale de développement - Fonds fiduciaire de l'IDA en faveur des pays pauvres très endettés",44000]
[46020,"BDEAC","Central African States Development Bank","BDEAC","Banque de développement des États de l'Afrique Centrale",46000,null,null,null,null,null,44004,"IFC","International Finance Corporation ","SFI","Société financière internationale ",44000]
[46021,"BOAD","West African Development Bank","BOAD","Banque ouest-africaine de développement",46000,null,null,null,null,null,44005,"MIGA","Multilateral Investment Guarantee Agency ","AMGI","Agence multilatérale de garantie des investissements",44000]
[46022,"Afreximbank","African Export Import Bank","Afreximbank","Banque Africaine d'Import-Export",46000,null,null,null,null,null,44006,"AMCs","Advance Market Commitments","AMC","Garanties de marché",44000]
[46023,"TDB","Eastern and Southern African Trade and Development Bank","TDB","Banque de l’Afrique de l’Est et de l’Afrique Australe pour le Commerce et le Développement",46000,null,null,null,null,null,44007,"IDA-MDRI","International Development Association - Multilateral Debt Relief Initiative","IDA-IADM","Association internationale de développement - Initiative d’allégement de la dette multilatérale",44000]
[46024,"CEB","Council of Europe Development Bank","CEB","Banque de Développement du Conseil de l'Europe",46000,null,null,null,null,null,44008,"PMI","Partnership for Market Implementation","PMI","Partnership for Market Implementation",44000]
[46025,"IsDB","Islamic Development Bank","BIsD","Banque Islamique de Développement",46000,null,null,null,null,null,46000," ","Regional Development Banks"," ","Banques régionales de développement",40000]
[46026,"AIIB","Asian Infrastructure Investment Bank","BAII"," ",46000,null,null,null,null,null,46002,"Afr.DB","African Development Bank","BAfD","Banque africaine de développement",46000]
[46027,"FONPLATA","Financial Fund for the Development of the River Plate Basin","FONPLATA","Fonds financier pour le développement du bassin fluvial de la Plata",46000,null,null,null,null,null,46003,"Afr.DF","African Development Fund ","FAD","Fonds africain de développement",46000]
[47000," ","Other multilateral institutions"," ","Autres institutions multilatérales",40000,null,null,null,null,null,46004,"AsDB","Asian Development Bank","BAsD","Banque asiatique de développement",46000]
[21002,"AITIC","Agency for International Trade Information and Co-operation ","ACICI","Agence de coopération et d'information pour le commerce international",47000,null,null,null,null,null,46005,"AsDF","Asian Development Fund ","FAsD","Fonds asiatique de développement",46000]
[41102,"DLCO-EA","Desert Locust Control Organisation for Eastern Africa ","OLCP-EA","Organisation de lutte contre le criquet pèlerin dans l'Est Africain",47000,null,null,null,null,null,46006,"BSTDB","Black Sea Trade and Development Bank","BSTDB","Black Sea Trade and Development Bank",46000]
[41317,"GCF","Green Climate Fund","GCF","Fonds vert pour le climat",47000,null,null,null,null,null,46007,"CABEI","Central American Bank for Economic Integration ","BCAIE","Banque centroaméricaine d'intégration économique",46000]
[47001,"ACBF","African Capacity Building Foundation ","ACBF","Fondation pour le renforcement des capacités en Afrique",47000,null,null,null,null,null,46008,"CAF","Development Bank of Latin America","CAF","Banque de développement de l'Amérique latine",46000]
[47002,"APO","Asian Productivity Organisation ","APO","Organisation asiatique de productivité",47000,null,null,null,null,null,46009,"CDB","Caribbean Development Bank ","BDC","Banque de développement des Caraïbes",46000]
[47003,"ASEAN","Association of South East Asian Nations: Economic Co-operation ","ANASE","Association des nations de l'Asie du Sud-Est - coopération économique",47000,null,null,null,null,null,46012,"IDB","Inter-American Development Bank, Inter-American Investment Corporation and Multilateral Investment Fund ","BID","Banque interaméricaine de développement, Société interaméricaine d'investissements, Fonds multilatéral d'investissements",46000]
[47005,"AU","African Union (excluding peacekeeping facilities) ","UA","Union Africaine (à l'exclusion de la Facilité de soutien à la paix)",47000,null,null,null,null,null,46013,"IDB FSO","Inter-American Development Bank, Fund for Special Operations ","BID FOS","Banque interaméricaine de développement, Fonds opérations spécial",46000]
[47009,"CAMES","African and Malagasy Council for Higher Education ","CAMES","Conseil africain et malgache pour l'enseignement supérieur",47000,null,null,null,null,null,46015,"EBRD","European Bank for Reconstruction and Development","BERD","Banque européenne pour la reconstruction et le développement",46000]
[47011,"CARICOM","Caribbean Community Secretariat ","CARICOM","Secrétariat de la Communauté des Caraïbes ",47000,null,null,null,null,null,46016,"EBRD TFs - ODA Countries Only","European Bank for Reconstruction and Development - technical co-operation and special funds (ODA-eligible countries only)","BERD-CTFS pays éligibles à l'APD","Banque européenne pour la reconstruction et le développement - coopération technique et fonds spéciaux (pays éligibles à l'APD)",46000]
[47012,"CAREC","Caribbean Epidemiology Centre ","CAREC","Centre épidémiologique des Caraïbes",47000,null,null,null,null,null,46017,"EBRD TFs - All Countries","European Bank for Reconstruction and Development - technical co-operation and special funds (all EBRD countries of operations)","BERD-CTFS tous pays","Banque européenne pour la reconstruction et le développement - coopération technique et fonds spéciaux (tous pays)",46000]
[47013,"CF","Commonwealth Foundation ","CF","Fondation du Commonwealth",47000,null,null,null,null,null,46018,"EBRD-ETC","European Bank for Reconstruction and Development - Early Transition Countries Fund","BERD-ETC","Banque européenne de reconstruction et de développement - Initiative en faveur des pays en transition précoce",46000]
[47015,"CGIAR","CGIAR Fund","CGIAR","CGIAR Fund",47000,null,null,null,null,null,46019,"EBRD-WBJTF","European Bank for Reconstruction and Development - Western Balkans Joint Trust Fund","BERD-FSpBO","Banque européenne de reconstruction et de développement - Fonds spécial pour les Balkans occidentaux",46000]
[47019,"CIHEAM","International Centre for Advanced Mediterranean Agronomic Studies ","CIHEAM","Centre international de hautes études agronomique méditerranéennes",47000,null,null,null,null,null,46020,"BDEAC","Central African States Development Bank","BDEAC","Banque de développement des États de l'Afrique Centrale",46000]
[47022,"CITES","Convention on International Trade in Endangered Species of Wild Flora and Fauna","CITES","Convention sur le commerce international des espèces de faune et de flore sauvages menacées d'extinction",47000,null,null,null,null,null,46021,"BOAD","West African Development Bank","BOAD","Banque ouest-africaine de développement",46000]
[47025,"COL","Commonwealth of Learning ","COL","Commonwealth of Learning",47000,null,null,null,null,null,46022,"Afreximbank","African Export Import Bank","Afreximbank","Banque Africaine d'Import-Export",46000]
[47026,"CPLP","Community of Portuguese Speaking Countries ","CPLP","Communauté des pays de langue portugaise ",47000,null,null,null,null,null,46023,"TDB","Eastern and Southern African Trade and Development Bank","TDB","Banque de l’Afrique de l’Est et de l’Afrique Australe pour le Commerce et le Développement",46000]
[47027,"CP ","Colombo Plan","CP","Plan de Colombo",47000,null,null,null,null,null,46024,"CEB","Council of Europe Development Bank","CEB","Banque de Développement du Conseil de l'Europe",46000]
[47029,"SWAC","Sahel and West Africa Club ","CSAO","Club du Sahel et de l’Afrique de l’Ouest ",47000,null,null,null,null,null,46025,"IsDB","Islamic Development Bank","BIsD","Banque Islamique de Développement",46000]
[47034,"ECOWAS","Economic Community of West African States ","CEDEAO","Communauté économique des Etats de l’Afrique de l’Ouest",47000,null,null,null,null,null,46026,"AIIB","Asian Infrastructure Investment Bank","BAII"," ",46000]
[47036,"EPPO","European and Mediterranean Plant Protection Organisation ","OEPP","Organisation Européenne et Méditerranéenne pour la Protection des Plantes",47000,null,null,null,null,null,46027,"FONPLATA","Financial Fund for the Development of the River Plate Basin","FONPLATA","Fonds financier pour le développement du bassin fluvial de la Plata",46000]
[47037,"EROPA","Eastern-Regional Organisation of Public Administration ","EROPA","Organisation régionale de l'Orient pour l'administration publique",47000,null,null,null,null,null,47000," ","Other multilateral institutions"," ","Autres institutions multilatérales",40000]
[47040,"FFA","Forum Fisheries Agency ","FFA","Agence des pêches ",47000,null,null,null,null,null,21002,"AITIC","Agency for International Trade Information and Co-operation ","ACICI","Agence de coopération et d'information pour le commerce international",47000]
[47044,"GEF","Global Environment Facility Trust Fund","FEM","Fonds pour l'environnement mondial - fonds fiduciaire",47000,null,null,null,null,null,41102,"DLCO-EA","Desert Locust Control Organisation for Eastern Africa ","OLCP-EA","Organisation de lutte contre le criquet pèlerin dans l'Est Africain",47000]
[47045,"Global Fund","Global Fund to Fight AIDS, Tuberculosis and Malaria ","Fonds mondial","Fonds mondial de lutte contre le SIDA, la tuberculose et la paludisme",47000,null,null,null,null,null,41317,"GCF","Green Climate Fund","GCF","Fonds vert pour le climat",47000]
[47046,"OIF","International Organisation of the Francophonie","OIF","Organisation internationale de la Francophonie ",47000,null,null,null,null,null,47001,"ACBF","African Capacity Building Foundation ","ACBF","Fondation pour le renforcement des capacités en Afrique",47000]
[47050,"ICAC","International Cotton Advisory Committee ","CCIC","Comité consultatif international du coton",47000,null,null,null,null,null,47002,"APO","Asian Productivity Organisation ","APO","Organisation asiatique de productivité",47000]
[47058,"IDEA","International Institute for Democracy and Electoral Assistance ","IDEA","International Institute for Democracy and Electoral Assistance",47000,null,null,null,null,null,47003,"ASEAN","Association of South East Asian Nations: Economic Co-operation ","ANASE","Association des nations de l'Asie du Sud-Est - coopération économique",47000]
[47059,"IDLO","International Development Law Organisation ","IDLO","Organisation internationale de droit du développement ",47000,null,null,null,null,null,47005,"AU","African Union","AU","African Union",47000]
[47061,"IICA","Inter-American Institute for Co-operation on Agriculture ","IICA","Institut interaméricain de coopération pour l’agriculture",47000,null,null,null,null,null,47009,"CAMES","African and Malagasy Council for Higher Education ","CAMES","Conseil africain et malgache pour l'enseignement supérieur",47000]
[47064,"INBAR","International Network for Bamboo and Rattan ","INBAR","Réseau International sur le bambou et le rotin",47000,null,null,null,null,null,47011,"CARICOM","Caribbean Community Secretariat ","CARICOM","Secrétariat de la Communauté des Caraïbes ",47000]
[47067,"IPCC","Intergovernmental Panel on Climate Change ","GIEC","Groupe d’experts intergouvernemental sur l’évolution du climat",47000,null,null,null,null,null,47012,"CAREC","Caribbean Epidemiology Centre ","CAREC","Centre épidémiologique des Caraïbes",47000]
[47068,"APFIC","Asia-Pacific Fishery Commission","APFIC","Commission Asie-Pacifique des pêches",47000,null,null,null,null,null,47013,"CF","Commonwealth Foundation ","CF","Fondation du Commonwealth",47000]
[47073,"ITTO","International Tropical Timber Organisation ","OIBT","Organisation Internationale des Bois Tropicaux",47000,null,null,null,null,null,47015,"CGIAR","CGIAR Fund","CGIAR","CGIAR Fund",47000]
[47074,"IVI","International Vaccine Institute ","IIV","Institut international de vaccins ",47000,null,null,null,null,null,47019,"CIHEAM","International Centre for Advanced Mediterranean Agronomic Studies ","CIHEAM","Centre international de hautes études agronomique méditerranéennes",47000]
[47076,"JSCA","Justice Studies Centre of the Americas ","JSCA","Centre d’études sur la justice dans les Amériques",47000,null,null,null,null,null,47022,"CITES","Convention on International Trade in Endangered Species of Wild Flora and Fauna","CITES","Convention sur le commerce international des espèces de faune et de flore sauvages menacées d'extinction",47000]
[47077,"MRC","Mekong River Commission ","MRC","Commission du Mékong",47000,null,null,null,null,null,47025,"COL","Commonwealth of Learning ","COL","Commonwealth of Learning",47000]
[47079,"OAS","Organisation of American States ","OEA","Organisation des États américains",47000,null,null,null,null,null,47026,"CPLP","Community of Portuguese Speaking Countries ","CPLP","Communauté des pays de langue portugaise ",47000]
[47080,"OECD","Organisation for Economic Co-operation and Development (Contributions to special funds for Technical Co-operation Activities Only) ","OCDE","Organisation de Coopération et de développement économiques (contributions aux fonds spéciaux pour les activités de coopération technique uniquement)",47000,null,null,null,null,null,47027,"CP ","Colombo Plan","CP","Plan de Colombo",47000]
[47081,"OECD-Dev. Centre","OECD Development Centre ","OCDE-Centre de dév. ","OCDE Centre de développement",47000,null,null,null,null,null,47029,"SWAC","Sahel and West Africa Club ","CSAO","Club du Sahel et de l’Afrique de l’Ouest ",47000]
[47082,"OECS","Organisation of Eastern Caribbean States ","OECO","Organisation des États des Caraïbes orientales",47000,null,null,null,null,null,47034,"ECOWAS","Economic Community of West African States ","CEDEAO","Communauté économique des Etats de l’Afrique de l’Ouest",47000]
[47084,"PAIGH","Pan-American Institute of Geography and History ","PAIGH","Institut panaméricain de géographie et d’histoire",47000,null,null,null,null,null,47036,"EPPO","European and Mediterranean Plant Protection Organisation ","OEPP","Organisation Européenne et Méditerranéenne pour la Protection des Plantes",47000]
[47086,"PIDG","Private Infrastructure Development Group ","PIDG","Private Infrastructure Development Group",47000,null,null,null,null,null,47037,"EROPA","Eastern-Regional Organisation of Public Administration ","EROPA","Organisation régionale de l'Orient pour l'administration publique",47000]
[47087,"PIFS","Pacific Islands Forum Secretariat ","SFIP","Secrétariat du Forum des Iles du Pacifique",47000,null,null,null,null,null,47040,"FFA","Forum Fisheries Agency ","FFA","Agence des pêches ",47000]
[47089,"SADC","Southern African Development Community ","SADC","Communauté pour le développement de l’Afrique australe",47000,null,null,null,null,null,47044,"GEF","Global Environment Facility Trust Fund","FEM","Fonds pour l'environnement mondial - fonds fiduciaire",47000]
[47092,"SEAFDC","South East Asian Fisheries Development Centre ","SEAFDC","Centre de développement des pêches de l’Asie du Sud-Est",47000,null,null,null,null,null,47045,"Global Fund","Global Fund to Fight AIDS, Tuberculosis and Malaria ","Fonds mondial","Fonds mondial de lutte contre le SIDA, la tuberculose et la paludisme",47000]
[47093,"SEAMEO","South East Asian Ministers of Education ","SEAMEO","Organisation des Ministres de l’éducation de l’Asie du Sud-Est",47000,null,null,null,null,null,47046,"OIF","International Organisation of the Francophonie","OIF","Organisation internationale de la Francophonie ",47000]
[47095,"EQAP","Educational Quality and Assessment Programme","EQAP","Programme d'évaluation et de qualité de l'éducation",47000,null,null,null,null,null,47050,"ICAC","International Cotton Advisory Committee ","CCIC","Comité consultatif international du coton",47000]
[47096,"SPC","Secretariat of the Pacific Community ","CPS","Secrétariat Général de la Communauté du Pacifique",47000,null,null,null,null,null,47058,"IDEA","International Institute for Democracy and Electoral Assistance ","IDEA","International Institute for Democracy and Electoral Assistance",47000]
[47097,"SPREP","Pacific Regional Environment Programme ","PROE","Programme régional océanien de l’environnement",47000,null,null,null,null,null,47059,"IDLO","International Development Law Organisation ","IDLO","Organisation internationale de droit du développement ",47000]
[47098,"UNPO","Unrepresented Nations and Peoples’ Organisation ","UNPO","Organisation des peuples et des nations non représentés",47000,null,null,null,null,null,47061,"IICA","Inter-American Institute for Co-operation on Agriculture ","IICA","Institut interaméricain de coopération pour l’agriculture",47000]
[47105,"CFC","Common Fund for Commodities "," ","Fonds commun pour les produits de base",47000,null,null,null,null,null,47064,"INBAR","International Network for Bamboo and Rattan ","INBAR","Réseau International sur le bambou et le rotin",47000]
[47106,"DCAF","Geneva Centre for the Democratic Control of Armed Forces","DCAF","Centre de contrôle démocratique des forces armées - Genève",47000,null,null,null,null,null,47067,"IPCC","Intergovernmental Panel on Climate Change ","GIEC","Groupe d’experts intergouvernemental sur l’évolution du climat",47000]
[47107,"IFFIm","International Finance Facility for Immunisation","IFFIm","Facilité internationale de financement pour la vaccination",47000,null,null,null,null,null,47068,"APFIC","Asia-Pacific Fishery Commission","APFIC","Commission Asie-Pacifique des pêches",47000]
[47109,"APEC ASF","Asia-Pacific Economic Cooperation Support Fund (except contributions tied to counter-terrorism activities)","APEC-ASF","Fonds de soutien de la coopération économique Asie-Pacifique (hors lutte contre le terrorisme)",47000,null,null,null,null,null,47073,"ITTO","International Tropical Timber Organisation ","OIBT","Organisation Internationale des Bois Tropicaux",47000]
[47110,"BSEC","Organisation of the Black Sea Economic Cooperation","BSEC","Organisation de coopération économique de la mer Noire",47000,null,null,null,null,null,47074,"IVI","International Vaccine Institute ","IIV","Institut international de vaccins ",47000]
[47111," ","Adaptation Fund"," ","Fonds pour l’adaptation",47000,null,null,null,null,null,47076,"JSCA","Justice Studies Centre of the Americas ","JSCA","Centre d’études sur la justice dans les Amériques",47000]
[47112,"CEI-Climate Fund","Central European Initiative - Special Fund for Climate and Environmental Protection","CEI-Climate Fund","Initiative de l’Europe centrale - Fonds Spécial pour la protection climatique et environnementale",47000,null,null,null,null,null,47077,"MRC","Mekong River Commission ","MRC","Commission du Mékong",47000]
[47113,"CEMAC","Economic and Monetary Community of Central Africa ","CEMAC","Communauté économique et monétaire de l’Afrique Centrale",47000,null,null,null,null,null,47079,"OAS","Organisation of American States ","OEA","Organisation des États américains",47000]
[47114,"AFoCO","Asian Forest Cooperation Organisation","AFoCO","Asian Forest Cooperation Organisation",47000,null,null,null,null,null,47080,"OECD","Organisation for Economic Co-operation and Development","OECD","Organisation for Economic Co-operation and Development",47000]
[47116,"IF","Integrated Framework for Trade-Related Technical Assistance to Least Developed Countries","CI","Cadre intégré pour l'assistance technique liée au commerce en faveur des pays les moins avancés",47000,null,null,null,null,null,47081,"OECD-Dev. Centre","OECD Development Centre ","OCDE-Centre de dév. ","OCDE Centre de développement",47000]
[47117,"NEPAD","New Partnership for Africa's Development","NEPAD","Nouveau Partenariat pour le développement de l’Afrique",47000,null,null,null,null,null,47082,"OECS","Organisation of Eastern Caribbean States ","OECO","Organisation des États des Caraïbes orientales",47000]
[47118,"CREFIAF","Regional Organisation for the Strengthening of Supreme Audit Institutions of Francophone Sub-Saharan Countries","CREFIAF","Conseil Régional de Formation des Institutions Supérieures de Contrôle des Finances Publiques d’Afrique Francophone Subsaharienne",47000,null,null,null,null,null,47084,"PAIGH","Pan-American Institute of Geography and History ","PAIGH","Institut panaméricain de géographie et d’histoire",47000]
[47119,"OSS","Sahara and Sahel Observatory","OSS","Observatoire du Sahara et du Sahel",47000,null,null,null,null,null,47086,"PIDG","Private Infrastructure Development Group ","PIDG","Private Infrastructure Development Group",47000]
[47120,"SAARC","South Asian Association for Regional Cooperation ","SAARC","Association de l'Asie du Sud pour la coopération régionale",47000,null,null,null,null,null,47087,"PIFS","Pacific Islands Forum Secretariat ","SFIP","Secrétariat du Forum des Iles du Pacifique",47000]
[47121,"UCLGA","United Cities and Local Governments of Africa","CGLUA","Cités et gouvernements locaux unis d’Afrique",47000,null,null,null,null,null,47089,"SADC","Southern African Development Community ","SADC","Communauté pour le développement de l’Afrique australe",47000]
[47122,"GAVI","Global Alliance for Vaccines and Immunization ","GAVI","Alliance mondiale pour la vaccination et l’immunisation",47000,null,null,null,null,null,47092,"SEAFDC","South East Asian Fisheries Development Centre ","SEAFDC","Centre de développement des pêches de l’Asie du Sud-Est",47000]
[47123,"GICHD","Geneva International Centre for Humanitarian Demining ","CIDHG","Centre International de Déminage Humanitaire Genève",47000,null,null,null,null,null,47093,"SEAMEO","South East Asian Ministers of Education ","SEAMEO","Organisation des Ministres de l’éducation de l’Asie du Sud-Est",47000]
[47124,"IACA","International Anti-Corruption Academy","IACA","International Anti-Corruption Academy",47000,null,null,null,null,null,47095,"EQAP","Educational Quality and Assessment Programme","EQAP","Programme d'évaluation et de qualité de l'éducation",47000]
[47125,"ICGEB","International Centre for Genetic Engineering and Biotechnology","ICGEB","International Centre for Genetic Engineering and Biotechnology",47000,null,null,null,null,null,47096,"SPC","Secretariat of the Pacific Community ","CPS","Secrétariat Général de la Communauté du Pacifique",47000]
[47127,"OLADE","Latin-American Energy Organisation","OLADE","Organisation latino-américaine de l'énergie",47000,null,null,null,null,null,47097,"SPREP","Pacific Regional Environment Programme ","PROE","Programme régional océanien de l’environnement",47000]
[47128,"NDF","Nordic Development Fund","NDF","Nordic Development Fund",47000,null,null,null,null,null,47098,"UNPO","Unrepresented Nations and Peoples’ Organisation ","UNPO","Organisation des peuples et des nations non représentés",47000]
[47129,"GEF-LDCF","Global Environment Facility - Least Developed Countries Fund","FEM - FPMA","FEM Fonds pour les pays les moins avancés",47000,null,null,null,null,null,47105,"CFC","Common Fund for Commodities "," ","Fonds commun pour les produits de base",47000]
[47130,"GEF-SCCF","Global Environment Facility - Special Climate Change Fund","FEM - FSpCC","FEM Fonds spécial pour les changements climatiques",47000,null,null,null,null,null,47106,"DCAF","Geneva Centre for the Democratic Control of Armed Forces","DCAF","Centre de contrôle démocratique des forces armées - Genève",47000]
[47131,"OSCE","Organization for Security and Co-operation in Europe","OSCE","Organisation pour la sécurité et la coopération en Europe",47000,null,null,null,null,null,47107,"IFFIm","International Finance Facility for Immunisation","IFFIm","Facilité internationale de financement pour la vaccination",47000]
[47132," ","Commonwealth Secretariat (ODA-eligible contributions only)"," ","Secrétariat du Commonwealth (seulement les contributions éligibles à l'APD)",47000,null,null,null,null,null,47109,"APEC-ASF","Asia-Pacific Economic Cooperation Support Fund","APEC-ASF","Asia-Pacific Economic Cooperation Support Fund",47000]
[47134,"CTF","Clean Technology Fund","FTP","Fonds pour les technologies propres",47000,null,null,null,null,null,47110,"BSEC","Organisation of the Black Sea Economic Cooperation","BSEC","Organisation de coopération économique de la mer Noire",47000]
[47135,"SCF","Strategic Climate Fund","FSC","Fonds stratégique pour le climat",47000,null,null,null,null,null,47111," ","Adaptation Fund"," ","Fonds pour l’adaptation",47000]
[47136,"GGGI","Global Green Growth Institute","GGGI","Institut mondial de la croissance verte",47000,null,null,null,null,null,47112,"CEI-Climate Fund","Central European Initiative - Special Fund for Climate and Environmental Protection","CEI-Climate Fund","Initiative de l’Europe centrale - Fonds Spécial pour la protection climatique et environnementale",47000]
[47137,"ARC","African Risk Capacity Group","ARC","Mutuelle panafricaine de gestion des risques",47000,null,null,null,null,null,47113,"CEMAC","Economic and Monetary Community of Central Africa ","CEMAC","Communauté économique et monétaire de l’Afrique Centrale",47000]
[47138,"CoE","Council of Europe","CoE","Conseil de l’Europe",47000,null,null,null,null,null,47114,"AFoCO","Asian Forest Cooperation Organisation","AFoCO","Asian Forest Cooperation Organisation",47000]
[47139,"WCO CCF","World Customs Organization Customs Co-operation Fund","OMD CCF","Organisation Mondiale des Douanes Fonds de coopération douanière",47000,null,null,null,null,null,47116,"IF","Integrated Framework for Trade-Related Technical Assistance to Least Developed Countries","CI","Cadre intégré pour l'assistance technique liée au commerce en faveur des pays les moins avancés",47000]
[47140,"OEI","Organisation of Ibero-American States for Education, Science and Culture","OEI","Organisation des états ibéro-américains pour l'éducation, la science et la culture (OEI)",47000,null,null,null,null,null,47117,"NEPAD","New Partnership for Africa's Development","NEPAD","Nouveau Partenariat pour le développement de l’Afrique",47000]
[47141,"ATAF","African Tax Administration Forum","ATAF","Forum sur l’Administration Fiscale Africaine",47000,null,null,null,null,null,47118,"CREFIAF","Regional Organisation for the Strengthening of Supreme Audit Institutions of Francophone Sub-Saharan Countries","CREFIAF","Conseil Régional de Formation des Institutions Supérieures de Contrôle des Finances Publiques d’Afrique Francophone Subsaharienne",47000]
[47142,"OFID","OPEC Fund for International Development","OFID","Le Fonds OPEP pour le développement international",47000,null,null,null,null,null,47119,"OSS","Sahara and Sahel Observatory","OSS","Observatoire du Sahara et du Sahel",47000]
[47143,"GCERF","Global Community Engagement and Resilience Fund","GCERF","Fonds mondial pour l’engagement de la communauté et la résilience",47000,null,null,null,null,null,47120,"SAARC","South Asian Association for Regional Cooperation ","SAARC","Association de l'Asie du Sud pour la coopération régionale",47000]
[47144,"IRENA","International Renewable Energy Agency","IRENA","Agence internationale pour les energies renouvelables",47000,null,null,null,null,null,47121,"UCLGA","United Cities and Local Governments of Africa","CGLUA","Cités et gouvernements locaux unis d’Afrique",47000]
[47145,"CEF","Center of Excellence in Finance"," "," ",47000,null,null,null,null,null,47122,"GAVI","Global Alliance for Vaccines and Immunization ","GAVI","Alliance mondiale pour la vaccination et l’immunisation",47000]
[47146,"IIB","International Investment Bank"," "," ",47000,null,null,null,null,null,47123,"GICHD","Geneva International Centre for Humanitarian Demining ","CIDHG","Centre International de Déminage Humanitaire Genève",47000]
[47147,"IFFEd","International Finance Facility for Education","IFFEd","Facilité internationale de financement pour l'éducation",47000,null,null,null,null,null,47124,"IACA","International Anti-Corruption Academy","IACA","International Anti-Corruption Academy",47000]
[47148,"WOAH","World Organisation for Animal Health","WOAH","Organisation mondiale de la santé animale",47000,null,null,null,null,null,47125,"ICGEB","International Centre for Genetic Engineering and Biotechnology","ICGEB","International Centre for Genetic Engineering and Biotechnology",47000]
[47149,"ICMP","International Commission on Missing Persons","CIPD","Commission internationale pour les personnes disparues",47000,null,null,null,null,null,47127,"OLADE","Latin-American Energy Organisation","OLADE","Organisation latino-américaine de l'énergie",47000]
[47150,"SEGIB","Secretaría General Iberoamericana","SEGIB","Secretaría General Iberoamericana",47000,null,null,null,null,null,47128,"NDF","Nordic Development Fund","NDF","Nordic Development Fund",47000]
[47501,"GPE","Global Partnership for Education","PME","Partenariat Mondial pour l'Education",47000,null,null,null,null,null,47129,"GEF-LDCF","Global Environment Facility - Least Developed Countries Fund","FEM - FPMA","FEM Fonds pour les pays les moins avancés",47000]
[47502,"GFDRR","Global Fund for Disaster Risk Reduction"," "," ",47000,null,null,null,null,null,47130,"GEF-SCCF","Global Environment Facility - Special Climate Change Fund","FEM - FSpCC","FEM Fonds spécial pour les changements climatiques",47000]
[47503,"GAFSP","Global Agriculture and Food Security Program"," "," ",47000,null,null,null,null,null,47131,"OSCE","Organization for Security and Co-operation in Europe","OSCE","Organisation pour la sécurité et la coopération en Europe",47000]
[47504,"FCPF","Forest Carbon Partnership Facility "," "," ",47000,null,null,null,null,null,47132," ","Commonwealth Secretariat"," ","Commonwealth Secretariat",47000]
[47100,"WAMU","West African Monetary Union ","UMOA","Union monétaire ouest-africaine",47000,null,null,null,null,null,47134,"CTF","Clean Technology Fund","FTP","Fonds pour les technologies propres",47000]
[47400," ","European Space Agency (ESA) programme 'Space in support of International Development Aid'"," "," ",47000,null,null,null,null,null,47135,"SCF","Strategic Climate Fund","FSC","Fonds stratégique pour le climat",47000]
[51000," ","University, college or other teaching institution, research institute or think-tank"," ","Université, collège ou autre établissement d'enseignement, institut de recherche ou de réflexion",51000,null,null,null,null,null,47136,"GGGI","Global Green Growth Institute","GGGI","Institut mondial de la croissance verte",47000]
[21004,"CODESRIA","Council for the Development of Economic and Social Research in Africa ","CODESRIA","Conseil pour le développement de la recherche en sciences sociales en Afrique",51000,null,null,null,null,null,47137,"ARC","African Risk Capacity Group","ARC","Mutuelle panafricaine de gestion des risques",47000]
[21009,"FARA","Forum for Agricultural Research in Africa ","FARA","Forum pour la recherche agricole en Afrique",51000,null,null,null,null,null,47138,"CoE","Council of Europe","CoE","Conseil de l’Europe",47000]
[21021,"IIED","International Institute for Environment and Development ","IIED","Institut international pour l’environnement et le développement",51000,null,null,null,null,null,47139,"WCO CCF","World Customs Organization Customs Co-operation Fund","OMD CCF","Organisation Mondiale des Douanes Fonds de coopération douanière",47000]
[21039,"IISD","International Institute for Sustainable Development","IIDD","Institut international de développement durable",51000,null,null,null,null,null,47140,"OEI","Organisation of Ibero-American States for Education, Science and Culture","OEI","Organisation des états ibéro-américains pour l'éducation, la science et la culture (OEI)",47000]
[47008,"AVRDC","World Vegetable Centre","AVRDC","Centre international de cultures maraîchères",51000,null,null,null,null,null,47141,"ATAF","African Tax Administration Forum","ATAF","Forum sur l’Administration Fiscale Africaine",47000]
[47017,"CIAT","International Centre for Tropical Agriculture ","CIAT","Centre international d'agriculture tropicale",51000,null,null,null,null,null,47142,"OFID","OPEC Fund for International Development","OFID","Le Fonds OPEP pour le développement international",47000]
[47018,"CIFOR","Centre for International Forestry Research ","CIFOR","Centre de recherche forestière internationale ",51000,null,null,null,null,null,47143,"GCERF","Global Community Engagement and Resilience Fund","GCERF","Fonds mondial pour l’engagement de la communauté et la résilience",47000]
[47020,"CIMMYT","International Maize and Wheat Improvement Centre ","CIMMYT","Centre international d’amélioration du maïs et du blé ",51000,null,null,null,null,null,47144,"IRENA","International Renewable Energy Agency","IRENA","Agence internationale pour les energies renouvelables",47000]
[47021,"CIP","International Potato Centre ","CIP","Centre international de la pomme de terre",51000,null,null,null,null,null,47145,"CEF","Center of Excellence in Finance"," "," ",47000]
[47041,"FFTC","Food and Fertilizer Technology Centre ","FFTC","Centre des techniques de l'alimentation et des engrais",51000,null,null,null,null,null,47146,"IIB","International Investment Bank"," "," ",47000]
[47047,"IAI","International African Institute ","IIA","Institut international africain",51000,null,null,null,null,null,47147,"IFFEd","International Finance Facility for Education","IFFEd","Facilité internationale de financement pour l'éducation",47000]
[47051,"ICARDA","International Centre for Agricultural Research in Dry Areas ","ICARDA","Centre international de recherche agricole dans les zones arides",51000,null,null,null,null,null,47148,"WOAH","World Organisation for Animal Health","WOAH","Organisation mondiale de la santé animale",47000]
[47053,"ICDDR,B","International Centre for Diarrhoeal Disease Research, Bangladesh","ICDDR,B","International Centre for Diarrhoeal Disease Research, Bangladesh",51000,null,null,null,null,null,47149,"ICMP","International Commission on Missing Persons","CIPD","Commission internationale pour les personnes disparues",47000]
[47054,"ICIPE","International Centre of Insect Physiology and Ecology ","ICIPE","Centre international sur la physiologie et l’écologie des insectes",51000,null,null,null,null,null,47150,"SEGIB","Secretaría General Iberoamericana","SEGIB","Secretaría General Iberoamericana",47000]
[47055,"ICRA","International Centre for Development Oriented Research in Agriculture ","ICRA","Centre International pour la Recherche Agricole orientée vers le développement",51000,null,null,null,null,null,47501,"GPE","Global Partnership for Education","PME","Partenariat Mondial pour l'Education",47000]
[47056,"ICRAF","World AgroForestry Centre","ICRAF","Centre mondial de l’agroforesterie",51000,null,null,null,null,null,47502,"GFDRR","Global Fund for Disaster Risk Reduction"," "," ",47000]
[47057,"ICRISAT","International Crop Research for Semi-Arid Tropics ","ICRISAT","Institut international de recherche sur les cultures des zones tropicales semi-arides",51000,null,null,null,null,null,47503,"GAFSP","Global Agriculture and Food Security Program"," "," ",47000]
[47062,"IITA","International Institute of Tropical Agriculture ","IITA","Institut international d’agriculture tropicale",51000,null,null,null,null,null,47504,"FCPF","Forest Carbon Partnership Facility "," "," ",47000]
[47063,"ILRI","International Livestock Research Institute ","ILRI","International Livestock Research Institute",51000,null,null,null,null,null,47100,"WAMU","West African Monetary Union ","UMOA","Union monétaire ouest-africaine",47000]
[47069," ","Bioversity International"," ","Bioversity International",51000,null,null,null,null,null,47400," ","European Space Agency (ESA) programme 'Space in support of International Development Aid'"," "," ",47000]
[47070,"IRRI","International Rice Research Institute ","IIRR","Institut international de recherche sur le riz",51000,null,null,null,null,null,51000," ","University, college or other teaching institution, research institute or think-tank"," ","Université, collège ou autre établissement d'enseignement, institut de recherche ou de réflexion",51000]
[47071,"ISTA","International Seed Testing Association ","ISTA","Association internationale d’essais de semences",51000,null,null,null,null,null,21004,"CODESRIA","Council for the Development of Economic and Social Research in Africa ","CODESRIA","Conseil pour le développement de la recherche en sciences sociales en Afrique",51000]
[47075,"IWMI","International Water Management Institute ","IWMI","Institut international de gestion des ressources en eau",51000,null,null,null,null,null,21009,"FARA","Forum for Agricultural Research in Africa ","FARA","Forum pour la recherche agricole en Afrique",51000]
[47099,"USP","University of the South Pacific ","USP","Université du Pacifique Sud",51000,null,null,null,null,null,21021,"IIED","International Institute for Environment and Development ","IIED","Institut international pour l’environnement et le développement",51000]
[47101,"WARDA","Africa Rice Centre","ADRAO","Centre du riz pour l’Afrique",51000,null,null,null,null,null,21039,"IISD","International Institute for Sustainable Development","IIDD","Institut international de développement durable",51000]
[47103,"WMU","World Maritime University ","UMM","Université maritime mondiale",51000,null,null,null,null,null,47008,"AVRDC","World Vegetable Centre","AVRDC","Centre international de cultures maraîchères",51000]
[47104,"WorldFish Centre","WorldFish Centre","WorldFish Centre","Centre international pour l’aménagement des ressources bioaquatiques",51000,null,null,null,null,null,47017,"CIAT","International Centre for Tropical Agriculture ","CIAT","Centre international d'agriculture tropicale",51000]
[51001,"IFPRI","International Food Policy Research Institute","IFPRI","Institut International de Recherche sur les Politiques Alimentaires",51000,null,null,null,null,null,47018,"CIFOR","Centre for International Forestry Research ","CIFOR","Centre de recherche forestière internationale ",51000]
[60000," ","Private Sector Institutions"," ","Institutions du secteur privé",60000,null,null,null,null,null,47020,"CIMMYT","International Maize and Wheat Improvement Centre ","CIMMYT","Centre international d’amélioration du maïs et du blé ",51000]
[61000," ","Private sector in provider country"," ","Secteur privé du pays donneur",60000,null,null,null,null,null,47021,"CIP","International Potato Centre ","CIP","Centre international de la pomme de terre",51000]
[61001," ","Banks (deposit taking corporations)"," ","Banques (institutions de dépôts)",61000,null,null,null,null,null,47041,"FFTC","Food and Fertilizer Technology Centre ","FFTC","Centre des techniques de l'alimentation et des engrais",51000]
[61003," ","Investment funds and other collective investment institutions"," ","Fonds d’investissements et autres organismes de placement collectifs",61000,null,null,null,null,null,47047,"IAI","International African Institute ","IIA","Institut international africain",51000]
[61004," ","Holding companies, trusts and Special Purpose Vehicles"," ","Sociétés holding, fonds fiduciaires et structures de titrisation",61000,null,null,null,null,null,47051,"ICARDA","International Centre for Agricultural Research in Dry Areas ","ICARDA","Centre international de recherche agricole dans les zones arides",51000]
[61005," ","Insurance Corporations"," ","Sociétés d’assurance",61000,null,null,null,null,null,47053,"ICDDR,B","International Centre for Diarrhoeal Disease Research, Bangladesh","ICDDR,B","International Centre for Diarrhoeal Disease Research, Bangladesh",51000]
[61006," ","Pension Funds"," ","Fonds de pension",61000,null,null,null,null,null,47054,"ICIPE","International Centre of Insect Physiology and Ecology ","ICIPE","Centre international sur la physiologie et l’écologie des insectes",51000]
[61007," ","Other financial corporations"," ","Autres sociétés financières",61000,null,null,null,null,null,47055,"ICRA","International Centre for Development Oriented Research in Agriculture ","ICRA","Centre International pour la Recherche Agricole orientée vers le développement",51000]
[61008," ","Exporters"," ","Exportateurs",61000,null,null,null,null,null,47056,"ICRAF","World AgroForestry Centre","ICRAF","Centre mondial de l’agroforesterie",51000]
[61009," ","Other non-financial corporations"," ","Autres sociétés non financières",61000,null,null,null,null,null,47057,"ICRISAT","International Crop Research for Semi-Arid Tropics ","ICRISAT","Institut international de recherche sur les cultures des zones tropicales semi-arides",51000]
[61010," ","Retail investors"," ","Investisseurs individuels",61000,null,null,null,null,null,47062,"IITA","International Institute of Tropical Agriculture ","IITA","Institut international d’agriculture tropicale",51000]
[62000," ","Private sector in recipient country"," ","Secteur privé du pays bénéficiaire",60000,null,null,null,null,null,47063,"ILRI","International Livestock Research Institute ","ILRI","International Livestock Research Institute",51000]
[62001," ","Banks (deposit taking corporations except Micro Finance Institutions)"," ","Banques (institutions de dépôts hors institutions de microfinancement)",62000,null,null,null,null,null,47069," ","Bioversity International"," ","Bioversity International",51000]
[62002," ","Micro Finance Institutions (deposit and non-deposit)"," ","Institutions de microfinancement (collectant ou pas des dépôts)",62000,null,null,null,null,null,47070,"IRRI","International Rice Research Institute ","IIRR","Institut international de recherche sur le riz",51000]
[62003," ","Investment funds and other collective investment institutions"," ","Fonds d’investissements et autres organismes de placement collectifs",62000,null,null,null,null,null,47071,"ISTA","International Seed Testing Association ","ISTA","Association internationale d’essais de semences",51000]
[62004," ","Holding companies, trusts and Special Purpose Vehicles"," ","Sociétés holding, fonds fiduciaires et structures de titrisation",62000,null,null,null,null,null,47075,"IWMI","International Water Management Institute ","IWMI","Institut international de gestion des ressources en eau",51000]
[62005," ","Insurance Corporations"," ","Sociétés d’assurance",62000,null,null,null,null,null,47099,"USP","University of the South Pacific ","USP","Université du Pacifique Sud",51000]
[62006," ","Pension Funds"," ","Fonds de pension",62000,null,null,null,null,null,47101,"WARDA","Africa Rice Centre","ADRAO","Centre du riz pour l’Afrique",51000]
[62007," ","Other financial corporations"," ","Autres sociétés financières",62000,null,null,null,null,null,47103,"WMU","World Maritime University ","UMM","Université maritime mondiale",51000]
[62008," ","Importers/Exporters"," ","Importateurs / Exportateurs",62000,null,null,null,null,null,47104,"WorldFish Centre","WorldFish Centre","WorldFish Centre","Centre international pour l’aménagement des ressources bioaquatiques",51000]
[62009," ","Other non-financial corporations"," ","Autres sociétés non financières",62000,null,null,null,null,null,51001,"IFPRI","International Food Policy Research Institute","IFPRI","Institut International de Recherche sur les Politiques Alimentaires",51000]
[62010," ","Retail investors"," ","Investisseurs individuels",62000,null,null,null,null,null,60000," ","Private Sector Institutions"," ","Institutions du secteur privé",60000]
[63000," ","Private sector in third country"," ","Secteur privé d'un pays tiers",60000,null,null,null,null,null,61000," ","Private sector in provider country"," ","Secteur privé du pays donneur",60000]
[63001," ","Banks (deposit taking corporations except Micro Finance Institutions)"," ","Banques (institutions de dépôts hors institutions de microfinancement)",63000,null,null,null,null,null,61001," ","Banks (deposit taking corporations)"," ","Banques (institutions de dépôts)",61000]
[63002," ","Micro Finance Institutions (deposit and non-deposit)"," ","Institutions de microfinancement (collectant ou pas des dépôts)",63000,null,null,null,null,null,61003," ","Investment funds and other collective investment institutions"," ","Fonds d’investissements et autres organismes de placement collectifs",61000]
[63003," ","Investment funds and other collective investment institutions"," ","Fonds d’investissements et autres organismes de placement collectifs",63000,null,null,null,null,null,61004," ","Holding companies, trusts and Special Purpose Vehicles"," ","Sociétés holding, fonds fiduciaires et structures de titrisation",61000]
[63004," ","Holding companies, trusts and Special Purpose Vehicles"," ","Sociétés holding, fonds fiduciaires et structures de titrisation",63000,null,null,null,null,null,61005," ","Insurance Corporations"," ","Sociétés d’assurance",61000]
[63005," ","Insurance Corporations"," ","Sociétés d’assurance",63000,null,null,null,null,null,61006," ","Pension Funds"," ","Fonds de pension",61000]
[63006," ","Pension Funds"," ","Fonds de pension",63000,null,null,null,null,null,61007," ","Other financial corporations"," ","Autres sociétés financières",61000]
[63007," ","Other financial corporations"," ","Autres sociétés financières",63000,null,null,null,null,null,61008," ","Exporters"," ","Exportateurs",61000]
[63008," ","Exporters"," ","Exportateurs",63000,null,null,null,null,null,61009," ","Other non-financial corporations"," ","Autres sociétés non financières",61000]
[63009," ","Other non-financial corporations"," ","Autres sociétés non financières",63000,null,null,null,null,null,61010," ","Retail investors"," ","Investisseurs individuels",61000]
[63010," ","Retail investors"," ","Investisseurs individuels",63000,null,null,null,null,null,62000," ","Private sector in recipient country"," ","Secteur privé du pays bénéficiaire",60000]
[90000," ","Other"," ","Autre",90000,null,null,null,null,null,62001," ","Banks (deposit taking corporations except Micro Finance Institutions)"," ","Banques (institutions de dépôts hors institutions de microfinancement)",62000]
[null,null,null,null,null,null,null,null,null,null,null,62002," ","Micro Finance Institutions (deposit and non-deposit)"," ","Institutions de microfinancement (collectant ou pas des dépôts)",62000]
[null,null,null,null,null,null,null,null,null,null,null,62003," ","Investment funds and other collective investment institutions"," ","Fonds d’investissements et autres organismes de placement collectifs",62000]
[null,null,null,null,null,null,null,null,null,null,null,62004," ","Holding companies, trusts and Special Purpose Vehicles"," ","Sociétés holding, fonds fiduciaires et structures de titrisation",62000]
[null,null,null,null,null,null,null,null,null,null,null,62005," ","Insurance Corporations"," ","Sociétés d’assurance",62000]
[null,null,null,null,null,null,null,null,null,null,null,62006," ","Pension Funds"," ","Fonds de pension",62000]
[null,null,null,null,null,null,null,null,null,null,null,62007," ","Other financial corporations"," ","Autres sociétés financières",62000]
[null,null,null,null,null,null,null,null,null,null,null,62008," ","Importers/Exporters"," ","Importateurs / Exportateurs",62000]
[null,null,null,null,null,null,null,null,null,null,null,62009," ","Other non-financial corporations"," ","Autres sociétés non financières",62000]
[null,null,null,null,null,null,null,null,null,null,null,62010," ","Retail investors"," ","Investisseurs individuels",62000]
[null,null,null,null,null,null,null,null,null,null,null,63000," ","Private sector in third country"," ","Secteur privé d'un pays tiers",60000]
[null,null,null,null,null,null,null,null,null,null,null,63001," ","Banks (deposit taking corporations except Micro Finance Institutions)"," ","Banques (institutions de dépôts hors institutions de microfinancement)",63000]
[null,null,null,null,null,null,null,null,null,null,null,63002," ","Micro Finance Institutions (deposit and non-deposit)"," ","Institutions de microfinancement (collectant ou pas des dépôts)",63000]
[null,null,null,null,null,null,null,null,null,null,null,63003," ","Investment funds and other collective investment institutions"," ","Fonds d’investissements et autres organismes de placement collectifs",63000]
[null,null,null,null,null,null,null,null,null,null,null,63004," ","Holding companies, trusts and Special Purpose Vehicles"," ","Sociétés holding, fonds fiduciaires et structures de titrisation",63000]
[null,null,null,null,null,null,null,null,null,null,null,63005," ","Insurance Corporations"," ","Sociétés d’assurance",63000]
[null,null,null,null,null,null,null,null,null,null,null,63006," ","Pension Funds"," ","Fonds de pension",63000]
[null,null,null,null,null,null,null,null,null,null,null,63007," ","Other financial corporations"," ","Autres sociétés financières",63000]
[null,null,null,null,null,null,null,null,null,null,null,63008," ","Exporters"," ","Exportateurs",63000]
[null,null,null,null,null,null,null,null,null,null,null,63009," ","Other non-financial corporations"," ","Autres sociétés non financières",63000]
[null,null,null,null,null,null,null,null,null,null,null,63010," ","Retail investors"," ","Investisseurs individuels",63000]
[null,null,null,null,null,null,null,null,null,null,null,90000," ","Other"," ","Autre",90000]

{"sheet":"type_of_flow","index":24,"n_rows":10,"n_cols":5,"rows_kept":10,"cut":false,"hidden":true,"merged":[]}
["code","name","Description","Nom","Description"]
[10,"ODA","Official Development Assistance","APD","Aide Publique au Développement"]
[21,"Non-export credit OOF","Other Official Flows, excl. export credits","AASP hors crédits-export","Autres Apports du Secteur Public, à l'exclusion des crédits à l'exportation"]
[22,"Officially supported export credits","Officially supported export credits. Covers both official direct export credits and private export credits under official guarantee or insurance","AASP dont crédits export","Autres Apports du Secteur Public, comprenant les crédits à l'exportation soutenus par le secteur public et les exportations privées bénéficiant de garantie ou d'assurance publiques"]
[30,"Private Development Finance","Financing by civil society organisations (NGOs, philantropic foundations, etc.)","Financement du développement privé","Financement par les organisations de la société civile (ONG, fondations philantropiques, etc.)"]
[36,"Private Foreign Direct Investment","Private Foreign Direct Investment","IDE","Investissements directs à l'étranger"]
[37,"Other Private flows at market terms","Private long-term (i.e. over one-year maturity) capital transactions made by residents of DAC countries","Autres apports privés aux conditions du marché","Apports privés de long-terme (i.e. dont la maturité est  supérieure à un an), transactions en capital faites par des résidents de pays du CAD"]
[40,"Non flow","e.g. GNI, ODA%GNI, Population etc","Non apports","ex : RNB, APD%RNB, Population etc"]
[50,"Other flows","e.g. non-ODA component of peacebuilding operations","Autres apports","ex : élément non APD des opérations de maintien de la paix"]
[60,"PSI","Private Sector Instruments","ISP","Instruments du Secteur Privé"]

{"sheet":"Bi_Multi","index":25,"n_rows":8,"n_cols":3,"rows_kept":8,"cut":false,"hidden":true,"merged":[]}
["code","name","nom"]
[1,"Bilateral","Bilatéral"]
[2,"Multilateral (inflows)","Multilatéral (contributions des donneurs du CAD)"]
[3,"Bilateral, core contributions to NGOs and other private bodies / PPPs","Contributions bilatérales au budget général d'organisations non gouvernementales, d'autres organisations de la société civile, de partenariats publics-privés et d'instituts de recherches"]
[7,"Bilateral, ex-post reporting on NGOs’ activities funded through core contributions","Contributions bilatérales, notification ex post des activités des ONG financées par des contributions des donneurs au budget général de l'ONG."]
[8,"bilateral, triangular co-operation: activities where one or more bilateral providers of development co-operation or international organisations support South-South co-operation, joining forces with developing countries to facilitate a sharing of knowledge and experience among all partners involved. (Activities that only involve bilateral providers or multilateral agencies without a South-South co-operation element (e.g. joint programming, pooled funding or delegated co-operation) should not be assigned bi_multi 8.)","Coopération triangulaire bilatérale:  activités où un ou plusieurs pourvoyeurs bilatéraux de coopération pour le développement ou organisations internationales soutiennent la coopération Sud-Sud, conjointement avec des pays en développement afin de faciliter le partage des connaissances et d'expériences entre tous les partenaires impliqués. (Les activités qui n'impliquent que des pourvoyeurs bilatéraux ou des organismes multilatéraux sans coopération Sud-Sud (programmes conjoints, financements groupés ou coopération déléguée) ne devraient pas être codés bi_multi 8.)"]
[4,"Multilateral outflows","apports des agences multilatérales "]
[6,"Private sector outflows","apports du secteur privé"]

{"sheet":"recipient_country","index":26,"n_rows":173,"n_cols":30,"rows_kept":173,"cut":false,"hidden":true,"merged":[]}
["Recipient code","Recipient name (EN)","Recipient name (FR)","DAC_IncomeGroup","Region",null,null,null,null,null,null,null,null,null,null,null,null,null,null,null,null,null,null,null,null,null,"TOSSD","Country/institution code","Country/institution name (EN)","Income Group name e"]
[55,"Türkiye","Türkiye","UMICs","Europe",null,null,null,null,null,null,null,null,null,null,null,null,null,null,null,null,null,null,null,null,null,null,55,"Türkiye","UMICs"]
[57,"Kosovo","Kosovo","UMICs","Europe",null,"Note: ",null,null,null,null,null,null,null,null,null,null,null,null,null,null,null,null,null,null,null,null,57,"Kosovo","UMICs"]
[63,"Serbia","Serbie","UMICs","Europe",null,"Income group: LDC (Least Developed Countries), Other LICs (Other Low Income Countries), LMICs (Lower Middle Income Countries and Territories), UMICs (Upper Middle Income Countries and Territories)",null,null,null,null,null,null,null,null,null,null,null,null,null,null,null,null,null,null,null,null,63,"Serbia","UMICs"]
[64,"Bosnia and Herzegovina","Bosnie-Herzégovine","UMICs","Europe",null,"This list is effective for reporting on 2022 flows.",null,null,null,null,null,null,null,null,null,null,null,null,null,null,null,null,null,null,null,null,64,"Bosnia and Herzegovina","UMICs"]
[65,"Montenegro","Monténégro","UMICs","Europe",null,null,null,null,null,null,null,null,null,null,null,null,null,null,null,null,null,null,null,null,null,null,65,"Montenegro","UMICs"]
[66,"North Macedonia","Macédoine du Nord","UMICs","Europe",null,"Note: ",null,null,null,null,null,null,null,null,null,null,null,null,null,null,null,null,null,null,null,null,66,"North Macedonia","UMICs"]
[71,"Albania","Albanie","UMICs","Europe",null,"Groupes de revenus : PMA (Pays les Moins Avancés), PFR (autres Pays à Faibles Revenus), PRITI (Pays et territoires à Revenus Intermédiaires Tranche Inférieure), PRITS (Pays et territoires à Revenus Interemédiaires Tranche Supérieure)",null,null,null,null,null,null,null,null,null,null,null,null,null,null,null,null,null,null,null,null,71,"Albania","UMICs"]
[85,"Ukraine","Ukraine","LMICs","Europe",null,"Cette liste est en vigueur pour les apports 2022.",null,null,null,null,null,null,null,null,null,null,null,null,null,null,null,null,null,null,null,null,85,"Ukraine","LMICs"]
[86,"Belarus","Bélarus","UMICs","Europe",null,null,null,null,null,null,null,null,null,null,null,null,null,null,null,null,null,null,null,null,null,null,86,"Belarus","UMICs"]
[88,"States Ex-Yugoslavia unspecified","Etats ex-Yougoslavie non spécifié","Part I unallocated by income","Europe",null,null,null,null,null,null,null,null,null,null,null,null,null,null,null,null,null,null,null,null,null,null,88,"States Ex-Yugoslavia unspecified","Part I unallocated by income"]
[89,"Europe, regional","Europe, régional","Part I unallocated by income","Europe",null,null,null,null,null,null,null,null,null,null,null,null,null,null,null,null,null,null,null,null,null,null,89,"Europe, regional","Part I unallocated by income"]
[93,"Moldova","Moldova","UMICs","Europe",null,null,null,null,null,null,null,null,null,null,null,null,null,null,null,null,null,null,null,null,null,null,93,"Moldova","UMICs"]
[130,"Algeria","Algérie","LMICs","North of Sahara",null,null,null,null,null,null,null,null,null,null,null,null,null,null,null,null,null,null,null,null,null,null,130,"Algeria","LMICs"]
[133,"Libya","Libye","UMICs","North of Sahara",null,null,null,null,null,null,null,null,null,null,null,null,null,null,null,null,null,null,null,null,null,null,133,"Libya","UMICs"]
[136,"Morocco","Maroc","LMICs","North of Sahara",null,null,null,null,null,null,null,null,null,null,null,null,null,null,null,null,null,null,null,null,null,null,136,"Morocco","LMICs"]
[139,"Tunisia","Tunisie","LMICs","North of Sahara",null,null,null,null,null,null,null,null,null,null,null,null,null,null,null,null,null,null,null,null,null,null,139,"Tunisia","LMICs"]
[142,"Egypt","Egypte","LMICs","North of Sahara",null,null,null,null,null,null,null,null,null,null,null,null,null,null,null,null,null,null,null,null,null,null,142,"Egypt","LMICs"]
[189,"North of Sahara, regional","Nord du Sahara, régional","Part I unallocated by income","North of Sahara",null,null,null,null,null,null,null,null,null,null,null,null,null,null,null,null,null,null,null,null,null,null,189,"North of Sahara, regional","Part I unallocated by income"]
[218,"South Africa","Afrique du Sud","UMICs","Southern Africa",null,null,null,null,null,null,null,null,null,null,null,null,null,null,null,null,null,null,null,null,null,null,218,"South Africa","UMICs"]
[225,"Angola","Angola","LDCs","Middle Africa",null,null,null,null,null,null,null,null,null,null,null,null,null,null,null,null,null,null,null,null,null,null,225,"Angola","LDCs"]
[227,"Botswana","Botswana","UMICs","Southern Africa",null,null,null,null,null,null,null,null,null,null,null,null,null,null,null,null,null,null,null,null,null,null,227,"Botswana","UMICs"]
[228,"Burundi","Burundi","LDCs","Eastern Africa",null,null,null,null,null,null,null,null,null,null,null,null,null,null,null,null,null,null,null,null,null,null,228,"Burundi","LDCs"]
[229,"Cameroon","Cameroun","LMICs","Middle Africa",null,null,null,null,null,null,null,null,null,null,null,null,null,null,null,null,null,null,null,null,null,null,229,"Cameroon","LMICs"]
[230,"Cabo Verde","Cabo Verde","LMICs","Western Africa",null,null,null,null,null,null,null,null,null,null,null,null,null,null,null,null,null,null,null,null,null,null,230,"Cabo Verde","LMICs"]
[231,"Central African Republic","République centrafricaine","LDCs","Middle Africa",null,null,null,null,null,null,null,null,null,null,null,null,null,null,null,null,null,null,null,null,null,null,231,"Central African Republic","LDCs"]
[232,"Chad","Tchad","LDCs","Middle Africa",null,null,null,null,null,null,null,null,null,null,null,null,null,null,null,null,null,null,null,null,null,null,232,"Chad","LDCs"]
[233,"Comoros","Comores","LDCs","Eastern Africa",null,null,null,null,null,null,null,null,null,null,null,null,null,null,null,null,null,null,null,null,null,null,233,"Comoros","LDCs"]
[234,"Congo","Congo","LMICs","Middle Africa",null,null,null,null,null,null,null,null,null,null,null,null,null,null,null,null,null,null,null,null,null,null,234,"Congo","LMICs"]
[235,"Democratic Republic of the Congo","République démocratique du Congo","LDCs","Middle Africa",null,null,null,null,null,null,null,null,null,null,null,null,null,null,null,null,null,null,null,null,null,null,235,"Democratic Republic of the Congo","LDCs"]
[236,"Benin","Bénin","LDCs","Western Africa",null,null,null,null,null,null,null,null,null,null,null,null,null,null,null,null,null,null,null,null,null,null,236,"Benin","LDCs"]
[238,"Ethiopia","Ethiopie","LDCs","Eastern Africa",null,null,null,null,null,null,null,null,null,null,null,null,null,null,null,null,null,null,null,null,null,null,238,"Ethiopia","LDCs"]
[239,"Gabon","Gabon","UMICs","Middle Africa",null,null,null,null,null,null,null,null,null,null,null,null,null,null,null,null,null,null,null,null,null,null,239,"Gabon","UMICs"]
[240,"Gambia","Gambie","LDCs","Western Africa",null,null,null,null,null,null,null,null,null,null,null,null,null,null,null,null,null,null,null,null,null,null,240,"Gambia","LDCs"]
[241,"Ghana","Ghana","LMICs","Western Africa",null,null,null,null,null,null,null,null,null,null,null,null,null,null,null,null,null,null,null,null,null,null,241,"Ghana","LMICs"]
[243,"Guinea","Guinée","LDCs","Western Africa",null,null,null,null,null,null,null,null,null,null,null,null,null,null,null,null,null,null,null,null,null,null,243,"Guinea","LDCs"]
[244,"Guinea-Bissau","Guinée-Bissau","LDCs","Western Africa",null,null,null,null,null,null,null,null,null,null,null,null,null,null,null,null,null,null,null,null,null,null,244,"Guinea-Bissau","LDCs"]
[245,"Equatorial Guinea","Guinée équatoriale","UMICs","Middle Africa",null,null,null,null,null,null,null,null,null,null,null,null,null,null,null,null,null,null,null,null,null,null,245,"Equatorial Guinea","UMICs"]
[247,"Côte d'Ivoire","Côte d'Ivoire","LMICs","Western Africa",null,null,null,null,null,null,null,null,null,null,null,null,null,null,null,null,null,null,null,null,null,null,247,"Côte d'Ivoire","LMICs"]
[248,"Kenya","Kenya","LMICs","Eastern Africa",null,null,null,null,null,null,null,null,null,null,null,null,null,null,null,null,null,null,null,null,null,null,248,"Kenya","LMICs"]
[249,"Lesotho","Lesotho","LDCs","Southern Africa",null,null,null,null,null,null,null,null,null,null,null,null,null,null,null,null,null,null,null,null,null,null,249,"Lesotho","LDCs"]
[251,"Liberia","Libéria","LDCs","Western Africa",null,null,null,null,null,null,null,null,null,null,null,null,null,null,null,null,null,null,null,null,null,null,251,"Liberia","LDCs"]
[252,"Madagascar","Madagascar","LDCs","Eastern Africa",null,null,null,null,null,null,null,null,null,null,null,null,null,null,null,null,null,null,null,null,null,null,252,"Madagascar","LDCs"]
[253,"Malawi","Malawi","LDCs","Eastern Africa",null,null,null,null,null,null,null,null,null,null,null,null,null,null,null,null,null,null,null,null,null,null,253,"Malawi","LDCs"]
[255,"Mali","Mali","LDCs","Western Africa",null,null,null,null,null,null,null,null,null,null,null,null,null,null,null,null,null,null,null,null,null,null,255,"Mali","LDCs"]
[256,"Mauritania","Mauritanie","LDCs","Western Africa",null,null,null,null,null,null,null,null,null,null,null,null,null,null,null,null,null,null,null,null,null,null,256,"Mauritania","LDCs"]
[257,"Mauritius","Maurice","UMICs","Eastern Africa",null,null,null,null,null,null,null,null,null,null,null,null,null,null,null,null,null,null,null,null,null,null,257,"Mauritius","UMICs"]
[259,"Mozambique","Mozambique","LDCs","Eastern Africa",null,null,null,null,null,null,null,null,null,null,null,null,null,null,null,null,null,null,null,null,null,null,259,"Mozambique","LDCs"]
[260,"Niger","Niger","LDCs","Western Africa",null,null,null,null,null,null,null,null,null,null,null,null,null,null,null,null,null,null,null,null,null,null,260,"Niger","LDCs"]
[261,"Nigeria","Nigéria","LMICs","Western Africa",null,null,null,null,null,null,null,null,null,null,null,null,null,null,null,null,null,null,null,null,null,null,261,"Nigeria","LMICs"]
[265,"Zimbabwe","Zimbabwe","LMICs","Eastern Africa",null,null,null,null,null,null,null,null,null,null,null,null,null,null,null,null,null,null,null,null,null,null,265,"Zimbabwe","LMICs"]
[266,"Rwanda","Rwanda","LDCs","Eastern Africa",null,null,null,null,null,null,null,null,null,null,null,null,null,null,null,null,null,null,null,null,null,null,266,"Rwanda","LDCs"]
[268,"Sao Tome and Principe","Sao Tomé-et-Principe","LDCs","Middle Africa",null,null,null,null,null,null,null,null,null,null,null,null,null,null,null,null,null,null,null,null,null,null,268,"Sao Tome and Principe","LDCs"]
[269,"Senegal","Sénégal","LDCs","Western Africa",null,null,null,null,null,null,null,null,null,null,null,null,null,null,null,null,null,null,null,null,null,null,269,"Senegal","LDCs"]
[271,"Eritrea","Erythrée","LDCs","Eastern Africa",null,null,null,null,null,null,null,null,null,null,null,null,null,null,null,null,null,null,null,null,null,null,270,"Seychelles","MADCTs"]
[272,"Sierra Leone","Sierra Leone","LDCs","Western Africa",null,null,null,null,null,null,null,null,null,null,null,null,null,null,null,null,null,null,null,null,null,null,271,"Eritrea","LDCs"]
[273,"Somalia","Somalie","LDCs","Eastern Africa",null,null,null,null,null,null,null,null,null,null,null,null,null,null,null,null,null,null,null,null,null,null,272,"Sierra Leone","LDCs"]
[274,"Djibouti","Djibouti","LDCs","Eastern Africa",null,null,null,null,null,null,null,null,null,null,null,null,null,null,null,null,null,null,null,null,null,null,273,"Somalia","LDCs"]
[275,"Namibia","Namibie","UMICs","Southern Africa",null,null,null,null,null,null,null,null,null,null,null,null,null,null,null,null,null,null,null,null,null,null,274,"Djibouti","LDCs"]
[276,"Saint Helena","Sainte-Hélène","UMICs","Western Africa",null,null,null,null,null,null,null,null,null,null,null,null,null,null,null,null,null,null,null,null,null,null,275,"Namibia","UMICs"]
[278,"Sudan","Soudan","LDCs","Eastern Africa",null,null,null,null,null,null,null,null,null,null,null,null,null,null,null,null,null,null,null,null,null,null,276,"Saint Helena","UMICs"]
[279,"South Sudan","Soudan du Sud","LDCs","Eastern Africa",null,null,null,null,null,null,null,null,null,null,null,null,null,null,null,null,null,null,null,null,null,null,278,"Sudan","LDCs"]
[280,"Eswatini","Eswatini","LMICs","Southern Africa",null,null,null,null,null,null,null,null,null,null,null,null,null,null,null,null,null,null,null,null,null,null,279,"South Sudan","LDCs"]
[282,"Tanzania","Tanzanie","LDCs","Eastern Africa",null,null,null,null,null,null,null,null,null,null,null,null,null,null,null,null,null,null,null,null,null,null,280,"Eswatini","LMICs"]
[283,"Togo","Togo","LDCs","Western Africa",null,null,null,null,null,null,null,null,null,null,null,null,null,null,null,null,null,null,null,null,null,null,282,"Tanzania","LDCs"]
[285,"Uganda","Ouganda","LDCs","Eastern Africa",null,null,null,null,null,null,null,null,null,null,null,null,null,null,null,null,null,null,null,null,null,null,283,"Togo","LDCs"]
[287,"Burkina Faso","Burkina Faso","LDCs","Western Africa",null,null,null,null,null,null,null,null,null,null,null,null,null,null,null,null,null,null,null,null,null,null,285,"Uganda","LDCs"]
[288,"Zambia","Zambie","LDCs","Eastern Africa",null,null,null,null,null,null,null,null,null,null,null,null,null,null,null,null,null,null,null,null,null,null,287,"Burkina Faso","LDCs"]
[289,"South of Sahara, regional","Sud du Sahara, régional","Part I unallocated by income","South of Sahara",null,null,null,null,null,null,null,null,null,null,null,null,null,null,null,null,null,null,null,null,null,null,288,"Zambia","LDCs"]
[298,"Africa, regional","Afrique, régional","Part I unallocated by income","Africa",null,null,null,null,null,null,null,null,null,null,null,null,null,null,null,null,null,null,null,null,null,null,289,"South of Sahara, regional","Part I unallocated by income"]
[336,"Costa Rica","Costa Rica","UMICs","Central America",null,null,null,null,null,null,null,null,null,null,null,null,null,null,null,null,null,null,null,null,null,null,298,"Africa, regional","Part I unallocated by income"]
[338,"Cuba","Cuba","UMICs","Caribbean",null,null,null,null,null,null,null,null,null,null,null,null,null,null,null,null,null,null,null,null,null,null,336,"Costa Rica","UMICs"]
[340,"Dominican Republic","République dominicaine","UMICs","Caribbean",null,null,null,null,null,null,null,null,null,null,null,null,null,null,null,null,null,null,null,null,null,null,338,"Cuba","UMICs"]
[342,"El Salvador","El Salvador","LMICs","Central America",null,null,null,null,null,null,null,null,null,null,null,null,null,null,null,null,null,null,null,null,null,null,340,"Dominican Republic","UMICs"]
[347,"Guatemala","Guatemala","UMICs","Central America",null,null,null,null,null,null,null,null,null,null,null,null,null,null,null,null,null,null,null,null,null,null,342,"El Salvador","LMICs"]
[349,"Haiti","Haïti","LDCs","Caribbean",null,null,null,null,null,null,null,null,null,null,null,null,null,null,null,null,null,null,null,null,null,null,347,"Guatemala","UMICs"]
[351,"Honduras","Honduras","LMICs","Central America",null,null,null,null,null,null,null,null,null,null,null,null,null,null,null,null,null,null,null,null,null,null,349,"Haiti","LDCs"]
[352,"Belize","Belize","LMICs","Central America",null,null,null,null,null,null,null,null,null,null,null,null,null,null,null,null,null,null,null,null,null,null,351,"Honduras","LMICs"]
[354,"Jamaica","Jamaïque","UMICs","Caribbean",null,null,null,null,null,null,null,null,null,null,null,null,null,null,null,null,null,null,null,null,null,null,352,"Belize","LMICs"]
[358,"Mexico","Mexique","UMICs","Central America",null,null,null,null,null,null,null,null,null,null,null,null,null,null,null,null,null,null,null,null,null,null,354,"Jamaica","UMICs"]
[364,"Nicaragua","Nicaragua","LMICs","Central America",null,null,null,null,null,null,null,null,null,null,null,null,null,null,null,null,null,null,null,null,null,null,358,"Mexico","UMICs"]
[366,"Panama","Panama","UMICs","Central America",null,null,null,null,null,null,null,null,null,null,null,null,null,null,null,null,null,null,null,null,null,null,364,"Nicaragua","LMICs"]
[378,"Dominica","Dominique","UMICs","Caribbean",null,null,null,null,null,null,null,null,null,null,null,null,null,null,null,null,null,null,null,null,null,null,366,"Panama","UMICs"]
[381,"Grenada","Grenade","UMICs","Caribbean",null,null,null,null,null,null,null,null,null,null,null,null,null,null,null,null,null,null,null,null,null,null,377,"Antigua and Barbuda","MADCTs"]
[383,"Saint Lucia","Sainte-Lucie","UMICs","Caribbean",null,null,null,null,null,null,null,null,null,null,null,null,null,null,null,null,null,null,null,null,null,null,378,"Dominica","UMICs"]
[384,"Saint Vincent and the Grenadines","Saint-Vincent-et-les-Grenadines","UMICs","Caribbean",null,null,null,null,null,null,null,null,null,null,null,null,null,null,null,null,null,null,null,null,null,null,381,"Grenada","UMICs"]
[385,"Montserrat","Montserrat","UMICs","Caribbean",null,null,null,null,null,null,null,null,null,null,null,null,null,null,null,null,null,null,null,null,null,null,383,"Saint Lucia","UMICs"]
[389,"Caribbean & Central America, regional","Caraïbes et Amérique centrale, régional","Part I unallocated by income","Caribbean & Central America",null,null,null,null,null,null,null,null,null,null,null,null,null,null,null,null,null,null,null,null,null,null,384,"Saint Vincent and the Grenadines","UMICs"]
[425,"Argentina","Argentine","UMICs","South America",null,null,null,null,null,null,null,null,null,null,null,null,null,null,null,null,null,null,null,null,null,null,385,"Montserrat","UMICs"]
[428,"Bolivia","Bolivie","LMICs","South America",null,null,null,null,null,null,null,null,null,null,null,null,null,null,null,null,null,null,null,null,null,null,389,"Caribbean & Central America, regional","Part I unallocated by income"]
[431,"Brazil","Brésil","UMICs","South America",null,null,null,null,null,null,null,null,null,null,null,null,null,null,null,null,null,null,null,null,null,null,425,"Argentina","UMICs"]
[437,"Colombia","Colombie","UMICs","South America",null,null,null,null,null,null,null,null,null,null,null,null,null,null,null,null,null,null,null,null,null,null,428,"Bolivia","LMICs"]
[440,"Ecuador","Equateur","UMICs","South America",null,null,null,null,null,null,null,null,null,null,null,null,null,null,null,null,null,null,null,null,null,null,431,"Brazil","UMICs"]
[446,"Guyana","Guyana","UMICs","South America",null,null,null,null,null,null,null,null,null,null,null,null,null,null,null,null,null,null,null,null,null,null,434,"Chile","MADCTs"]
[451,"Paraguay","Paraguay","UMICs","South America",null,null,null,null,null,null,null,null,null,null,null,null,null,null,null,null,null,null,null,null,null,null,437,"Colombia","UMICs"]
[454,"Peru","Pérou","UMICs","South America",null,null,null,null,null,null,null,null,null,null,null,null,null,null,null,null,null,null,null,null,null,null,440,"Ecuador","UMICs"]
[457,"Suriname","Suriname","UMICs","South America",null,null,null,null,null,null,null,null,null,null,null,null,null,null,null,null,null,null,null,null,null,null,446,"Guyana","UMICs"]
[463,"Venezuela","Venezuela","UMICs","South America",null,null,null,null,null,null,null,null,null,null,null,null,null,null,null,null,null,null,null,null,null,null,451,"Paraguay","UMICs"]
[489,"South America, regional","Amérique du Sud, régional","Part I unallocated by income","South America",null,null,null,null,null,null,null,null,null,null,null,null,null,null,null,null,null,null,null,null,null,null,454,"Peru","UMICs"]
[498,"America, regional","Amérique, régional","Part I unallocated by income","America",null,null,null,null,null,null,null,null,null,null,null,null,null,null,null,null,null,null,null,null,null,null,457,"Suriname","UMICs"]
[540,"Iran","Iran","LMICs","Middle East",null,null,null,null,null,null,null,null,null,null,null,null,null,null,null,null,null,null,null,null,null,null,460,"Uruguay","MADCTs"]
[543,"Iraq","Iraq","UMICs","Middle East",null,null,null,null,null,null,null,null,null,null,null,null,null,null,null,null,null,null,null,null,null,null,463,"Venezuela","UMICs"]
[549,"Jordan","Jordanie","UMICs","Middle East",null,null,null,null,null,null,null,null,null,null,null,null,null,null,null,null,null,null,null,null,null,null,489,"South America, regional","Part I unallocated by income"]
[550,"West Bank and Gaza Strip","Cisjordanie et bande de Gaza","LMICs","Middle East",null,null,null,null,null,null,null,null,null,null,null,null,null,null,null,null,null,null,null,null,null,null,498,"America, regional","Part I unallocated by income"]
[555,"Lebanon","Liban","UMICs","Middle East",null,null,null,null,null,null,null,null,null,null,null,null,null,null,null,null,null,null,null,null,null,null,540,"Iran","LMICs"]
[573,"Syrian Arab Republic","République arabe syrienne","Other LICs","Middle East",null,null,null,null,null,null,null,null,null,null,null,null,null,null,null,null,null,null,null,null,null,null,543,"Iraq","UMICs"]
[580,"Yemen","Yémen","LDCs","Middle East",null,null,null,null,null,null,null,null,null,null,null,null,null,null,null,null,null,null,null,null,null,null,549,"Jordan","UMICs"]
[589,"Middle East, regional","Moyen-Orient, régional","Part I unallocated by income","Middle East",null,null,null,null,null,null,null,null,null,null,null,null,null,null,null,null,null,null,null,null,null,null,550,"West Bank and Gaza Strip","LMICs"]
[610,"Armenia","Arménie","UMICs","South & Central Asia",null,null,null,null,null,null,null,null,null,null,null,null,null,null,null,null,null,null,null,null,null,null,555,"Lebanon","UMICs"]
[611,"Azerbaijan","Azerbaïdjan","UMICs","South & Central Asia",null,null,null,null,null,null,null,null,null,null,null,null,null,null,null,null,null,null,null,null,null,null,573,"Syrian Arab Republic","Other LICs"]
[612,"Georgia","Géorgie","UMICs","South & Central Asia",null,null,null,null,null,null,null,null,null,null,null,null,null,null,null,null,null,null,null,null,null,null,580,"Yemen","LDCs"]
[613,"Kazakhstan","Kazakhstan","UMICs","South & Central Asia",null,null,null,null,null,null,null,null,null,null,null,null,null,null,null,null,null,null,null,null,null,null,589,"Middle East, regional","Part I unallocated by income"]
[614,"Kyrgyzstan","Kirghizistan","LMICs","South & Central Asia",null,null,null,null,null,null,null,null,null,null,null,null,null,null,null,null,null,null,null,null,null,null,610,"Armenia","UMICs"]
[615,"Tajikistan","Tadjikistan","LMICs","South & Central Asia",null,null,null,null,null,null,null,null,null,null,null,null,null,null,null,null,null,null,null,null,null,null,611,"Azerbaijan","UMICs"]
[616,"Turkmenistan","Turkménistan","UMICs","South & Central Asia",null,null,null,null,null,null,null,null,null,null,null,null,null,null,null,null,null,null,null,null,null,null,612,"Georgia","UMICs"]
[617,"Uzbekistan","Ouzbékistan","LMICs","South & Central Asia",null,null,null,null,null,null,null,null,null,null,null,null,null,null,null,null,null,null,null,null,null,null,613,"Kazakhstan","UMICs"]
[619,"Central Asia, regional","Asie centrale, régional","Part I unallocated by income","South & Central Asia",null,null,null,null,null,null,null,null,null,null,null,null,null,null,null,null,null,null,null,null,null,null,614,"Kyrgyzstan","LMICs"]
[625,"Afghanistan","Afghanistan","LDCs","South & Central Asia",null,null,null,null,null,null,null,null,null,null,null,null,null,null,null,null,null,null,null,null,null,null,615,"Tajikistan","LMICs"]
[630,"Bhutan","Bhoutan","LDCs","South & Central Asia",null,null,null,null,null,null,null,null,null,null,null,null,null,null,null,null,null,null,null,null,null,null,616,"Turkmenistan","UMICs"]
[635,"Myanmar","Myanmar","LDCs","South & Central Asia",null,null,null,null,null,null,null,null,null,null,null,null,null,null,null,null,null,null,null,null,null,null,617,"Uzbekistan","LMICs"]
[640,"Sri Lanka","Sri Lanka","LMICs","South & Central Asia",null,null,null,null,null,null,null,null,null,null,null,null,null,null,null,null,null,null,null,null,null,null,619,"Central Asia, regional","Part I unallocated by income"]
[645,"India","Inde","LMICs","South & Central Asia",null,null,null,null,null,null,null,null,null,null,null,null,null,null,null,null,null,null,null,null,null,null,625,"Afghanistan","LDCs"]
[655,"Maldives","Maldives","UMICs","South & Central Asia",null,null,null,null,null,null,null,null,null,null,null,null,null,null,null,null,null,null,null,null,null,null,630,"Bhutan","LDCs"]
[660,"Nepal","Népal","LDCs","South & Central Asia",null,null,null,null,null,null,null,null,null,null,null,null,null,null,null,null,null,null,null,null,null,null,635,"Myanmar","LDCs"]
[665,"Pakistan","Pakistan","LMICs","South & Central Asia",null,null,null,null,null,null,null,null,null,null,null,null,null,null,null,null,null,null,null,null,null,null,640,"Sri Lanka","LMICs"]
[666,"Bangladesh","Bangladesh","LDCs","South & Central Asia",null,null,null,null,null,null,null,null,null,null,null,null,null,null,null,null,null,null,null,null,null,null,645,"India","LMICs"]
[679,"South Asia, regional","Asie du Sud, régional","Part I unallocated by income","South & Central Asia",null,null,null,null,null,null,null,null,null,null,null,null,null,null,null,null,null,null,null,null,null,null,655,"Maldives","UMICs"]
[689,"South & Central Asia, regional","Asie du Sud & C., régional","Part I unallocated by income","South & Central Asia",null,null,null,null,null,null,null,null,null,null,null,null,null,null,null,null,null,null,null,null,null,null,660,"Nepal","LDCs"]
[728,"Cambodia","Cambodge","LDCs","Far East Asia",null,null,null,null,null,null,null,null,null,null,null,null,null,null,null,null,null,null,null,null,null,null,665,"Pakistan","LMICs"]
[730,"China (People's Republic of)","Chine (République populaire de)","UMICs","Far East Asia",null,null,null,null,null,null,null,null,null,null,null,null,null,null,null,null,null,null,null,null,null,null,666,"Bangladesh","LDCs"]
[738,"Indonesia","Indonésie","LMICs","Far East Asia",null,null,null,null,null,null,null,null,null,null,null,null,null,null,null,null,null,null,null,null,null,null,679,"South Asia, regional","Part I unallocated by income"]
[740,"Democratic People's Republic of Korea","République populaire démocratique de Corée","Other LICs","Far East Asia",null,null,null,null,null,null,null,null,null,null,null,null,null,null,null,null,null,null,null,null,null,null,689,"South & Central Asia, regional","Part I unallocated by income"]
[745,"Lao People's Democratic Republic","République démocratique populaire lao","LDCs","Far East Asia",null,null,null,null,null,null,null,null,null,null,null,null,null,null,null,null,null,null,null,null,null,null,728,"Cambodia","LDCs"]
[751,"Malaysia","Malaisie","UMICs","Far East Asia",null,null,null,null,null,null,null,null,null,null,null,null,null,null,null,null,null,null,null,null,null,null,730,"China (People's Republic of)","UMICs"]
[753,"Mongolia","Mongolie","LMICs","Far East Asia",null,null,null,null,null,null,null,null,null,null,null,null,null,null,null,null,null,null,null,null,null,null,738,"Indonesia","LMICs"]
[755,"Philippines","Philippines","LMICs","Far East Asia",null,null,null,null,null,null,null,null,null,null,null,null,null,null,null,null,null,null,null,null,null,null,740,"Democratic People's Republic of Korea","Other LICs"]
[764,"Thailand","Thaïlande","UMICs","Far East Asia",null,null,null,null,null,null,null,null,null,null,null,null,null,null,null,null,null,null,null,null,null,null,745,"Lao People's Democratic Republic","LDCs"]
[765,"Timor-Leste","Timor-Leste","LDCs","Far East Asia",null,null,null,null,null,null,null,null,null,null,null,null,null,null,null,null,null,null,null,null,null,null,751,"Malaysia","UMICs"]
[769,"Viet Nam","Viet Nam","LMICs","Far East Asia",null,null,null,null,null,null,null,null,null,null,null,null,null,null,null,null,null,null,null,null,null,null,753,"Mongolia","LMICs"]
[789,"Far East Asia, regional","Extrême-Orient, régional","Part I unallocated by income","Far East Asia",null,null,null,null,null,null,null,null,null,null,null,null,null,null,null,null,null,null,null,null,null,null,755,"Philippines","LMICs"]
[798,"Asia, regional","Asie, régional","Part I unallocated by income","Asia",null,null,null,null,null,null,null,null,null,null,null,null,null,null,null,null,null,null,null,null,null,null,764,"Thailand","UMICs"]
[832,"Fiji","Fidji","UMICs","Melanesia",null,null,null,null,null,null,null,null,null,null,null,null,null,null,null,null,null,null,null,null,null,null,765,"Timor-Leste","LDCs"]
[836,"Kiribati","Kiribati","LDCs","Micronesia",null,null,null,null,null,null,null,null,null,null,null,null,null,null,null,null,null,null,null,null,null,null,769,"Viet Nam","LMICs"]
[845,"Nauru","Nauru","UMICs","Micronesia",null,null,null,null,null,null,null,null,null,null,null,null,null,null,null,null,null,null,null,null,null,null,789,"Far East Asia, regional","Part I unallocated by income"]
[854,"Vanuatu","Vanuatu","LMICs","Melanesia",null,null,null,null,null,null,null,null,null,null,null,null,null,null,null,null,null,null,null,null,null,null,798,"Asia, regional","Part I unallocated by income"]
[856,"Niue","Niue","UMICs","Polynesia",null,null,null,null,null,null,null,null,null,null,null,null,null,null,null,null,null,null,null,null,null,null,831,"Cook Islands","MADCTs"]
[859,"Marshall Islands","Iles Marshall","UMICs","Micronesia",null,null,null,null,null,null,null,null,null,null,null,null,null,null,null,null,null,null,null,null,null,null,832,"Fiji","UMICs"]
[860,"Micronesia","Micronésie","LMICs","Micronesia",null,null,null,null,null,null,null,null,null,null,null,null,null,null,null,null,null,null,null,null,null,null,836,"Kiribati","LDCs"]
[861,"Palau","Palaos","UMICs","Micronesia",null,null,null,null,null,null,null,null,null,null,null,null,null,null,null,null,null,null,null,null,null,null,845,"Nauru","UMICs"]
[862,"Papua New Guinea","Papouasie-Nouvelle-Guinée","LMICs","Melanesia",null,null,null,null,null,null,null,null,null,null,null,null,null,null,null,null,null,null,null,null,null,null,854,"Vanuatu","LMICs"]
[866,"Solomon Islands","Îles Salomon","LDCs","Melanesia",null,null,null,null,null,null,null,null,null,null,null,null,null,null,null,null,null,null,null,null,null,null,856,"Niue","UMICs"]
[868,"Tokelau","Tokélaou","LMICs","Polynesia",null,null,null,null,null,null,null,null,null,null,null,null,null,null,null,null,null,null,null,null,null,null,859,"Marshall Islands","UMICs"]
[870,"Tonga","Tonga","UMICs","Polynesia",null,null,null,null,null,null,null,null,null,null,null,null,null,null,null,null,null,null,null,null,null,null,860,"Micronesia","LMICs"]
[872,"Tuvalu","Tuvalu","LDCs","Polynesia",null,null,null,null,null,null,null,null,null,null,null,null,null,null,null,null,null,null,null,null,null,null,861,"Palau","UMICs"]
[876,"Wallis and Futuna","Wallis-et-Futuna","UMICs","Polynesia",null,null,null,null,null,null,null,null,null,null,null,null,null,null,null,null,null,null,null,null,null,null,862,"Papua New Guinea","LMICs"]
[880,"Samoa","Samoa","LMICs","Polynesia",null,null,null,null,null,null,null,null,null,null,null,null,null,null,null,null,null,null,null,null,null,null,866,"Solomon Islands","LDCs"]
[889,"Oceania, regional","Océanie, régional","Part I unallocated by income",null,null,null,null,null,null,null,null,null,null,null,null,null,null,null,null,null,null,null,null,null,null,null,868,"Tokelau","LMICs"]
[998,"Developing countries, unspecified","Pays en développement, non spécifié","Part I unallocated by income",null,null,null,null,null,null,null,null,null,null,null,null,null,null,null,null,null,null,null,null,null,null,null,870,"Tonga","UMICs"]
[1027,"Eastern Africa, regional","Afrique de l'est, régional","Part I unallocated by income","Eastern Africa",null,null,null,null,null,null,null,null,null,null,null,null,null,null,null,null,null,null,null,null,null,null,872,"Tuvalu","LDCs"]
[1028,"Middle Africa, regional","Afrique centrale, régional","Part I unallocated by income","Middle Africa",null,null,null,null,null,null,null,null,null,null,null,null,null,null,null,null,null,null,null,null,null,null,876,"Wallis and Futuna","UMICs"]
[1029,"Southern Africa, regional","Afrique australe, régional","Part I unallocated by income","Southern Africa",null,null,null,null,null,null,null,null,null,null,null,null,null,null,null,null,null,null,null,null,null,null,880,"Samoa","LMICs"]
[1030,"Western Africa, regional","Afrique occidentale, régional","Part I unallocated by income","Western Africa",null,null,null,null,null,null,null,null,null,null,null,null,null,null,null,null,null,null,null,null,null,null,889,"Oceania, regional","Part I unallocated by income"]
[1031,"Caribbean, regional","Caraïbes, régional","Part I unallocated by income","Caribbean",null,null,null,null,null,null,null,null,null,null,null,null,null,null,null,null,null,null,null,null,null,null,998,"Developing countries, unspecified","Part I unallocated by income"]
[1032,"Central America, regional","Amérique centrale, régional","Part I unallocated by income","Central America",null,null,null,null,null,null,null,null,null,null,null,null,null,null,null,null,null,null,null,null,null,null,999,"Global","Part I unallocated by income"]
[1033,"Melanesia, regional","Mélanésie, régional","Part I unallocated by income","Melanesia",null,null,null,null,null,null,null,null,null,null,null,null,null,null,null,null,null,null,null,null,null,null,1027,"Eastern Africa, regional","Part I unallocated by income"]
[1034,"Micronesia, regional","Micronésie, régional","Part I unallocated by income","Micronesia",null,null,null,null,null,null,null,null,null,null,null,null,null,null,null,null,null,null,null,null,null,null,1028,"Middle Africa, regional","Part I unallocated by income"]
[1035,"Polynesia, regional","Polynésie, régional","Part I unallocated by income","Polynesia",null,null,null,null,null,null,null,null,null,null,null,null,null,null,null,null,null,null,null,null,null,null,1029,"Southern Africa, regional","Part I unallocated by income"]
[null,null,null,null,null,null,null,null,null,null,null,null,null,null,null,null,null,null,null,null,null,null,null,null,null,null,null,1030,"Western Africa, regional","Part I unallocated by income"]
[null,null,null,null,null,null,null,null,null,null,null,null,null,null,null,null,null,null,null,null,null,null,null,null,null,null,null,1031,"Caribbean, regional","Part I unallocated by income"]
[null,null,null,null,null,null,null,null,null,null,null,null,null,null,null,null,null,null,null,null,null,null,null,null,null,null,null,1032,"Central America, regional","Part I unallocated by income"]
[null,null,null,null,null,null,null,null,null,null,null,null,null,null,null,null,null,null,null,null,null,null,null,null,null,null,null,1033,"Melanesia, regional","Part I unallocated by income"]
[null,null,null,null,null,null,null,null,null,null,null,null,null,null,null,null,null,null,null,null,null,null,null,null,null,null,null,1034,"Micronesia, regional","Part I unallocated by income"]
[null,null,null,null,null,null,null,null,null,null,null,null,null,null,null,null,null,null,null,null,null,null,null,null,null,null,null,1035,"Polynesia, regional","Part I unallocated by income"]

{"sheet":"nature_of_submission","index":27,"n_rows":7,"n_cols":3,"rows_kept":7,"cut":false,"hidden":true,"merged":[]}
["code","name","Nom"]
[1,"New activity reported","Activité nouvellement notifiée "]
[2,"Revision","Révision"]
[3,"Previously reported activity (increase/decrease of earlier commitment, disbursement on earlier commitment)","Activité déjà notifiée antérieurement (augmentation ou diminution d'un engagement antérieur, versmeent consécutif à un engagement antérieur)"]
[5,"Provisional data","Donnée préliminaire"]
[8,"Commitment = Disbursement","engagment = versement"]
[9,"Net disbursements","Versements nets"]

{"sheet":"Donor","index":28,"n_rows":36,"n_cols":3,"rows_kept":36,"cut":false,"hidden":true,"merged":[]}
["Updated March 2024"]
[]
["List of DAC members"]
["Donor code","Donor name (EN)","Donor name (FR)"]
[1,"Austria","Autriche"]
[2,"Belgium","Belgique"]
[3,"Denmark","Danemark"]
[4,"France","France"]
[5,"Germany","Allemagne"]
[6,"Italy","Italie"]
[7,"Netherlands","Pays-Bas"]
[8,"Norway","Norvège"]
[9,"Portugal","Portugal"]
[10,"Sweden","Suède"]
[11,"Switzerland","Suisse"]
[12,"United Kingdom","Royaume-Uni"]
[18,"Finland","Finlande"]
[20,"Iceland","Islande"]
[21,"Ireland","Irlande"]
[22,"Luxembourg","Luxembourg"]
[40,"Greece","Grèce"]
[50,"Spain","Espagne"]
[61,"Slovenia","Slovénie"]
[68,"Czechia","Tchéquie"]
[69,"Slovak Republic","République slovaque"]
[75,"Hungary","Hongrie"]
[76,"Poland","Pologne"]
[82,"Estonia","Estonie"]
[84,"Lithuania","Lituanie"]
[301,"Canada","Canada"]
[302,"United States","Etats-Unis"]
[701,"Japan","Japon"]
[742,"Korea","Corée"]
[801,"Australia","Australie"]
[820,"New Zealand","Nouvelle-Zélande"]
[918,"EU Institutions","Institutions de l'UE"]